{"text_format":"1","workbook":"xlsx","n_sheets":11,"sheets":["Home Sheet","FaceSheet","Indep Group Post-Test Only","Pre-Post Design","Independent Groups, Pre-Post","All Data Merged","Data Entry Code Book","MTBI Definitions","Exclusion Criteria","Formulas","Sheet2"],"not_rendered":{"charts":0,"images":0,"macros":1,"external_links":0,"defined_names":0,"comments":0,"pivot_tables":0},"unopened":[],"bounds":{"document_bytes":16777216,"sheet_cells":100000,"rows_first":2000,"rows_last":500,"rows_between":2000,"halvings":0,"cell_chars":16384,"cell_head_chars":4096},"cells_cut":0,"cells_raw":0,"read":"whole","date_system":"1900"}

{"sheet":"Home Sheet","index":0,"n_rows":5,"n_cols":14,"rows_kept":5,"cut":false,"hidden":false,"merged":[[1,6,1,12],[4,2,4,5],[4,7,4,11],[4,13,4,17]]}
[]
[null,null,null,null,null,null,"MTBI META-ANALYSIS CODE SHEET"]
[]
[]
[null,null,"Access to Data",null,null,null,null,"Effect Size Calculations",null,null,null,null,null,"Supplemental Information "]

{"sheet":"FaceSheet","index":1,"n_rows":140,"n_cols":14,"rows_kept":140,"cut":false,"hidden":false,"merged":[[0,4,0,13],[112,4,112,13],[114,6,114,7],[114,9,114,10],[114,12,114,13],[18,5,18,7],[10,6,10,9],[5,4,5,5],[4,4,4,13],[5,8,5,13],[31,4,31,7],[31,8,31,10],[78,4,78,13],[8,4,8,5],[1,5,1,6],[87,9,87,10],[86,12,86,13],[87,12,87,13],[15,6,15,13],[14,12,14,13],[16,7,16,13],[28,5,28,7],[76,7,76,13],[84,7,84,10],[2,9,2,10],[2,5,2,7],[36,12,36,13],[2,12,2,13],[30,4,30,13],[8,7,8,8],[8,11,8,13],[19,5,19,7],[6,4,6,5],[6,6,6,13],[17,4,17,7],[14,8,14,9],[12,7,12,8],[36,6,36,7],[36,9,36,10],[12,12,12,13],[116,12,116,13],[56,6,56,7],[56,9,56,10],[56,12,56,13],[88,6,88,7],[88,9,88,10],[88,12,88,13],[115,6,115,7],[115,9,115,10],[115,12,115,13],[83,7,83,10],[116,6,116,7],[116,9,116,10],[86,6,86,7],[87,6,87,7],[86,9,86,10]]}
[null,null,null,null,"Identifying Information: "]
[null,null,null,null,"Study Code:"]
[null,null,null,null,"Author:",null,null,null,"Year: ",null,null,"Country:"]
[]
[null,null,null,null,"Study Characteristics: "]
[null,null,null,null,"Appropriate Method of Defining MTBI?",null,null,"Method Used:"]
[null,null,null,null,"Quality of MTBI Diagnosis "]
[]
[null,null,null,null,"Imaging Study?",null,null,"PVTs Used to Exclude Invalid Performance?",null,null,"Type of PVTs Used"]
[]
[null,null,null,null,"Control Group: "]
[]
[null,null,null,null,"Is this sample part of another study? ",null,null,null,null,"If yes, author and year of study: "]
[]
[null,null,null,null,"Does this study contain multiple mTBI subgroups? ",null,null,null,null,null,"If yes, how many? "]
[null,null,null,null,"If yes, please describe: "]
[null,null,null,null,"Notes on Study Characteristics: "]
[null,null,null,null,"MTBI Sample Demographics:",null,null,null,null,null,"Mecanisms of Injury:"]
[null,null,null,null,"Population:",null,null,null,null,null,"%Impact Sport"]
[null,null,null,null,"Age Category:",null,null,null,null,null,"%Other Sport"]
[null,null,null,null,"MAge",null,null,null,null,null,"%MVA"]
[null,null,null,null,"Meducation",null,null,null,null,null,"%Fall"]
[null,null,null,null,"%Female ",null,null,null,null,null,"%Blast Injury"]
[null,null,null,null,"%Caucasian",null,null,null,null,null,"%Veteran Blunt Trauma"]
[null,null,null,null,"%Non-White",null,null,null,null,null,"%Civilian Assault "]
[null,null,null,null,"%Black",null,null,null,null,null,"%Other Mechanism"]
[null,null,null,null,"%Latino",null,null,null,null,null,"%Previous MTBI"]
[null,null,null,null,"%Other Race",null,null,null,null,null,"%LOC"]
[null,null,null,null,"Notes:",null,null,null,null,null,"%PTA"]
[]
[null,null,null,null,"Psychological Comorbidity & Post-Concussion Symptomology:"]
[null,null,null,null,"Composition of  Sample Psych Comorbidity:"]
[null,null,null,null,"%Depression",null,null,"%Anxiety ",null,null,null,"%PTSD"]
[null,null,null,null,"%SUD",null,null,"%ADHD",null,null,null,"%LD"]
[null,null,null,null,"%Total Psych Comorbidity",null,null,null,"%with PCS"]
[]
[null,null,null,null,null,null,"Time Point 1",null,null,"Time Point 2",null,null,"Time Point 3"]
[null,null,null,null,"Domain",null,"Observed d","SEd",null,"Observed d","SEd",null,"Observed d","SEd"]
[null,null,null,null,"Depression",null,{"$f":"IF($H$84=\"Independent Groups, Post-Test only\",'Indep Group Post-Test Only'!$O$95,IF($H$84=\"Pre-Post Design\",'Pre-Post Design'!$P$95,IF($H$84=\"Independent Groups, Pre-Post Design\",'Independent Groups, Pre-Post'!$W$95,\"\")))","v":""},{"$f":"IF($H$84=\"Independent Groups, Post-Test only\",'Indep Group Post-Test Only'!$P$95,IF($H$84=\"Pre-Post Design\",'Pre-Post Design'!$Q$95,IF($H$84=\"Independent Groups, Pre-Post Design\",'Independent Groups, Pre-Post'!$X$95,\"\")))","v":""},null,{"$f":"IF($H$84=\"Independent Groups, Post-Test only\",'Indep Group Post-Test Only'!$Z$95,IF($H$84=\"Pre-Post Design\",'Pre-Post Design'!$W$95,IF($H$84=\"Independent Groups, Pre-Post Design\",'Independent Groups, Pre-Post'!$AH$95,\"\")))","v":""},{"$f":"IF($H$84=\"Independent Groups, Post-Test only\",'Indep Group Post-Test Only'!$AA$95,IF($H$84=\"Pre-Post Design\",'Pre-Post Design'!$X$95,IF($H$84=\"Independent Groups, Pre-Post Design\",'Independent Groups, Pre-Post'!$AI$95,\"\")))","v":""},null,{"$f":"IF($H$84=\"Independent Groups, Post-Test only\",'Indep Group Post-Test Only'!$AK$95,IF($H$84=\"Pre-Post Design\",'Pre-Post Design'!$AD$95,IF($H$84=\"Independent Groups, Pre-Post Design\",'Independent Groups, Pre-Post'!$AS$95,\"\")))","v":""},{"$f":"IF($H$84=\"Independent Groups, Post-Test only\",'Indep Group Post-Test Only'!$AL$95,IF($H$84=\"Pre-Post Design\",'Pre-Post Design'!$AE$95,IF($H$84=\"Independent Groups, Pre-Post Design\",'Independent Groups, Pre-Post'!$AT$95,\"\")))","v":""}]
[]
[null,null,null,null,"Anxiety",null,{"$f":"IF($H$84=\"Independent Groups, Post-Test only\",'Indep Group Post-Test Only'!$O$103,IF($H$84=\"Pre-Post Design\",'Pre-Post Design'!$P$103,IF($H$84=\"Independent Groups, Pre-Post Design\",'Independent Groups, Pre-Post'!$W$103,\"\")))","v":""},{"$f":"IF($H$84=\"Independent Groups, Post-Test only\",'Indep Group Post-Test Only'!$P$103,IF($H$84=\"Pre-Post Design\",'Pre-Post Design'!$Q$103,IF($H$84=\"Independent Groups, Pre-Post Design\",'Independent Groups, Pre-Post'!$X$103,\"\")))","v":""},null,{"$f":"IF($H$84=\"Independent Groups, Post-Test only\",'Indep Group Post-Test Only'!$Z$103,IF($H$84=\"Pre-Post Design\",'Pre-Post Design'!$W$103,IF($H$84=\"Independent Groups, Pre-Post Design\",'Independent Groups, Pre-Post'!$AH$103,\"\")))","v":""},{"$f":"IF($H$84=\"Independent Groups, Post-Test only\",'Indep Group Post-Test Only'!$AA$103,IF($H$84=\"Pre-Post Design\",'Pre-Post Design'!$X$103,IF($H$84=\"Independent Groups, Pre-Post Design\",'Independent Groups, Pre-Post'!$AI$103,\"\")))","v":""},null,{"$f":"IF($H$84=\"Independent Groups, Post-Test only\",'Indep Group Post-Test Only'!$AK$103,IF($H$84=\"Pre-Post Design\",'Pre-Post Design'!$AD$103,IF($H$84=\"Independent Groups, Pre-Post Design\",'Independent Groups, Pre-Post'!$AS$103,\"\")))","v":""},{"$f":"IF($H$84=\"Independent Groups, Post-Test only\",'Indep Group Post-Test Only'!$AL$103,IF($H$84=\"Pre-Post Design\",'Pre-Post Design'!$AE$103,IF($H$84=\"Independent Groups, Pre-Post Design\",'Independent Groups, Pre-Post'!$AT$103,\"\")))","v":""}]
[]
[null,null,null,null,"PTSD",null,{"$f":"IF($H$84=\"Independent Groups, Post-Test only\",'Indep Group Post-Test Only'!$O$111,IF($H$84=\"Pre-Post Design\",'Pre-Post Design'!$P$111,IF($H$84=\"Independent Groups, Pre-Post Design\",'Independent Groups, Pre-Post'!$W$111,\"\")))","v":""},{"$f":"IF($H$84=\"Independent Groups, Post-Test only\",'Indep Group Post-Test Only'!$P$111,IF($H$84=\"Pre-Post Design\",'Pre-Post Design'!$Q$111,IF($H$84=\"Independent Groups, Pre-Post Design\",'Independent Groups, Pre-Post'!$X$111,\"\")))","v":""},null,{"$f":"IF($H$84=\"Independent Groups, Post-Test only\",'Indep Group Post-Test Only'!$Z$111,IF($H$84=\"Pre-Post Design\",'Pre-Post Design'!$W$111,IF($H$84=\"Independent Groups, Pre-Post Design\",'Independent Groups, Pre-Post'!$AH$111,\"\")))","v":""},{"$f":"IF($H$84=\"Independent Groups, Post-Test only\",'Indep Group Post-Test Only'!$AA$111,IF($H$84=\"Pre-Post Design\",'Pre-Post Design'!$X$111,IF($H$84=\"Independent Groups, Pre-Post Design\",'Independent Groups, Pre-Post'!$AI$111,\"\")))","v":""},null,{"$f":"IF($H$84=\"Independent Groups, Post-Test only\",'Indep Group Post-Test Only'!$AK$111,IF($H$84=\"Pre-Post Design\",'Pre-Post Design'!$AD$111,IF($H$84=\"Independent Groups, Pre-Post Design\",'Independent Groups, Pre-Post'!$AS$111,\"\")))","v":""},{"$f":"IF($H$84=\"Independent Groups, Post-Test only\",'Indep Group Post-Test Only'!$AL$111,IF($H$84=\"Pre-Post Design\",'Pre-Post Design'!$AE$111,IF($H$84=\"Independent Groups, Pre-Post Design\",'Independent Groups, Pre-Post'!$AT$111,\"\")))","v":""}]
[]
[null,null,null,null,"SUD",null,{"$f":"IF($H$84=\"Independent Groups, Post-Test only\",'Indep Group Post-Test Only'!$O$119,IF($H$84=\"Pre-Post Design\",'Pre-Post Design'!$P$119,IF($H$84=\"Independent Groups, Pre-Post Design\",'Independent Groups, Pre-Post'!$W$119,\"\")))","v":""},{"$f":"IF($H$84=\"Independent Groups, Post-Test only\",'Indep Group Post-Test Only'!$P$119,IF($H$84=\"Pre-Post Design\",'Pre-Post Design'!$Q$119,IF($H$84=\"Independent Groups, Pre-Post Design\",'Independent Groups, Pre-Post'!$X$119,\"\")))","v":""},null,{"$f":"IF($H$84=\"Independent Groups, Post-Test only\",'Indep Group Post-Test Only'!$Z$119,IF($H$84=\"Pre-Post Design\",'Pre-Post Design'!$W$119,IF($H$84=\"Independent Groups, Pre-Post Design\",'Independent Groups, Pre-Post'!$AH$119,\"\")))","v":""},{"$f":"IF($H$84=\"Independent Groups, Post-Test only\",'Indep Group Post-Test Only'!$AA$119,IF($H$84=\"Pre-Post Design\",'Pre-Post Design'!$X$119,IF($H$84=\"Independent Groups, Pre-Post Design\",'Independent Groups, Pre-Post'!$AI$119,\"\")))","v":""},null,{"$f":"IF($H$84=\"Independent Groups, Post-Test only\",'Indep Group Post-Test Only'!$AK$119,IF($H$84=\"Pre-Post Design\",'Pre-Post Design'!$AD$119,IF($H$84=\"Independent Groups, Pre-Post Design\",'Independent Groups, Pre-Post'!$AS$119,\"\")))","v":""},{"$f":"IF($H$84=\"Independent Groups, Post-Test only\",'Indep Group Post-Test Only'!$AL$119,IF($H$84=\"Pre-Post Design\",'Pre-Post Design'!$AE$119,IF($H$84=\"Independent Groups, Pre-Post Design\",'Independent Groups, Pre-Post'!$AT$119,\"\")))","v":""}]
[]
[null,null,null,null,"Somatization",null,{"$f":"IF($H$84=\"Independent Groups, Post-Test only\",'Indep Group Post-Test Only'!$O$127,IF($H$84=\"Pre-Post Design\",'Pre-Post Design'!$P$127,IF($H$84=\"Independent Groups, Pre-Post Design\",'Independent Groups, Pre-Post'!$W$127,\"\")))","v":""},{"$f":"IF($H$84=\"Independent Groups, Post-Test only\",'Indep Group Post-Test Only'!$P$127,IF($H$84=\"Pre-Post Design\",'Pre-Post Design'!$Q$127,IF($H$84=\"Independent Groups, Pre-Post Design\",'Independent Groups, Pre-Post'!$X$127,\"\")))","v":""},null,{"$f":"IF($H$84=\"Independent Groups, Post-Test only\",'Indep Group Post-Test Only'!$Z$127,IF($H$84=\"Pre-Post Design\",'Pre-Post Design'!$W$127,IF($H$84=\"Independent Groups, Pre-Post Design\",'Independent Groups, Pre-Post'!$AH$127,\"\")))","v":""},{"$f":"IF($H$84=\"Independent Groups, Post-Test only\",'Indep Group Post-Test Only'!$AA$127,IF($H$84=\"Pre-Post Design\",'Pre-Post Design'!$X$127,IF($H$84=\"Independent Groups, Pre-Post Design\",'Independent Groups, Pre-Post'!$AI$127,\"\")))","v":""},null,{"$f":"IF($H$84=\"Independent Groups, Post-Test only\",'Indep Group Post-Test Only'!$AK$127,IF($H$84=\"Pre-Post Design\",'Pre-Post Design'!$AD$127,IF($H$84=\"Independent Groups, Pre-Post Design\",'Independent Groups, Pre-Post'!$AS$127,\"\")))","v":""},{"$f":"IF($H$84=\"Independent Groups, Post-Test only\",'Indep Group Post-Test Only'!$AL$127,IF($H$84=\"Pre-Post Design\",'Pre-Post Design'!$AE$127,IF($H$84=\"Independent Groups, Pre-Post Design\",'Independent Groups, Pre-Post'!$AT$127,\"\")))","v":""}]
[]
[null,null,null,null,"Internalizing Behaviors",null,{"$f":"IF($H$84=\"Independent Groups, Post-Test only\",'Indep Group Post-Test Only'!$O$135,IF($H$84=\"Pre-Post Design\",'Pre-Post Design'!$P$135,IF($H$84=\"Independent Groups, Pre-Post Design\",'Independent Groups, Pre-Post'!$W$135,\"\")))","v":""},{"$f":"IF($H$84=\"Independent Groups, Post-Test only\",'Indep Group Post-Test Only'!$P$135,IF($H$84=\"Pre-Post Design\",'Pre-Post Design'!$Q$135,IF($H$84=\"Independent Groups, Pre-Post Design\",'Independent Groups, Pre-Post'!$X$135,\"\")))","v":""},null,{"$f":"IF($H$84=\"Independent Groups, Post-Test only\",'Indep Group Post-Test Only'!$Z$135,IF($H$84=\"Pre-Post Design\",'Pre-Post Design'!$W$135,IF($H$84=\"Independent Groups, Pre-Post Design\",'Independent Groups, Pre-Post'!$AH$135,\"\")))","v":""},{"$f":"IF($H$84=\"Independent Groups, Post-Test only\",'Indep Group Post-Test Only'!$AA$135,IF($H$84=\"Pre-Post Design\",'Pre-Post Design'!$X$135,IF($H$84=\"Independent Groups, Pre-Post Design\",'Independent Groups, Pre-Post'!$AI$135,\"\")))","v":""},null,{"$f":"IF($H$84=\"Independent Groups, Post-Test only\",'Indep Group Post-Test Only'!$AK$135,IF($H$84=\"Pre-Post Design\",'Pre-Post Design'!$AD$135,IF($H$84=\"Independent Groups, Pre-Post Design\",'Independent Groups, Pre-Post'!$AS$135,\"\")))","v":""},{"$f":"IF($H$84=\"Independent Groups, Post-Test only\",'Indep Group Post-Test Only'!$AL$135,IF($H$84=\"Pre-Post Design\",'Pre-Post Design'!$AE$135,IF($H$84=\"Independent Groups, Pre-Post Design\",'Independent Groups, Pre-Post'!$AT$135,\"\")))","v":""}]
[]
[null,null,null,null,"Externalizing Behaviors",null,{"$f":"IF($H$84=\"Independent Groups, Post-Test only\",'Indep Group Post-Test Only'!$O$143,IF($H$84=\"Pre-Post Design\",'Pre-Post Design'!$P$143,IF($H$84=\"Independent Groups, Pre-Post Design\",'Independent Groups, Pre-Post'!$W$143,\"\")))","v":""},{"$f":"IF($H$84=\"Independent Groups, Post-Test only\",'Indep Group Post-Test Only'!$P$143,IF($H$84=\"Pre-Post Design\",'Pre-Post Design'!$Q$143,IF($H$84=\"Independent Groups, Pre-Post Design\",'Independent Groups, Pre-Post'!$X$143,\"\")))","v":""},null,{"$f":"IF($H$84=\"Independent Groups, Post-Test only\",'Indep Group Post-Test Only'!$Z$143,IF($H$84=\"Pre-Post Design\",'Pre-Post Design'!$W$143,IF($H$84=\"Independent Groups, Pre-Post Design\",'Independent Groups, Pre-Post'!$AH$143,\"\")))","v":""},{"$f":"IF($H$84=\"Independent Groups, Post-Test only\",'Indep Group Post-Test Only'!$AA$143,IF($H$84=\"Pre-Post Design\",'Pre-Post Design'!$X$143,IF($H$84=\"Independent Groups, Pre-Post Design\",'Independent Groups, Pre-Post'!$AI$143,\"\")))","v":""},null,{"$f":"IF($H$84=\"Independent Groups, Post-Test only\",'Indep Group Post-Test Only'!$AK$143,IF($H$84=\"Pre-Post Design\",'Pre-Post Design'!$AD$143,IF($H$84=\"Independent Groups, Pre-Post Design\",'Independent Groups, Pre-Post'!$AS$143,\"\")))","v":""},{"$f":"IF($H$84=\"Independent Groups, Post-Test only\",'Indep Group Post-Test Only'!$AL$143,IF($H$84=\"Pre-Post Design\",'Pre-Post Design'!$AE$143,IF($H$84=\"Independent Groups, Pre-Post Design\",'Independent Groups, Pre-Post'!$AT$143,\"\")))","v":""}]
[]
[null,null,null,null,"Overall Psych d",null,{"$f":"IF($H$84=\"Independent Groups, Post-Test only\",'Indep Group Post-Test Only'!$O$145,IF($H$84=\"Pre-Post Design\",'Pre-Post Design'!$P$145,IF($H$84=\"Independent Groups, Pre-Post Design\",'Independent Groups, Pre-Post'!$W$145,\"\")))","v":""},{"$f":"IF($H$84=\"Independent Groups, Post-Test only\",'Indep Group Post-Test Only'!$P$145,IF($H$84=\"Pre-Post Design\",'Pre-Post Design'!$Q$145,IF($H$84=\"Independent Groups, Pre-Post Design\",'Independent Groups, Pre-Post'!$X$145,\"\")))","v":""},null,{"$f":"IF($H$84=\"Independent Groups, Post-Test only\",'Indep Group Post-Test Only'!$Z$145,IF($H$84=\"Pre-Post Design\",'Pre-Post Design'!$W$145,IF($H$84=\"Independent Groups, Pre-Post Design\",'Independent Groups, Pre-Post'!$AH$145,\"\")))","v":""},{"$f":"IF($H$84=\"Independent Groups, Post-Test only\",'Indep Group Post-Test Only'!$AA$145,IF($H$84=\"Pre-Post Design\",'Pre-Post Design'!$X$145,IF($H$84=\"Independent Groups, Pre-Post Design\",'Independent Groups, Pre-Post'!$AI$145,\"\")))","v":""},null,{"$f":"IF($H$84=\"Independent Groups, Post-Test only\",'Indep Group Post-Test Only'!$AK$145,IF($H$84=\"Pre-Post Design\",'Pre-Post Design'!$AD$145,IF($H$84=\"Independent Groups, Pre-Post Design\",'Independent Groups, Pre-Post'!$AS$145,\"\")))","v":""},{"$f":"IF($H$84=\"Independent Groups, Post-Test only\",'Indep Group Post-Test Only'!$AL$145,IF($H$84=\"Pre-Post Design\",'Pre-Post Design'!$AE$145,IF($H$84=\"Independent Groups, Pre-Post Design\",'Independent Groups, Pre-Post'!$AT$145,\"\")))","v":""}]
[]
[null,null,null,null,"PCS d",null,{"$f":"IF($H$84=\"Independent Groups, Post-Test only\",'Indep Group Post-Test Only'!$O$157,IF($H$84=\"Pre-Post Design\",'Pre-Post Design'!$P$157,IF($H$84=\"Independent Groups, Pre-Post Design\",'Independent Groups, Pre-Post'!$W$157,\"\")))","v":""},{"$f":"IF($H$84=\"Independent Groups, Post-Test only\",'Indep Group Post-Test Only'!$P$157,IF($H$84=\"Pre-Post Design\",'Pre-Post Design'!$Q$157,IF($H$84=\"Independent Groups, Pre-Post Design\",'Independent Groups, Pre-Post'!$X$157,\"\")))","v":""},null,{"$f":"IF($H$84=\"Independent Groups, Post-Test only\",'Indep Group Post-Test Only'!$Z$157,IF($H$84=\"Pre-Post Design\",'Pre-Post Design'!$W$157,IF($H$84=\"Independent Groups, Pre-Post Design\",'Independent Groups, Pre-Post'!$AH$157,\"\")))","v":""},{"$f":"IF($H$84=\"Independent Groups, Post-Test only\",'Indep Group Post-Test Only'!$AA$157,IF($H$84=\"Pre-Post Design\",'Pre-Post Design'!$X$157,IF($H$84=\"Independent Groups, Pre-Post Design\",'Independent Groups, Pre-Post'!$AI$157,\"\")))","v":""},null,{"$f":"IF($H$84=\"Independent Groups, Post-Test only\",'Indep Group Post-Test Only'!$AK$157,IF($H$84=\"Pre-Post Design\",'Pre-Post Design'!$AD$157,IF($H$84=\"Independent Groups, Pre-Post Design\",'Independent Groups, Pre-Post'!$AS$157,\"\")))","v":""},{"$f":"IF($H$84=\"Independent Groups, Post-Test only\",'Indep Group Post-Test Only'!$AL$157,IF($H$84=\"Pre-Post Design\",'Pre-Post Design'!$AE$157,IF($H$84=\"Independent Groups, Pre-Post Design\",'Independent Groups, Pre-Post'!$AT$157,\"\")))","v":""}]
[]
[null,null,null,null,null,null,"Time Point 4",null,null,"Time Point 5",null,null,"Time Point 6"]
[null,null,null,null,"Domain",null,"Observed d","SEd",null,"Observed d","SEd",null,"Observed d","SEd"]
[null,null,null,null,"Depression",null,{"$f":"IF($H$84=\"Independent Groups, Post-Test only\",'Indep Group Post-Test Only'!$AV$95,IF($H$84=\"Pre-Post Design\",'Pre-Post Design'!$AK$95,IF($H$84=\"Independent Groups, Pre-Post Design\",'Independent Groups, Pre-Post'!$BD$95,\"\")))","v":""},{"$f":"IF($H$84=\"Independent Groups, Post-Test only\",'Indep Group Post-Test Only'!$AW$95,IF($H$84=\"Pre-Post Design\",'Pre-Post Design'!$AL$95,IF($H$84=\"Independent Groups, Pre-Post Design\",'Independent Groups, Pre-Post'!$BE$95,\"\")))","v":""},null,{"$f":"IF($H$84=\"Independent Groups, Post-Test only\",'Indep Group Post-Test Only'!$BG$95,IF($H$84=\"Pre-Post Design\",'Pre-Post Design'!$AR$95,IF($H$84=\"Independent Groups, Pre-Post Design\",'Independent Groups, Pre-Post'!$BO$95,\"\")))","v":""},{"$f":"IF($H$84=\"Independent Groups, Post-Test only\",'Indep Group Post-Test Only'!$BH$95,IF($H$84=\"Pre-Post Design\",'Pre-Post Design'!$AS$95,IF($H$84=\"Independent Groups, Pre-Post Design\",'Independent Groups, Pre-Post'!$BP$95,\"\")))","v":""},null,{"$f":"IF($H$84=\"Independent Groups, Post-Test only\",'Indep Group Post-Test Only'!$BR$95,IF($H$84=\"Pre-Post Design\",'Pre-Post Design'!$AY$95,IF($H$84=\"Independent Groups, Pre-Post Design\",'Independent Groups, Pre-Post'!$BZ$95,\"\")))","v":""},{"$f":"IF($H$84=\"Independent Groups, Post-Test only\",'Indep Group Post-Test Only'!$BS$95,IF($H$84=\"Pre-Post Design\",'Pre-Post Design'!$AZ$95,IF($H$84=\"Independent Groups, Pre-Post Design\",'Independent Groups, Pre-Post'!$CA$95,\"\")))","v":""}]
[]
[null,null,null,null,"Anxiety",null,{"$f":"IF($H$84=\"Independent Groups, Post-Test only\",'Indep Group Post-Test Only'!$AV$103,IF($H$84=\"Pre-Post Design\",'Pre-Post Design'!$AK$103,IF($H$84=\"Independent Groups, Pre-Post Design\",'Independent Groups, Pre-Post'!$BD$103,\"\")))","v":""},{"$f":"IF($H$84=\"Independent Groups, Post-Test only\",'Indep Group Post-Test Only'!$AW$103,IF($H$84=\"Pre-Post Design\",'Pre-Post Design'!$AL$103,IF($H$84=\"Independent Groups, Pre-Post Design\",'Independent Groups, Pre-Post'!$BE$103,\"\")))","v":""},null,{"$f":"IF($H$84=\"Independent Groups, Post-Test only\",'Indep Group Post-Test Only'!$BG$103,IF($H$84=\"Pre-Post Design\",'Pre-Post Design'!$AR$103,IF($H$84=\"Independent Groups, Pre-Post Design\",'Independent Groups, Pre-Post'!$BO$103,\"\")))","v":""},{"$f":"IF($H$84=\"Independent Groups, Post-Test only\",'Indep Group Post-Test Only'!$BH$103,IF($H$84=\"Pre-Post Design\",'Pre-Post Design'!$AS$103,IF($H$84=\"Independent Groups, Pre-Post Design\",'Independent Groups, Pre-Post'!$BP$103,\"\")))","v":""},null,{"$f":"IF($H$84=\"Independent Groups, Post-Test only\",'Indep Group Post-Test Only'!$BR$103,IF($H$84=\"Pre-Post Design\",'Pre-Post Design'!$AY$103,IF($H$84=\"Independent Groups, Pre-Post Design\",'Independent Groups, Pre-Post'!$BZ$103,\"\")))","v":""},{"$f":"IF($H$84=\"Independent Groups, Post-Test only\",'Indep Group Post-Test Only'!$BS$103,IF($H$84=\"Pre-Post Design\",'Pre-Post Design'!$AZ$103,IF($H$84=\"Independent Groups, Pre-Post Design\",'Independent Groups, Pre-Post'!$CA$103,\"\")))","v":""}]
[]
[null,null,null,null,"PTSD",null,{"$f":"IF($H$84=\"Independent Groups, Post-Test only\",'Indep Group Post-Test Only'!$AV$111,IF($H$84=\"Pre-Post Design\",'Pre-Post Design'!$AK$111,IF($H$84=\"Independent Groups, Pre-Post Design\",'Independent Groups, Pre-Post'!$BD$111,\"\")))","v":""},{"$f":"IF($H$84=\"Independent Groups, Post-Test only\",'Indep Group Post-Test Only'!$AW$111,IF($H$84=\"Pre-Post Design\",'Pre-Post Design'!$AL$111,IF($H$84=\"Independent Groups, Pre-Post Design\",'Independent Groups, Pre-Post'!$BE$111,\"\")))","v":""},null,{"$f":"IF($H$84=\"Independent Groups, Post-Test only\",'Indep Group Post-Test Only'!$BG$111,IF($H$84=\"Pre-Post Design\",'Pre-Post Design'!$AR$111,IF($H$84=\"Independent Groups, Pre-Post Design\",'Independent Groups, Pre-Post'!$BO$111,\"\")))","v":""},{"$f":"IF($H$84=\"Independent Groups, Post-Test only\",'Indep Group Post-Test Only'!$BH$111,IF($H$84=\"Pre-Post Design\",'Pre-Post Design'!$AS$111,IF($H$84=\"Independent Groups, Pre-Post Design\",'Independent Groups, Pre-Post'!$BP$111,\"\")))","v":""},null,{"$f":"IF($H$84=\"Independent Groups, Post-Test only\",'Indep Group Post-Test Only'!$BR$111,IF($H$84=\"Pre-Post Design\",'Pre-Post Design'!$AY$111,IF($H$84=\"Independent Groups, Pre-Post Design\",'Independent Groups, Pre-Post'!$BZ$111,\"\")))","v":""},{"$f":"IF($H$84=\"Independent Groups, Post-Test only\",'Indep Group Post-Test Only'!$BS$111,IF($H$84=\"Pre-Post Design\",'Pre-Post Design'!$AZ$111,IF($H$84=\"Independent Groups, Pre-Post Design\",'Independent Groups, Pre-Post'!$CA$111,\"\")))","v":""}]
[]
[null,null,null,null,"SUD",null,{"$f":"IF($H$84=\"Independent Groups, Post-Test only\",'Indep Group Post-Test Only'!$AV$119,IF($H$84=\"Pre-Post Design\",'Pre-Post Design'!$AK$119,IF($H$84=\"Independent Groups, Pre-Post Design\",'Independent Groups, Pre-Post'!$BD$119,\"\")))","v":""},{"$f":"IF($H$84=\"Independent Groups, Post-Test only\",'Indep Group Post-Test Only'!$AW$119,IF($H$84=\"Pre-Post Design\",'Pre-Post Design'!$AL$119,IF($H$84=\"Independent Groups, Pre-Post Design\",'Independent Groups, Pre-Post'!$BE$119,\"\")))","v":""},null,{"$f":"IF($H$84=\"Independent Groups, Post-Test only\",'Indep Group Post-Test Only'!$BG$119,IF($H$84=\"Pre-Post Design\",'Pre-Post Design'!$AR$119,IF($H$84=\"Independent Groups, Pre-Post Design\",'Independent Groups, Pre-Post'!$BO$119,\"\")))","v":""},{"$f":"IF($H$84=\"Independent Groups, Post-Test only\",'Indep Group Post-Test Only'!$BH$119,IF($H$84=\"Pre-Post Design\",'Pre-Post Design'!$AS$119,IF($H$84=\"Independent Groups, Pre-Post Design\",'Independent Groups, Pre-Post'!$BP$119,\"\")))","v":""},null,{"$f":"IF($H$84=\"Independent Groups, Post-Test only\",'Indep Group Post-Test Only'!$BR$119,IF($H$84=\"Pre-Post Design\",'Pre-Post Design'!$AY$119,IF($H$84=\"Independent Groups, Pre-Post Design\",'Independent Groups, Pre-Post'!$BZ$119,\"\")))","v":""},{"$f":"IF($H$84=\"Independent Groups, Post-Test only\",'Indep Group Post-Test Only'!$BS$119,IF($H$84=\"Pre-Post Design\",'Pre-Post Design'!$AZ$119,IF($H$84=\"Independent Groups, Pre-Post Design\",'Independent Groups, Pre-Post'!$CA$119,\"\")))","v":""}]
[]
[null,null,null,null,"Somatization",null,{"$f":"IF($H$84=\"Independent Groups, Post-Test only\",'Indep Group Post-Test Only'!$AV$127,IF($H$84=\"Pre-Post Design\",'Pre-Post Design'!$AK$127,IF($H$84=\"Independent Groups, Pre-Post Design\",'Independent Groups, Pre-Post'!$BD$127,\"\")))","v":""},{"$f":"IF($H$84=\"Independent Groups, Post-Test only\",'Indep Group Post-Test Only'!$AW$127,IF($H$84=\"Pre-Post Design\",'Pre-Post Design'!$AL$127,IF($H$84=\"Independent Groups, Pre-Post Design\",'Independent Groups, Pre-Post'!$BE$127,\"\")))","v":""},null,{"$f":"IF($H$84=\"Independent Groups, Post-Test only\",'Indep Group Post-Test Only'!$BG$127,IF($H$84=\"Pre-Post Design\",'Pre-Post Design'!$AR$127,IF($H$84=\"Independent Groups, Pre-Post Design\",'Independent Groups, Pre-Post'!$BO$127,\"\")))","v":""},{"$f":"IF($H$84=\"Independent Groups, Post-Test only\",'Indep Group Post-Test Only'!$BH$127,IF($H$84=\"Pre-Post Design\",'Pre-Post Design'!$AS$127,IF($H$84=\"Independent Groups, Pre-Post Design\",'Independent Groups, Pre-Post'!$BP$127,\"\")))","v":""},null,{"$f":"IF($H$84=\"Independent Groups, Post-Test only\",'Indep Group Post-Test Only'!$BR$127,IF($H$84=\"Pre-Post Design\",'Pre-Post Design'!$AY$127,IF($H$84=\"Independent Groups, Pre-Post Design\",'Independent Groups, Pre-Post'!$BZ$127,\"\")))","v":""},{"$f":"IF($H$84=\"Independent Groups, Post-Test only\",'Indep Group Post-Test Only'!$BS$127,IF($H$84=\"Pre-Post Design\",'Pre-Post Design'!$AZ$127,IF($H$84=\"Independent Groups, Pre-Post Design\",'Independent Groups, Pre-Post'!$CA$127,\"\")))","v":""}]
[]
[null,null,null,null,"Internalizing Behaviors",null,{"$f":"IF($H$84=\"Independent Groups, Post-Test only\",'Indep Group Post-Test Only'!$AV$135,IF($H$84=\"Pre-Post Design\",'Pre-Post Design'!$AK$135,IF($H$84=\"Independent Groups, Pre-Post Design\",'Independent Groups, Pre-Post'!$BD$135,\"\")))","v":""},{"$f":"IF($H$84=\"Independent Groups, Post-Test only\",'Indep Group Post-Test Only'!$AW$135,IF($H$84=\"Pre-Post Design\",'Pre-Post Design'!$AL$135,IF($H$84=\"Independent Groups, Pre-Post Design\",'Independent Groups, Pre-Post'!$BE$135,\"\")))","v":""},null,{"$f":"IF($H$84=\"Independent Groups, Post-Test only\",'Indep Group Post-Test Only'!$BG$135,IF($H$84=\"Pre-Post Design\",'Pre-Post Design'!$AR$135,IF($H$84=\"Independent Groups, Pre-Post Design\",'Independent Groups, Pre-Post'!$BO$135,\"\")))","v":""},{"$f":"IF($H$84=\"Independent Groups, Post-Test only\",'Indep Group Post-Test Only'!$BH$135,IF($H$84=\"Pre-Post Design\",'Pre-Post Design'!$AS$135,IF($H$84=\"Independent Groups, Pre-Post Design\",'Independent Groups, Pre-Post'!$BP$135,\"\")))","v":""},null,{"$f":"IF($H$84=\"Independent Groups, Post-Test only\",'Indep Group Post-Test Only'!$BR$135,IF($H$84=\"Pre-Post Design\",'Pre-Post Design'!$AY$135,IF($H$84=\"Independent Groups, Pre-Post Design\",'Independent Groups, Pre-Post'!$BZ$135,\"\")))","v":""},{"$f":"IF($H$84=\"Independent Groups, Post-Test only\",'Indep Group Post-Test Only'!$BS$135,IF($H$84=\"Pre-Post Design\",'Pre-Post Design'!$AZ$135,IF($H$84=\"Independent Groups, Pre-Post Design\",'Independent Groups, Pre-Post'!$CA$135,\"\")))","v":""}]
[]
[null,null,null,null,"Externalizing Behaviors",null,{"$f":"IF($H$84=\"Independent Groups, Post-Test only\",'Indep Group Post-Test Only'!$AV$143,IF($H$84=\"Pre-Post Design\",'Pre-Post Design'!$AK$143,IF($H$84=\"Independent Groups, Pre-Post Design\",'Independent Groups, Pre-Post'!$BD$143,\"\")))","v":""},{"$f":"IF($H$84=\"Independent Groups, Post-Test only\",'Indep Group Post-Test Only'!$AW$143,IF($H$84=\"Pre-Post Design\",'Pre-Post Design'!$AL$143,IF($H$84=\"Independent Groups, Pre-Post Design\",'Independent Groups, Pre-Post'!$BE$143,\"\")))","v":""},null,{"$f":"IF($H$84=\"Independent Groups, Post-Test only\",'Indep Group Post-Test Only'!$BG$143,IF($H$84=\"Pre-Post Design\",'Pre-Post Design'!$AR$143,IF($H$84=\"Independent Groups, Pre-Post Design\",'Independent Groups, Pre-Post'!$BO$143,\"\")))","v":""},{"$f":"IF($H$84=\"Independent Groups, Post-Test only\",'Indep Group Post-Test Only'!$BH$143,IF($H$84=\"Pre-Post Design\",'Pre-Post Design'!$AS$143,IF($H$84=\"Independent Groups, Pre-Post Design\",'Independent Groups, Pre-Post'!$BP$143,\"\")))","v":""},null,{"$f":"IF($H$84=\"Independent Groups, Post-Test only\",'Indep Group Post-Test Only'!$BR$143,IF($H$84=\"Pre-Post Design\",'Pre-Post Design'!$AY$143,IF($H$84=\"Independent Groups, Pre-Post Design\",'Independent Groups, Pre-Post'!$BZ$143,\"\")))","v":""},{"$f":"IF($H$84=\"Independent Groups, Post-Test only\",'Indep Group Post-Test Only'!$BS$143,IF($H$84=\"Pre-Post Design\",'Pre-Post Design'!$AZ$143,IF($H$84=\"Independent Groups, Pre-Post Design\",'Independent Groups, Pre-Post'!$CA$143,\"\")))","v":""}]
[]
[null,null,null,null,"Overall Psych d",null,{"$f":"IF($H$84=\"Independent Groups, Post-Test only\",'Indep Group Post-Test Only'!$AV$145,IF($H$84=\"Pre-Post Design\",'Pre-Post Design'!$AK$145,IF($H$84=\"Independent Groups, Pre-Post Design\",'Independent Groups, Pre-Post'!$BD$145,\"\")))","v":""},{"$f":"IF($H$84=\"Independent Groups, Post-Test only\",'Indep Group Post-Test Only'!$AW$145,IF($H$84=\"Pre-Post Design\",'Pre-Post Design'!$AL$145,IF($H$84=\"Independent Groups, Pre-Post Design\",'Independent Groups, Pre-Post'!$BE$145,\"\")))","v":""},null,{"$f":"IF($H$84=\"Independent Groups, Post-Test only\",'Indep Group Post-Test Only'!$BG$145,IF($H$84=\"Pre-Post Design\",'Pre-Post Design'!$AR$145,IF($H$84=\"Independent Groups, Pre-Post Design\",'Independent Groups, Pre-Post'!$BO$145,\"\")))","v":""},{"$f":"IF($H$84=\"Independent Groups, Post-Test only\",'Indep Group Post-Test Only'!$BH$145,IF($H$84=\"Pre-Post Design\",'Pre-Post Design'!$AS$145,IF($H$84=\"Independent Groups, Pre-Post Design\",'Independent Groups, Pre-Post'!$BP$145,\"\")))","v":""},null,{"$f":"IF($H$84=\"Independent Groups, Post-Test only\",'Indep Group Post-Test Only'!$BR$145,IF($H$84=\"Pre-Post Design\",'Pre-Post Design'!$AY$145,IF($H$84=\"Independent Groups, Pre-Post Design\",'Independent Groups, Pre-Post'!$BZ$145,\"\")))","v":""},{"$f":"IF($H$84=\"Independent Groups, Post-Test only\",'Indep Group Post-Test Only'!$BS$145,IF($H$84=\"Pre-Post Design\",'Pre-Post Design'!$AZ$145,IF($H$84=\"Independent Groups, Pre-Post Design\",'Independent Groups, Pre-Post'!$CA$145,\"\")))","v":""}]
[]
[null,null,null,null,"PCS d",null,{"$f":"IF($H$84=\"Independent Groups, Post-Test only\",'Indep Group Post-Test Only'!$AV$157,IF($H$84=\"Pre-Post Design\",'Pre-Post Design'!$AK$157,IF($H$84=\"Independent Groups, Pre-Post Design\",'Independent Groups, Pre-Post'!$BD$157,\"\")))","v":""},{"$f":"IF($H$84=\"Independent Groups, Post-Test only\",'Indep Group Post-Test Only'!$AW$157,IF($H$84=\"Pre-Post Design\",'Pre-Post Design'!$AL$157,IF($H$84=\"Independent Groups, Pre-Post Design\",'Independent Groups, Pre-Post'!$BE$157,\"\")))","v":""},null,{"$f":"IF($H$84=\"Independent Groups, Post-Test only\",'Indep Group Post-Test Only'!$BG$157,IF($H$84=\"Pre-Post Design\",'Pre-Post Design'!$AR$157,IF($H$84=\"Independent Groups, Pre-Post Design\",'Independent Groups, Pre-Post'!$BO$157,\"\")))","v":""},{"$f":"IF($H$84=\"Independent Groups, Post-Test only\",'Indep Group Post-Test Only'!$BH$157,IF($H$84=\"Pre-Post Design\",'Pre-Post Design'!$AS$157,IF($H$84=\"Independent Groups, Pre-Post Design\",'Independent Groups, Pre-Post'!$BP$157,\"\")))","v":""},null,{"$f":"IF($H$84=\"Independent Groups, Post-Test only\",'Indep Group Post-Test Only'!$BR$157,IF($H$84=\"Pre-Post Design\",'Pre-Post Design'!$AY$157,IF($H$84=\"Independent Groups, Pre-Post Design\",'Independent Groups, Pre-Post'!$BZ$157,\"\")))","v":""},{"$f":"IF($H$84=\"Independent Groups, Post-Test only\",'Indep Group Post-Test Only'!$BS$157,IF($H$84=\"Pre-Post Design\",'Pre-Post Design'!$AZ$157,IF($H$84=\"Independent Groups, Pre-Post Design\",'Independent Groups, Pre-Post'!$CA$157,\"\")))","v":""}]
[]
[null,null,null,null,"Notes on Psych Comorbidity:"]
[]
[null,null,null,null,"Neuropsychological Outcomes"]
[null,null,null,null,"Domains Assessed:"]
[]
[]
[]
[null,null,null,null,"Experimental Design: "]
[null,null,null,null,"Method of Assessing Peformance: "]
[]
[null,null,null,null,null,null,"Time Point 1",null,null,"Time Point 2",null,null,"Time Point 3"]
[null,null,null,null,"Mtime Since Injury"]
[null,null,null,null,"SDTime Since Injury"]
[null,null,null,null,"Domain",null,"Observed d","SEd",null,"Observed d","SEd",null,"Observed d","SEd"]
[null,null,null,null,"Orientation",null,{"$f":"IF($H$84=\"Independent Groups, Post-Test only\",'Indep Group Post-Test Only'!$O$11,IF($H$84=\"Pre-Post Design\",'Pre-Post Design'!$P$11,IF($H$84=\"Independent Groups, Pre-Post Design\",'Independent Groups, Pre-Post'!$W$11,\"\")))","v":""},{"$f":"IF($H$84=\"Independent Groups, Post-Test only\",'Indep Group Post-Test Only'!$P$11,IF($H$84=\"Pre-Post Design\",'Pre-Post Design'!$Q$11,IF($H$84=\"Independent Groups, Pre-Post Design\",'Independent Groups, Pre-Post'!$X$11,\"\")))","v":""},null,{"$f":"IF($H$84=\"Independent Groups, Post-Test only\",'Indep Group Post-Test Only'!$Z$11,IF($H$84=\"Pre-Post Design\",'Pre-Post Design'!$W$11,IF($H$84=\"Independent Groups, Pre-Post Design\",'Independent Groups, Pre-Post'!$AH$11,\"\")))","v":""},{"$f":"IF($H$84=\"Independent Groups, Post-Test only\",'Indep Group Post-Test Only'!$AA$11,IF($H$84=\"Pre-Post Design\",'Pre-Post Design'!$X$11,IF($H$84=\"Independent Groups, Pre-Post Design\",'Independent Groups, Pre-Post'!$AI$11,\"\")))","v":""},null,{"$f":"IF($H$84=\"Independent Groups, Post-Test only\",'Indep Group Post-Test Only'!$AK$11,IF($H$84=\"Pre-Post Design\",'Pre-Post Design'!$AD$11,IF($H$84=\"Independent Groups, Pre-Post Design\",'Independent Groups, Pre-Post'!$AS$11,\"\")))","v":""},{"$f":"IF($H$84=\"Independent Groups, Post-Test only\",'Indep Group Post-Test Only'!$AL$11,IF($H$84=\"Pre-Post Design\",'Pre-Post Design'!$AE$11,IF($H$84=\"Independent Groups, Pre-Post Design\",'Independent Groups, Pre-Post'!$AT$11,\"\")))","v":""}]
[]
[null,null,null,null,"General Ability/IQ",null,{"$f":"IF($H$84=\"Independent Groups, Post-Test only\",'Indep Group Post-Test Only'!$O$19,IF($H$84=\"Pre-Post Design\",'Pre-Post Design'!$P$19,IF($H$84=\"Independent Groups, Pre-Post Design\",'Independent Groups, Pre-Post'!$W$19,\"\")))","v":""},{"$f":"IF($H$84=\"Independent Groups, Post-Test only\",'Indep Group Post-Test Only'!$P$19,IF($H$84=\"Pre-Post Design\",'Pre-Post Design'!$Q$19,IF($H$84=\"Independent Groups, Pre-Post Design\",'Independent Groups, Pre-Post'!$X$19,\"\")))","v":""},null,{"$f":"IF($H$84=\"Independent Groups, Post-Test only\",'Indep Group Post-Test Only'!$Z$19,IF($H$84=\"Pre-Post Design\",'Pre-Post Design'!$W$19,IF($H$84=\"Independent Groups, Pre-Post Design\",'Independent Groups, Pre-Post'!$AH$19,\"\")))","v":""},{"$f":"IF($H$84=\"Independent Groups, Post-Test only\",'Indep Group Post-Test Only'!$AA$19,IF($H$84=\"Pre-Post Design\",'Pre-Post Design'!$X$19,IF($H$84=\"Independent Groups, Pre-Post Design\",'Independent Groups, Pre-Post'!$AI$19,\"\")))","v":""},null,{"$f":"IF($H$84=\"Independent Groups, Post-Test only\",'Indep Group Post-Test Only'!$AK$19,IF($H$84=\"Pre-Post Design\",'Pre-Post Design'!$AD$19,IF($H$84=\"Independent Groups, Pre-Post Design\",'Independent Groups, Pre-Post'!$AS$19,\"\")))","v":""},{"$f":"IF($H$84=\"Independent Groups, Post-Test only\",'Indep Group Post-Test Only'!$AL$19,IF($H$84=\"Pre-Post Design\",'Pre-Post Design'!$AE$19,IF($H$84=\"Independent Groups, Pre-Post Design\",'Independent Groups, Pre-Post'!$AT$19,\"\")))","v":""}]
[]
[null,null,null,null,"Achievement",null,{"$f":"IF($H$84=\"Independent Groups, Post-Test only\",'Indep Group Post-Test Only'!$O$27,IF($H$84=\"Pre-Post Design\",'Pre-Post Design'!$P$27,IF($H$84=\"Independent Groups, Pre-Post Design\",'Independent Groups, Pre-Post'!$W$27,\"\")))","v":""},{"$f":"IF($H$84=\"Independent Groups, Post-Test only\",'Indep Group Post-Test Only'!$P$27,IF($H$84=\"Pre-Post Design\",'Pre-Post Design'!$Q$27,IF($H$84=\"Independent Groups, Pre-Post Design\",'Independent Groups, Pre-Post'!$X$27,\"\")))","v":""},null,{"$f":"IF($H$84=\"Independent Groups, Post-Test only\",'Indep Group Post-Test Only'!$Z$27,IF($H$84=\"Pre-Post Design\",'Pre-Post Design'!$W$27,IF($H$84=\"Independent Groups, Pre-Post Design\",'Independent Groups, Pre-Post'!$AH$27,\"\")))","v":""},{"$f":"IF($H$84=\"Independent Groups, Post-Test only\",'Indep Group Post-Test Only'!$AA$27,IF($H$84=\"Pre-Post Design\",'Pre-Post Design'!$X$27,IF($H$84=\"Independent Groups, Pre-Post Design\",'Independent Groups, Pre-Post'!$AI$27,\"\")))","v":""},null,{"$f":"IF($H$84=\"Independent Groups, Post-Test only\",'Indep Group Post-Test Only'!$AK$27,IF($H$84=\"Pre-Post Design\",'Pre-Post Design'!$AD$27,IF($H$84=\"Independent Groups, Pre-Post Design\",'Independent Groups, Pre-Post'!$AS$27,\"\")))","v":""},{"$f":"IF($H$84=\"Independent Groups, Post-Test only\",'Indep Group Post-Test Only'!$AL$27,IF($H$84=\"Pre-Post Design\",'Pre-Post Design'!$AE$27,IF($H$84=\"Independent Groups, Pre-Post Design\",'Independent Groups, Pre-Post'!$AT$27,\"\")))","v":""}]
[]
[null,null,null,null,"Attention/Working Memory",null,{"$f":"IF($H$84=\"Independent Groups, Post-Test only\",'Indep Group Post-Test Only'!$O$35,IF($H$84=\"Pre-Post Design\",'Pre-Post Design'!$P$35,IF($H$84=\"Independent Groups, Pre-Post Design\",'Independent Groups, Pre-Post'!$W$35,\"\")))","v":""},{"$f":"IF($H$84=\"Independent Groups, Post-Test only\",'Indep Group Post-Test Only'!$P$35,IF($H$84=\"Pre-Post Design\",'Pre-Post Design'!$Q$35,IF($H$84=\"Independent Groups, Pre-Post Design\",'Independent Groups, Pre-Post'!$X$35,\"\")))","v":""},null,{"$f":"IF($H$84=\"Independent Groups, Post-Test only\",'Indep Group Post-Test Only'!$Z$35,IF($H$84=\"Pre-Post Design\",'Pre-Post Design'!$W$35,IF($H$84=\"Independent Groups, Pre-Post Design\",'Independent Groups, Pre-Post'!$AH$35,\"\")))","v":""},{"$f":"IF($H$84=\"Independent Groups, Post-Test only\",'Indep Group Post-Test Only'!$AA$35,IF($H$84=\"Pre-Post Design\",'Pre-Post Design'!$X$35,IF($H$84=\"Independent Groups, Pre-Post Design\",'Independent Groups, Pre-Post'!$AI$35,\"\")))","v":""},null,{"$f":"IF($H$84=\"Independent Groups, Post-Test only\",'Indep Group Post-Test Only'!$AK$35,IF($H$84=\"Pre-Post Design\",'Pre-Post Design'!$AD$35,IF($H$84=\"Independent Groups, Pre-Post Design\",'Independent Groups, Pre-Post'!$AS$35,\"\")))","v":""},{"$f":"IF($H$84=\"Independent Groups, Post-Test only\",'Indep Group Post-Test Only'!$AL$35,IF($H$84=\"Pre-Post Design\",'Pre-Post Design'!$AE$35,IF($H$84=\"Independent Groups, Pre-Post Design\",'Independent Groups, Pre-Post'!$AT$35,\"\")))","v":""}]
[]
[null,null,null,null,"Processing Speed",null,{"$f":"IF($H$84=\"Independent Groups, Post-Test only\",'Indep Group Post-Test Only'!$O$43,IF($H$84=\"Pre-Post Design\",'Pre-Post Design'!$P$43,IF($H$84=\"Independent Groups, Pre-Post Design\",'Independent Groups, Pre-Post'!$W$43,\"\")))","v":""},{"$f":"IF($H$84=\"Independent Groups, Post-Test only\",'Indep Group Post-Test Only'!$P$43,IF($H$84=\"Pre-Post Design\",'Pre-Post Design'!$Q$43,IF($H$84=\"Independent Groups, Pre-Post Design\",'Independent Groups, Pre-Post'!$X$43,\"\")))","v":""},null,{"$f":"IF($H$84=\"Independent Groups, Post-Test only\",'Indep Group Post-Test Only'!$Z$43,IF($H$84=\"Pre-Post Design\",'Pre-Post Design'!$W$43,IF($H$84=\"Independent Groups, Pre-Post Design\",'Independent Groups, Pre-Post'!$AH$43,\"\")))","v":""},{"$f":"IF($H$84=\"Independent Groups, Post-Test only\",'Indep Group Post-Test Only'!$AA$43,IF($H$84=\"Pre-Post Design\",'Pre-Post Design'!$X$43,IF($H$84=\"Independent Groups, Pre-Post Design\",'Independent Groups, Pre-Post'!$AI$43,\"\")))","v":""},null,{"$f":"IF($H$84=\"Independent Groups, Post-Test only\",'Indep Group Post-Test Only'!$AK$43,IF($H$84=\"Pre-Post Design\",'Pre-Post Design'!$AD$43,IF($H$84=\"Independent Groups, Pre-Post Design\",'Independent Groups, Pre-Post'!$AS$43,\"\")))","v":""},{"$f":"IF($H$84=\"Independent Groups, Post-Test only\",'Indep Group Post-Test Only'!$AL$43,IF($H$84=\"Pre-Post Design\",'Pre-Post Design'!$AE$43,IF($H$84=\"Independent Groups, Pre-Post Design\",'Independent Groups, Pre-Post'!$AT$43,\"\")))","v":""}]
[]
[null,null,null,null,"Executive Functioning ",null,{"$f":"IF($H$84=\"Independent Groups, Post-Test only\",'Indep Group Post-Test Only'!$O$51,IF($H$84=\"Pre-Post Design\",'Pre-Post Design'!$P$51,IF($H$84=\"Independent Groups, Pre-Post Design\",'Independent Groups, Pre-Post'!$W$51,\"\")))","v":""},{"$f":"IF($H$84=\"Independent Groups, Post-Test only\",'Indep Group Post-Test Only'!$P$51,IF($H$84=\"Pre-Post Design\",'Pre-Post Design'!$Q$51,IF($H$84=\"Independent Groups, Pre-Post Design\",'Independent Groups, Pre-Post'!$X$51,\"\")))","v":""},null,{"$f":"IF($H$84=\"Independent Groups, Post-Test only\",'Indep Group Post-Test Only'!$Z$51,IF($H$84=\"Pre-Post Design\",'Pre-Post Design'!$W$51,IF($H$84=\"Independent Groups, Pre-Post Design\",'Independent Groups, Pre-Post'!$AH$51,\"\")))","v":""},{"$f":"IF($H$84=\"Independent Groups, Post-Test only\",'Indep Group Post-Test Only'!$AA$51,IF($H$84=\"Pre-Post Design\",'Pre-Post Design'!$X$51,IF($H$84=\"Independent Groups, Pre-Post Design\",'Independent Groups, Pre-Post'!$AI$51,\"\")))","v":""},null,{"$f":"IF($H$84=\"Independent Groups, Post-Test only\",'Indep Group Post-Test Only'!$AK$51,IF($H$84=\"Pre-Post Design\",'Pre-Post Design'!$AD$51,IF($H$84=\"Independent Groups, Pre-Post Design\",'Independent Groups, Pre-Post'!$AS$51,\"\")))","v":""},{"$f":"IF($H$84=\"Independent Groups, Post-Test only\",'Indep Group Post-Test Only'!$AL$51,IF($H$84=\"Pre-Post Design\",'Pre-Post Design'!$AE$51,IF($H$84=\"Independent Groups, Pre-Post Design\",'Independent Groups, Pre-Post'!$AT$51,\"\")))","v":""}]
[]
[null,null,null,null,"Immediate Memory",null,{"$f":"IF($H$84=\"Independent Groups, Post-Test only\",'Indep Group Post-Test Only'!$O$59,IF($H$84=\"Pre-Post Design\",'Pre-Post Design'!$P$59,IF($H$84=\"Independent Groups, Pre-Post Design\",'Independent Groups, Pre-Post'!$W$59,\"\")))","v":""},{"$f":"IF($H$84=\"Independent Groups, Post-Test only\",'Indep Group Post-Test Only'!$P$59,IF($H$84=\"Pre-Post Design\",'Pre-Post Design'!$Q$59,IF($H$84=\"Independent Groups, Pre-Post Design\",'Independent Groups, Pre-Post'!$X$59,\"\")))","v":""},null,{"$f":"IF($H$84=\"Independent Groups, Post-Test only\",'Indep Group Post-Test Only'!$Z$59,IF($H$84=\"Pre-Post Design\",'Pre-Post Design'!$W$59,IF($H$84=\"Independent Groups, Pre-Post Design\",'Independent Groups, Pre-Post'!$AH$59,\"\")))","v":""},{"$f":"IF($H$84=\"Independent Groups, Post-Test only\",'Indep Group Post-Test Only'!$AA$59,IF($H$84=\"Pre-Post Design\",'Pre-Post Design'!$X$59,IF($H$84=\"Independent Groups, Pre-Post Design\",'Independent Groups, Pre-Post'!$AI$59,\"\")))","v":""},null,{"$f":"IF($H$84=\"Independent Groups, Post-Test only\",'Indep Group Post-Test Only'!$AK$59,IF($H$84=\"Pre-Post Design\",'Pre-Post Design'!$AD$59,IF($H$84=\"Independent Groups, Pre-Post Design\",'Independent Groups, Pre-Post'!$AS$59,\"\")))","v":""},{"$f":"IF($H$84=\"Independent Groups, Post-Test only\",'Indep Group Post-Test Only'!$AL$59,IF($H$84=\"Pre-Post Design\",'Pre-Post Design'!$AE$59,IF($H$84=\"Independent Groups, Pre-Post Design\",'Independent Groups, Pre-Post'!$AT$59,\"\")))","v":""}]
[]
[null,null,null,null,"Delayed Memory",null,{"$f":"IF($H$84=\"Independent Groups, Post-Test only\",'Indep Group Post-Test Only'!$O$67,IF($H$84=\"Pre-Post Design\",'Pre-Post Design'!$P$67,IF($H$84=\"Independent Groups, Pre-Post Design\",'Independent Groups, Pre-Post'!$W$67,\"\")))","v":""},{"$f":"IF($H$84=\"Independent Groups, Post-Test only\",'Indep Group Post-Test Only'!$P$67,IF($H$84=\"Pre-Post Design\",'Pre-Post Design'!$Q$67,IF($H$84=\"Independent Groups, Pre-Post Design\",'Independent Groups, Pre-Post'!$X$67,\"\")))","v":""},null,{"$f":"IF($H$84=\"Independent Groups, Post-Test only\",'Indep Group Post-Test Only'!$Z$67,IF($H$84=\"Pre-Post Design\",'Pre-Post Design'!$W$67,IF($H$84=\"Independent Groups, Pre-Post Design\",'Independent Groups, Pre-Post'!$AH$67,\"\")))","v":""},{"$f":"IF($H$84=\"Independent Groups, Post-Test only\",'Indep Group Post-Test Only'!$AA$67,IF($H$84=\"Pre-Post Design\",'Pre-Post Design'!$X$67,IF($H$84=\"Independent Groups, Pre-Post Design\",'Independent Groups, Pre-Post'!$AI$67,\"\")))","v":""},null,{"$f":"IF($H$84=\"Independent Groups, Post-Test only\",'Indep Group Post-Test Only'!$AK$67,IF($H$84=\"Pre-Post Design\",'Pre-Post Design'!$AD$67,IF($H$84=\"Independent Groups, Pre-Post Design\",'Independent Groups, Pre-Post'!$AS$67,\"\")))","v":""},{"$f":"IF($H$84=\"Independent Groups, Post-Test only\",'Indep Group Post-Test Only'!$AL$67,IF($H$84=\"Pre-Post Design\",'Pre-Post Design'!$AE$67,IF($H$84=\"Independent Groups, Pre-Post Design\",'Independent Groups, Pre-Post'!$AT$67,\"\")))","v":""}]
[]
[null,null,null,null,"Visuospatial Skills",null,{"$f":"IF($H$84=\"Independent Groups, Post-Test only\",'Indep Group Post-Test Only'!$O$75,IF($H$84=\"Pre-Post Design\",'Pre-Post Design'!$P$75,IF($H$84=\"Independent Groups, Pre-Post Design\",'Independent Groups, Pre-Post'!$W$75,\"\")))","v":""},{"$f":"IF($H$84=\"Independent Groups, Post-Test only\",'Indep Group Post-Test Only'!$P$75,IF($H$84=\"Pre-Post Design\",'Pre-Post Design'!$Q$75,IF($H$84=\"Independent Groups, Pre-Post Design\",'Independent Groups, Pre-Post'!$X$75,\"\")))","v":""},null,{"$f":"IF($H$84=\"Independent Groups, Post-Test only\",'Indep Group Post-Test Only'!$Z$75,IF($H$84=\"Pre-Post Design\",'Pre-Post Design'!$W$75,IF($H$84=\"Independent Groups, Pre-Post Design\",'Independent Groups, Pre-Post'!$AH$75,\"\")))","v":""},{"$f":"IF($H$84=\"Independent Groups, Post-Test only\",'Indep Group Post-Test Only'!$AA$75,IF($H$84=\"Pre-Post Design\",'Pre-Post Design'!$X$75,IF($H$84=\"Independent Groups, Pre-Post Design\",'Independent Groups, Pre-Post'!$AI$75,\"\")))","v":""},null,{"$f":"IF($H$84=\"Independent Groups, Post-Test only\",'Indep Group Post-Test Only'!$AK$75,IF($H$84=\"Pre-Post Design\",'Pre-Post Design'!$AD$75,IF($H$84=\"Independent Groups, Pre-Post Design\",'Independent Groups, Pre-Post'!$AS$75,\"\")))","v":""},{"$f":"IF($H$84=\"Independent Groups, Post-Test only\",'Indep Group Post-Test Only'!$AL$75,IF($H$84=\"Pre-Post Design\",'Pre-Post Design'!$AE$75,IF($H$84=\"Independent Groups, Pre-Post Design\",'Independent Groups, Pre-Post'!$AT$75,\"\")))","v":""}]
[]
[null,null,null,null,"Fine Motor Skills",null,{"$f":"IF($H$84=\"Independent Groups, Post-Test only\",'Indep Group Post-Test Only'!$O$83,IF($H$84=\"Pre-Post Design\",'Pre-Post Design'!$P$83,IF($H$84=\"Independent Groups, Pre-Post Design\",'Independent Groups, Pre-Post'!$W$83,\"\")))","v":""},{"$f":"IF($H$84=\"Independent Groups, Post-Test only\",'Indep Group Post-Test Only'!$P$83,IF($H$84=\"Pre-Post Design\",'Pre-Post Design'!$Q$83,IF($H$84=\"Independent Groups, Pre-Post Design\",'Independent Groups, Pre-Post'!$X$83,\"\")))","v":""},null,{"$f":"IF($H$84=\"Independent Groups, Post-Test only\",'Indep Group Post-Test Only'!$Z$83,IF($H$84=\"Pre-Post Design\",'Pre-Post Design'!$W$83,IF($H$84=\"Independent Groups, Pre-Post Design\",'Independent Groups, Pre-Post'!$AH$83,\"\")))","v":""},{"$f":"IF($H$84=\"Independent Groups, Post-Test only\",'Indep Group Post-Test Only'!$AA$83,IF($H$84=\"Pre-Post Design\",'Pre-Post Design'!$X$83,IF($H$84=\"Independent Groups, Pre-Post Design\",'Independent Groups, Pre-Post'!$AI$83,\"\")))","v":""},null,{"$f":"IF($H$84=\"Independent Groups, Post-Test only\",'Indep Group Post-Test Only'!$AK$83,IF($H$84=\"Pre-Post Design\",'Pre-Post Design'!$AD$83,IF($H$84=\"Independent Groups, Pre-Post Design\",'Independent Groups, Pre-Post'!$AS$83,\"\")))","v":""},{"$f":"IF($H$84=\"Independent Groups, Post-Test only\",'Indep Group Post-Test Only'!$AL$83,IF($H$84=\"Pre-Post Design\",'Pre-Post Design'!$AE$83,IF($H$84=\"Independent Groups, Pre-Post Design\",'Independent Groups, Pre-Post'!$AT$83,\"\")))","v":""}]
[]
[null,null,null,null,"Overall ",null,{"$f":"IF($H$84=\"Independent Groups, Post-Test only\",'Indep Group Post-Test Only'!$O$85,IF($H$84=\"Pre-Post Design\",'Pre-Post Design'!$P$85,IF($H$84=\"Independent Groups, Pre-Post Design\",'Independent Groups, Pre-Post'!$W$85,\"\")))","v":""},{"$f":"IF($H$84=\"Independent Groups, Post-Test only\",'Indep Group Post-Test Only'!$P$85,IF($H$84=\"Pre-Post Design\",'Pre-Post Design'!$Q$85,IF($H$84=\"Independent Groups, Pre-Post Design\",'Independent Groups, Pre-Post'!$X$85,\"\")))","v":""},null,{"$f":"IF($H$84=\"Independent Groups, Post-Test only\",'Indep Group Post-Test Only'!$Z$85,IF($H$84=\"Pre-Post Design\",'Pre-Post Design'!$W$85,IF($H$84=\"Independent Groups, Pre-Post Design\",'Independent Groups, Pre-Post'!$AH$85,\"\")))","v":""},{"$f":"IF($H$84=\"Independent Groups, Post-Test only\",'Indep Group Post-Test Only'!$AA$85,IF($H$84=\"Pre-Post Design\",'Pre-Post Design'!$X$85,IF($H$84=\"Independent Groups, Pre-Post Design\",'Independent Groups, Pre-Post'!$AI$85,\"\")))","v":""},null,{"$f":"IF($H$84=\"Independent Groups, Post-Test only\",'Indep Group Post-Test Only'!$AK$85,IF($H$84=\"Pre-Post Design\",'Pre-Post Design'!$AD$85,IF($H$84=\"Independent Groups, Pre-Post Design\",'Independent Groups, Pre-Post'!$AS$85,\"\")))","v":""},{"$f":"IF($H$84=\"Independent Groups, Post-Test only\",'Indep Group Post-Test Only'!$AL$85,IF($H$84=\"Pre-Post Design\",'Pre-Post Design'!$AE$85,IF($H$84=\"Independent Groups, Pre-Post Design\",'Independent Groups, Pre-Post'!$AT$85,\"\")))","v":""}]
[]
[null,null,null,null,"Neuropsychological Outcomes"]
[]
[null,null,null,null,null,null,"Time Point 4",null,null,"Time Point 5",null,null,"Time Point 6"]
[null,null,null,null,"Mtime Since Injury"]
[null,null,null,null,"SDTime Since Injury"]
[]
[null,null,null,null,"Domain",null,"Observed d","SEd",null,"Observed d","SEd",null,"Observed d","SEd"]
[null,null,null,null,"Orientation",null,{"$f":"IF($H$84=\"Independent Groups, Post-Test only\",'Indep Group Post-Test Only'!$AV$11,IF($H$84=\"Pre-Post Design\",'Pre-Post Design'!$AK$11,IF($H$84=\"Independent Groups, Pre-Post Design\",'Independent Groups, Pre-Post'!$BD$11,\"\")))","v":""},{"$f":"IF($H$84=\"Independent Groups, Post-Test only\",'Indep Group Post-Test Only'!$AW$11,IF($H$84=\"Pre-Post Design\",'Pre-Post Design'!$AL$11,IF($H$84=\"Independent Groups, Pre-Post Design\",'Independent Groups, Pre-Post'!$BE$11,\"\")))","v":""},null,{"$f":"IF($H$84=\"Independent Groups, Post-Test only\",'Indep Group Post-Test Only'!$BG$11,IF($H$84=\"Pre-Post Design\",'Pre-Post Design'!$AR$11,IF($H$84=\"Independent Groups, Pre-Post Design\",'Independent Groups, Pre-Post'!$BO$11,\"\")))","v":""},{"$f":"IF($H$84=\"Independent Groups, Post-Test only\",'Indep Group Post-Test Only'!$BH$11,IF($H$84=\"Pre-Post Design\",'Pre-Post Design'!$AS$11,IF($H$84=\"Independent Groups, Pre-Post Design\",'Independent Groups, Pre-Post'!$BP$11,\"\")))","v":""},null,{"$f":"IF($H$84=\"Independent Groups, Post-Test only\",'Indep Group Post-Test Only'!$BR$11,IF($H$84=\"Pre-Post Design\",'Pre-Post Design'!$AY$11,IF($H$84=\"Independent Groups, Pre-Post Design\",'Independent Groups, Pre-Post'!$BZ$11,\"\")))","v":""},{"$f":"IF($H$84=\"Independent Groups, Post-Test only\",'Indep Group Post-Test Only'!$BS$11,IF($H$84=\"Pre-Post Design\",'Pre-Post Design'!$AZ$11,IF($H$84=\"Independent Groups, Pre-Post Design\",'Independent Groups, Pre-Post'!$CA$11,\"\")))","v":""}]
[]
[null,null,null,null,"General Ability/IQ",null,{"$f":"IF($H$84=\"Independent Groups, Post-Test only\",'Indep Group Post-Test Only'!$AV$19,IF($H$84=\"Pre-Post Design\",'Pre-Post Design'!$AK$19,IF($H$84=\"Independent Groups, Pre-Post Design\",'Independent Groups, Pre-Post'!$BD$19,\"\")))","v":""},{"$f":"IF($H$84=\"Independent Groups, Post-Test only\",'Indep Group Post-Test Only'!$AW$19,IF($H$84=\"Pre-Post Design\",'Pre-Post Design'!$AL$19,IF($H$84=\"Independent Groups, Pre-Post Design\",'Independent Groups, Pre-Post'!$BE$19,\"\")))","v":""},null,{"$f":"IF($H$84=\"Independent Groups, Post-Test only\",'Indep Group Post-Test Only'!$BG$19,IF($H$84=\"Pre-Post Design\",'Pre-Post Design'!$AR$19,IF($H$84=\"Independent Groups, Pre-Post Design\",'Independent Groups, Pre-Post'!$BO$19,\"\")))","v":""},{"$f":"IF($H$84=\"Independent Groups, Post-Test only\",'Indep Group Post-Test Only'!$BH$19,IF($H$84=\"Pre-Post Design\",'Pre-Post Design'!$AS$19,IF($H$84=\"Independent Groups, Pre-Post Design\",'Independent Groups, Pre-Post'!$BP$19,\"\")))","v":""},null,{"$f":"IF($H$84=\"Independent Groups, Post-Test only\",'Indep Group Post-Test Only'!$BR$19,IF($H$84=\"Pre-Post Design\",'Pre-Post Design'!$AY$19,IF($H$84=\"Independent Groups, Pre-Post Design\",'Independent Groups, Pre-Post'!$BZ$19,\"\")))","v":""},{"$f":"IF($H$84=\"Independent Groups, Post-Test only\",'Indep Group Post-Test Only'!$BS$19,IF($H$84=\"Pre-Post Design\",'Pre-Post Design'!$AZ$19,IF($H$84=\"Independent Groups, Pre-Post Design\",'Independent Groups, Pre-Post'!$CA$19,\"\")))","v":""}]
[]
[null,null,null,null,"Achievement",null,{"$f":"IF($H$84=\"Independent Groups, Post-Test only\",'Indep Group Post-Test Only'!$AV$27,IF($H$84=\"Pre-Post Design\",'Pre-Post Design'!$AK$27,IF($H$84=\"Independent Groups, Pre-Post Design\",'Independent Groups, Pre-Post'!$BD$27,\"\")))","v":""},{"$f":"IF($H$84=\"Independent Groups, Post-Test only\",'Indep Group Post-Test Only'!$AW$27,IF($H$84=\"Pre-Post Design\",'Pre-Post Design'!$AL$27,IF($H$84=\"Independent Groups, Pre-Post Design\",'Independent Groups, Pre-Post'!$BE$27,\"\")))","v":""},null,{"$f":"IF($H$84=\"Independent Groups, Post-Test only\",'Indep Group Post-Test Only'!$BG$27,IF($H$84=\"Pre-Post Design\",'Pre-Post Design'!$AR$27,IF($H$84=\"Independent Groups, Pre-Post Design\",'Independent Groups, Pre-Post'!$BO$27,\"\")))","v":""},{"$f":"IF($H$84=\"Independent Groups, Post-Test only\",'Indep Group Post-Test Only'!$BH$27,IF($H$84=\"Pre-Post Design\",'Pre-Post Design'!$AS$27,IF($H$84=\"Independent Groups, Pre-Post Design\",'Independent Groups, Pre-Post'!$BP$27,\"\")))","v":""},null,{"$f":"IF($H$84=\"Independent Groups, Post-Test only\",'Indep Group Post-Test Only'!$BR$27,IF($H$84=\"Pre-Post Design\",'Pre-Post Design'!$AY$27,IF($H$84=\"Independent Groups, Pre-Post Design\",'Independent Groups, Pre-Post'!$BZ$27,\"\")))","v":""},{"$f":"IF($H$84=\"Independent Groups, Post-Test only\",'Indep Group Post-Test Only'!$BS$27,IF($H$84=\"Pre-Post Design\",'Pre-Post Design'!$AZ$27,IF($H$84=\"Independent Groups, Pre-Post Design\",'Independent Groups, Pre-Post'!$CA$27,\"\")))","v":""}]
[]
[null,null,null,null,"Attention/Working Memory",null,{"$f":"IF($H$84=\"Independent Groups, Post-Test only\",'Indep Group Post-Test Only'!$AV$35,IF($H$84=\"Pre-Post Design\",'Pre-Post Design'!$AK$35,IF($H$84=\"Independent Groups, Pre-Post Design\",'Independent Groups, Pre-Post'!$BD$35,\"\")))","v":""},{"$f":"IF($H$84=\"Independent Groups, Post-Test only\",'Indep Group Post-Test Only'!$AW$35,IF($H$84=\"Pre-Post Design\",'Pre-Post Design'!$AL$35,IF($H$84=\"Independent Groups, Pre-Post Design\",'Independent Groups, Pre-Post'!$BE$35,\"\")))","v":""},null,{"$f":"IF($H$84=\"Independent Groups, Post-Test only\",'Indep Group Post-Test Only'!$BG$35,IF($H$84=\"Pre-Post Design\",'Pre-Post Design'!$AR$35,IF($H$84=\"Independent Groups, Pre-Post Design\",'Independent Groups, Pre-Post'!$BO$35,\"\")))","v":""},{"$f":"IF($H$84=\"Independent Groups, Post-Test only\",'Indep Group Post-Test Only'!$BH$35,IF($H$84=\"Pre-Post Design\",'Pre-Post Design'!$AS$35,IF($H$84=\"Independent Groups, Pre-Post Design\",'Independent Groups, Pre-Post'!$BP$35,\"\")))","v":""},null,{"$f":"IF($H$84=\"Independent Groups, Post-Test only\",'Indep Group Post-Test Only'!$BR$35,IF($H$84=\"Pre-Post Design\",'Pre-Post Design'!$AY$35,IF($H$84=\"Independent Groups, Pre-Post Design\",'Independent Groups, Pre-Post'!$BZ$35,\"\")))","v":""},{"$f":"IF($H$84=\"Independent Groups, Post-Test only\",'Indep Group Post-Test Only'!$BS$35,IF($H$84=\"Pre-Post Design\",'Pre-Post Design'!$AZ$35,IF($H$84=\"Independent Groups, Pre-Post Design\",'Independent Groups, Pre-Post'!$CA$35,\"\")))","v":""}]
[]
[null,null,null,null,"Processing Speed",null,{"$f":"IF($H$84=\"Independent Groups, Post-Test only\",'Indep Group Post-Test Only'!$AV$43,IF($H$84=\"Pre-Post Design\",'Pre-Post Design'!$AK$43,IF($H$84=\"Independent Groups, Pre-Post Design\",'Independent Groups, Pre-Post'!$BD$43,\"\")))","v":""},{"$f":"IF($H$84=\"Independent Groups, Post-Test only\",'Indep Group Post-Test Only'!$AW$43,IF($H$84=\"Pre-Post Design\",'Pre-Post Design'!$AL$43,IF($H$84=\"Independent Groups, Pre-Post Design\",'Independent Groups, Pre-Post'!$BE$43,\"\")))","v":""},null,{"$f":"IF($H$84=\"Independent Groups, Post-Test only\",'Indep Group Post-Test Only'!$BG$43,IF($H$84=\"Pre-Post Design\",'Pre-Post Design'!$AR$43,IF($H$84=\"Independent Groups, Pre-Post Design\",'Independent Groups, Pre-Post'!$BO$43,\"\")))","v":""},{"$f":"IF($H$84=\"Independent Groups, Post-Test only\",'Indep Group Post-Test Only'!$BH$43,IF($H$84=\"Pre-Post Design\",'Pre-Post Design'!$AS$43,IF($H$84=\"Independent Groups, Pre-Post Design\",'Independent Groups, Pre-Post'!$BP$43,\"\")))","v":""},null,{"$f":"IF($H$84=\"Independent Groups, Post-Test only\",'Indep Group Post-Test Only'!$BR$43,IF($H$84=\"Pre-Post Design\",'Pre-Post Design'!$AY$43,IF($H$84=\"Independent Groups, Pre-Post Design\",'Independent Groups, Pre-Post'!$BZ$43,\"\")))","v":""},{"$f":"IF($H$84=\"Independent Groups, Post-Test only\",'Indep Group Post-Test Only'!$BS$43,IF($H$84=\"Pre-Post Design\",'Pre-Post Design'!$AZ$43,IF($H$84=\"Independent Groups, Pre-Post Design\",'Independent Groups, Pre-Post'!$CA$43,\"\")))","v":""}]
[]
[null,null,null,null,"Executive Functioning ",null,{"$f":"IF($H$84=\"Independent Groups, Post-Test only\",'Indep Group Post-Test Only'!$AV$51,IF($H$84=\"Pre-Post Design\",'Pre-Post Design'!$AK$51,IF($H$84=\"Independent Groups, Pre-Post Design\",'Independent Groups, Pre-Post'!$BD$51,\"\")))","v":""},{"$f":"IF($H$84=\"Independent Groups, Post-Test only\",'Indep Group Post-Test Only'!$AW$51,IF($H$84=\"Pre-Post Design\",'Pre-Post Design'!$AL$51,IF($H$84=\"Independent Groups, Pre-Post Design\",'Independent Groups, Pre-Post'!$BE$51,\"\")))","v":""},null,{"$f":"IF($H$84=\"Independent Groups, Post-Test only\",'Indep Group Post-Test Only'!$BG$51,IF($H$84=\"Pre-Post Design\",'Pre-Post Design'!$AR$51,IF($H$84=\"Independent Groups, Pre-Post Design\",'Independent Groups, Pre-Post'!$BO$51,\"\")))","v":""},{"$f":"IF($H$84=\"Independent Groups, Post-Test only\",'Indep Group Post-Test Only'!$BH$51,IF($H$84=\"Pre-Post Design\",'Pre-Post Design'!$AS$51,IF($H$84=\"Independent Groups, Pre-Post Design\",'Independent Groups, Pre-Post'!$BP$51,\"\")))","v":""},null,{"$f":"IF($H$84=\"Independent Groups, Post-Test only\",'Indep Group Post-Test Only'!$BR$51,IF($H$84=\"Pre-Post Design\",'Pre-Post Design'!$AY$51,IF($H$84=\"Independent Groups, Pre-Post Design\",'Independent Groups, Pre-Post'!$BZ$51,\"\")))","v":""},{"$f":"IF($H$84=\"Independent Groups, Post-Test only\",'Indep Group Post-Test Only'!$BS$51,IF($H$84=\"Pre-Post Design\",'Pre-Post Design'!$AZ$51,IF($H$84=\"Independent Groups, Pre-Post Design\",'Independent Groups, Pre-Post'!$CA$51,\"\")))","v":""}]
[]
[null,null,null,null,"Immediate Memory",null,{"$f":"IF($H$84=\"Independent Groups, Post-Test only\",'Indep Group Post-Test Only'!$AV$59,IF($H$84=\"Pre-Post Design\",'Pre-Post Design'!$AK$59,IF($H$84=\"Independent Groups, Pre-Post Design\",'Independent Groups, Pre-Post'!$BD$59,\"\")))","v":""},{"$f":"IF($H$84=\"Independent Groups, Post-Test only\",'Indep Group Post-Test Only'!$AW$59,IF($H$84=\"Pre-Post Design\",'Pre-Post Design'!$AL$59,IF($H$84=\"Independent Groups, Pre-Post Design\",'Independent Groups, Pre-Post'!$BE$59,\"\")))","v":""},null,{"$f":"IF($H$84=\"Independent Groups, Post-Test only\",'Indep Group Post-Test Only'!$BG$59,IF($H$84=\"Pre-Post Design\",'Pre-Post Design'!$AR$59,IF($H$84=\"Independent Groups, Pre-Post Design\",'Independent Groups, Pre-Post'!$BO$59,\"\")))","v":""},{"$f":"IF($H$84=\"Independent Groups, Post-Test only\",'Indep Group Post-Test Only'!$BH$59,IF($H$84=\"Pre-Post Design\",'Pre-Post Design'!$AS$59,IF($H$84=\"Independent Groups, Pre-Post Design\",'Independent Groups, Pre-Post'!$BP$59,\"\")))","v":""},null,{"$f":"IF($H$84=\"Independent Groups, Post-Test only\",'Indep Group Post-Test Only'!$BR$59,IF($H$84=\"Pre-Post Design\",'Pre-Post Design'!$AY$59,IF($H$84=\"Independent Groups, Pre-Post Design\",'Independent Groups, Pre-Post'!$BZ$59,\"\")))","v":""},{"$f":"IF($H$84=\"Independent Groups, Post-Test only\",'Indep Group Post-Test Only'!$BS$59,IF($H$84=\"Pre-Post Design\",'Pre-Post Design'!$AZ$59,IF($H$84=\"Independent Groups, Pre-Post Design\",'Independent Groups, Pre-Post'!$CA$59,\"\")))","v":""}]
[]
[null,null,null,null,"Delayed Memory",null,{"$f":"IF($H$84=\"Independent Groups, Post-Test only\",'Indep Group Post-Test Only'!$AV$67,IF($H$84=\"Pre-Post Design\",'Pre-Post Design'!$AK$67,IF($H$84=\"Independent Groups, Pre-Post Design\",'Independent Groups, Pre-Post'!$BD$67,\"\")))","v":""},{"$f":"IF($H$84=\"Independent Groups, Post-Test only\",'Indep Group Post-Test Only'!$AW$67,IF($H$84=\"Pre-Post Design\",'Pre-Post Design'!$AL$67,IF($H$84=\"Independent Groups, Pre-Post Design\",'Independent Groups, Pre-Post'!$BE$67,\"\")))","v":""},null,{"$f":"IF($H$84=\"Independent Groups, Post-Test only\",'Indep Group Post-Test Only'!$BG$67,IF($H$84=\"Pre-Post Design\",'Pre-Post Design'!$AR$67,IF($H$84=\"Independent Groups, Pre-Post Design\",'Independent Groups, Pre-Post'!$BO$67,\"\")))","v":""},{"$f":"IF($H$84=\"Independent Groups, Post-Test only\",'Indep Group Post-Test Only'!$BH$67,IF($H$84=\"Pre-Post Design\",'Pre-Post Design'!$AS$67,IF($H$84=\"Independent Groups, Pre-Post Design\",'Independent Groups, Pre-Post'!$BP$67,\"\")))","v":""},null,{"$f":"IF($H$84=\"Independent Groups, Post-Test only\",'Indep Group Post-Test Only'!$BR$67,IF($H$84=\"Pre-Post Design\",'Pre-Post Design'!$AY$67,IF($H$84=\"Independent Groups, Pre-Post Design\",'Independent Groups, Pre-Post'!$BZ$67,\"\")))","v":""},{"$f":"IF($H$84=\"Independent Groups, Post-Test only\",'Indep Group Post-Test Only'!$BS$67,IF($H$84=\"Pre-Post Design\",'Pre-Post Design'!$AZ$67,IF($H$84=\"Independent Groups, Pre-Post Design\",'Independent Groups, Pre-Post'!$CA$67,\"\")))","v":""}]
[]
[null,null,null,null,"Visuospatial Skills",null,{"$f":"IF($H$84=\"Independent Groups, Post-Test only\",'Indep Group Post-Test Only'!$AV$75,IF($H$84=\"Pre-Post Design\",'Pre-Post Design'!$AK$75,IF($H$84=\"Independent Groups, Pre-Post Design\",'Independent Groups, Pre-Post'!$BD$75,\"\")))","v":""},{"$f":"IF($H$84=\"Independent Groups, Post-Test only\",'Indep Group Post-Test Only'!$AW$75,IF($H$84=\"Pre-Post Design\",'Pre-Post Design'!$AL$75,IF($H$84=\"Independent Groups, Pre-Post Design\",'Independent Groups, Pre-Post'!$BE$75,\"\")))","v":""},null,{"$f":"IF($H$84=\"Independent Groups, Post-Test only\",'Indep Group Post-Test Only'!$BG$75,IF($H$84=\"Pre-Post Design\",'Pre-Post Design'!$AR$75,IF($H$84=\"Independent Groups, Pre-Post Design\",'Independent Groups, Pre-Post'!$BO$75,\"\")))","v":""},{"$f":"IF($H$84=\"Independent Groups, Post-Test only\",'Indep Group Post-Test Only'!$BH$75,IF($H$84=\"Pre-Post Design\",'Pre-Post Design'!$AS$75,IF($H$84=\"Independent Groups, Pre-Post Design\",'Independent Groups, Pre-Post'!$BP$75,\"\")))","v":""},null,{"$f":"IF($H$84=\"Independent Groups, Post-Test only\",'Indep Group Post-Test Only'!$BR$75,IF($H$84=\"Pre-Post Design\",'Pre-Post Design'!$AY$75,IF($H$84=\"Independent Groups, Pre-Post Design\",'Independent Groups, Pre-Post'!$BZ$75,\"\")))","v":""},{"$f":"IF($H$84=\"Independent Groups, Post-Test only\",'Indep Group Post-Test Only'!$BS$75,IF($H$84=\"Pre-Post Design\",'Pre-Post Design'!$AZ$75,IF($H$84=\"Independent Groups, Pre-Post Design\",'Independent Groups, Pre-Post'!$CA$75,\"\")))","v":""}]
[]
[null,null,null,null,"Fine Motor Skills",null,{"$f":"IF($H$84=\"Independent Groups, Post-Test only\",'Indep Group Post-Test Only'!$AV$83,IF($H$84=\"Pre-Post Design\",'Pre-Post Design'!$AK$83,IF($H$84=\"Independent Groups, Pre-Post Design\",'Independent Groups, Pre-Post'!$BD$83,\"\")))","v":""},{"$f":"IF($H$84=\"Independent Groups, Post-Test only\",'Indep Group Post-Test Only'!$AW$83,IF($H$84=\"Pre-Post Design\",'Pre-Post Design'!$AL$83,IF($H$84=\"Independent Groups, Pre-Post Design\",'Independent Groups, Pre-Post'!$BE$83,\"\")))","v":""},null,{"$f":"IF($H$84=\"Independent Groups, Post-Test only\",'Indep Group Post-Test Only'!$BG$83,IF($H$84=\"Pre-Post Design\",'Pre-Post Design'!$AR$83,IF($H$84=\"Independent Groups, Pre-Post Design\",'Independent Groups, Pre-Post'!$BO$83,\"\")))","v":""},{"$f":"IF($H$84=\"Independent Groups, Post-Test only\",'Indep Group Post-Test Only'!$BH$83,IF($H$84=\"Pre-Post Design\",'Pre-Post Design'!$AS$83,IF($H$84=\"Independent Groups, Pre-Post Design\",'Independent Groups, Pre-Post'!$BP$83,\"\")))","v":""},null,{"$f":"IF($H$84=\"Independent Groups, Post-Test only\",'Indep Group Post-Test Only'!$BR$83,IF($H$84=\"Pre-Post Design\",'Pre-Post Design'!$AY$83,IF($H$84=\"Independent Groups, Pre-Post Design\",'Independent Groups, Pre-Post'!$BZ$83,\"\")))","v":""},{"$f":"IF($H$84=\"Independent Groups, Post-Test only\",'Indep Group Post-Test Only'!$BS$83,IF($H$84=\"Pre-Post Design\",'Pre-Post Design'!$AZ$83,IF($H$84=\"Independent Groups, Pre-Post Design\",'Independent Groups, Pre-Post'!$CA$83,\"\")))","v":""}]
[]
[null,null,null,null,"Overall ",null,{"$f":"IF($H$84=\"Independent Groups, Post-Test only\",'Indep Group Post-Test Only'!$AV$85,IF($H$84=\"Pre-Post Design\",'Pre-Post Design'!$AK$85,IF($H$84=\"Independent Groups, Pre-Post Design\",'Independent Groups, Pre-Post'!$BD$85,\"\")))","v":""},{"$f":"IF($H$84=\"Independent Groups, Post-Test only\",'Indep Group Post-Test Only'!$AW$85,IF($H$84=\"Pre-Post Design\",'Pre-Post Design'!$AL$85,IF($H$84=\"Independent Groups, Pre-Post Design\",'Independent Groups, Pre-Post'!$BE$85,\"\")))","v":""},null,{"$f":"IF($H$84=\"Independent Groups, Post-Test only\",'Indep Group Post-Test Only'!$BG$85,IF($H$84=\"Pre-Post Design\",'Pre-Post Design'!$AR$85,IF($H$84=\"Independent Groups, Pre-Post Design\",'Independent Groups, Pre-Post'!$BO$85,\"\")))","v":""},{"$f":"IF($H$84=\"Independent Groups, Post-Test only\",'Indep Group Post-Test Only'!$BH$85,IF($H$84=\"Pre-Post Design\",'Pre-Post Design'!$AS$85,IF($H$84=\"Independent Groups, Pre-Post Design\",'Independent Groups, Pre-Post'!$BP$85,\"\")))","v":""},null,{"$f":"IF($H$84=\"Independent Groups, Post-Test only\",'Indep Group Post-Test Only'!$BR$85,IF($H$84=\"Pre-Post Design\",'Pre-Post Design'!$AY$85,IF($H$84=\"Independent Groups, Pre-Post Design\",'Independent Groups, Pre-Post'!$BZ$85,\"\")))","v":""},{"$f":"IF($H$84=\"Independent Groups, Post-Test only\",'Indep Group Post-Test Only'!$BS$85,IF($H$84=\"Pre-Post Design\",'Pre-Post Design'!$AZ$85,IF($H$84=\"Independent Groups, Pre-Post Design\",'Independent Groups, Pre-Post'!$CA$85,\"\")))","v":""}]

{"sheet":"Indep Group Post-Test Only","index":2,"n_rows":157,"n_cols":71,"rows_kept":157,"cut":false,"hidden":false,"merged":[[86,61,86,67],[146,6,146,12],[146,17,146,23],[146,28,146,34],[146,39,146,45],[146,50,146,56],[146,61,146,67],[86,6,86,12],[86,17,86,23],[86,28,86,34],[86,39,86,45],[86,50,86,56],[2,61,2,67],[2,0,3,0],[2,50,2,56],[2,2,3,3],[2,6,2,12],[2,17,2,23],[2,28,2,34],[2,39,2,45]]}
[]
[]
["Check Box if Higher Score is Worse",null,"Cognitive/Emotional Domain Assessed:",null,null,null,"Time Point 1",null,null,null,null,null,null,null,null,null,null,"Time Point 2",null,null,null,null,null,null,null,null,null,null,"Time Point 3",null,null,null,null,null,null,null,null,null,null,"Time Point 4",null,null,null,null,null,null,null,null,null,null,"Time Point 5",null,null,null,null,null,null,null,null,null,null,"Time Point 6"]
[null,null,null,null,null,null,"Mcontrol","SDcontrol","Ncontrol",null,"MTBI","SDTBI","NTBI","d","d","SEd",null,"Mcontrol","SDcontrol","Ncontrol",null,"MTBI","SDTBI","NTBI","d","d","SEd",null,"Mcontrol","SDcontrol","Ncontrol",null,"MTBI","SDTBI","NTBI","d","d","SEd",null,"Mcontrol","SDcontrol","Ncontrol",null,"MTBI","SDTBI","NTBI","d","d","SEd",null,"Mcontrol","SDcontrol","Ncontrol",null,"MTBI","SDTBI","NTBI","d","d","SEd",null,"Mcontrol","SDcontrol","Ncontrol",null,"MTBI","SDTBI","NTBI","d","d","SEd"]
[null,null,"Orientation ","Test Name"]
[null,null,"Outcome 1:",null,null,null,null,null,null,null,null,null,null,{"$f":"IF(Sheet2!$A$21=TRUE,-1*((G6-K6)/SQRT(((H6^2*(I6-1))+(L6^2*(M6-1)))/(I6+M6-2))),(G6-K6)/SQRT(((H6^2*(I6-1))+(L6^2*(M6-1)))/(I6+M6-2)))","v":{"$error":"#DIV/0!"}},{"$f":"IF(G6=\"\",\"\",N6)","v":""},{"$f":"IF(I6=\"\",\"\",SQRT((I6+M6)/(I6*M6)+(O6^2/(2*(I6+M6)))))","v":""},null,null,null,null,null,null,null,null,{"$f":"IF(Sheet2!$A$21=TRUE,-1*((R6-V6)/SQRT(((S6^2*(T6-1))+(W6^2*(X6-1)))/(T6+X6-2))),(R6-V6)/SQRT(((S6^2*(T6-1))+(W6^2*(X6-1)))/(T6+X6-2)))","v":{"$error":"#DIV/0!"}},{"$f":"IF(R6=\"\",\"\",Y6)","v":""},{"$f":"IF(T6=\"\",\"\",SQRT((T6+X6)/(T6*X6)+(Z6^2/(2*(T6+X6)))))","v":""},null,null,null,null,null,null,null,null,{"$f":"IF(Sheet2!$A$21=TRUE,-1*((AC6-AG6)/SQRT(((AD6^2*(AE6-1))+(AH6^2*(AI6-1)))/(AE6+AI6-2))),(AC6-AG6)/SQRT(((AD6^2*(AE6-1))+(AH6^2*(AI6-1)))/(AE6+AI6-2)))","v":{"$error":"#DIV/0!"}},{"$f":"IF(AC6=\"\",\"\",AJ6)","v":""},{"$f":"IF(AE6=\"\",\"\",SQRT((AE6+AI6)/(AE6*AI6)+(AK6^2/(2*(AE6+AI6)))))","v":""},null,null,null,null,null,null,null,null,{"$f":"IF(Sheet2!$A$21=TRUE,-1*((AN6-AR6)/SQRT(((AO6^2*(AP6-1))+(AS6^2*(AT6-1)))/(AP6+AT6-2))),(AN6-AR6)/SQRT(((AO6^2*(AP6-1))+(AS6^2*(AT6-1)))/(AP6+AT6-2)))","v":{"$error":"#DIV/0!"}},{"$f":"IF(AN6=\"\",\"\",AU6)","v":""},{"$f":"IF(AP6=\"\",\"\",SQRT((AP6+AT6)/(AP6*AT6)+(AV6^2/(2*(AP6+AT6)))))","v":""},null,null,null,null,null,null,null,null,{"$f":"IF(Sheet2!$A$21=TRUE,-1*((AY6-BC6)/SQRT(((AZ6^2*(BA6-1))+(BD6^2*(BE6-1)))/(BA6+BE6-2))),(AY6-BC6)/SQRT(((AZ6^2*(BA6-1))+(BD6^2*(BE6-1)))/(BA6+BE6-2)))","v":{"$error":"#DIV/0!"}},{"$f":"IF(AY6=\"\",\"\",BF6)","v":""},{"$f":"IF(BA6=\"\",\"\",SQRT((BA6+BE6)/(BA6*BE6)+(BG6^2/(2*(BA6+BE6)))))","v":""},null,null,null,null,null,null,null,null,{"$f":"IF(Sheet2!$A$21=TRUE,-1*((BJ6-BN6)/SQRT(((BK6^2*(BL6-1))+(BO6^2*(BP6-1)))/(BL6+BP6-2))),(BJ6-BN6)/SQRT(((BK6^2*(BL6-1))+(BO6^2*(BP6-1)))/(BL6+BP6-2)))","v":{"$error":"#DIV/0!"}},{"$f":"IF(BJ6=\"\",\"\",BQ6)","v":""},{"$f":"IF(BL6=\"\",\"\",SQRT((BL6+BP6)/(BL6*BP6)+(BR6^2/(2*(BL6+BP6)))))","v":""}]
[null,null,"Outcome 2:",null,null,null,null,null,null,null,null,null,null,{"$f":"IF(Sheet2!$A$22=TRUE,-1*((G7-K7)/SQRT(((H7^2*(I7-1))+(L7^2*(M7-1)))/(I7+M7-2))),(G7-K7)/SQRT(((H7^2*(I7-1))+(L7^2*(M7-1)))/(I7+M7-2)))","v":{"$error":"#DIV/0!"}},{"$f":"IF(G7=\"\",\"\",N7)","v":""},{"$f":"IF(I7=\"\",\"\",SQRT((I7+M7)/(I7*M7)+(O7^2/(2*(I7+M7)))))","v":""},null,null,null,null,null,null,null,null,{"$f":"IF(Sheet2!$A$22=TRUE,-1*((R7-V7)/SQRT(((S7^2*(T7-1))+(W7^2*(X7-1)))/(T7+X7-2))),(R7-V7)/SQRT(((S7^2*(T7-1))+(W7^2*(X7-1)))/(T7+X7-2)))","v":{"$error":"#DIV/0!"}},{"$f":"IF(R7=\"\",\"\",Y7)","v":""},{"$f":"IF(T7=\"\",\"\",SQRT((T7+X7)/(T7*X7)+(Z7^2/(2*(T7+X7)))))","v":""},null,null,null,null,null,null,null,null,{"$f":"IF(Sheet2!$A$22=TRUE,-1*((AC7-AG7)/SQRT(((AD7^2*(AE7-1))+(AH7^2*(AI7-1)))/(AE7+AI7-2))),(AC7-AG7)/SQRT(((AD7^2*(AE7-1))+(AH7^2*(AI7-1)))/(AE7+AI7-2)))","v":{"$error":"#DIV/0!"}},{"$f":"IF(AC7=\"\",\"\",AJ7)","v":""},"",null,null,null,null,null,null,null,null,{"$f":"IF(Sheet2!$A$22=TRUE,-1*((AN7-AR7)/SQRT(((AO7^2*(AP7-1))+(AS7^2*(AT7-1)))/(AP7+AT7-2))),(AN7-AR7)/SQRT(((AO7^2*(AP7-1))+(AS7^2*(AT7-1)))/(AP7+AT7-2)))","v":{"$error":"#DIV/0!"}},{"$f":"IF(AN7=\"\",\"\",AU7)","v":""},{"$f":"IF(AP7=\"\",\"\",SQRT((AP7+AT7)/(AP7*AT7)+(AV7^2/(2*(AP7+AT7)))))","v":""},null,null,null,null,null,null,null,null,{"$f":"IF(Sheet2!$A$22=TRUE,-1*((AY7-BC7)/SQRT(((AZ7^2*(BA7-1))+(BD7^2*(BE7-1)))/(BA7+BE7-2))),(AY7-BC7)/SQRT(((AZ7^2*(BA7-1))+(BD7^2*(BE7-1)))/(BA7+BE7-2)))","v":{"$error":"#DIV/0!"}},{"$f":"IF(AY7=\"\",\"\",BF7)","v":""},{"$f":"IF(BA7=\"\",\"\",SQRT((BA7+BE7)/(BA7*BE7)+(BG7^2/(2*(BA7+BE7)))))","v":""},null,null,null,null,null,null,null,null,{"$f":"IF(Sheet2!$A$22=TRUE,-1*((BJ7-BN7)/SQRT(((BK7^2*(BL7-1))+(BO7^2*(BP7-1)))/(BL7+BP7-2))),(BJ7-BN7)/SQRT(((BK7^2*(BL7-1))+(BO7^2*(BP7-1)))/(BL7+BP7-2)))","v":{"$error":"#DIV/0!"}},{"$f":"IF(BJ7=\"\",\"\",BQ7)","v":""},{"$f":"IF(BL7=\"\",\"\",SQRT((BL7+BP7)/(BL7*BP7)+(BR7^2/(2*(BL7+BP7)))))","v":""}]
[null,null,"Outcome 3:",null,null,null,null,null,null,null,null,null,null,{"$f":"IF(Sheet2!$A$23=TRUE,-1*((G8-K8)/SQRT(((H8^2*(I8-1))+(L8^2*(M8-1)))/(I8+M8-2))),(G8-K8)/SQRT(((H8^2*(I8-1))+(L8^2*(M8-1)))/(I8+M8-2)))","v":{"$error":"#DIV/0!"}},{"$f":"IF(G8=\"\",\"\",N8)","v":""},"",null,null,null,null,null,null,null,null,{"$f":"IF(Sheet2!$A$23=TRUE,-1*((R8-V8)/SQRT(((S8^2*(T8-1))+(W8^2*(X8-1)))/(T8+X8-2))),(R8-V8)/SQRT(((S8^2*(T8-1))+(W8^2*(X8-1)))/(T8+X8-2)))","v":{"$error":"#DIV/0!"}},{"$f":"IF(R8=\"\",\"\",Y8)","v":""},{"$f":"IF(T8=\"\",\"\",SQRT((T8+X8)/(T8*X8)+(Z8^2/(2*(T8+X8)))))","v":""},null,null,null,null,null,null,null,null,{"$f":"IF(Sheet2!$A$23=TRUE,-1*((AC8-AG8)/SQRT(((AD8^2*(AE8-1))+(AH8^2*(AI8-1)))/(AE8+AI8-2))),(AC8-AG8)/SQRT(((AD8^2*(AE8-1))+(AH8^2*(AI8-1)))/(AE8+AI8-2)))","v":{"$error":"#DIV/0!"}},{"$f":"IF(AC8=\"\",\"\",AJ8)","v":""},"",null,null,null,null,null,null,null,null,{"$f":"IF(Sheet2!$A$23=TRUE,-1*((AN8-AR8)/SQRT(((AO8^2*(AP8-1))+(AS8^2*(AT8-1)))/(AP8+AT8-2))),(AN8-AR8)/SQRT(((AO8^2*(AP8-1))+(AS8^2*(AT8-1)))/(AP8+AT8-2)))","v":{"$error":"#DIV/0!"}},{"$f":"IF(AN8=\"\",\"\",AU8)","v":""},"",null,null,null,null,null,null,null,null,{"$f":"IF(Sheet2!$A$23=TRUE,-1*((AY8-BC8)/SQRT(((AZ8^2*(BA8-1))+(BD8^2*(BE8-1)))/(BA8+BE8-2))),(AY8-BC8)/SQRT(((AZ8^2*(BA8-1))+(BD8^2*(BE8-1)))/(BA8+BE8-2)))","v":{"$error":"#DIV/0!"}},{"$f":"IF(AY8=\"\",\"\",BF8)","v":""},"",null,null,null,null,null,null,null,null,{"$f":"IF(Sheet2!$A$23=TRUE,-1*((BJ8-BN8)/SQRT(((BK8^2*(BL8-1))+(BO8^2*(BP8-1)))/(BL8+BP8-2))),(BJ8-BN8)/SQRT(((BK8^2*(BL8-1))+(BO8^2*(BP8-1)))/(BL8+BP8-2)))","v":{"$error":"#DIV/0!"}},{"$f":"IF(BJ8=\"\",\"\",BQ8)","v":""},""]
[null,null,"Outcome 4:",null,null,null,null,null,null,null,null,null,null,{"$f":"IF(Sheet2!$A$24=TRUE,-1*((G9-K9)/SQRT(((H9^2*(I9-1))+(L9^2*(M9-1)))/(I9+M9-2))),(G9-K9)/SQRT(((H9^2*(I9-1))+(L9^2*(M9-1)))/(I9+M9-2)))","v":{"$error":"#DIV/0!"}},{"$f":"IF(G9=\"\",\"\",N9)","v":""},"",null,null,null,null,null,null,null,null,{"$f":"IF(Sheet2!$A$24=TRUE,-1*((R9-V9)/SQRT(((S9^2*(T9-1))+(W9^2*(X9-1)))/(T9+X9-2))),(R9-V9)/SQRT(((S9^2*(T9-1))+(W9^2*(X9-1)))/(T9+X9-2)))","v":{"$error":"#DIV/0!"}},{"$f":"IF(R9=\"\",\"\",Y9)","v":""},"",null,null,null,null,null,null,null,null,{"$f":"IF(Sheet2!$A$24=TRUE,-1*((AC9-AG9)/SQRT(((AD9^2*(AE9-1))+(AH9^2*(AI9-1)))/(AE9+AI9-2))),(AC9-AG9)/SQRT(((AD9^2*(AE9-1))+(AH9^2*(AI9-1)))/(AE9+AI9-2)))","v":{"$error":"#DIV/0!"}},{"$f":"IF(AC9=\"\",\"\",AJ9)","v":""},"",null,null,null,null,null,null,null,null,{"$f":"IF(Sheet2!$A$24=TRUE,-1*((AN9-AR9)/SQRT(((AO9^2*(AP9-1))+(AS9^2*(AT9-1)))/(AP9+AT9-2))),(AN9-AR9)/SQRT(((AO9^2*(AP9-1))+(AS9^2*(AT9-1)))/(AP9+AT9-2)))","v":{"$error":"#DIV/0!"}},{"$f":"IF(AN9=\"\",\"\",AU9)","v":""},"",null,null,null,null,null,null,null,null,{"$f":"IF(Sheet2!$A$24=TRUE,-1*((AY9-BC9)/SQRT(((AZ9^2*(BA9-1))+(BD9^2*(BE9-1)))/(BA9+BE9-2))),(AY9-BC9)/SQRT(((AZ9^2*(BA9-1))+(BD9^2*(BE9-1)))/(BA9+BE9-2)))","v":{"$error":"#DIV/0!"}},{"$f":"IF(AY9=\"\",\"\",BF9)","v":""},"",null,null,null,null,null,null,null,null,{"$f":"IF(Sheet2!$A$24=TRUE,-1*((BJ9-BN9)/SQRT(((BK9^2*(BL9-1))+(BO9^2*(BP9-1)))/(BL9+BP9-2))),(BJ9-BN9)/SQRT(((BK9^2*(BL9-1))+(BO9^2*(BP9-1)))/(BL9+BP9-2)))","v":{"$error":"#DIV/0!"}},{"$f":"IF(BJ9=\"\",\"\",BQ9)","v":""},""]
[null,null,"Outcome 5:",null,null,null,null,null,null,null,null,null,null,{"$f":"IF(Sheet2!$A$25=TRUE,-1*((G10-K10)/SQRT(((H10^2*(I10-1))+(L10^2*(M10-1)))/(I10+M10-2))),(G10-K10)/SQRT(((H10^2*(I10-1))+(L10^2*(M10-1)))/(I10+M10-2)))","v":{"$error":"#DIV/0!"}},"","",null,null,null,null,null,null,null,null,{"$f":"IF(Sheet2!$A$25=TRUE,-1*((R10-V10)/SQRT(((S10^2*(T10-1))+(W10^2*(X10-1)))/(T10+X10-2))),(R10-V10)/SQRT(((S10^2*(T10-1))+(W10^2*(X10-1)))/(T10+X10-2)))","v":{"$error":"#DIV/0!"}},"","",null,null,null,null,null,null,null,null,{"$f":"IF(Sheet2!$A$25=TRUE,-1*((AC10-AG10)/SQRT(((AD10^2*(AE10-1))+(AH10^2*(AI10-1)))/(AE10+AI10-2))),(AC10-AG10)/SQRT(((AD10^2*(AE10-1))+(AH10^2*(AI10-1)))/(AE10+AI10-2)))","v":{"$error":"#DIV/0!"}},"","",null,null,null,null,null,null,null,null,{"$f":"IF(Sheet2!$A$25=TRUE,-1*((AN10-AR10)/SQRT(((AO10^2*(AP10-1))+(AS10^2*(AT10-1)))/(AP10+AT10-2))),(AN10-AR10)/SQRT(((AO10^2*(AP10-1))+(AS10^2*(AT10-1)))/(AP10+AT10-2)))","v":{"$error":"#DIV/0!"}},"","",null,null,null,null,null,null,null,null,{"$f":"IF(Sheet2!$A$25=TRUE,-1*((AY10-BC10)/SQRT(((AZ10^2*(BA10-1))+(BD10^2*(BE10-1)))/(BA10+BE10-2))),(AY10-BC10)/SQRT(((AZ10^2*(BA10-1))+(BD10^2*(BE10-1)))/(BA10+BE10-2)))","v":{"$error":"#DIV/0!"}},"","",null,null,null,null,null,null,null,null,{"$f":"IF(Sheet2!$A$25=TRUE,-1*((BJ10-BN10)/SQRT(((BK10^2*(BL10-1))+(BO10^2*(BP10-1)))/(BL10+BP10-2))),(BJ10-BN10)/SQRT(((BK10^2*(BL10-1))+(BO10^2*(BP10-1)))/(BL10+BP10-2)))","v":{"$error":"#DIV/0!"}},{"$f":"IF(BJ10=\"\",\"\",BQ10)","v":""},""]
[null,null,"Orientation d",null,null,null,null,null,null,null,null,null,null,null,{"$f":"IF(O6=\"\",\"\",AVERAGE(O6:O10))","v":""},{"$f":"IF(P6=\"\",\"\",AVERAGE(P6:P10))","v":""},null,null,null,null,null,null,null,null,null,{"$f":"IF(Z6=\"\",\"\",AVERAGE(Z6:Z10))","v":""},{"$f":"IF(AA6=\"\",\"\",AVERAGE(AA6:AA10))","v":""},null,null,null,null,null,null,null,null,null,{"$f":"IF(AK6=\"\",\"\",AVERAGE(AK6:AK10))","v":""},{"$f":"IF(AL6=\"\",\"\",AVERAGE(AL6:AL10))","v":""},null,null,null,null,null,null,null,null,null,{"$f":"IF(AV6=\"\",\"\",AVERAGE(AV6:AV10))","v":""},{"$f":"IF(AW6=\"\",\"\",AVERAGE(AW6:AW10))","v":""},null,null,null,null,null,null,null,null,null,{"$f":"IF(BG6=\"\",\"\",AVERAGE(BG6:BG10))","v":""},{"$f":"IF(BH6=\"\",\"\",AVERAGE(BH6:BH10))","v":""},null,null,null,null,null,null,null,null,null,{"$f":"IF(BR6=\"\",\"\",AVERAGE(BR6:BR10))","v":""},{"$f":"IF(BS6=\"\",\"\",AVERAGE(BS6:BS10))","v":""}]
[]
[null,null,"General Ability/IQ","Test Name"]
[null,null,"Outcome 1:",null,null,null,null,null,null,null,null,null,null,{"$f":"IF(Sheet2!$A$29=TRUE,-1*((G14-K14)/SQRT(((H14^2*(I14-1))+(L14^2*(M14-1)))/(I14+M14-2))),(G14-K14)/SQRT(((H14^2*(I14-1))+(L14^2*(M14-1)))/(I14+M14-2)))","v":{"$error":"#DIV/0!"}},{"$f":"IF(G14=\"\",\"\",N14)","v":""},{"$f":"IF(I14=\"\",\"\",SQRT((I14+M14)/(I14*M14)+(O14^2/(2*(I14+M14)))))","v":""},null,null,null,null,null,null,null,null,{"$f":"IF(Sheet2!$A$29=TRUE,-1*((R14-V14)/SQRT(((S14^2*(T14-1))+(W14^2*(X14-1)))/(T14+X14-2))),(R14-V14)/SQRT(((S14^2*(T14-1))+(W14^2*(X14-1)))/(T14+X14-2)))","v":{"$error":"#DIV/0!"}},{"$f":"IF(R14=\"\",\"\",Y14)","v":""},{"$f":"IF(T14=\"\",\"\",SQRT((T14+X14)/(T14*X14)+(Z14^2/(2*(T14+X14)))))","v":""},null,null,null,null,null,null,null,null,{"$f":"IF(Sheet2!$A$29=TRUE,-1*((AC14-AG14)/SQRT(((AD14^2*(AE14-1))+(AH14^2*(AI14-1)))/(AE14+AI14-2))),(AC14-AG14)/SQRT(((AD14^2*(AE14-1))+(AH14^2*(AI14-1)))/(AE14+AI14-2)))","v":{"$error":"#DIV/0!"}},{"$f":"IF(AC14=\"\",\"\",AJ14)","v":""},{"$f":"IF(AE14=\"\",\"\",SQRT((AE14+AI14)/(AE14*AI14)+(AK14^2/(2*(AE14+AI14)))))","v":""},null,null,null,null,null,null,null,null,{"$f":"IF(Sheet2!$A$29=TRUE,-1*((AN14-AR14)/SQRT(((AO14^2*(AP14-1))+(AS14^2*(AT14-1)))/(AP14+AT14-2))),(AN14-AR14)/SQRT(((AO14^2*(AP14-1))+(AS14^2*(AT14-1)))/(AP14+AT14-2)))","v":{"$error":"#DIV/0!"}},{"$f":"IF(AN14=\"\",\"\",AU14)","v":""},{"$f":"IF(AP14=\"\",\"\",SQRT((AP14+AT14)/(AP14*AT14)+(AV14^2/(2*(AP14+AT14)))))","v":""},null,null,null,null,null,null,null,null,{"$f":"IF(Sheet2!$A$29=TRUE,-1*((AY14-BC14)/SQRT(((AZ14^2*(BA14-1))+(BD14^2*(BE14-1)))/(BA14+BE14-2))),(AY14-BC14)/SQRT(((AZ14^2*(BA14-1))+(BD14^2*(BE14-1)))/(BA14+BE14-2)))","v":{"$error":"#DIV/0!"}},{"$f":"IF(AY14=\"\",\"\",BF14)","v":""},{"$f":"IF(BA14=\"\",\"\",SQRT((BA14+BE14)/(BA14*BE14)+(BG14^2/(2*(BA14+BE14)))))","v":""},null,null,null,null,null,null,null,null,{"$f":"IF(Sheet2!$A$29=TRUE,-1*((BJ14-BN14)/SQRT(((BK14^2*(BL14-1))+(BO14^2*(BP14-1)))/(BL14+BP14-2))),(BJ14-BN14)/SQRT(((BK14^2*(BL14-1))+(BO14^2*(BP14-1)))/(BL14+BP14-2)))","v":{"$error":"#DIV/0!"}},{"$f":"IF(BJ14=\"\",\"\",BQ14)","v":""},{"$f":"IF(BL14=\"\",\"\",SQRT((BL14+BP14)/(BL14*BP14)+(BR14^2/(2*(BL14+BP14)))))","v":""}]
[null,null,"Outcome 2:",null,null,null,null,null,null,null,null,null,null,{"$f":"IF(Sheet2!$A$30=TRUE,-1*((G15-K15)/SQRT(((H15^2*(I15-1))+(L15^2*(M15-1)))/(I15+M15-2))),(G15-K15)/SQRT(((H15^2*(I15-1))+(L15^2*(M15-1)))/(I15+M15-2)))","v":{"$error":"#DIV/0!"}},{"$f":"IF(G15=\"\",\"\",N15)","v":""},"",null,null,null,null,null,null,null,null,{"$f":"IF(Sheet2!$A$30=TRUE,-1*((R15-V15)/SQRT(((S15^2*(T15-1))+(W15^2*(X15-1)))/(T15+X15-2))),(R15-V15)/SQRT(((S15^2*(T15-1))+(W15^2*(X15-1)))/(T15+X15-2)))","v":{"$error":"#DIV/0!"}},{"$f":"IF(R15=\"\",\"\",Y15)","v":""},"",null,null,null,null,null,null,null,null,{"$f":"IF(Sheet2!$A$30=TRUE,-1*((AC15-AG15)/SQRT(((AD15^2*(AE15-1))+(AH15^2*(AI15-1)))/(AE15+AI15-2))),(AC15-AG15)/SQRT(((AD15^2*(AE15-1))+(AH15^2*(AI15-1)))/(AE15+AI15-2)))","v":{"$error":"#DIV/0!"}},{"$f":"IF(AC15=\"\",\"\",AJ15)","v":""},"",null,null,null,null,null,null,null,null,{"$f":"IF(Sheet2!$A$30=TRUE,-1*((AN15-AR15)/SQRT(((AO15^2*(AP15-1))+(AS15^2*(AT15-1)))/(AP15+AT15-2))),(AN15-AR15)/SQRT(((AO15^2*(AP15-1))+(AS15^2*(AT15-1)))/(AP15+AT15-2)))","v":{"$error":"#DIV/0!"}},{"$f":"IF(AN15=\"\",\"\",AU15)","v":""},"",null,null,null,null,null,null,null,null,{"$f":"IF(Sheet2!$A$30=TRUE,-1*((AY15-BC15)/SQRT(((AZ15^2*(BA15-1))+(BD15^2*(BE15-1)))/(BA15+BE15-2))),(AY15-BC15)/SQRT(((AZ15^2*(BA15-1))+(BD15^2*(BE15-1)))/(BA15+BE15-2)))","v":{"$error":"#DIV/0!"}},{"$f":"IF(AY15=\"\",\"\",BF15)","v":""},"",null,null,null,null,null,null,null,null,{"$f":"IF(Sheet2!$A$30=TRUE,-1*((BJ15-BN15)/SQRT(((BK15^2*(BL15-1))+(BO15^2*(BP15-1)))/(BL15+BP15-2))),(BJ15-BN15)/SQRT(((BK15^2*(BL15-1))+(BO15^2*(BP15-1)))/(BL15+BP15-2)))","v":{"$error":"#DIV/0!"}},{"$f":"IF(BJ15=\"\",\"\",BQ15)","v":""},""]
[null,null,"Outcome 3:",null,null,null,null,null,null,null,null,null,null,{"$f":"IF(Sheet2!$A$31=TRUE,-1*((G16-K16)/SQRT(((H16^2*(I16-1))+(L16^2*(M16-1)))/(I16+M16-2))),(G16-K16)/SQRT(((H16^2*(I16-1))+(L16^2*(M16-1)))/(I16+M16-2)))","v":{"$error":"#DIV/0!"}},{"$f":"IF(G16=\"\",\"\",N16)","v":""},"",null,null,null,null,null,null,null,null,{"$f":"IF(Sheet2!$A$31=TRUE,-1*((R16-V16)/SQRT(((S16^2*(T16-1))+(W16^2*(X16-1)))/(T16+X16-2))),(R16-V16)/SQRT(((S16^2*(T16-1))+(W16^2*(X16-1)))/(T16+X16-2)))","v":{"$error":"#DIV/0!"}},{"$f":"IF(R16=\"\",\"\",Y16)","v":""},"",null,null,null,null,null,null,null,null,{"$f":"IF(Sheet2!$A$31=TRUE,-1*((AC16-AG16)/SQRT(((AD16^2*(AE16-1))+(AH16^2*(AI16-1)))/(AE16+AI16-2))),(AC16-AG16)/SQRT(((AD16^2*(AE16-1))+(AH16^2*(AI16-1)))/(AE16+AI16-2)))","v":{"$error":"#DIV/0!"}},{"$f":"IF(AC16=\"\",\"\",AJ16)","v":""},"",null,null,null,null,null,null,null,null,{"$f":"IF(Sheet2!$A$31=TRUE,-1*((AN16-AR16)/SQRT(((AO16^2*(AP16-1))+(AS16^2*(AT16-1)))/(AP16+AT16-2))),(AN16-AR16)/SQRT(((AO16^2*(AP16-1))+(AS16^2*(AT16-1)))/(AP16+AT16-2)))","v":{"$error":"#DIV/0!"}},{"$f":"IF(AN16=\"\",\"\",AU16)","v":""},"",null,null,null,null,null,null,null,null,{"$f":"IF(Sheet2!$A$31=TRUE,-1*((AY16-BC16)/SQRT(((AZ16^2*(BA16-1))+(BD16^2*(BE16-1)))/(BA16+BE16-2))),(AY16-BC16)/SQRT(((AZ16^2*(BA16-1))+(BD16^2*(BE16-1)))/(BA16+BE16-2)))","v":{"$error":"#DIV/0!"}},{"$f":"IF(AY16=\"\",\"\",BF16)","v":""},"",null,null,null,null,null,null,null,null,{"$f":"IF(Sheet2!$A$31=TRUE,-1*((BJ16-BN16)/SQRT(((BK16^2*(BL16-1))+(BO16^2*(BP16-1)))/(BL16+BP16-2))),(BJ16-BN16)/SQRT(((BK16^2*(BL16-1))+(BO16^2*(BP16-1)))/(BL16+BP16-2)))","v":{"$error":"#DIV/0!"}},{"$f":"IF(BJ16=\"\",\"\",BQ16)","v":""},""]
[null,null,"Outcome 4:",null,null,null,null,null,null,null,null,null,null,{"$f":"IF(Sheet2!$A$32=TRUE,-1*((G17-K17)/SQRT(((H17^2*(I17-1))+(L17^2*(M17-1)))/(I17+M17-2))),(G17-K17)/SQRT(((H17^2*(I17-1))+(L17^2*(M17-1)))/(I17+M17-2)))","v":{"$error":"#DIV/0!"}},{"$f":"IF(G17=\"\",\"\",N17)","v":""},"",null,null,null,null,null,null,null,null,{"$f":"IF(Sheet2!$A$32=TRUE,-1*((R17-V17)/SQRT(((S17^2*(T17-1))+(W17^2*(X17-1)))/(T17+X17-2))),(R17-V17)/SQRT(((S17^2*(T17-1))+(W17^2*(X17-1)))/(T17+X17-2)))","v":{"$error":"#DIV/0!"}},{"$f":"IF(R17=\"\",\"\",Y17)","v":""},"",null,null,null,null,null,null,null,null,{"$f":"IF(Sheet2!$A$32=TRUE,-1*((AC17-AG17)/SQRT(((AD17^2*(AE17-1))+(AH17^2*(AI17-1)))/(AE17+AI17-2))),(AC17-AG17)/SQRT(((AD17^2*(AE17-1))+(AH17^2*(AI17-1)))/(AE17+AI17-2)))","v":{"$error":"#DIV/0!"}},{"$f":"IF(AC17=\"\",\"\",AJ17)","v":""},"",null,null,null,null,null,null,null,null,{"$f":"IF(Sheet2!$A$32=TRUE,-1*((AN17-AR17)/SQRT(((AO17^2*(AP17-1))+(AS17^2*(AT17-1)))/(AP17+AT17-2))),(AN17-AR17)/SQRT(((AO17^2*(AP17-1))+(AS17^2*(AT17-1)))/(AP17+AT17-2)))","v":{"$error":"#DIV/0!"}},{"$f":"IF(AN17=\"\",\"\",AU17)","v":""},"",null,null,null,null,null,null,null,null,{"$f":"IF(Sheet2!$A$32=TRUE,-1*((AY17-BC17)/SQRT(((AZ17^2*(BA17-1))+(BD17^2*(BE17-1)))/(BA17+BE17-2))),(AY17-BC17)/SQRT(((AZ17^2*(BA17-1))+(BD17^2*(BE17-1)))/(BA17+BE17-2)))","v":{"$error":"#DIV/0!"}},{"$f":"IF(AY17=\"\",\"\",BF17)","v":""},"",null,null,null,null,null,null,null,null,{"$f":"IF(Sheet2!$A$32=TRUE,-1*((BJ17-BN17)/SQRT(((BK17^2*(BL17-1))+(BO17^2*(BP17-1)))/(BL17+BP17-2))),(BJ17-BN17)/SQRT(((BK17^2*(BL17-1))+(BO17^2*(BP17-1)))/(BL17+BP17-2)))","v":{"$error":"#DIV/0!"}},{"$f":"IF(BJ17=\"\",\"\",BQ17)","v":""},""]
[null,null,"Outcome 5:",null,null,null,null,null,null,null,null,null,null,{"$f":"IF(Sheet2!$A$33=TRUE,-1*((G18-K18)/SQRT(((H18^2*(I18-1))+(L18^2*(M18-1)))/(I18+M18-2))),(G18-K18)/SQRT(((H18^2*(I18-1))+(L18^2*(M18-1)))/(I18+M18-2)))","v":{"$error":"#DIV/0!"}},"","",null,null,null,null,null,null,null,null,{"$f":"IF(Sheet2!$A$33=TRUE,-1*((R18-V18)/SQRT(((S18^2*(T18-1))+(W18^2*(X18-1)))/(T18+X18-2))),(R18-V18)/SQRT(((S18^2*(T18-1))+(W18^2*(X18-1)))/(T18+X18-2)))","v":{"$error":"#DIV/0!"}},"","",null,null,null,null,null,null,null,null,{"$f":"IF(Sheet2!$A$33=TRUE,-1*((AC18-AG18)/SQRT(((AD18^2*(AE18-1))+(AH18^2*(AI18-1)))/(AE18+AI18-2))),(AC18-AG18)/SQRT(((AD18^2*(AE18-1))+(AH18^2*(AI18-1)))/(AE18+AI18-2)))","v":{"$error":"#DIV/0!"}},"","",null,null,null,null,null,null,null,null,{"$f":"IF(Sheet2!$A$33=TRUE,-1*((AN18-AR18)/SQRT(((AO18^2*(AP18-1))+(AS18^2*(AT18-1)))/(AP18+AT18-2))),(AN18-AR18)/SQRT(((AO18^2*(AP18-1))+(AS18^2*(AT18-1)))/(AP18+AT18-2)))","v":{"$error":"#DIV/0!"}},"","",null,null,null,null,null,null,null,null,{"$f":"IF(Sheet2!$A$33=TRUE,-1*((AY18-BC18)/SQRT(((AZ18^2*(BA18-1))+(BD18^2*(BE18-1)))/(BA18+BE18-2))),(AY18-BC18)/SQRT(((AZ18^2*(BA18-1))+(BD18^2*(BE18-1)))/(BA18+BE18-2)))","v":{"$error":"#DIV/0!"}},"","",null,null,null,null,null,null,null,null,{"$f":"IF(Sheet2!$A$33=TRUE,-1*((BJ18-BN18)/SQRT(((BK18^2*(BL18-1))+(BO18^2*(BP18-1)))/(BL18+BP18-2))),(BJ18-BN18)/SQRT(((BK18^2*(BL18-1))+(BO18^2*(BP18-1)))/(BL18+BP18-2)))","v":{"$error":"#DIV/0!"}},"",""]
[null,null,"General Ability/IQ d",null,null,null,null,null,null,null,null,null,null,null,{"$f":"IF(O14=\"\",\"\",AVERAGE(O14:O18))","v":""},{"$f":"IF(P14=\"\",\"\",AVERAGE(P14:P18))","v":""},null,null,null,null,null,null,null,null,null,{"$f":"IF(Z14=\"\",\"\",AVERAGE(Z14:Z18))","v":""},{"$f":"IF(AA14=\"\",\"\",AVERAGE(AA14:AA18))","v":""},null,null,null,null,null,null,null,null,null,{"$f":"IF(AK14=\"\",\"\",AVERAGE(AK14:AK18))","v":""},{"$f":"IF(AL14=\"\",\"\",AVERAGE(AL14:AL18))","v":""},null,null,null,null,null,null,null,null,null,{"$f":"IF(AV14=\"\",\"\",AVERAGE(AV14:AV18))","v":""},{"$f":"IF(AW14=\"\",\"\",AVERAGE(AW14:AW18))","v":""},null,null,null,null,null,null,null,null,null,{"$f":"IF(BG14=\"\",\"\",AVERAGE(BG14:BG18))","v":""},{"$f":"IF(BH14=\"\",\"\",AVERAGE(BH14:BH18))","v":""},null,null,null,null,null,null,null,null,null,{"$f":"IF(BR14=\"\",\"\",AVERAGE(BR14:BR18))","v":""},{"$f":"IF(BS14=\"\",\"\",AVERAGE(BS14:BS18))","v":""}]
[]
[null,null,"Achievement ","Test Name"]
[null,null,"Outcome 1:",null,null,null,null,null,null,null,null,null,null,{"$f":"IF(Sheet2!$A$37=TRUE,-1*((G22-K22)/SQRT(((H22^2*(I22-1))+(L22^2*(M22-1)))/(I22+M22-2))),(G22-K22)/SQRT(((H22^2*(I22-1))+(L22^2*(M22-1)))/(I22+M22-2)))","v":{"$error":"#DIV/0!"}},{"$f":"IF(G22=\"\",\"\",N22)","v":""},{"$f":"IF(I22=\"\",\"\",SQRT((I22+M22)/(I22*M22)+(O22^2/(2*(I22+M22)))))","v":""},null,null,null,null,null,null,null,null,{"$f":"IF(Sheet2!$A$37=TRUE,-1*((R22-V22)/SQRT(((S22^2*(T22-1))+(W22^2*(X22-1)))/(T22+X22-2))),(R22-V22)/SQRT(((S22^2*(T22-1))+(W22^2*(X22-1)))/(T22+X22-2)))","v":{"$error":"#DIV/0!"}},{"$f":"IF(R22=\"\",\"\",Y22)","v":""},{"$f":"IF(T22=\"\",\"\",SQRT((T22+X22)/(T22*X22)+(Z22^2/(2*(T22+X22)))))","v":""},null,null,null,null,null,null,null,null,{"$f":"IF(Sheet2!$A$37=TRUE,-1*((AC22-AG22)/SQRT(((AD22^2*(AE22-1))+(AH22^2*(AI22-1)))/(AE22+AI22-2))),(AC22-AG22)/SQRT(((AD22^2*(AE22-1))+(AH22^2*(AI22-1)))/(AE22+AI22-2)))","v":{"$error":"#DIV/0!"}},{"$f":"IF(AC22=\"\",\"\",AJ22)","v":""},{"$f":"IF(AE22=\"\",\"\",SQRT((AE22+AI22)/(AE22*AI22)+(AK22^2/(2*(AE22+AI22)))))","v":""},null,null,null,null,null,null,null,null,{"$f":"IF(Sheet2!$A$37=TRUE,-1*((AN22-AR22)/SQRT(((AO22^2*(AP22-1))+(AS22^2*(AT22-1)))/(AP22+AT22-2))),(AN22-AR22)/SQRT(((AO22^2*(AP22-1))+(AS22^2*(AT22-1)))/(AP22+AT22-2)))","v":{"$error":"#DIV/0!"}},{"$f":"IF(AN22=\"\",\"\",AU22)","v":""},{"$f":"IF(AP22=\"\",\"\",SQRT((AP22+AT22)/(AP22*AT22)+(AV22^2/(2*(AP22+AT22)))))","v":""},null,null,null,null,null,null,null,null,{"$f":"IF(Sheet2!$A$37=TRUE,-1*((AY22-BC22)/SQRT(((AZ22^2*(BA22-1))+(BD22^2*(BE22-1)))/(BA22+BE22-2))),(AY22-BC22)/SQRT(((AZ22^2*(BA22-1))+(BD22^2*(BE22-1)))/(BA22+BE22-2)))","v":{"$error":"#DIV/0!"}},{"$f":"IF(AY22=\"\",\"\",BF22)","v":""},{"$f":"IF(BA22=\"\",\"\",SQRT((BA22+BE22)/(BA22*BE22)+(BG22^2/(2*(BA22+BE22)))))","v":""},null,null,null,null,null,null,null,null,{"$f":"IF(Sheet2!$A$37=TRUE,-1*((BJ22-BN22)/SQRT(((BK22^2*(BL22-1))+(BO22^2*(BP22-1)))/(BL22+BP22-2))),(BJ22-BN22)/SQRT(((BK22^2*(BL22-1))+(BO22^2*(BP22-1)))/(BL22+BP22-2)))","v":{"$error":"#DIV/0!"}},{"$f":"IF(BJ22=\"\",\"\",BQ22)","v":""},{"$f":"IF(BL22=\"\",\"\",SQRT((BL22+BP22)/(BL22*BP22)+(BR22^2/(2*(BL22+BP22)))))","v":""}]
[null,null,"Outcome 2:",null,null,null,null,null,null,null,null,null,null,{"$f":"IF(Sheet2!$A$38=TRUE,-1*((G23-K23)/SQRT(((H23^2*(I23-1))+(L23^2*(M23-1)))/(I23+M23-2))),(G23-K23)/SQRT(((H23^2*(I23-1))+(L23^2*(M23-1)))/(I23+M23-2)))","v":{"$error":"#DIV/0!"}},"","",null,null,null,null,null,null,null,null,{"$f":"IF(Sheet2!$A$38=TRUE,-1*((R23-V23)/SQRT(((S23^2*(T23-1))+(W23^2*(X23-1)))/(T23+X23-2))),(R23-V23)/SQRT(((S23^2*(T23-1))+(W23^2*(X23-1)))/(T23+X23-2)))","v":{"$error":"#DIV/0!"}},"","",null,null,null,null,null,null,null,null,{"$f":"IF(Sheet2!$A$38=TRUE,-1*((AC23-AG23)/SQRT(((AD23^2*(AE23-1))+(AH23^2*(AI23-1)))/(AE23+AI23-2))),(AC23-AG23)/SQRT(((AD23^2*(AE23-1))+(AH23^2*(AI23-1)))/(AE23+AI23-2)))","v":{"$error":"#DIV/0!"}},"","",null,null,null,null,null,null,null,null,{"$f":"IF(Sheet2!$A$38=TRUE,-1*((AN23-AR23)/SQRT(((AO23^2*(AP23-1))+(AS23^2*(AT23-1)))/(AP23+AT23-2))),(AN23-AR23)/SQRT(((AO23^2*(AP23-1))+(AS23^2*(AT23-1)))/(AP23+AT23-2)))","v":{"$error":"#DIV/0!"}},"","",null,null,null,null,null,null,null,null,{"$f":"IF(Sheet2!$A$38=TRUE,-1*((AY23-BC23)/SQRT(((AZ23^2*(BA23-1))+(BD23^2*(BE23-1)))/(BA23+BE23-2))),(AY23-BC23)/SQRT(((AZ23^2*(BA23-1))+(BD23^2*(BE23-1)))/(BA23+BE23-2)))","v":{"$error":"#DIV/0!"}},"","",null,null,null,null,null,null,null,null,{"$f":"IF(Sheet2!$A$38=TRUE,-1*((BJ23-BN23)/SQRT(((BK23^2*(BL23-1))+(BO23^2*(BP23-1)))/(BL23+BP23-2))),(BJ23-BN23)/SQRT(((BK23^2*(BL23-1))+(BO23^2*(BP23-1)))/(BL23+BP23-2)))","v":{"$error":"#DIV/0!"}},"",""]
[null,null,"Outcome 3:",null,null,null,null,null,null,null,null,null,null,{"$f":"IF(Sheet2!$A$39=TRUE,-1*((G24-K24)/SQRT(((H24^2*(I24-1))+(L24^2*(M24-1)))/(I24+M24-2))),(G24-K24)/SQRT(((H24^2*(I24-1))+(L24^2*(M24-1)))/(I24+M24-2)))","v":{"$error":"#DIV/0!"}},"","",null,null,null,null,null,null,null,null,{"$f":"IF(Sheet2!$A$39=TRUE,-1*((R24-V24)/SQRT(((S24^2*(T24-1))+(W24^2*(X24-1)))/(T24+X24-2))),(R24-V24)/SQRT(((S24^2*(T24-1))+(W24^2*(X24-1)))/(T24+X24-2)))","v":{"$error":"#DIV/0!"}},"","",null,null,null,null,null,null,null,null,{"$f":"IF(Sheet2!$A$39=TRUE,-1*((AC24-AG24)/SQRT(((AD24^2*(AE24-1))+(AH24^2*(AI24-1)))/(AE24+AI24-2))),(AC24-AG24)/SQRT(((AD24^2*(AE24-1))+(AH24^2*(AI24-1)))/(AE24+AI24-2)))","v":{"$error":"#DIV/0!"}},"","",null,null,null,null,null,null,null,null,{"$f":"IF(Sheet2!$A$39=TRUE,-1*((AN24-AR24)/SQRT(((AO24^2*(AP24-1))+(AS24^2*(AT24-1)))/(AP24+AT24-2))),(AN24-AR24)/SQRT(((AO24^2*(AP24-1))+(AS24^2*(AT24-1)))/(AP24+AT24-2)))","v":{"$error":"#DIV/0!"}},"","",null,null,null,null,null,null,null,null,{"$f":"IF(Sheet2!$A$39=TRUE,-1*((AY24-BC24)/SQRT(((AZ24^2*(BA24-1))+(BD24^2*(BE24-1)))/(BA24+BE24-2))),(AY24-BC24)/SQRT(((AZ24^2*(BA24-1))+(BD24^2*(BE24-1)))/(BA24+BE24-2)))","v":{"$error":"#DIV/0!"}},"","",null,null,null,null,null,null,null,null,{"$f":"IF(Sheet2!$A$39=TRUE,-1*((BJ24-BN24)/SQRT(((BK24^2*(BL24-1))+(BO24^2*(BP24-1)))/(BL24+BP24-2))),(BJ24-BN24)/SQRT(((BK24^2*(BL24-1))+(BO24^2*(BP24-1)))/(BL24+BP24-2)))","v":{"$error":"#DIV/0!"}},"",""]
[null,null,"Outcome 4:",null,null,null,null,null,null,null,null,null,null,{"$f":"IF(Sheet2!$A$40=TRUE,-1*((G25-K25)/SQRT(((H25^2*(I25-1))+(L25^2*(M25-1)))/(I25+M25-2))),(G25-K25)/SQRT(((H25^2*(I25-1))+(L25^2*(M25-1)))/(I25+M25-2)))","v":{"$error":"#DIV/0!"}},"","",null,null,null,null,null,null,null,null,{"$f":"IF(Sheet2!$A$40=TRUE,-1*((R25-V25)/SQRT(((S25^2*(T25-1))+(W25^2*(X25-1)))/(T25+X25-2))),(R25-V25)/SQRT(((S25^2*(T25-1))+(W25^2*(X25-1)))/(T25+X25-2)))","v":{"$error":"#DIV/0!"}},"","",null,null,null,null,null,null,null,null,{"$f":"IF(Sheet2!$A$40=TRUE,-1*((AC25-AG25)/SQRT(((AD25^2*(AE25-1))+(AH25^2*(AI25-1)))/(AE25+AI25-2))),(AC25-AG25)/SQRT(((AD25^2*(AE25-1))+(AH25^2*(AI25-1)))/(AE25+AI25-2)))","v":{"$error":"#DIV/0!"}},"","",null,null,null,null,null,null,null,null,{"$f":"IF(Sheet2!$A$40=TRUE,-1*((AN25-AR25)/SQRT(((AO25^2*(AP25-1))+(AS25^2*(AT25-1)))/(AP25+AT25-2))),(AN25-AR25)/SQRT(((AO25^2*(AP25-1))+(AS25^2*(AT25-1)))/(AP25+AT25-2)))","v":{"$error":"#DIV/0!"}},"","",null,null,null,null,null,null,null,null,{"$f":"IF(Sheet2!$A$40=TRUE,-1*((AY25-BC25)/SQRT(((AZ25^2*(BA25-1))+(BD25^2*(BE25-1)))/(BA25+BE25-2))),(AY25-BC25)/SQRT(((AZ25^2*(BA25-1))+(BD25^2*(BE25-1)))/(BA25+BE25-2)))","v":{"$error":"#DIV/0!"}},"","",null,null,null,null,null,null,null,null,{"$f":"IF(Sheet2!$A$40=TRUE,-1*((BJ25-BN25)/SQRT(((BK25^2*(BL25-1))+(BO25^2*(BP25-1)))/(BL25+BP25-2))),(BJ25-BN25)/SQRT(((BK25^2*(BL25-1))+(BO25^2*(BP25-1)))/(BL25+BP25-2)))","v":{"$error":"#DIV/0!"}},"",""]
[null,null,"Outcome 5:",null,null,null,null,null,null,null,null,null,null,{"$f":"IF(Sheet2!$A$41=TRUE,-1*((G26-K26)/SQRT(((H26^2*(I26-1))+(L26^2*(M26-1)))/(I26+M26-2))),(G26-K26)/SQRT(((H26^2*(I26-1))+(L26^2*(M26-1)))/(I26+M26-2)))","v":{"$error":"#DIV/0!"}},"","",null,null,null,null,null,null,null,null,{"$f":"IF(Sheet2!$A$41=TRUE,-1*((R26-V26)/SQRT(((S26^2*(T26-1))+(W26^2*(X26-1)))/(T26+X26-2))),(R26-V26)/SQRT(((S26^2*(T26-1))+(W26^2*(X26-1)))/(T26+X26-2)))","v":{"$error":"#DIV/0!"}},"","",null,null,null,null,null,null,null,null,{"$f":"IF(Sheet2!$A$41=TRUE,-1*((AC26-AG26)/SQRT(((AD26^2*(AE26-1))+(AH26^2*(AI26-1)))/(AE26+AI26-2))),(AC26-AG26)/SQRT(((AD26^2*(AE26-1))+(AH26^2*(AI26-1)))/(AE26+AI26-2)))","v":{"$error":"#DIV/0!"}},"","",null,null,null,null,null,null,null,null,{"$f":"IF(Sheet2!$A$41=TRUE,-1*((AN26-AR26)/SQRT(((AO26^2*(AP26-1))+(AS26^2*(AT26-1)))/(AP26+AT26-2))),(AN26-AR26)/SQRT(((AO26^2*(AP26-1))+(AS26^2*(AT26-1)))/(AP26+AT26-2)))","v":{"$error":"#DIV/0!"}},"","",null,null,null,null,null,null,null,null,{"$f":"IF(Sheet2!$A$41=TRUE,-1*((AY26-BC26)/SQRT(((AZ26^2*(BA26-1))+(BD26^2*(BE26-1)))/(BA26+BE26-2))),(AY26-BC26)/SQRT(((AZ26^2*(BA26-1))+(BD26^2*(BE26-1)))/(BA26+BE26-2)))","v":{"$error":"#DIV/0!"}},"","",null,null,null,null,null,null,null,null,{"$f":"IF(Sheet2!$A$41=TRUE,-1*((BJ26-BN26)/SQRT(((BK26^2*(BL26-1))+(BO26^2*(BP26-1)))/(BL26+BP26-2))),(BJ26-BN26)/SQRT(((BK26^2*(BL26-1))+(BO26^2*(BP26-1)))/(BL26+BP26-2)))","v":{"$error":"#DIV/0!"}},"",""]
[null,null,"Achievement d",null,null,null,null,null,null,null,null,null,null,null,{"$f":"IF(O22=\"\",\"\",AVERAGE(O22:O26))","v":""},{"$f":"IF(P22=\"\",\"\",AVERAGE(P22:P26))","v":""},null,null,null,null,null,null,null,null,null,{"$f":"IF(Z22=\"\",\"\",AVERAGE(Z22:Z26))","v":""},{"$f":"IF(AA22=\"\",\"\",AVERAGE(AA22:AA26))","v":""},null,null,null,null,null,null,null,null,null,{"$f":"IF(AK22=\"\",\"\",AVERAGE(AK22:AK26))","v":""},{"$f":"IF(AL22=\"\",\"\",AVERAGE(AL22:AL26))","v":""},null,null,null,null,null,null,null,null,null,{"$f":"IF(AV22=\"\",\"\",AVERAGE(AV22:AV26))","v":""},{"$f":"IF(AW22=\"\",\"\",AVERAGE(AW22:AW26))","v":""},null,null,null,null,null,null,null,null,null,{"$f":"IF(BG22=\"\",\"\",AVERAGE(BG22:BG26))","v":""},{"$f":"IF(BH22=\"\",\"\",AVERAGE(BH22:BH26))","v":""},null,null,null,null,null,null,null,null,null,{"$f":"IF(BR22=\"\",\"\",AVERAGE(BR22:BR26))","v":""},{"$f":"IF(BS22=\"\",\"\",AVERAGE(BS22:BS26))","v":""}]
[]
[null,null,"Attn/Wrk Memory","Test Name"]
[null,null,"Outcome 1:",null,null,null,null,null,null,null,null,null,null,{"$f":"IF(Sheet2!$A$45=TRUE,-1*((G30-K30)/SQRT(((H30^2*(I30-1))+(L30^2*(M30-1)))/(I30+M30-2))),(G30-K30)/SQRT(((H30^2*(I30-1))+(L30^2*(M30-1)))/(I30+M30-2)))","v":{"$error":"#DIV/0!"}},{"$f":"IF(G30=\"\",\"\",N30)","v":""},{"$f":"IF(I30=\"\",\"\",SQRT((I30+M30)/(I30*M30)+(O30^2/(2*(I30+M30)))))","v":""},null,null,null,null,null,null,null,null,{"$f":"IF(Sheet2!$A$45=TRUE,-1*((R30-V30)/SQRT(((S30^2*(T30-1))+(W30^2*(X30-1)))/(T30+X30-2))),(R30-V30)/SQRT(((S30^2*(T30-1))+(W30^2*(X30-1)))/(T30+X30-2)))","v":{"$error":"#DIV/0!"}},{"$f":"IF(R30=\"\",\"\",Y30)","v":""},{"$f":"IF(T30=\"\",\"\",SQRT((T30+X30)/(T30*X30)+(Z30^2/(2*(T30+X30)))))","v":""},null,null,null,null,null,null,null,null,{"$f":"IF(Sheet2!$A$45=TRUE,-1*((AC30-AG30)/SQRT(((AD30^2*(AE30-1))+(AH30^2*(AI30-1)))/(AE30+AI30-2))),(AC30-AG30)/SQRT(((AD30^2*(AE30-1))+(AH30^2*(AI30-1)))/(AE30+AI30-2)))","v":{"$error":"#DIV/0!"}},{"$f":"IF(AC30=\"\",\"\",AJ30)","v":""},{"$f":"IF(AE30=\"\",\"\",SQRT((AE30+AI30)/(AE30*AI30)+(AK30^2/(2*(AE30+AI30)))))","v":""},null,null,null,null,null,null,null,null,{"$f":"IF(Sheet2!$A$45=TRUE,-1*((AN30-AR30)/SQRT(((AO30^2*(AP30-1))+(AS30^2*(AT30-1)))/(AP30+AT30-2))),(AN30-AR30)/SQRT(((AO30^2*(AP30-1))+(AS30^2*(AT30-1)))/(AP30+AT30-2)))","v":{"$error":"#DIV/0!"}},{"$f":"IF(AN30=\"\",\"\",AU30)","v":""},{"$f":"IF(AP30=\"\",\"\",SQRT((AP30+AT30)/(AP30*AT30)+(AV30^2/(2*(AP30+AT30)))))","v":""},null,null,null,null,null,null,null,null,{"$f":"IF(Sheet2!$A$45=TRUE,-1*((AY30-BC30)/SQRT(((AZ30^2*(BA30-1))+(BD30^2*(BE30-1)))/(BA30+BE30-2))),(AY30-BC30)/SQRT(((AZ30^2*(BA30-1))+(BD30^2*(BE30-1)))/(BA30+BE30-2)))","v":{"$error":"#DIV/0!"}},{"$f":"IF(AY30=\"\",\"\",BF30)","v":""},{"$f":"IF(BA30=\"\",\"\",SQRT((BA30+BE30)/(BA30*BE30)+(BG30^2/(2*(BA30+BE30)))))","v":""},null,null,null,null,null,null,null,null,{"$f":"IF(Sheet2!$A$45=TRUE,-1*((BJ30-BN30)/SQRT(((BK30^2*(BL30-1))+(BO30^2*(BP30-1)))/(BL30+BP30-2))),(BJ30-BN30)/SQRT(((BK30^2*(BL30-1))+(BO30^2*(BP30-1)))/(BL30+BP30-2)))","v":{"$error":"#DIV/0!"}},{"$f":"IF(BJ30=\"\",\"\",BQ30)","v":""},{"$f":"IF(BL30=\"\",\"\",SQRT((BL30+BP30)/(BL30*BP30)+(BR30^2/(2*(BL30+BP30)))))","v":""}]
[null,null,"Outcome 2:",null,null,null,null,null,null,null,null,null,null,{"$f":"IF(Sheet2!$A$46=TRUE,-1*((G31-K31)/SQRT(((H31^2*(I31-1))+(L31^2*(M31-1)))/(I31+M31-2))),(G31-K31)/SQRT(((H31^2*(I31-1))+(L31^2*(M31-1)))/(I31+M31-2)))","v":{"$error":"#DIV/0!"}},{"$f":"IF(G31=\"\",\"\",N31)","v":""},"",null,null,null,null,null,null,null,null,{"$f":"IF(Sheet2!$A$46=TRUE,-1*((R31-V31)/SQRT(((S31^2*(T31-1))+(W31^2*(X31-1)))/(T31+X31-2))),(R31-V31)/SQRT(((S31^2*(T31-1))+(W31^2*(X31-1)))/(T31+X31-2)))","v":{"$error":"#DIV/0!"}},{"$f":"IF(R31=\"\",\"\",Y31)","v":""},"",null,null,null,null,null,null,null,null,{"$f":"IF(Sheet2!$A$46=TRUE,-1*((AC31-AG31)/SQRT(((AD31^2*(AE31-1))+(AH31^2*(AI31-1)))/(AE31+AI31-2))),(AC31-AG31)/SQRT(((AD31^2*(AE31-1))+(AH31^2*(AI31-1)))/(AE31+AI31-2)))","v":{"$error":"#DIV/0!"}},{"$f":"IF(AC31=\"\",\"\",AJ31)","v":""},"",null,null,null,null,null,null,null,null,{"$f":"IF(Sheet2!$A$46=TRUE,-1*((AN31-AR31)/SQRT(((AO31^2*(AP31-1))+(AS31^2*(AT31-1)))/(AP31+AT31-2))),(AN31-AR31)/SQRT(((AO31^2*(AP31-1))+(AS31^2*(AT31-1)))/(AP31+AT31-2)))","v":{"$error":"#DIV/0!"}},{"$f":"IF(AN31=\"\",\"\",AU31)","v":""},"",null,null,null,null,null,null,null,null,{"$f":"IF(Sheet2!$A$46=TRUE,-1*((AY31-BC31)/SQRT(((AZ31^2*(BA31-1))+(BD31^2*(BE31-1)))/(BA31+BE31-2))),(AY31-BC31)/SQRT(((AZ31^2*(BA31-1))+(BD31^2*(BE31-1)))/(BA31+BE31-2)))","v":{"$error":"#DIV/0!"}},{"$f":"IF(AY31=\"\",\"\",BF31)","v":""},"",null,null,null,null,null,null,null,null,{"$f":"IF(Sheet2!$A$46=TRUE,-1*((BJ31-BN31)/SQRT(((BK31^2*(BL31-1))+(BO31^2*(BP31-1)))/(BL31+BP31-2))),(BJ31-BN31)/SQRT(((BK31^2*(BL31-1))+(BO31^2*(BP31-1)))/(BL31+BP31-2)))","v":{"$error":"#DIV/0!"}},{"$f":"IF(BJ31=\"\",\"\",BQ31)","v":""},""]
[null,null,"Outcome 3:",null,null,null,null,null,null,null,null,null,null,{"$f":"IF(Sheet2!$A$47=TRUE,-1*((G32-K32)/SQRT(((H32^2*(I32-1))+(L32^2*(M32-1)))/(I32+M32-2))),(G32-K32)/SQRT(((H32^2*(I32-1))+(L32^2*(M32-1)))/(I32+M32-2)))","v":{"$error":"#DIV/0!"}},"","",null,null,null,null,null,null,null,null,{"$f":"IF(Sheet2!$A$47=TRUE,-1*((R32-V32)/SQRT(((S32^2*(T32-1))+(W32^2*(X32-1)))/(T32+X32-2))),(R32-V32)/SQRT(((S32^2*(T32-1))+(W32^2*(X32-1)))/(T32+X32-2)))","v":{"$error":"#DIV/0!"}},"","",null,null,null,null,null,null,null,null,{"$f":"IF(Sheet2!$A$47=TRUE,-1*((AC32-AG32)/SQRT(((AD32^2*(AE32-1))+(AH32^2*(AI32-1)))/(AE32+AI32-2))),(AC32-AG32)/SQRT(((AD32^2*(AE32-1))+(AH32^2*(AI32-1)))/(AE32+AI32-2)))","v":{"$error":"#DIV/0!"}},"","",null,null,null,null,null,null,null,null,{"$f":"IF(Sheet2!$A$47=TRUE,-1*((AN32-AR32)/SQRT(((AO32^2*(AP32-1))+(AS32^2*(AT32-1)))/(AP32+AT32-2))),(AN32-AR32)/SQRT(((AO32^2*(AP32-1))+(AS32^2*(AT32-1)))/(AP32+AT32-2)))","v":{"$error":"#DIV/0!"}},"","",null,null,null,null,null,null,null,null,{"$f":"IF(Sheet2!$A$47=TRUE,-1*((AY32-BC32)/SQRT(((AZ32^2*(BA32-1))+(BD32^2*(BE32-1)))/(BA32+BE32-2))),(AY32-BC32)/SQRT(((AZ32^2*(BA32-1))+(BD32^2*(BE32-1)))/(BA32+BE32-2)))","v":{"$error":"#DIV/0!"}},"","",null,null,null,null,null,null,null,null,{"$f":"IF(Sheet2!$A$47=TRUE,-1*((BJ32-BN32)/SQRT(((BK32^2*(BL32-1))+(BO32^2*(BP32-1)))/(BL32+BP32-2))),(BJ32-BN32)/SQRT(((BK32^2*(BL32-1))+(BO32^2*(BP32-1)))/(BL32+BP32-2)))","v":{"$error":"#DIV/0!"}},"",""]
[null,null,"Outcome 4:",null,null,null,null,null,null,null,null,null,null,{"$f":"IF(Sheet2!$A$48=TRUE,-1*((G33-K33)/SQRT(((H33^2*(I33-1))+(L33^2*(M33-1)))/(I33+M33-2))),(G33-K33)/SQRT(((H33^2*(I33-1))+(L33^2*(M33-1)))/(I33+M33-2)))","v":{"$error":"#DIV/0!"}},"","",null,null,null,null,null,null,null,null,{"$f":"IF(Sheet2!$A$48=TRUE,-1*((R33-V33)/SQRT(((S33^2*(T33-1))+(W33^2*(X33-1)))/(T33+X33-2))),(R33-V33)/SQRT(((S33^2*(T33-1))+(W33^2*(X33-1)))/(T33+X33-2)))","v":{"$error":"#DIV/0!"}},"","",null,null,null,null,null,null,null,null,{"$f":"IF(Sheet2!$A$48=TRUE,-1*((AC33-AG33)/SQRT(((AD33^2*(AE33-1))+(AH33^2*(AI33-1)))/(AE33+AI33-2))),(AC33-AG33)/SQRT(((AD33^2*(AE33-1))+(AH33^2*(AI33-1)))/(AE33+AI33-2)))","v":{"$error":"#DIV/0!"}},"","",null,null,null,null,null,null,null,null,{"$f":"IF(Sheet2!$A$48=TRUE,-1*((AN33-AR33)/SQRT(((AO33^2*(AP33-1))+(AS33^2*(AT33-1)))/(AP33+AT33-2))),(AN33-AR33)/SQRT(((AO33^2*(AP33-1))+(AS33^2*(AT33-1)))/(AP33+AT33-2)))","v":{"$error":"#DIV/0!"}},"","",null,null,null,null,null,null,null,null,{"$f":"IF(Sheet2!$A$48=TRUE,-1*((AY33-BC33)/SQRT(((AZ33^2*(BA33-1))+(BD33^2*(BE33-1)))/(BA33+BE33-2))),(AY33-BC33)/SQRT(((AZ33^2*(BA33-1))+(BD33^2*(BE33-1)))/(BA33+BE33-2)))","v":{"$error":"#DIV/0!"}},"","",null,null,null,null,null,null,null,null,{"$f":"IF(Sheet2!$A$48=TRUE,-1*((BJ33-BN33)/SQRT(((BK33^2*(BL33-1))+(BO33^2*(BP33-1)))/(BL33+BP33-2))),(BJ33-BN33)/SQRT(((BK33^2*(BL33-1))+(BO33^2*(BP33-1)))/(BL33+BP33-2)))","v":{"$error":"#DIV/0!"}},"",""]
[null,null,"Outcome 5:",null,null,null,null,null,null,null,null,null,null,{"$f":"IF(Sheet2!$A$49=TRUE,-1*((G34-K34)/SQRT(((H34^2*(I34-1))+(L34^2*(M34-1)))/(I34+M34-2))),(G34-K34)/SQRT(((H34^2*(I34-1))+(L34^2*(M34-1)))/(I34+M34-2)))","v":{"$error":"#DIV/0!"}},"","",null,null,null,null,null,null,null,null,{"$f":"IF(Sheet2!$A$49=TRUE,-1*((R34-V34)/SQRT(((S34^2*(T34-1))+(W34^2*(X34-1)))/(T34+X34-2))),(R34-V34)/SQRT(((S34^2*(T34-1))+(W34^2*(X34-1)))/(T34+X34-2)))","v":{"$error":"#DIV/0!"}},"","",null,null,null,null,null,null,null,null,{"$f":"IF(Sheet2!$A$49=TRUE,-1*((AC34-AG34)/SQRT(((AD34^2*(AE34-1))+(AH34^2*(AI34-1)))/(AE34+AI34-2))),(AC34-AG34)/SQRT(((AD34^2*(AE34-1))+(AH34^2*(AI34-1)))/(AE34+AI34-2)))","v":{"$error":"#DIV/0!"}},"","",null,null,null,null,null,null,null,null,{"$f":"IF(Sheet2!$A$49=TRUE,-1*((AN34-AR34)/SQRT(((AO34^2*(AP34-1))+(AS34^2*(AT34-1)))/(AP34+AT34-2))),(AN34-AR34)/SQRT(((AO34^2*(AP34-1))+(AS34^2*(AT34-1)))/(AP34+AT34-2)))","v":{"$error":"#DIV/0!"}},"","",null,null,null,null,null,null,null,null,{"$f":"IF(Sheet2!$A$49=TRUE,-1*((AY34-BC34)/SQRT(((AZ34^2*(BA34-1))+(BD34^2*(BE34-1)))/(BA34+BE34-2))),(AY34-BC34)/SQRT(((AZ34^2*(BA34-1))+(BD34^2*(BE34-1)))/(BA34+BE34-2)))","v":{"$error":"#DIV/0!"}},"","",null,null,null,null,null,null,null,null,{"$f":"IF(Sheet2!$A$49=TRUE,-1*((BJ34-BN34)/SQRT(((BK34^2*(BL34-1))+(BO34^2*(BP34-1)))/(BL34+BP34-2))),(BJ34-BN34)/SQRT(((BK34^2*(BL34-1))+(BO34^2*(BP34-1)))/(BL34+BP34-2)))","v":{"$error":"#DIV/0!"}},"",""]
[null,null,"Attn/Wrk Mem d",null,null,null,null,null,null,null,null,null,null,null,{"$f":"IF(O30=\"\",\"\",AVERAGE(O30:O34))","v":""},{"$f":"IF(P30=\"\",\"\",AVERAGE(P30:P34))","v":""},null,null,null,null,null,null,null,null,null,{"$f":"IF(Z30=\"\",\"\",AVERAGE(Z30:Z34))","v":""},{"$f":"IF(AA30=\"\",\"\",AVERAGE(AA30:AA34))","v":""},null,null,null,null,null,null,null,null,null,{"$f":"IF(AK30=\"\",\"\",AVERAGE(AK30:AK34))","v":""},{"$f":"IF(AL30=\"\",\"\",AVERAGE(AL30:AL34))","v":""},null,null,null,null,null,null,null,null,null,{"$f":"IF(AV30=\"\",\"\",AVERAGE(AV30:AV34))","v":""},{"$f":"IF(AW30=\"\",\"\",AVERAGE(AW30:AW34))","v":""},null,null,null,null,null,null,null,null,null,{"$f":"IF(BG30=\"\",\"\",AVERAGE(BG30:BG34))","v":""},{"$f":"IF(BH30=\"\",\"\",AVERAGE(BH30:BH34))","v":""},null,null,null,null,null,null,null,null,null,{"$f":"IF(BR30=\"\",\"\",AVERAGE(BR30:BR34))","v":""},{"$f":"IF(BS30=\"\",\"\",AVERAGE(BS30:BS34))","v":""}]
[]
[null,null,"Processing Speed","Test Name"]
[null,null,"Outcome 1:",null,null,null,null,null,null,null,null,null,null,{"$f":"IF(Sheet2!$A$53=TRUE,-1*((G38-K38)/SQRT(((H38^2*(I38-1))+(L38^2*(M38-1)))/(I38+M38-2))),(G38-K38)/SQRT(((H38^2*(I38-1))+(L38^2*(M38-1)))/(I38+M38-2)))","v":{"$error":"#DIV/0!"}},{"$f":"IF(G38=\"\",\"\",N38)","v":""},{"$f":"IF(I38=\"\",\"\",SQRT((I38+M38)/(I38*M38)+(O38^2/(2*(I38+M38)))))","v":""},null,null,null,null,null,null,null,null,{"$f":"IF(Sheet2!$A$53=TRUE,-1*((R38-V38)/SQRT(((S38^2*(T38-1))+(W38^2*(X38-1)))/(T38+X38-2))),(R38-V38)/SQRT(((S38^2*(T38-1))+(W38^2*(X38-1)))/(T38+X38-2)))","v":{"$error":"#DIV/0!"}},{"$f":"IF(R38=\"\",\"\",Y38)","v":""},{"$f":"IF(T38=\"\",\"\",SQRT((T38+X38)/(T38*X38)+(Z38^2/(2*(T38+X38)))))","v":""},null,null,null,null,null,null,null,null,{"$f":"IF(Sheet2!$A$53=TRUE,-1*((AC38-AG38)/SQRT(((AD38^2*(AE38-1))+(AH38^2*(AI38-1)))/(AE38+AI38-2))),(AC38-AG38)/SQRT(((AD38^2*(AE38-1))+(AH38^2*(AI38-1)))/(AE38+AI38-2)))","v":{"$error":"#DIV/0!"}},{"$f":"IF(AC38=\"\",\"\",AJ38)","v":""},{"$f":"IF(AE38=\"\",\"\",SQRT((AE38+AI38)/(AE38*AI38)+(AK38^2/(2*(AE38+AI38)))))","v":""},null,null,null,null,null,null,null,null,{"$f":"IF(Sheet2!$A$53=TRUE,-1*((AN38-AR38)/SQRT(((AO38^2*(AP38-1))+(AS38^2*(AT38-1)))/(AP38+AT38-2))),(AN38-AR38)/SQRT(((AO38^2*(AP38-1))+(AS38^2*(AT38-1)))/(AP38+AT38-2)))","v":{"$error":"#DIV/0!"}},{"$f":"IF(AN38=\"\",\"\",AU38)","v":""},{"$f":"IF(AP38=\"\",\"\",SQRT((AP38+AT38)/(AP38*AT38)+(AV38^2/(2*(AP38+AT38)))))","v":""},null,null,null,null,null,null,null,null,{"$f":"IF(Sheet2!$A$53=TRUE,-1*((AY38-BC38)/SQRT(((AZ38^2*(BA38-1))+(BD38^2*(BE38-1)))/(BA38+BE38-2))),(AY38-BC38)/SQRT(((AZ38^2*(BA38-1))+(BD38^2*(BE38-1)))/(BA38+BE38-2)))","v":{"$error":"#DIV/0!"}},{"$f":"IF(AY38=\"\",\"\",BF38)","v":""},{"$f":"IF(BA38=\"\",\"\",SQRT((BA38+BE38)/(BA38*BE38)+(BG38^2/(2*(BA38+BE38)))))","v":""},null,null,null,null,null,null,null,null,{"$f":"IF(Sheet2!$A$53=TRUE,-1*((BJ38-BN38)/SQRT(((BK38^2*(BL38-1))+(BO38^2*(BP38-1)))/(BL38+BP38-2))),(BJ38-BN38)/SQRT(((BK38^2*(BL38-1))+(BO38^2*(BP38-1)))/(BL38+BP38-2)))","v":{"$error":"#DIV/0!"}},{"$f":"IF(BJ38=\"\",\"\",BQ38)","v":""},{"$f":"IF(BL38=\"\",\"\",SQRT((BL38+BP38)/(BL38*BP38)+(BR38^2/(2*(BL38+BP38)))))","v":""}]
[null,null,"Outcome 2:",null,null,null,null,null,null,null,null,null,null,{"$f":"IF(Sheet2!$A$54=TRUE,-1*((G39-K39)/SQRT(((H39^2*(I39-1))+(L39^2*(M39-1)))/(I39+M39-2))),(G39-K39)/SQRT(((H39^2*(I39-1))+(L39^2*(M39-1)))/(I39+M39-2)))","v":{"$error":"#DIV/0!"}},"","",null,null,null,null,null,null,null,null,{"$f":"IF(Sheet2!$A$54=TRUE,-1*((R39-V39)/SQRT(((S39^2*(T39-1))+(W39^2*(X39-1)))/(T39+X39-2))),(R39-V39)/SQRT(((S39^2*(T39-1))+(W39^2*(X39-1)))/(T39+X39-2)))","v":{"$error":"#DIV/0!"}},"","",null,null,null,null,null,null,null,null,{"$f":"IF(Sheet2!$A$54=TRUE,-1*((AC39-AG39)/SQRT(((AD39^2*(AE39-1))+(AH39^2*(AI39-1)))/(AE39+AI39-2))),(AC39-AG39)/SQRT(((AD39^2*(AE39-1))+(AH39^2*(AI39-1)))/(AE39+AI39-2)))","v":{"$error":"#DIV/0!"}},"","",null,null,null,null,null,null,null,null,{"$f":"IF(Sheet2!$A$54=TRUE,-1*((AN39-AR39)/SQRT(((AO39^2*(AP39-1))+(AS39^2*(AT39-1)))/(AP39+AT39-2))),(AN39-AR39)/SQRT(((AO39^2*(AP39-1))+(AS39^2*(AT39-1)))/(AP39+AT39-2)))","v":{"$error":"#DIV/0!"}},"","",null,null,null,null,null,null,null,null,{"$f":"IF(Sheet2!$A$54=TRUE,-1*((AY39-BC39)/SQRT(((AZ39^2*(BA39-1))+(BD39^2*(BE39-1)))/(BA39+BE39-2))),(AY39-BC39)/SQRT(((AZ39^2*(BA39-1))+(BD39^2*(BE39-1)))/(BA39+BE39-2)))","v":{"$error":"#DIV/0!"}},"","",null,null,null,null,null,null,null,null,{"$f":"IF(Sheet2!$A$54=TRUE,-1*((BJ39-BN39)/SQRT(((BK39^2*(BL39-1))+(BO39^2*(BP39-1)))/(BL39+BP39-2))),(BJ39-BN39)/SQRT(((BK39^2*(BL39-1))+(BO39^2*(BP39-1)))/(BL39+BP39-2)))","v":{"$error":"#DIV/0!"}},"",""]
[null,null,"Outcome 3:",null,null,null,null,null,null,null,null,null,null,{"$f":"IF(Sheet2!$A$55=TRUE,-1*((G40-K40)/SQRT(((H40^2*(I40-1))+(L40^2*(M40-1)))/(I40+M40-2))),(G40-K40)/SQRT(((H40^2*(I40-1))+(L40^2*(M40-1)))/(I40+M40-2)))","v":{"$error":"#DIV/0!"}},"","",null,null,null,null,null,null,null,null,{"$f":"IF(Sheet2!$A$55=TRUE,-1*((R40-V40)/SQRT(((S40^2*(T40-1))+(W40^2*(X40-1)))/(T40+X40-2))),(R40-V40)/SQRT(((S40^2*(T40-1))+(W40^2*(X40-1)))/(T40+X40-2)))","v":{"$error":"#DIV/0!"}},"","",null,null,null,null,null,null,null,null,{"$f":"IF(Sheet2!$A$55=TRUE,-1*((AC40-AG40)/SQRT(((AD40^2*(AE40-1))+(AH40^2*(AI40-1)))/(AE40+AI40-2))),(AC40-AG40)/SQRT(((AD40^2*(AE40-1))+(AH40^2*(AI40-1)))/(AE40+AI40-2)))","v":{"$error":"#DIV/0!"}},"","",null,null,null,null,null,null,null,null,{"$f":"IF(Sheet2!$A$55=TRUE,-1*((AN40-AR40)/SQRT(((AO40^2*(AP40-1))+(AS40^2*(AT40-1)))/(AP40+AT40-2))),(AN40-AR40)/SQRT(((AO40^2*(AP40-1))+(AS40^2*(AT40-1)))/(AP40+AT40-2)))","v":{"$error":"#DIV/0!"}},"","",null,null,null,null,null,null,null,null,{"$f":"IF(Sheet2!$A$55=TRUE,-1*((AY40-BC40)/SQRT(((AZ40^2*(BA40-1))+(BD40^2*(BE40-1)))/(BA40+BE40-2))),(AY40-BC40)/SQRT(((AZ40^2*(BA40-1))+(BD40^2*(BE40-1)))/(BA40+BE40-2)))","v":{"$error":"#DIV/0!"}},"","",null,null,null,null,null,null,null,null,{"$f":"IF(Sheet2!$A$55=TRUE,-1*((BJ40-BN40)/SQRT(((BK40^2*(BL40-1))+(BO40^2*(BP40-1)))/(BL40+BP40-2))),(BJ40-BN40)/SQRT(((BK40^2*(BL40-1))+(BO40^2*(BP40-1)))/(BL40+BP40-2)))","v":{"$error":"#DIV/0!"}},"",""]
[null,null,"Outcome 4:",null,null,null,null,null,null,null,null,null,null,{"$f":"IF(Sheet2!$A$56=TRUE,-1*((G41-K41)/SQRT(((H41^2*(I41-1))+(L41^2*(M41-1)))/(I41+M41-2))),(G41-K41)/SQRT(((H41^2*(I41-1))+(L41^2*(M41-1)))/(I41+M41-2)))","v":{"$error":"#DIV/0!"}},"","",null,null,null,null,null,null,null,null,{"$f":"IF(Sheet2!$A$56=TRUE,-1*((R41-V41)/SQRT(((S41^2*(T41-1))+(W41^2*(X41-1)))/(T41+X41-2))),(R41-V41)/SQRT(((S41^2*(T41-1))+(W41^2*(X41-1)))/(T41+X41-2)))","v":{"$error":"#DIV/0!"}},"","",null,null,null,null,null,null,null,null,{"$f":"IF(Sheet2!$A$56=TRUE,-1*((AC41-AG41)/SQRT(((AD41^2*(AE41-1))+(AH41^2*(AI41-1)))/(AE41+AI41-2))),(AC41-AG41)/SQRT(((AD41^2*(AE41-1))+(AH41^2*(AI41-1)))/(AE41+AI41-2)))","v":{"$error":"#DIV/0!"}},"","",null,null,null,null,null,null,null,null,{"$f":"IF(Sheet2!$A$56=TRUE,-1*((AN41-AR41)/SQRT(((AO41^2*(AP41-1))+(AS41^2*(AT41-1)))/(AP41+AT41-2))),(AN41-AR41)/SQRT(((AO41^2*(AP41-1))+(AS41^2*(AT41-1)))/(AP41+AT41-2)))","v":{"$error":"#DIV/0!"}},"","",null,null,null,null,null,null,null,null,{"$f":"IF(Sheet2!$A$56=TRUE,-1*((AY41-BC41)/SQRT(((AZ41^2*(BA41-1))+(BD41^2*(BE41-1)))/(BA41+BE41-2))),(AY41-BC41)/SQRT(((AZ41^2*(BA41-1))+(BD41^2*(BE41-1)))/(BA41+BE41-2)))","v":{"$error":"#DIV/0!"}},"","",null,null,null,null,null,null,null,null,{"$f":"IF(Sheet2!$A$56=TRUE,-1*((BJ41-BN41)/SQRT(((BK41^2*(BL41-1))+(BO41^2*(BP41-1)))/(BL41+BP41-2))),(BJ41-BN41)/SQRT(((BK41^2*(BL41-1))+(BO41^2*(BP41-1)))/(BL41+BP41-2)))","v":{"$error":"#DIV/0!"}},"",""]
[null,null,"Outcome 5:",null,null,null,null,null,null,null,null,null,null,{"$f":"IF(Sheet2!$A$57=TRUE,-1*((G42-K42)/SQRT(((H42^2*(I42-1))+(L42^2*(M42-1)))/(I42+M42-2))),(G42-K42)/SQRT(((H42^2*(I42-1))+(L42^2*(M42-1)))/(I42+M42-2)))","v":{"$error":"#DIV/0!"}},"","",null,null,null,null,null,null,null,null,{"$f":"IF(Sheet2!$A$57=TRUE,-1*((R42-V42)/SQRT(((S42^2*(T42-1))+(W42^2*(X42-1)))/(T42+X42-2))),(R42-V42)/SQRT(((S42^2*(T42-1))+(W42^2*(X42-1)))/(T42+X42-2)))","v":{"$error":"#DIV/0!"}},"","",null,null,null,null,null,null,null,null,{"$f":"IF(Sheet2!$A$57=TRUE,-1*((AC42-AG42)/SQRT(((AD42^2*(AE42-1))+(AH42^2*(AI42-1)))/(AE42+AI42-2))),(AC42-AG42)/SQRT(((AD42^2*(AE42-1))+(AH42^2*(AI42-1)))/(AE42+AI42-2)))","v":{"$error":"#DIV/0!"}},"","",null,null,null,null,null,null,null,null,{"$f":"IF(Sheet2!$A$57=TRUE,-1*((AN42-AR42)/SQRT(((AO42^2*(AP42-1))+(AS42^2*(AT42-1)))/(AP42+AT42-2))),(AN42-AR42)/SQRT(((AO42^2*(AP42-1))+(AS42^2*(AT42-1)))/(AP42+AT42-2)))","v":{"$error":"#DIV/0!"}},"","",null,null,null,null,null,null,null,null,{"$f":"IF(Sheet2!$A$57=TRUE,-1*((AY42-BC42)/SQRT(((AZ42^2*(BA42-1))+(BD42^2*(BE42-1)))/(BA42+BE42-2))),(AY42-BC42)/SQRT(((AZ42^2*(BA42-1))+(BD42^2*(BE42-1)))/(BA42+BE42-2)))","v":{"$error":"#DIV/0!"}},"","",null,null,null,null,null,null,null,null,{"$f":"IF(Sheet2!$A$57=TRUE,-1*((BJ42-BN42)/SQRT(((BK42^2*(BL42-1))+(BO42^2*(BP42-1)))/(BL42+BP42-2))),(BJ42-BN42)/SQRT(((BK42^2*(BL42-1))+(BO42^2*(BP42-1)))/(BL42+BP42-2)))","v":{"$error":"#DIV/0!"}},"",""]
[null,null,"Processing Speed d",null,null,null,null,null,null,null,null,null,null,null,{"$f":"IF(O38=\"\",\"\",AVERAGE(O38:O42))","v":""},{"$f":"IF(P38=\"\",\"\",AVERAGE(P38:P42))","v":""},null,null,null,null,null,null,null,null,null,{"$f":"IF(Z38=\"\",\"\",AVERAGE(Z38:Z42))","v":""},{"$f":"IF(AA38=\"\",\"\",AVERAGE(AA38:AA42))","v":""},null,null,null,null,null,null,null,null,null,{"$f":"IF(AK38=\"\",\"\",AVERAGE(AK38:AK42))","v":""},{"$f":"IF(AL38=\"\",\"\",AVERAGE(AL38:AL42))","v":""},null,null,null,null,null,null,null,null,null,{"$f":"IF(AV38=\"\",\"\",AVERAGE(AV38:AV42))","v":""},{"$f":"IF(AW38=\"\",\"\",AVERAGE(AW38:AW42))","v":""},null,null,null,null,null,null,null,null,null,{"$f":"IF(BG38=\"\",\"\",AVERAGE(BG38:BG42))","v":""},{"$f":"IF(BH38=\"\",\"\",AVERAGE(BH38:BH42))","v":""},null,null,null,null,null,null,null,null,null,{"$f":"IF(BR38=\"\",\"\",AVERAGE(BR38:BR42))","v":""},{"$f":"IF(BS38=\"\",\"\",AVERAGE(BS38:BS42))","v":""}]
[]
[null,null,"Executive Function","Test Name"]
[null,null,"Outcome 1:",null,null,null,null,null,null,null,null,null,null,{"$f":"IF(Sheet2!$A$61=TRUE,-1*((G46-K46)/SQRT(((H46^2*(I46-1))+(L46^2*(M46-1)))/(I46+M46-2))),(G46-K46)/SQRT(((H46^2*(I46-1))+(L46^2*(M46-1)))/(I46+M46-2)))","v":{"$error":"#DIV/0!"}},{"$f":"IF(G46=\"\",\"\",N46)","v":""},{"$f":"IF(I46=\"\",\"\",SQRT((I46+M46)/(I46*M46)+(O46^2/(2*(I46+M46)))))","v":""},null,null,null,null,null,null,null,null,{"$f":"IF(Sheet2!$A$61=TRUE,-1*((R46-V46)/SQRT(((S46^2*(T46-1))+(W46^2*(X46-1)))/(T46+X46-2))),(R46-V46)/SQRT(((S46^2*(T46-1))+(W46^2*(X46-1)))/(T46+X46-2)))","v":{"$error":"#DIV/0!"}},{"$f":"IF(R46=\"\",\"\",Y46)","v":""},{"$f":"IF(T46=\"\",\"\",SQRT((T46+X46)/(T46*X46)+(Z46^2/(2*(T46+X46)))))","v":""},null,null,null,null,null,null,null,null,{"$f":"IF(Sheet2!$A$61=TRUE,-1*((AC46-AG46)/SQRT(((AD46^2*(AE46-1))+(AH46^2*(AI46-1)))/(AE46+AI46-2))),(AC46-AG46)/SQRT(((AD46^2*(AE46-1))+(AH46^2*(AI46-1)))/(AE46+AI46-2)))","v":{"$error":"#DIV/0!"}},{"$f":"IF(AC46=\"\",\"\",AJ46)","v":""},{"$f":"IF(AE46=\"\",\"\",SQRT((AE46+AI46)/(AE46*AI46)+(AK46^2/(2*(AE46+AI46)))))","v":""},null,null,null,null,null,null,null,null,{"$f":"IF(Sheet2!$A$61=TRUE,-1*((AN46-AR46)/SQRT(((AO46^2*(AP46-1))+(AS46^2*(AT46-1)))/(AP46+AT46-2))),(AN46-AR46)/SQRT(((AO46^2*(AP46-1))+(AS46^2*(AT46-1)))/(AP46+AT46-2)))","v":{"$error":"#DIV/0!"}},{"$f":"IF(AN46=\"\",\"\",AU46)","v":""},{"$f":"IF(AP46=\"\",\"\",SQRT((AP46+AT46)/(AP46*AT46)+(AV46^2/(2*(AP46+AT46)))))","v":""},null,null,null,null,null,null,null,null,{"$f":"IF(Sheet2!$A$61=TRUE,-1*((AY46-BC46)/SQRT(((AZ46^2*(BA46-1))+(BD46^2*(BE46-1)))/(BA46+BE46-2))),(AY46-BC46)/SQRT(((AZ46^2*(BA46-1))+(BD46^2*(BE46-1)))/(BA46+BE46-2)))","v":{"$error":"#DIV/0!"}},{"$f":"IF(AY46=\"\",\"\",BF46)","v":""},{"$f":"IF(BA46=\"\",\"\",SQRT((BA46+BE46)/(BA46*BE46)+(BG46^2/(2*(BA46+BE46)))))","v":""},null,null,null,null,null,null,null,null,{"$f":"IF(Sheet2!$A$61=TRUE,-1*((BJ46-BN46)/SQRT(((BK46^2*(BL46-1))+(BO46^2*(BP46-1)))/(BL46+BP46-2))),(BJ46-BN46)/SQRT(((BK46^2*(BL46-1))+(BO46^2*(BP46-1)))/(BL46+BP46-2)))","v":{"$error":"#DIV/0!"}},{"$f":"IF(BJ46=\"\",\"\",BQ46)","v":""},{"$f":"IF(BL46=\"\",\"\",SQRT((BL46+BP46)/(BL46*BP46)+(BR46^2/(2*(BL46+BP46)))))","v":""}]
[null,null,"Outcome 2:",null,null,null,null,null,null,null,null,null,null,{"$f":"IF(Sheet2!$A$62=TRUE,-1*((G47-K47)/SQRT(((H47^2*(I47-1))+(L47^2*(M47-1)))/(I47+M47-2))),(G47-K47)/SQRT(((H47^2*(I47-1))+(L47^2*(M47-1)))/(I47+M47-2)))","v":{"$error":"#DIV/0!"}},{"$f":"IF(G47=\"\",\"\",N47)","v":""},"",null,null,null,null,null,null,null,null,{"$f":"IF(Sheet2!$A$62=TRUE,-1*((R47-V47)/SQRT(((S47^2*(T47-1))+(W47^2*(X47-1)))/(T47+X47-2))),(R47-V47)/SQRT(((S47^2*(T47-1))+(W47^2*(X47-1)))/(T47+X47-2)))","v":{"$error":"#DIV/0!"}},{"$f":"IF(R47=\"\",\"\",Y47)","v":""},"",null,null,null,null,null,null,null,null,{"$f":"IF(Sheet2!$A$62=TRUE,-1*((AC47-AG47)/SQRT(((AD47^2*(AE47-1))+(AH47^2*(AI47-1)))/(AE47+AI47-2))),(AC47-AG47)/SQRT(((AD47^2*(AE47-1))+(AH47^2*(AI47-1)))/(AE47+AI47-2)))","v":{"$error":"#DIV/0!"}},{"$f":"IF(AC47=\"\",\"\",AJ47)","v":""},"",null,null,null,null,null,null,null,null,{"$f":"IF(Sheet2!$A$62=TRUE,-1*((AN47-AR47)/SQRT(((AO47^2*(AP47-1))+(AS47^2*(AT47-1)))/(AP47+AT47-2))),(AN47-AR47)/SQRT(((AO47^2*(AP47-1))+(AS47^2*(AT47-1)))/(AP47+AT47-2)))","v":{"$error":"#DIV/0!"}},{"$f":"IF(AN47=\"\",\"\",AU47)","v":""},"",null,null,null,null,null,null,null,null,{"$f":"IF(Sheet2!$A$62=TRUE,-1*((AY47-BC47)/SQRT(((AZ47^2*(BA47-1))+(BD47^2*(BE47-1)))/(BA47+BE47-2))),(AY47-BC47)/SQRT(((AZ47^2*(BA47-1))+(BD47^2*(BE47-1)))/(BA47+BE47-2)))","v":{"$error":"#DIV/0!"}},{"$f":"IF(AY47=\"\",\"\",BF47)","v":""},"",null,null,null,null,null,null,null,null,{"$f":"IF(Sheet2!$A$62=TRUE,-1*((BJ47-BN47)/SQRT(((BK47^2*(BL47-1))+(BO47^2*(BP47-1)))/(BL47+BP47-2))),(BJ47-BN47)/SQRT(((BK47^2*(BL47-1))+(BO47^2*(BP47-1)))/(BL47+BP47-2)))","v":{"$error":"#DIV/0!"}},{"$f":"IF(BJ47=\"\",\"\",BQ47)","v":""},""]
[null,null,"Outcome 3:",null,null,null,null,null,null,null,null,null,null,{"$f":"IF(Sheet2!$A$63=TRUE,-1*((G48-K48)/SQRT(((H48^2*(I48-1))+(L48^2*(M48-1)))/(I48+M48-2))),(G48-K48)/SQRT(((H48^2*(I48-1))+(L48^2*(M48-1)))/(I48+M48-2)))","v":{"$error":"#DIV/0!"}},"","",null,null,null,null,null,null,null,null,{"$f":"IF(Sheet2!$A$63=TRUE,-1*((R48-V48)/SQRT(((S48^2*(T48-1))+(W48^2*(X48-1)))/(T48+X48-2))),(R48-V48)/SQRT(((S48^2*(T48-1))+(W48^2*(X48-1)))/(T48+X48-2)))","v":{"$error":"#DIV/0!"}},"","",null,null,null,null,null,null,null,null,{"$f":"IF(Sheet2!$A$63=TRUE,-1*((AC48-AG48)/SQRT(((AD48^2*(AE48-1))+(AH48^2*(AI48-1)))/(AE48+AI48-2))),(AC48-AG48)/SQRT(((AD48^2*(AE48-1))+(AH48^2*(AI48-1)))/(AE48+AI48-2)))","v":{"$error":"#DIV/0!"}},"","",null,null,null,null,null,null,null,null,{"$f":"IF(Sheet2!$A$63=TRUE,-1*((AN48-AR48)/SQRT(((AO48^2*(AP48-1))+(AS48^2*(AT48-1)))/(AP48+AT48-2))),(AN48-AR48)/SQRT(((AO48^2*(AP48-1))+(AS48^2*(AT48-1)))/(AP48+AT48-2)))","v":{"$error":"#DIV/0!"}},"","",null,null,null,null,null,null,null,null,{"$f":"IF(Sheet2!$A$63=TRUE,-1*((AY48-BC48)/SQRT(((AZ48^2*(BA48-1))+(BD48^2*(BE48-1)))/(BA48+BE48-2))),(AY48-BC48)/SQRT(((AZ48^2*(BA48-1))+(BD48^2*(BE48-1)))/(BA48+BE48-2)))","v":{"$error":"#DIV/0!"}},"","",null,null,null,null,null,null,null,null,{"$f":"IF(Sheet2!$A$63=TRUE,-1*((BJ48-BN48)/SQRT(((BK48^2*(BL48-1))+(BO48^2*(BP48-1)))/(BL48+BP48-2))),(BJ48-BN48)/SQRT(((BK48^2*(BL48-1))+(BO48^2*(BP48-1)))/(BL48+BP48-2)))","v":{"$error":"#DIV/0!"}},"",""]
[null,null,"Outcome 4:",null,null,null,null,null,null,null,null,null,null,{"$f":"IF(Sheet2!$A$64=TRUE,-1*((G49-K49)/SQRT(((H49^2*(I49-1))+(L49^2*(M49-1)))/(I49+M49-2))),(G49-K49)/SQRT(((H49^2*(I49-1))+(L49^2*(M49-1)))/(I49+M49-2)))","v":{"$error":"#DIV/0!"}},"","",null,null,null,null,null,null,null,null,{"$f":"IF(Sheet2!$A$64=TRUE,-1*((R49-V49)/SQRT(((S49^2*(T49-1))+(W49^2*(X49-1)))/(T49+X49-2))),(R49-V49)/SQRT(((S49^2*(T49-1))+(W49^2*(X49-1)))/(T49+X49-2)))","v":{"$error":"#DIV/0!"}},"","",null,null,null,null,null,null,null,null,{"$f":"IF(Sheet2!$A$64=TRUE,-1*((AC49-AG49)/SQRT(((AD49^2*(AE49-1))+(AH49^2*(AI49-1)))/(AE49+AI49-2))),(AC49-AG49)/SQRT(((AD49^2*(AE49-1))+(AH49^2*(AI49-1)))/(AE49+AI49-2)))","v":{"$error":"#DIV/0!"}},"","",null,null,null,null,null,null,null,null,{"$f":"IF(Sheet2!$A$64=TRUE,-1*((AN49-AR49)/SQRT(((AO49^2*(AP49-1))+(AS49^2*(AT49-1)))/(AP49+AT49-2))),(AN49-AR49)/SQRT(((AO49^2*(AP49-1))+(AS49^2*(AT49-1)))/(AP49+AT49-2)))","v":{"$error":"#DIV/0!"}},"","",null,null,null,null,null,null,null,null,{"$f":"IF(Sheet2!$A$64=TRUE,-1*((AY49-BC49)/SQRT(((AZ49^2*(BA49-1))+(BD49^2*(BE49-1)))/(BA49+BE49-2))),(AY49-BC49)/SQRT(((AZ49^2*(BA49-1))+(BD49^2*(BE49-1)))/(BA49+BE49-2)))","v":{"$error":"#DIV/0!"}},"","",null,null,null,null,null,null,null,null,{"$f":"IF(Sheet2!$A$64=TRUE,-1*((BJ49-BN49)/SQRT(((BK49^2*(BL49-1))+(BO49^2*(BP49-1)))/(BL49+BP49-2))),(BJ49-BN49)/SQRT(((BK49^2*(BL49-1))+(BO49^2*(BP49-1)))/(BL49+BP49-2)))","v":{"$error":"#DIV/0!"}},"",""]
[null,null,"Outcome 5:",null,null,null,null,null,null,null,null,null,null,{"$f":"IF(Sheet2!$A$65=TRUE,-1*((G50-K50)/SQRT(((H50^2*(I50-1))+(L50^2*(M50-1)))/(I50+M50-2))),(G50-K50)/SQRT(((H50^2*(I50-1))+(L50^2*(M50-1)))/(I50+M50-2)))","v":{"$error":"#DIV/0!"}},"","",null,null,null,null,null,null,null,null,{"$f":"IF(Sheet2!$A$65=TRUE,-1*((R50-V50)/SQRT(((S50^2*(T50-1))+(W50^2*(X50-1)))/(T50+X50-2))),(R50-V50)/SQRT(((S50^2*(T50-1))+(W50^2*(X50-1)))/(T50+X50-2)))","v":{"$error":"#DIV/0!"}},"","",null,null,null,null,null,null,null,null,{"$f":"IF(Sheet2!$A$65=TRUE,-1*((AC50-AG50)/SQRT(((AD50^2*(AE50-1))+(AH50^2*(AI50-1)))/(AE50+AI50-2))),(AC50-AG50)/SQRT(((AD50^2*(AE50-1))+(AH50^2*(AI50-1)))/(AE50+AI50-2)))","v":{"$error":"#DIV/0!"}},"","",null,null,null,null,null,null,null,null,{"$f":"IF(Sheet2!$A$65=TRUE,-1*((AN50-AR50)/SQRT(((AO50^2*(AP50-1))+(AS50^2*(AT50-1)))/(AP50+AT50-2))),(AN50-AR50)/SQRT(((AO50^2*(AP50-1))+(AS50^2*(AT50-1)))/(AP50+AT50-2)))","v":{"$error":"#DIV/0!"}},"","",null,null,null,null,null,null,null,null,{"$f":"IF(Sheet2!$A$65=TRUE,-1*((AY50-BC50)/SQRT(((AZ50^2*(BA50-1))+(BD50^2*(BE50-1)))/(BA50+BE50-2))),(AY50-BC50)/SQRT(((AZ50^2*(BA50-1))+(BD50^2*(BE50-1)))/(BA50+BE50-2)))","v":{"$error":"#DIV/0!"}},"","",null,null,null,null,null,null,null,null,{"$f":"IF(Sheet2!$A$65=TRUE,-1*((BJ50-BN50)/SQRT(((BK50^2*(BL50-1))+(BO50^2*(BP50-1)))/(BL50+BP50-2))),(BJ50-BN50)/SQRT(((BK50^2*(BL50-1))+(BO50^2*(BP50-1)))/(BL50+BP50-2)))","v":{"$error":"#DIV/0!"}},"",""]
[null,null,"Executive Function d",null,null,null,null,null,null,null,null,null,null,null,{"$f":"IF(O46=\"\",\"\",AVERAGE(O46:O50))","v":""},{"$f":"IF(P46=\"\",\"\",AVERAGE(P46:P50))","v":""},null,null,null,null,null,null,null,null,null,{"$f":"IF(Z46=\"\",\"\",AVERAGE(Z46:Z50))","v":""},{"$f":"IF(AA46=\"\",\"\",AVERAGE(AA46:AA50))","v":""},null,null,null,null,null,null,null,null,null,{"$f":"IF(AK46=\"\",\"\",AVERAGE(AK46:AK50))","v":""},{"$f":"IF(AL46=\"\",\"\",AVERAGE(AL46:AL50))","v":""},null,null,null,null,null,null,null,null,null,{"$f":"IF(AV46=\"\",\"\",AVERAGE(AV46:AV50))","v":""},{"$f":"IF(AW46=\"\",\"\",AVERAGE(AW46:AW50))","v":""},null,null,null,null,null,null,null,null,null,{"$f":"IF(BG46=\"\",\"\",AVERAGE(BG46:BG50))","v":""},{"$f":"IF(BH46=\"\",\"\",AVERAGE(BH46:BH50))","v":""},null,null,null,null,null,null,null,null,null,{"$f":"IF(BR46=\"\",\"\",AVERAGE(BR46:BR50))","v":""},{"$f":"IF(BS46=\"\",\"\",AVERAGE(BS46:BS50))","v":""}]
[]
[null,null,"Immediate Memory","Test Name"]
[null,null,"Outcome 1:",null,null,null,null,null,null,null,null,null,null,{"$f":"IF(Sheet2!$A$69=TRUE,-1*((G54-K54)/SQRT(((H54^2*(I54-1))+(L54^2*(M54-1)))/(I54+M54-2))),(G54-K54)/SQRT(((H54^2*(I54-1))+(L54^2*(M54-1)))/(I54+M54-2)))","v":{"$error":"#DIV/0!"}},{"$f":"IF(G54=\"\",\"\",N54)","v":""},{"$f":"IF(I54=\"\",\"\",SQRT((I54+M54)/(I54*M54)+(O54^2/(2*(I54+M54)))))","v":""},null,null,null,null,null,null,null,null,{"$f":"IF(Sheet2!$A$69=TRUE,-1*((R54-V54)/SQRT(((S54^2*(T54-1))+(W54^2*(X54-1)))/(T54+X54-2))),(R54-V54)/SQRT(((S54^2*(T54-1))+(W54^2*(X54-1)))/(T54+X54-2)))","v":{"$error":"#DIV/0!"}},{"$f":"IF(R54=\"\",\"\",Y54)","v":""},{"$f":"IF(T54=\"\",\"\",SQRT((T54+X54)/(T54*X54)+(Z54^2/(2*(T54+X54)))))","v":""},null,null,null,null,null,null,null,null,{"$f":"IF(Sheet2!$A$69=TRUE,-1*((AC54-AG54)/SQRT(((AD54^2*(AE54-1))+(AH54^2*(AI54-1)))/(AE54+AI54-2))),(AC54-AG54)/SQRT(((AD54^2*(AE54-1))+(AH54^2*(AI54-1)))/(AE54+AI54-2)))","v":{"$error":"#DIV/0!"}},{"$f":"IF(AC54=\"\",\"\",AJ54)","v":""},{"$f":"IF(AE54=\"\",\"\",SQRT((AE54+AI54)/(AE54*AI54)+(AK54^2/(2*(AE54+AI54)))))","v":""},null,null,null,null,null,null,null,null,{"$f":"IF(Sheet2!$A$69=TRUE,-1*((AN54-AR54)/SQRT(((AO54^2*(AP54-1))+(AS54^2*(AT54-1)))/(AP54+AT54-2))),(AN54-AR54)/SQRT(((AO54^2*(AP54-1))+(AS54^2*(AT54-1)))/(AP54+AT54-2)))","v":{"$error":"#DIV/0!"}},{"$f":"IF(AN54=\"\",\"\",AU54)","v":""},{"$f":"IF(AP54=\"\",\"\",SQRT((AP54+AT54)/(AP54*AT54)+(AV54^2/(2*(AP54+AT54)))))","v":""},null,null,null,null,null,null,null,null,{"$f":"IF(Sheet2!$A$69=TRUE,-1*((AY54-BC54)/SQRT(((AZ54^2*(BA54-1))+(BD54^2*(BE54-1)))/(BA54+BE54-2))),(AY54-BC54)/SQRT(((AZ54^2*(BA54-1))+(BD54^2*(BE54-1)))/(BA54+BE54-2)))","v":{"$error":"#DIV/0!"}},{"$f":"IF(AY54=\"\",\"\",BF54)","v":""},{"$f":"IF(BA54=\"\",\"\",SQRT((BA54+BE54)/(BA54*BE54)+(BG54^2/(2*(BA54+BE54)))))","v":""},null,null,null,null,null,null,null,null,{"$f":"IF(Sheet2!$A$69=TRUE,-1*((BJ54-BN54)/SQRT(((BK54^2*(BL54-1))+(BO54^2*(BP54-1)))/(BL54+BP54-2))),(BJ54-BN54)/SQRT(((BK54^2*(BL54-1))+(BO54^2*(BP54-1)))/(BL54+BP54-2)))","v":{"$error":"#DIV/0!"}},{"$f":"IF(BJ54=\"\",\"\",BQ54)","v":""},{"$f":"IF(BL54=\"\",\"\",SQRT((BL54+BP54)/(BL54*BP54)+(BR54^2/(2*(BL54+BP54)))))","v":""}]
[null,null,"Outcome 2:",null,null,null,null,null,null,null,null,null,null,{"$f":"IF(Sheet2!$A$70=TRUE,-1*((G55-K55)/SQRT(((H55^2*(I55-1))+(L55^2*(M55-1)))/(I55+M55-2))),(G55-K55)/SQRT(((H55^2*(I55-1))+(L55^2*(M55-1)))/(I55+M55-2)))","v":{"$error":"#DIV/0!"}},"","",null,null,null,null,null,null,null,null,{"$f":"IF(Sheet2!$A$70=TRUE,-1*((R55-V55)/SQRT(((S55^2*(T55-1))+(W55^2*(X55-1)))/(T55+X55-2))),(R55-V55)/SQRT(((S55^2*(T55-1))+(W55^2*(X55-1)))/(T55+X55-2)))","v":{"$error":"#DIV/0!"}},"","",null,null,null,null,null,null,null,null,{"$f":"IF(Sheet2!$A$70=TRUE,-1*((AC55-AG55)/SQRT(((AD55^2*(AE55-1))+(AH55^2*(AI55-1)))/(AE55+AI55-2))),(AC55-AG55)/SQRT(((AD55^2*(AE55-1))+(AH55^2*(AI55-1)))/(AE55+AI55-2)))","v":{"$error":"#DIV/0!"}},"","",null,null,null,null,null,null,null,null,{"$f":"IF(Sheet2!$A$70=TRUE,-1*((AN55-AR55)/SQRT(((AO55^2*(AP55-1))+(AS55^2*(AT55-1)))/(AP55+AT55-2))),(AN55-AR55)/SQRT(((AO55^2*(AP55-1))+(AS55^2*(AT55-1)))/(AP55+AT55-2)))","v":{"$error":"#DIV/0!"}},"","",null,null,null,null,null,null,null,null,{"$f":"IF(Sheet2!$A$70=TRUE,-1*((AY55-BC55)/SQRT(((AZ55^2*(BA55-1))+(BD55^2*(BE55-1)))/(BA55+BE55-2))),(AY55-BC55)/SQRT(((AZ55^2*(BA55-1))+(BD55^2*(BE55-1)))/(BA55+BE55-2)))","v":{"$error":"#DIV/0!"}},"","",null,null,null,null,null,null,null,null,{"$f":"IF(Sheet2!$A$70=TRUE,-1*((BJ55-BN55)/SQRT(((BK55^2*(BL55-1))+(BO55^2*(BP55-1)))/(BL55+BP55-2))),(BJ55-BN55)/SQRT(((BK55^2*(BL55-1))+(BO55^2*(BP55-1)))/(BL55+BP55-2)))","v":{"$error":"#DIV/0!"}},"",""]
[null,null,"Outcome 3:",null,null,null,null,null,null,null,null,null,null,{"$f":"IF(Sheet2!$A$71=TRUE,-1*((G56-K56)/SQRT(((H56^2*(I56-1))+(L56^2*(M56-1)))/(I56+M56-2))),(G56-K56)/SQRT(((H56^2*(I56-1))+(L56^2*(M56-1)))/(I56+M56-2)))","v":{"$error":"#DIV/0!"}},"","",null,null,null,null,null,null,null,null,{"$f":"IF(Sheet2!$A$71=TRUE,-1*((R56-V56)/SQRT(((S56^2*(T56-1))+(W56^2*(X56-1)))/(T56+X56-2))),(R56-V56)/SQRT(((S56^2*(T56-1))+(W56^2*(X56-1)))/(T56+X56-2)))","v":{"$error":"#DIV/0!"}},"","",null,null,null,null,null,null,null,null,{"$f":"IF(Sheet2!$A$71=TRUE,-1*((AC56-AG56)/SQRT(((AD56^2*(AE56-1))+(AH56^2*(AI56-1)))/(AE56+AI56-2))),(AC56-AG56)/SQRT(((AD56^2*(AE56-1))+(AH56^2*(AI56-1)))/(AE56+AI56-2)))","v":{"$error":"#DIV/0!"}},"","",null,null,null,null,null,null,null,null,{"$f":"IF(Sheet2!$A$71=TRUE,-1*((AN56-AR56)/SQRT(((AO56^2*(AP56-1))+(AS56^2*(AT56-1)))/(AP56+AT56-2))),(AN56-AR56)/SQRT(((AO56^2*(AP56-1))+(AS56^2*(AT56-1)))/(AP56+AT56-2)))","v":{"$error":"#DIV/0!"}},"","",null,null,null,null,null,null,null,null,{"$f":"IF(Sheet2!$A$71=TRUE,-1*((AY56-BC56)/SQRT(((AZ56^2*(BA56-1))+(BD56^2*(BE56-1)))/(BA56+BE56-2))),(AY56-BC56)/SQRT(((AZ56^2*(BA56-1))+(BD56^2*(BE56-1)))/(BA56+BE56-2)))","v":{"$error":"#DIV/0!"}},"","",null,null,null,null,null,null,null,null,{"$f":"IF(Sheet2!$A$71=TRUE,-1*((BJ56-BN56)/SQRT(((BK56^2*(BL56-1))+(BO56^2*(BP56-1)))/(BL56+BP56-2))),(BJ56-BN56)/SQRT(((BK56^2*(BL56-1))+(BO56^2*(BP56-1)))/(BL56+BP56-2)))","v":{"$error":"#DIV/0!"}},"",""]
[null,null,"Outcome 4:",null,null,null,null,null,null,null,null,null,null,{"$f":"IF(Sheet2!$A$72=TRUE,-1*((G57-K57)/SQRT(((H57^2*(I57-1))+(L57^2*(M57-1)))/(I57+M57-2))),(G57-K57)/SQRT(((H57^2*(I57-1))+(L57^2*(M57-1)))/(I57+M57-2)))","v":{"$error":"#DIV/0!"}},"","",null,null,null,null,null,null,null,null,{"$f":"IF(Sheet2!$A$72=TRUE,-1*((R57-V57)/SQRT(((S57^2*(T57-1))+(W57^2*(X57-1)))/(T57+X57-2))),(R57-V57)/SQRT(((S57^2*(T57-1))+(W57^2*(X57-1)))/(T57+X57-2)))","v":{"$error":"#DIV/0!"}},"","",null,null,null,null,null,null,null,null,{"$f":"IF(Sheet2!$A$72=TRUE,-1*((AC57-AG57)/SQRT(((AD57^2*(AE57-1))+(AH57^2*(AI57-1)))/(AE57+AI57-2))),(AC57-AG57)/SQRT(((AD57^2*(AE57-1))+(AH57^2*(AI57-1)))/(AE57+AI57-2)))","v":{"$error":"#DIV/0!"}},"","",null,null,null,null,null,null,null,null,{"$f":"IF(Sheet2!$A$72=TRUE,-1*((AN57-AR57)/SQRT(((AO57^2*(AP57-1))+(AS57^2*(AT57-1)))/(AP57+AT57-2))),(AN57-AR57)/SQRT(((AO57^2*(AP57-1))+(AS57^2*(AT57-1)))/(AP57+AT57-2)))","v":{"$error":"#DIV/0!"}},"","",null,null,null,null,null,null,null,null,{"$f":"IF(Sheet2!$A$72=TRUE,-1*((AY57-BC57)/SQRT(((AZ57^2*(BA57-1))+(BD57^2*(BE57-1)))/(BA57+BE57-2))),(AY57-BC57)/SQRT(((AZ57^2*(BA57-1))+(BD57^2*(BE57-1)))/(BA57+BE57-2)))","v":{"$error":"#DIV/0!"}},"","",null,null,null,null,null,null,null,null,{"$f":"IF(Sheet2!$A$72=TRUE,-1*((BJ57-BN57)/SQRT(((BK57^2*(BL57-1))+(BO57^2*(BP57-1)))/(BL57+BP57-2))),(BJ57-BN57)/SQRT(((BK57^2*(BL57-1))+(BO57^2*(BP57-1)))/(BL57+BP57-2)))","v":{"$error":"#DIV/0!"}},"",""]
[null,null,"Outcome 5:",null,null,null,null,null,null,null,null,null,null,{"$f":"IF(Sheet2!$A$73=TRUE,-1*((G58-K58)/SQRT(((H58^2*(I58-1))+(L58^2*(M58-1)))/(I58+M58-2))),(G58-K58)/SQRT(((H58^2*(I58-1))+(L58^2*(M58-1)))/(I58+M58-2)))","v":{"$error":"#DIV/0!"}},"","",null,null,null,null,null,null,null,null,{"$f":"IF(Sheet2!$A$73=TRUE,-1*((R58-V58)/SQRT(((S58^2*(T58-1))+(W58^2*(X58-1)))/(T58+X58-2))),(R58-V58)/SQRT(((S58^2*(T58-1))+(W58^2*(X58-1)))/(T58+X58-2)))","v":{"$error":"#DIV/0!"}},"","",null,null,null,null,null,null,null,null,{"$f":"IF(Sheet2!$A$73=TRUE,-1*((AC58-AG58)/SQRT(((AD58^2*(AE58-1))+(AH58^2*(AI58-1)))/(AE58+AI58-2))),(AC58-AG58)/SQRT(((AD58^2*(AE58-1))+(AH58^2*(AI58-1)))/(AE58+AI58-2)))","v":{"$error":"#DIV/0!"}},"","",null,null,null,null,null,null,null,null,{"$f":"IF(Sheet2!$A$73=TRUE,-1*((AN58-AR58)/SQRT(((AO58^2*(AP58-1))+(AS58^2*(AT58-1)))/(AP58+AT58-2))),(AN58-AR58)/SQRT(((AO58^2*(AP58-1))+(AS58^2*(AT58-1)))/(AP58+AT58-2)))","v":{"$error":"#DIV/0!"}},"","",null,null,null,null,null,null,null,null,{"$f":"IF(Sheet2!$A$73=TRUE,-1*((AY58-BC58)/SQRT(((AZ58^2*(BA58-1))+(BD58^2*(BE58-1)))/(BA58+BE58-2))),(AY58-BC58)/SQRT(((AZ58^2*(BA58-1))+(BD58^2*(BE58-1)))/(BA58+BE58-2)))","v":{"$error":"#DIV/0!"}},"","",null,null,null,null,null,null,null,null,{"$f":"IF(Sheet2!$A$73=TRUE,-1*((BJ58-BN58)/SQRT(((BK58^2*(BL58-1))+(BO58^2*(BP58-1)))/(BL58+BP58-2))),(BJ58-BN58)/SQRT(((BK58^2*(BL58-1))+(BO58^2*(BP58-1)))/(BL58+BP58-2)))","v":{"$error":"#DIV/0!"}},"",""]
[null,null,"Immediate Memory d",null,null,null,null,null,null,null,null,null,null,null,{"$f":"IF(O54=\"\",\"\",AVERAGE(O54:O58))","v":""},{"$f":"IF(P54=\"\",\"\",AVERAGE(P54:P58))","v":""},null,null,null,null,null,null,null,null,null,{"$f":"IF(Z54=\"\",\"\",AVERAGE(Z54:Z58))","v":""},{"$f":"IF(AA54=\"\",\"\",AVERAGE(AA54:AA58))","v":""},null,null,null,null,null,null,null,null,null,{"$f":"IF(AK54=\"\",\"\",AVERAGE(AK54:AK58))","v":""},{"$f":"IF(AL54=\"\",\"\",AVERAGE(AL54:AL58))","v":""},null,null,null,null,null,null,null,null,null,{"$f":"IF(AV54=\"\",\"\",AVERAGE(AV54:AV58))","v":""},{"$f":"IF(AW54=\"\",\"\",AVERAGE(AW54:AW58))","v":""},null,null,null,null,null,null,null,null,null,{"$f":"IF(BG54=\"\",\"\",AVERAGE(BG54:BG58))","v":""},{"$f":"IF(BH54=\"\",\"\",AVERAGE(BH54:BH58))","v":""},null,null,null,null,null,null,null,null,null,{"$f":"IF(BR54=\"\",\"\",AVERAGE(BR54:BR58))","v":""},{"$f":"IF(BS54=\"\",\"\",AVERAGE(BS54:BS58))","v":""}]
[]
[null,null,"Delayed Memory","Test Name"]
[null,null,"Outcome 1:",null,null,null,null,null,null,null,null,null,null,{"$f":"IF(Sheet2!$A$77=TRUE,-1*((G62-K62)/SQRT(((H62^2*(I62-1))+(L62^2*(M62-1)))/(I62+M62-2))),(G62-K62)/SQRT(((H62^2*(I62-1))+(L62^2*(M62-1)))/(I62+M62-2)))","v":{"$error":"#DIV/0!"}},{"$f":"IF(G62=\"\",\"\",N62)","v":""},{"$f":"IF(I62=\"\",\"\",SQRT((I62+M62)/(I62*M62)+(O62^2/(2*(I62+M62)))))","v":""},null,null,null,null,null,null,null,null,{"$f":"IF(Sheet2!$A$77=TRUE,-1*((R62-V62)/SQRT(((S62^2*(T62-1))+(W62^2*(X62-1)))/(T62+X62-2))),(R62-V62)/SQRT(((S62^2*(T62-1))+(W62^2*(X62-1)))/(T62+X62-2)))","v":{"$error":"#DIV/0!"}},{"$f":"IF(R62=\"\",\"\",Y62)","v":""},{"$f":"IF(T62=\"\",\"\",SQRT((T62+X62)/(T62*X62)+(Z62^2/(2*(T62+X62)))))","v":""},null,null,null,null,null,null,null,null,{"$f":"IF(Sheet2!$A$77=TRUE,-1*((AC62-AG62)/SQRT(((AD62^2*(AE62-1))+(AH62^2*(AI62-1)))/(AE62+AI62-2))),(AC62-AG62)/SQRT(((AD62^2*(AE62-1))+(AH62^2*(AI62-1)))/(AE62+AI62-2)))","v":{"$error":"#DIV/0!"}},{"$f":"IF(AC62=\"\",\"\",AJ62)","v":""},{"$f":"IF(AE62=\"\",\"\",SQRT((AE62+AI62)/(AE62*AI62)+(AK62^2/(2*(AE62+AI62)))))","v":""},null,null,null,null,null,null,null,null,{"$f":"IF(Sheet2!$A$77=TRUE,-1*((AN62-AR62)/SQRT(((AO62^2*(AP62-1))+(AS62^2*(AT62-1)))/(AP62+AT62-2))),(AN62-AR62)/SQRT(((AO62^2*(AP62-1))+(AS62^2*(AT62-1)))/(AP62+AT62-2)))","v":{"$error":"#DIV/0!"}},{"$f":"IF(AN62=\"\",\"\",AU62)","v":""},{"$f":"IF(AP62=\"\",\"\",SQRT((AP62+AT62)/(AP62*AT62)+(AV62^2/(2*(AP62+AT62)))))","v":""},null,null,null,null,null,null,null,null,{"$f":"IF(Sheet2!$A$77=TRUE,-1*((AY62-BC62)/SQRT(((AZ62^2*(BA62-1))+(BD62^2*(BE62-1)))/(BA62+BE62-2))),(AY62-BC62)/SQRT(((AZ62^2*(BA62-1))+(BD62^2*(BE62-1)))/(BA62+BE62-2)))","v":{"$error":"#DIV/0!"}},{"$f":"IF(AY62=\"\",\"\",BF62)","v":""},{"$f":"IF(BA62=\"\",\"\",SQRT((BA62+BE62)/(BA62*BE62)+(BG62^2/(2*(BA62+BE62)))))","v":""},null,null,null,null,null,null,null,null,{"$f":"IF(Sheet2!$A$77=TRUE,-1*((BJ62-BN62)/SQRT(((BK62^2*(BL62-1))+(BO62^2*(BP62-1)))/(BL62+BP62-2))),(BJ62-BN62)/SQRT(((BK62^2*(BL62-1))+(BO62^2*(BP62-1)))/(BL62+BP62-2)))","v":{"$error":"#DIV/0!"}},{"$f":"IF(BJ62=\"\",\"\",BQ62)","v":""},{"$f":"IF(BL62=\"\",\"\",SQRT((BL62+BP62)/(BL62*BP62)+(BR62^2/(2*(BL62+BP62)))))","v":""}]
[null,null,"Outcome 2:",null,null,null,null,null,null,null,null,null,null,{"$f":"IF(Sheet2!$A$78=TRUE,-1*((G63-K63)/SQRT(((H63^2*(I63-1))+(L63^2*(M63-1)))/(I63+M63-2))),(G63-K63)/SQRT(((H63^2*(I63-1))+(L63^2*(M63-1)))/(I63+M63-2)))","v":{"$error":"#DIV/0!"}},"","",null,null,null,null,null,null,null,null,{"$f":"IF(Sheet2!$A$78=TRUE,-1*((R63-V63)/SQRT(((S63^2*(T63-1))+(W63^2*(X63-1)))/(T63+X63-2))),(R63-V63)/SQRT(((S63^2*(T63-1))+(W63^2*(X63-1)))/(T63+X63-2)))","v":{"$error":"#DIV/0!"}},"","",null,null,null,null,null,null,null,null,{"$f":"IF(Sheet2!$A$78=TRUE,-1*((AC63-AG63)/SQRT(((AD63^2*(AE63-1))+(AH63^2*(AI63-1)))/(AE63+AI63-2))),(AC63-AG63)/SQRT(((AD63^2*(AE63-1))+(AH63^2*(AI63-1)))/(AE63+AI63-2)))","v":{"$error":"#DIV/0!"}},"","",null,null,null,null,null,null,null,null,{"$f":"IF(Sheet2!$A$78=TRUE,-1*((AN63-AR63)/SQRT(((AO63^2*(AP63-1))+(AS63^2*(AT63-1)))/(AP63+AT63-2))),(AN63-AR63)/SQRT(((AO63^2*(AP63-1))+(AS63^2*(AT63-1)))/(AP63+AT63-2)))","v":{"$error":"#DIV/0!"}},"","",null,null,null,null,null,null,null,null,{"$f":"IF(Sheet2!$A$78=TRUE,-1*((AY63-BC63)/SQRT(((AZ63^2*(BA63-1))+(BD63^2*(BE63-1)))/(BA63+BE63-2))),(AY63-BC63)/SQRT(((AZ63^2*(BA63-1))+(BD63^2*(BE63-1)))/(BA63+BE63-2)))","v":{"$error":"#DIV/0!"}},"","",null,null,null,null,null,null,null,null,{"$f":"IF(Sheet2!$A$78=TRUE,-1*((BJ63-BN63)/SQRT(((BK63^2*(BL63-1))+(BO63^2*(BP63-1)))/(BL63+BP63-2))),(BJ63-BN63)/SQRT(((BK63^2*(BL63-1))+(BO63^2*(BP63-1)))/(BL63+BP63-2)))","v":{"$error":"#DIV/0!"}},"",""]
[null,null,"Outcome 3:",null,null,null,null,null,null,null,null,null,null,{"$f":"IF(Sheet2!$A$79=TRUE,-1*((G64-K64)/SQRT(((H64^2*(I64-1))+(L64^2*(M64-1)))/(I64+M64-2))),(G64-K64)/SQRT(((H64^2*(I64-1))+(L64^2*(M64-1)))/(I64+M64-2)))","v":{"$error":"#DIV/0!"}},"","",null,null,null,null,null,null,null,null,{"$f":"IF(Sheet2!$A$79=TRUE,-1*((R64-V64)/SQRT(((S64^2*(T64-1))+(W64^2*(X64-1)))/(T64+X64-2))),(R64-V64)/SQRT(((S64^2*(T64-1))+(W64^2*(X64-1)))/(T64+X64-2)))","v":{"$error":"#DIV/0!"}},"","",null,null,null,null,null,null,null,null,{"$f":"IF(Sheet2!$A$79=TRUE,-1*((AC64-AG64)/SQRT(((AD64^2*(AE64-1))+(AH64^2*(AI64-1)))/(AE64+AI64-2))),(AC64-AG64)/SQRT(((AD64^2*(AE64-1))+(AH64^2*(AI64-1)))/(AE64+AI64-2)))","v":{"$error":"#DIV/0!"}},"","",null,null,null,null,null,null,null,null,{"$f":"IF(Sheet2!$A$79=TRUE,-1*((AN64-AR64)/SQRT(((AO64^2*(AP64-1))+(AS64^2*(AT64-1)))/(AP64+AT64-2))),(AN64-AR64)/SQRT(((AO64^2*(AP64-1))+(AS64^2*(AT64-1)))/(AP64+AT64-2)))","v":{"$error":"#DIV/0!"}},"","",null,null,null,null,null,null,null,null,{"$f":"IF(Sheet2!$A$79=TRUE,-1*((AY64-BC64)/SQRT(((AZ64^2*(BA64-1))+(BD64^2*(BE64-1)))/(BA64+BE64-2))),(AY64-BC64)/SQRT(((AZ64^2*(BA64-1))+(BD64^2*(BE64-1)))/(BA64+BE64-2)))","v":{"$error":"#DIV/0!"}},"","",null,null,null,null,null,null,null,null,{"$f":"IF(Sheet2!$A$79=TRUE,-1*((BJ64-BN64)/SQRT(((BK64^2*(BL64-1))+(BO64^2*(BP64-1)))/(BL64+BP64-2))),(BJ64-BN64)/SQRT(((BK64^2*(BL64-1))+(BO64^2*(BP64-1)))/(BL64+BP64-2)))","v":{"$error":"#DIV/0!"}},"",""]
[null,null,"Outcome 4:",null,null,null,null,null,null,null,null,null,null,{"$f":"IF(Sheet2!$A$80=TRUE,-1*((G65-K65)/SQRT(((H65^2*(I65-1))+(L65^2*(M65-1)))/(I65+M65-2))),(G65-K65)/SQRT(((H65^2*(I65-1))+(L65^2*(M65-1)))/(I65+M65-2)))","v":{"$error":"#DIV/0!"}},"","",null,null,null,null,null,null,null,null,{"$f":"IF(Sheet2!$A$80=TRUE,-1*((R65-V65)/SQRT(((S65^2*(T65-1))+(W65^2*(X65-1)))/(T65+X65-2))),(R65-V65)/SQRT(((S65^2*(T65-1))+(W65^2*(X65-1)))/(T65+X65-2)))","v":{"$error":"#DIV/0!"}},"","",null,null,null,null,null,null,null,null,{"$f":"IF(Sheet2!$A$80=TRUE,-1*((AC65-AG65)/SQRT(((AD65^2*(AE65-1))+(AH65^2*(AI65-1)))/(AE65+AI65-2))),(AC65-AG65)/SQRT(((AD65^2*(AE65-1))+(AH65^2*(AI65-1)))/(AE65+AI65-2)))","v":{"$error":"#DIV/0!"}},"","",null,null,null,null,null,null,null,null,{"$f":"IF(Sheet2!$A$80=TRUE,-1*((AN65-AR65)/SQRT(((AO65^2*(AP65-1))+(AS65^2*(AT65-1)))/(AP65+AT65-2))),(AN65-AR65)/SQRT(((AO65^2*(AP65-1))+(AS65^2*(AT65-1)))/(AP65+AT65-2)))","v":{"$error":"#DIV/0!"}},"","",null,null,null,null,null,null,null,null,{"$f":"IF(Sheet2!$A$80=TRUE,-1*((AY65-BC65)/SQRT(((AZ65^2*(BA65-1))+(BD65^2*(BE65-1)))/(BA65+BE65-2))),(AY65-BC65)/SQRT(((AZ65^2*(BA65-1))+(BD65^2*(BE65-1)))/(BA65+BE65-2)))","v":{"$error":"#DIV/0!"}},"","",null,null,null,null,null,null,null,null,{"$f":"IF(Sheet2!$A$80=TRUE,-1*((BJ65-BN65)/SQRT(((BK65^2*(BL65-1))+(BO65^2*(BP65-1)))/(BL65+BP65-2))),(BJ65-BN65)/SQRT(((BK65^2*(BL65-1))+(BO65^2*(BP65-1)))/(BL65+BP65-2)))","v":{"$error":"#DIV/0!"}},"",""]
[null,null,"Outcome 5:",null,null,null,null,null,null,null,null,null,null,{"$f":"IF(Sheet2!$A$81=TRUE,-1*((G66-K66)/SQRT(((H66^2*(I66-1))+(L66^2*(M66-1)))/(I66+M66-2))),(G66-K66)/SQRT(((H66^2*(I66-1))+(L66^2*(M66-1)))/(I66+M66-2)))","v":{"$error":"#DIV/0!"}},"","",null,null,null,null,null,null,null,null,{"$f":"IF(Sheet2!$A$81=TRUE,-1*((R66-V66)/SQRT(((S66^2*(T66-1))+(W66^2*(X66-1)))/(T66+X66-2))),(R66-V66)/SQRT(((S66^2*(T66-1))+(W66^2*(X66-1)))/(T66+X66-2)))","v":{"$error":"#DIV/0!"}},"","",null,null,null,null,null,null,null,null,{"$f":"IF(Sheet2!$A$81=TRUE,-1*((AC66-AG66)/SQRT(((AD66^2*(AE66-1))+(AH66^2*(AI66-1)))/(AE66+AI66-2))),(AC66-AG66)/SQRT(((AD66^2*(AE66-1))+(AH66^2*(AI66-1)))/(AE66+AI66-2)))","v":{"$error":"#DIV/0!"}},"","",null,null,null,null,null,null,null,null,{"$f":"IF(Sheet2!$A$81=TRUE,-1*((AN66-AR66)/SQRT(((AO66^2*(AP66-1))+(AS66^2*(AT66-1)))/(AP66+AT66-2))),(AN66-AR66)/SQRT(((AO66^2*(AP66-1))+(AS66^2*(AT66-1)))/(AP66+AT66-2)))","v":{"$error":"#DIV/0!"}},"","",null,null,null,null,null,null,null,null,{"$f":"IF(Sheet2!$A$81=TRUE,-1*((AY66-BC66)/SQRT(((AZ66^2*(BA66-1))+(BD66^2*(BE66-1)))/(BA66+BE66-2))),(AY66-BC66)/SQRT(((AZ66^2*(BA66-1))+(BD66^2*(BE66-1)))/(BA66+BE66-2)))","v":{"$error":"#DIV/0!"}},"","",null,null,null,null,null,null,null,null,{"$f":"IF(Sheet2!$A$81=TRUE,-1*((BJ66-BN66)/SQRT(((BK66^2*(BL66-1))+(BO66^2*(BP66-1)))/(BL66+BP66-2))),(BJ66-BN66)/SQRT(((BK66^2*(BL66-1))+(BO66^2*(BP66-1)))/(BL66+BP66-2)))","v":{"$error":"#DIV/0!"}},"",""]
[null,null,"Delayed Memory d",null,null,null,null,null,null,null,null,null,null,null,{"$f":"IF(O62=\"\",\"\",AVERAGE(O62:O66))","v":""},{"$f":"IF(P62=\"\",\"\",AVERAGE(P62:P66))","v":""},null,null,null,null,null,null,null,null,null,{"$f":"IF(Z62=\"\",\"\",AVERAGE(Z62:Z66))","v":""},{"$f":"IF(AA62=\"\",\"\",AVERAGE(AA62:AA66))","v":""},null,null,null,null,null,null,null,null,null,{"$f":"IF(AK62=\"\",\"\",AVERAGE(AK62:AK66))","v":""},{"$f":"IF(AL62=\"\",\"\",AVERAGE(AL62:AL66))","v":""},null,null,null,null,null,null,null,null,null,{"$f":"IF(AV62=\"\",\"\",AVERAGE(AV62:AV66))","v":""},{"$f":"IF(AW62=\"\",\"\",AVERAGE(AW62:AW66))","v":""},null,null,null,null,null,null,null,null,null,{"$f":"IF(BG62=\"\",\"\",AVERAGE(BG62:BG66))","v":""},{"$f":"IF(BH62=\"\",\"\",AVERAGE(BH62:BH66))","v":""},null,null,null,null,null,null,null,null,null,{"$f":"IF(BR62=\"\",\"\",AVERAGE(BR62:BR66))","v":""},{"$f":"IF(BS62=\"\",\"\",AVERAGE(BS62:BS66))","v":""}]
[]
[null,null,"Visuospatial Skills","Test Name"]
[null,null,"Outcome 1:",null,null,null,null,null,null,null,null,null,null,{"$f":"IF(Sheet2!$A$85=TRUE,-1*((G70-K70)/SQRT(((H70^2*(I70-1))+(L70^2*(M70-1)))/(I70+M70-2))),(G70-K70)/SQRT(((H70^2*(I70-1))+(L70^2*(M70-1)))/(I70+M70-2)))","v":{"$error":"#DIV/0!"}},{"$f":"IF(G70=\"\",\"\",N70)","v":""},{"$f":"IF(I70=\"\",\"\",SQRT((I70+M70)/(I70*M70)+(O70^2/(2*(I70+M70)))))","v":""},null,null,null,null,null,null,null,null,{"$f":"IF(Sheet2!$A$85=TRUE,-1*((R70-V70)/SQRT(((S70^2*(T70-1))+(W70^2*(X70-1)))/(T70+X70-2))),(R70-V70)/SQRT(((S70^2*(T70-1))+(W70^2*(X70-1)))/(T70+X70-2)))","v":{"$error":"#DIV/0!"}},{"$f":"IF(R70=\"\",\"\",Y70)","v":""},{"$f":"IF(T70=\"\",\"\",SQRT((T70+X70)/(T70*X70)+(Z70^2/(2*(T70+X70)))))","v":""},null,null,null,null,null,null,null,null,{"$f":"IF(Sheet2!$A$85=TRUE,-1*((AC70-AG70)/SQRT(((AD70^2*(AE70-1))+(AH70^2*(AI70-1)))/(AE70+AI70-2))),(AC70-AG70)/SQRT(((AD70^2*(AE70-1))+(AH70^2*(AI70-1)))/(AE70+AI70-2)))","v":{"$error":"#DIV/0!"}},{"$f":"IF(AC70=\"\",\"\",AJ70)","v":""},{"$f":"IF(AE70=\"\",\"\",SQRT((AE70+AI70)/(AE70*AI70)+(AK70^2/(2*(AE70+AI70)))))","v":""},null,null,null,null,null,null,null,null,{"$f":"IF(Sheet2!$A$85=TRUE,-1*((AN70-AR70)/SQRT(((AO70^2*(AP70-1))+(AS70^2*(AT70-1)))/(AP70+AT70-2))),(AN70-AR70)/SQRT(((AO70^2*(AP70-1))+(AS70^2*(AT70-1)))/(AP70+AT70-2)))","v":{"$error":"#DIV/0!"}},{"$f":"IF(AN70=\"\",\"\",AU70)","v":""},{"$f":"IF(AP70=\"\",\"\",SQRT((AP70+AT70)/(AP70*AT70)+(AV70^2/(2*(AP70+AT70)))))","v":""},null,null,null,null,null,null,null,null,{"$f":"IF(Sheet2!$A$85=TRUE,-1*((AY70-BC70)/SQRT(((AZ70^2*(BA70-1))+(BD70^2*(BE70-1)))/(BA70+BE70-2))),(AY70-BC70)/SQRT(((AZ70^2*(BA70-1))+(BD70^2*(BE70-1)))/(BA70+BE70-2)))","v":{"$error":"#DIV/0!"}},{"$f":"IF(AY70=\"\",\"\",BF70)","v":""},{"$f":"IF(BA70=\"\",\"\",SQRT((BA70+BE70)/(BA70*BE70)+(BG70^2/(2*(BA70+BE70)))))","v":""},null,null,null,null,null,null,null,null,{"$f":"IF(Sheet2!$A$85=TRUE,-1*((BJ70-BN70)/SQRT(((BK70^2*(BL70-1))+(BO70^2*(BP70-1)))/(BL70+BP70-2))),(BJ70-BN70)/SQRT(((BK70^2*(BL70-1))+(BO70^2*(BP70-1)))/(BL70+BP70-2)))","v":{"$error":"#DIV/0!"}},{"$f":"IF(BJ70=\"\",\"\",BQ70)","v":""},{"$f":"IF(BL70=\"\",\"\",SQRT((BL70+BP70)/(BL70*BP70)+(BR70^2/(2*(BL70+BP70)))))","v":""}]
[null,null,"Outcome 2:",null,null,null,null,null,null,null,null,null,null,{"$f":"IF(Sheet2!$A$86=TRUE,-1*((G71-K71)/SQRT(((H71^2*(I71-1))+(L71^2*(M71-1)))/(I71+M71-2))),(G71-K71)/SQRT(((H71^2*(I71-1))+(L71^2*(M71-1)))/(I71+M71-2)))","v":{"$error":"#DIV/0!"}},"","",null,null,null,null,null,null,null,null,{"$f":"IF(Sheet2!$A$86=TRUE,-1*((R71-V71)/SQRT(((S71^2*(T71-1))+(W71^2*(X71-1)))/(T71+X71-2))),(R71-V71)/SQRT(((S71^2*(T71-1))+(W71^2*(X71-1)))/(T71+X71-2)))","v":{"$error":"#DIV/0!"}},"","",null,null,null,null,null,null,null,null,{"$f":"IF(Sheet2!$A$86=TRUE,-1*((AC71-AG71)/SQRT(((AD71^2*(AE71-1))+(AH71^2*(AI71-1)))/(AE71+AI71-2))),(AC71-AG71)/SQRT(((AD71^2*(AE71-1))+(AH71^2*(AI71-1)))/(AE71+AI71-2)))","v":{"$error":"#DIV/0!"}},"","",null,null,null,null,null,null,null,null,{"$f":"IF(Sheet2!$A$86=TRUE,-1*((AN71-AR71)/SQRT(((AO71^2*(AP71-1))+(AS71^2*(AT71-1)))/(AP71+AT71-2))),(AN71-AR71)/SQRT(((AO71^2*(AP71-1))+(AS71^2*(AT71-1)))/(AP71+AT71-2)))","v":{"$error":"#DIV/0!"}},"","",null,null,null,null,null,null,null,null,{"$f":"IF(Sheet2!$A$86=TRUE,-1*((AY71-BC71)/SQRT(((AZ71^2*(BA71-1))+(BD71^2*(BE71-1)))/(BA71+BE71-2))),(AY71-BC71)/SQRT(((AZ71^2*(BA71-1))+(BD71^2*(BE71-1)))/(BA71+BE71-2)))","v":{"$error":"#DIV/0!"}},"","",null,null,null,null,null,null,null,null,{"$f":"IF(Sheet2!$A$86=TRUE,-1*((BJ71-BN71)/SQRT(((BK71^2*(BL71-1))+(BO71^2*(BP71-1)))/(BL71+BP71-2))),(BJ71-BN71)/SQRT(((BK71^2*(BL71-1))+(BO71^2*(BP71-1)))/(BL71+BP71-2)))","v":{"$error":"#DIV/0!"}},"",""]
[null,null,"Outcome 3:",null,null,null,null,null,null,null,null,null,null,{"$f":"IF(Sheet2!$A$87=TRUE,-1*((G72-K72)/SQRT(((H72^2*(I72-1))+(L72^2*(M72-1)))/(I72+M72-2))),(G72-K72)/SQRT(((H72^2*(I72-1))+(L72^2*(M72-1)))/(I72+M72-2)))","v":{"$error":"#DIV/0!"}},"","",null,null,null,null,null,null,null,null,{"$f":"IF(Sheet2!$A$87=TRUE,-1*((R72-V72)/SQRT(((S72^2*(T72-1))+(W72^2*(X72-1)))/(T72+X72-2))),(R72-V72)/SQRT(((S72^2*(T72-1))+(W72^2*(X72-1)))/(T72+X72-2)))","v":{"$error":"#DIV/0!"}},"","",null,null,null,null,null,null,null,null,{"$f":"IF(Sheet2!$A$87=TRUE,-1*((AC72-AG72)/SQRT(((AD72^2*(AE72-1))+(AH72^2*(AI72-1)))/(AE72+AI72-2))),(AC72-AG72)/SQRT(((AD72^2*(AE72-1))+(AH72^2*(AI72-1)))/(AE72+AI72-2)))","v":{"$error":"#DIV/0!"}},"","",null,null,null,null,null,null,null,null,{"$f":"IF(Sheet2!$A$87=TRUE,-1*((AN72-AR72)/SQRT(((AO72^2*(AP72-1))+(AS72^2*(AT72-1)))/(AP72+AT72-2))),(AN72-AR72)/SQRT(((AO72^2*(AP72-1))+(AS72^2*(AT72-1)))/(AP72+AT72-2)))","v":{"$error":"#DIV/0!"}},"","",null,null,null,null,null,null,null,null,{"$f":"IF(Sheet2!$A$87=TRUE,-1*((AY72-BC72)/SQRT(((AZ72^2*(BA72-1))+(BD72^2*(BE72-1)))/(BA72+BE72-2))),(AY72-BC72)/SQRT(((AZ72^2*(BA72-1))+(BD72^2*(BE72-1)))/(BA72+BE72-2)))","v":{"$error":"#DIV/0!"}},"","",null,null,null,null,null,null,null,null,{"$f":"IF(Sheet2!$A$87=TRUE,-1*((BJ72-BN72)/SQRT(((BK72^2*(BL72-1))+(BO72^2*(BP72-1)))/(BL72+BP72-2))),(BJ72-BN72)/SQRT(((BK72^2*(BL72-1))+(BO72^2*(BP72-1)))/(BL72+BP72-2)))","v":{"$error":"#DIV/0!"}},"",""]
[null,null,"Outcome 4:",null,null,null,null,null,null,null,null,null,null,{"$f":"IF(Sheet2!$A$88=TRUE,-1*((G73-K73)/SQRT(((H73^2*(I73-1))+(L73^2*(M73-1)))/(I73+M73-2))),(G73-K73)/SQRT(((H73^2*(I73-1))+(L73^2*(M73-1)))/(I73+M73-2)))","v":{"$error":"#DIV/0!"}},"","",null,null,null,null,null,null,null,null,{"$f":"IF(Sheet2!$A$88=TRUE,-1*((R73-V73)/SQRT(((S73^2*(T73-1))+(W73^2*(X73-1)))/(T73+X73-2))),(R73-V73)/SQRT(((S73^2*(T73-1))+(W73^2*(X73-1)))/(T73+X73-2)))","v":{"$error":"#DIV/0!"}},"","",null,null,null,null,null,null,null,null,{"$f":"IF(Sheet2!$A$88=TRUE,-1*((AC73-AG73)/SQRT(((AD73^2*(AE73-1))+(AH73^2*(AI73-1)))/(AE73+AI73-2))),(AC73-AG73)/SQRT(((AD73^2*(AE73-1))+(AH73^2*(AI73-1)))/(AE73+AI73-2)))","v":{"$error":"#DIV/0!"}},"","",null,null,null,null,null,null,null,null,{"$f":"IF(Sheet2!$A$88=TRUE,-1*((AN73-AR73)/SQRT(((AO73^2*(AP73-1))+(AS73^2*(AT73-1)))/(AP73+AT73-2))),(AN73-AR73)/SQRT(((AO73^2*(AP73-1))+(AS73^2*(AT73-1)))/(AP73+AT73-2)))","v":{"$error":"#DIV/0!"}},"","",null,null,null,null,null,null,null,null,{"$f":"IF(Sheet2!$A$88=TRUE,-1*((AY73-BC73)/SQRT(((AZ73^2*(BA73-1))+(BD73^2*(BE73-1)))/(BA73+BE73-2))),(AY73-BC73)/SQRT(((AZ73^2*(BA73-1))+(BD73^2*(BE73-1)))/(BA73+BE73-2)))","v":{"$error":"#DIV/0!"}},"","",null,null,null,null,null,null,null,null,{"$f":"IF(Sheet2!$A$88=TRUE,-1*((BJ73-BN73)/SQRT(((BK73^2*(BL73-1))+(BO73^2*(BP73-1)))/(BL73+BP73-2))),(BJ73-BN73)/SQRT(((BK73^2*(BL73-1))+(BO73^2*(BP73-1)))/(BL73+BP73-2)))","v":{"$error":"#DIV/0!"}},"",""]
[null,null,"Outcome 5:",null,null,null,null,null,null,null,null,null,null,{"$f":"IF(Sheet2!$A$89=TRUE,-1*((G74-K74)/SQRT(((H74^2*(I74-1))+(L74^2*(M74-1)))/(I74+M74-2))),(G74-K74)/SQRT(((H74^2*(I74-1))+(L74^2*(M74-1)))/(I74+M74-2)))","v":{"$error":"#DIV/0!"}},"","",null,null,null,null,null,null,null,null,{"$f":"IF(Sheet2!$A$89=TRUE,-1*((R74-V74)/SQRT(((S74^2*(T74-1))+(W74^2*(X74-1)))/(T74+X74-2))),(R74-V74)/SQRT(((S74^2*(T74-1))+(W74^2*(X74-1)))/(T74+X74-2)))","v":{"$error":"#DIV/0!"}},"","",null,null,null,null,null,null,null,null,{"$f":"IF(Sheet2!$A$89=TRUE,-1*((AC74-AG74)/SQRT(((AD74^2*(AE74-1))+(AH74^2*(AI74-1)))/(AE74+AI74-2))),(AC74-AG74)/SQRT(((AD74^2*(AE74-1))+(AH74^2*(AI74-1)))/(AE74+AI74-2)))","v":{"$error":"#DIV/0!"}},"","",null,null,null,null,null,null,null,null,{"$f":"IF(Sheet2!$A$89=TRUE,-1*((AN74-AR74)/SQRT(((AO74^2*(AP74-1))+(AS74^2*(AT74-1)))/(AP74+AT74-2))),(AN74-AR74)/SQRT(((AO74^2*(AP74-1))+(AS74^2*(AT74-1)))/(AP74+AT74-2)))","v":{"$error":"#DIV/0!"}},"","",null,null,null,null,null,null,null,null,{"$f":"IF(Sheet2!$A$89=TRUE,-1*((AY74-BC74)/SQRT(((AZ74^2*(BA74-1))+(BD74^2*(BE74-1)))/(BA74+BE74-2))),(AY74-BC74)/SQRT(((AZ74^2*(BA74-1))+(BD74^2*(BE74-1)))/(BA74+BE74-2)))","v":{"$error":"#DIV/0!"}},"","",null,null,null,null,null,null,null,null,{"$f":"IF(Sheet2!$A$89=TRUE,-1*((BJ74-BN74)/SQRT(((BK74^2*(BL74-1))+(BO74^2*(BP74-1)))/(BL74+BP74-2))),(BJ74-BN74)/SQRT(((BK74^2*(BL74-1))+(BO74^2*(BP74-1)))/(BL74+BP74-2)))","v":{"$error":"#DIV/0!"}},"",""]
[null,null,"Visuospatial Skills d",null,null,null,null,null,null,null,null,null,null,null,{"$f":"IF(O70=\"\",\"\",AVERAGE(O70:O74))","v":""},{"$f":"IF(P70=\"\",\"\",AVERAGE(P70:P74))","v":""},null,null,null,null,null,null,null,null,null,{"$f":"IF(Z70=\"\",\"\",AVERAGE(Z70:Z74))","v":""},{"$f":"IF(AA70=\"\",\"\",AVERAGE(AA70:AA74))","v":""},null,null,null,null,null,null,null,null,null,{"$f":"IF(AK70=\"\",\"\",AVERAGE(AK70:AK74))","v":""},{"$f":"IF(AL70=\"\",\"\",AVERAGE(AL70:AL74))","v":""},null,null,null,null,null,null,null,null,null,{"$f":"IF(AV70=\"\",\"\",AVERAGE(AV70:AV74))","v":""},{"$f":"IF(AW70=\"\",\"\",AVERAGE(AW70:AW74))","v":""},null,null,null,null,null,null,null,null,null,{"$f":"IF(BG70=\"\",\"\",AVERAGE(BG70:BG74))","v":""},{"$f":"IF(BH70=\"\",\"\",AVERAGE(BH70:BH74))","v":""},null,null,null,null,null,null,null,null,null,{"$f":"IF(BR70=\"\",\"\",AVERAGE(BR70:BR74))","v":""},{"$f":"IF(BS70=\"\",\"\",AVERAGE(BS70:BS74))","v":""}]
[]
[null,null,"Fine Motor Mvmt","Test Name"]
[null,null,"Outcome 1:",null,null,null,null,null,null,null,null,null,null,{"$f":"IF(Sheet2!$A$93=TRUE,-1*((G78-K78)/SQRT(((H78^2*(I78-1))+(L78^2*(M78-1)))/(I78+M78-2))),(G78-K78)/SQRT(((H78^2*(I78-1))+(L78^2*(M78-1)))/(I78+M78-2)))","v":{"$error":"#DIV/0!"}},{"$f":"IF(G78=\"\",\"\",N78)","v":""},{"$f":"IF(I78=\"\",\"\",SQRT((I78+M78)/(I78*M78)+(O78^2/(2*(I78+M78)))))","v":""},null,null,null,null,null,null,null,null,{"$f":"IF(Sheet2!$A$93=TRUE,-1*((R78-V78)/SQRT(((S78^2*(T78-1))+(W78^2*(X78-1)))/(T78+X78-2))),(R78-V78)/SQRT(((S78^2*(T78-1))+(W78^2*(X78-1)))/(T78+X78-2)))","v":{"$error":"#DIV/0!"}},{"$f":"IF(R78=\"\",\"\",Y78)","v":""},{"$f":"IF(T78=\"\",\"\",SQRT((T78+X78)/(T78*X78)+(Z78^2/(2*(T78+X78)))))","v":""},null,null,null,null,null,null,null,null,{"$f":"IF(Sheet2!$A$93=TRUE,-1*((AC78-AG78)/SQRT(((AD78^2*(AE78-1))+(AH78^2*(AI78-1)))/(AE78+AI78-2))),(AC78-AG78)/SQRT(((AD78^2*(AE78-1))+(AH78^2*(AI78-1)))/(AE78+AI78-2)))","v":{"$error":"#DIV/0!"}},{"$f":"IF(AC78=\"\",\"\",AJ78)","v":""},{"$f":"IF(AE78=\"\",\"\",SQRT((AE78+AI78)/(AE78*AI78)+(AK78^2/(2*(AE78+AI78)))))","v":""},null,null,null,null,null,null,null,null,{"$f":"IF(Sheet2!$A$93=TRUE,-1*((AN78-AR78)/SQRT(((AO78^2*(AP78-1))+(AS78^2*(AT78-1)))/(AP78+AT78-2))),(AN78-AR78)/SQRT(((AO78^2*(AP78-1))+(AS78^2*(AT78-1)))/(AP78+AT78-2)))","v":{"$error":"#DIV/0!"}},{"$f":"IF(AN78=\"\",\"\",AU78)","v":""},{"$f":"IF(AP78=\"\",\"\",SQRT((AP78+AT78)/(AP78*AT78)+(AV78^2/(2*(AP78+AT78)))))","v":""},null,null,null,null,null,null,null,null,{"$f":"IF(Sheet2!$A$93=TRUE,-1*((AY78-BC78)/SQRT(((AZ78^2*(BA78-1))+(BD78^2*(BE78-1)))/(BA78+BE78-2))),(AY78-BC78)/SQRT(((AZ78^2*(BA78-1))+(BD78^2*(BE78-1)))/(BA78+BE78-2)))","v":{"$error":"#DIV/0!"}},{"$f":"IF(AY78=\"\",\"\",BF78)","v":""},{"$f":"IF(BA78=\"\",\"\",SQRT((BA78+BE78)/(BA78*BE78)+(BG78^2/(2*(BA78+BE78)))))","v":""},null,null,null,null,null,null,null,null,{"$f":"IF(Sheet2!$A$93=TRUE,-1*((BJ78-BN78)/SQRT(((BK78^2*(BL78-1))+(BO78^2*(BP78-1)))/(BL78+BP78-2))),(BJ78-BN78)/SQRT(((BK78^2*(BL78-1))+(BO78^2*(BP78-1)))/(BL78+BP78-2)))","v":{"$error":"#DIV/0!"}},{"$f":"IF(BJ78=\"\",\"\",BQ78)","v":""},{"$f":"IF(BL78=\"\",\"\",SQRT((BL78+BP78)/(BL78*BP78)+(BR78^2/(2*(BL78+BP78)))))","v":""}]
[null,null,"Outcome 2:",null,null,null,null,null,null,null,null,null,null,{"$f":"IF(Sheet2!$A$94=TRUE,-1*((G79-K79)/SQRT(((H79^2*(I79-1))+(L79^2*(M79-1)))/(I79+M79-2))),(G79-K79)/SQRT(((H79^2*(I79-1))+(L79^2*(M79-1)))/(I79+M79-2)))","v":{"$error":"#DIV/0!"}},"","",null,null,null,null,null,null,null,null,{"$f":"IF(Sheet2!$A$94=TRUE,-1*((R79-V79)/SQRT(((S79^2*(T79-1))+(W79^2*(X79-1)))/(T79+X79-2))),(R79-V79)/SQRT(((S79^2*(T79-1))+(W79^2*(X79-1)))/(T79+X79-2)))","v":{"$error":"#DIV/0!"}},"","",null,null,null,null,null,null,null,null,{"$f":"IF(Sheet2!$A$94=TRUE,-1*((AC79-AG79)/SQRT(((AD79^2*(AE79-1))+(AH79^2*(AI79-1)))/(AE79+AI79-2))),(AC79-AG79)/SQRT(((AD79^2*(AE79-1))+(AH79^2*(AI79-1)))/(AE79+AI79-2)))","v":{"$error":"#DIV/0!"}},"","",null,null,null,null,null,null,null,null,{"$f":"IF(Sheet2!$A$94=TRUE,-1*((AN79-AR79)/SQRT(((AO79^2*(AP79-1))+(AS79^2*(AT79-1)))/(AP79+AT79-2))),(AN79-AR79)/SQRT(((AO79^2*(AP79-1))+(AS79^2*(AT79-1)))/(AP79+AT79-2)))","v":{"$error":"#DIV/0!"}},"","",null,null,null,null,null,null,null,null,{"$f":"IF(Sheet2!$A$94=TRUE,-1*((AY79-BC79)/SQRT(((AZ79^2*(BA79-1))+(BD79^2*(BE79-1)))/(BA79+BE79-2))),(AY79-BC79)/SQRT(((AZ79^2*(BA79-1))+(BD79^2*(BE79-1)))/(BA79+BE79-2)))","v":{"$error":"#DIV/0!"}},"","",null,null,null,null,null,null,null,null,{"$f":"IF(Sheet2!$A$94=TRUE,-1*((BJ79-BN79)/SQRT(((BK79^2*(BL79-1))+(BO79^2*(BP79-1)))/(BL79+BP79-2))),(BJ79-BN79)/SQRT(((BK79^2*(BL79-1))+(BO79^2*(BP79-1)))/(BL79+BP79-2)))","v":{"$error":"#DIV/0!"}},"",""]
[null,null,"Outcome 3:",null,null,null,null,null,null,null,null,null,null,{"$f":"IF(Sheet2!$A$95=TRUE,-1*((G80-K80)/SQRT(((H80^2*(I80-1))+(L80^2*(M80-1)))/(I80+M80-2))),(G80-K80)/SQRT(((H80^2*(I80-1))+(L80^2*(M80-1)))/(I80+M80-2)))","v":{"$error":"#DIV/0!"}},"","",null,null,null,null,null,null,null,null,{"$f":"IF(Sheet2!$A$95=TRUE,-1*((R80-V80)/SQRT(((S80^2*(T80-1))+(W80^2*(X80-1)))/(T80+X80-2))),(R80-V80)/SQRT(((S80^2*(T80-1))+(W80^2*(X80-1)))/(T80+X80-2)))","v":{"$error":"#DIV/0!"}},"","",null,null,null,null,null,null,null,null,{"$f":"IF(Sheet2!$A$95=TRUE,-1*((AC80-AG80)/SQRT(((AD80^2*(AE80-1))+(AH80^2*(AI80-1)))/(AE80+AI80-2))),(AC80-AG80)/SQRT(((AD80^2*(AE80-1))+(AH80^2*(AI80-1)))/(AE80+AI80-2)))","v":{"$error":"#DIV/0!"}},"","",null,null,null,null,null,null,null,null,{"$f":"IF(Sheet2!$A$95=TRUE,-1*((AN80-AR80)/SQRT(((AO80^2*(AP80-1))+(AS80^2*(AT80-1)))/(AP80+AT80-2))),(AN80-AR80)/SQRT(((AO80^2*(AP80-1))+(AS80^2*(AT80-1)))/(AP80+AT80-2)))","v":{"$error":"#DIV/0!"}},"","",null,null,null,null,null,null,null,null,{"$f":"IF(Sheet2!$A$95=TRUE,-1*((AY80-BC80)/SQRT(((AZ80^2*(BA80-1))+(BD80^2*(BE80-1)))/(BA80+BE80-2))),(AY80-BC80)/SQRT(((AZ80^2*(BA80-1))+(BD80^2*(BE80-1)))/(BA80+BE80-2)))","v":{"$error":"#DIV/0!"}},"","",null,null,null,null,null,null,null,null,{"$f":"IF(Sheet2!$A$95=TRUE,-1*((BJ80-BN80)/SQRT(((BK80^2*(BL80-1))+(BO80^2*(BP80-1)))/(BL80+BP80-2))),(BJ80-BN80)/SQRT(((BK80^2*(BL80-1))+(BO80^2*(BP80-1)))/(BL80+BP80-2)))","v":{"$error":"#DIV/0!"}},"",""]
[null,null,"Outcome 4:",null,null,null,null,null,null,null,null,null,null,{"$f":"IF(Sheet2!$A$96=TRUE,-1*((G81-K81)/SQRT(((H81^2*(I81-1))+(L81^2*(M81-1)))/(I81+M81-2))),(G81-K81)/SQRT(((H81^2*(I81-1))+(L81^2*(M81-1)))/(I81+M81-2)))","v":{"$error":"#DIV/0!"}},"","",null,null,null,null,null,null,null,null,{"$f":"IF(Sheet2!$A$96=TRUE,-1*((R81-V81)/SQRT(((S81^2*(T81-1))+(W81^2*(X81-1)))/(T81+X81-2))),(R81-V81)/SQRT(((S81^2*(T81-1))+(W81^2*(X81-1)))/(T81+X81-2)))","v":{"$error":"#DIV/0!"}},"","",null,null,null,null,null,null,null,null,{"$f":"IF(Sheet2!$A$96=TRUE,-1*((AC81-AG81)/SQRT(((AD81^2*(AE81-1))+(AH81^2*(AI81-1)))/(AE81+AI81-2))),(AC81-AG81)/SQRT(((AD81^2*(AE81-1))+(AH81^2*(AI81-1)))/(AE81+AI81-2)))","v":{"$error":"#DIV/0!"}},"","",null,null,null,null,null,null,null,null,{"$f":"IF(Sheet2!$A$96=TRUE,-1*((AN81-AR81)/SQRT(((AO81^2*(AP81-1))+(AS81^2*(AT81-1)))/(AP81+AT81-2))),(AN81-AR81)/SQRT(((AO81^2*(AP81-1))+(AS81^2*(AT81-1)))/(AP81+AT81-2)))","v":{"$error":"#DIV/0!"}},"","",null,null,null,null,null,null,null,null,{"$f":"IF(Sheet2!$A$96=TRUE,-1*((AY81-BC81)/SQRT(((AZ81^2*(BA81-1))+(BD81^2*(BE81-1)))/(BA81+BE81-2))),(AY81-BC81)/SQRT(((AZ81^2*(BA81-1))+(BD81^2*(BE81-1)))/(BA81+BE81-2)))","v":{"$error":"#DIV/0!"}},"","",null,null,null,null,null,null,null,null,{"$f":"IF(Sheet2!$A$96=TRUE,-1*((BJ81-BN81)/SQRT(((BK81^2*(BL81-1))+(BO81^2*(BP81-1)))/(BL81+BP81-2))),(BJ81-BN81)/SQRT(((BK81^2*(BL81-1))+(BO81^2*(BP81-1)))/(BL81+BP81-2)))","v":{"$error":"#DIV/0!"}},"",""]
[null,null,"Outcome 5:",null,null,null,null,null,null,null,null,null,null,{"$f":"IF(Sheet2!$A$97=TRUE,-1*((G82-K82)/SQRT(((H82^2*(I82-1))+(L82^2*(M82-1)))/(I82+M82-2))),(G82-K82)/SQRT(((H82^2*(I82-1))+(L82^2*(M82-1)))/(I82+M82-2)))","v":{"$error":"#DIV/0!"}},"","",null,null,null,null,null,null,null,null,{"$f":"IF(Sheet2!$A$97=TRUE,-1*((R82-V82)/SQRT(((S82^2*(T82-1))+(W82^2*(X82-1)))/(T82+X82-2))),(R82-V82)/SQRT(((S82^2*(T82-1))+(W82^2*(X82-1)))/(T82+X82-2)))","v":{"$error":"#DIV/0!"}},"","",null,null,null,null,null,null,null,null,{"$f":"IF(Sheet2!$A$97=TRUE,-1*((AC82-AG82)/SQRT(((AD82^2*(AE82-1))+(AH82^2*(AI82-1)))/(AE82+AI82-2))),(AC82-AG82)/SQRT(((AD82^2*(AE82-1))+(AH82^2*(AI82-1)))/(AE82+AI82-2)))","v":{"$error":"#DIV/0!"}},"","",null,null,null,null,null,null,null,null,{"$f":"IF(Sheet2!$A$97=TRUE,-1*((AN82-AR82)/SQRT(((AO82^2*(AP82-1))+(AS82^2*(AT82-1)))/(AP82+AT82-2))),(AN82-AR82)/SQRT(((AO82^2*(AP82-1))+(AS82^2*(AT82-1)))/(AP82+AT82-2)))","v":{"$error":"#DIV/0!"}},"","",null,null,null,null,null,null,null,null,{"$f":"IF(Sheet2!$A$97=TRUE,-1*((AY82-BC82)/SQRT(((AZ82^2*(BA82-1))+(BD82^2*(BE82-1)))/(BA82+BE82-2))),(AY82-BC82)/SQRT(((AZ82^2*(BA82-1))+(BD82^2*(BE82-1)))/(BA82+BE82-2)))","v":{"$error":"#DIV/0!"}},"","",null,null,null,null,null,null,null,null,{"$f":"IF(Sheet2!$A$97=TRUE,-1*((BJ82-BN82)/SQRT(((BK82^2*(BL82-1))+(BO82^2*(BP82-1)))/(BL82+BP82-2))),(BJ82-BN82)/SQRT(((BK82^2*(BL82-1))+(BO82^2*(BP82-1)))/(BL82+BP82-2)))","v":{"$error":"#DIV/0!"}},"",""]
[null,null,"Fine Motor Mvmt d",null,null,null,null,null,null,null,null,null,null,null,{"$f":"IF(O78=\"\",\"\",AVERAGE(O78:O82))","v":""},{"$f":"IF(P78=\"\",\"\",AVERAGE(P78:P82))","v":""},null,null,null,null,null,null,null,null,null,{"$f":"IF(Z78=\"\",\"\",AVERAGE(Z78:Z82))","v":""},{"$f":"IF(AA78=\"\",\"\",AVERAGE(AA78:AA82))","v":""},null,null,null,null,null,null,null,null,null,{"$f":"IF(AK78=\"\",\"\",AVERAGE(AK78:AK82))","v":""},{"$f":"IF(AL78=\"\",\"\",AVERAGE(AL78:AL82))","v":""},null,null,null,null,null,null,null,null,null,{"$f":"IF(AV78=\"\",\"\",AVERAGE(AV78:AV82))","v":""},{"$f":"IF(AW78=\"\",\"\",AVERAGE(AW78:AW82))","v":""},null,null,null,null,null,null,null,null,null,{"$f":"IF(BG78=\"\",\"\",AVERAGE(BG78:BG82))","v":""},{"$f":"IF(BH78=\"\",\"\",AVERAGE(BH78:BH82))","v":""},null,null,null,null,null,null,null,null,null,{"$f":"IF(BR78=\"\",\"\",AVERAGE(BR78:BR82))","v":""},{"$f":"IF(BS78=\"\",\"\",AVERAGE(BS78:BS82))","v":""}]
[]
[null,null,"Overall d",null,null,null,null,null,null,null,null,null,null,null,{"$f":"AVERAGE(O6:O10,O14:O18,O22:O26,O30:O34,O38:O42,O46:O50,O54:O58,O62:O66,O70:O74,O78:O82)","v":{"$error":"#DIV/0!"}},{"$f":"AVERAGE(P6:P10,P14:P18,P22:P26,P30:P34,P38:P42,P46:P50,P54:P58,P62:P66,P70:P74,P78:P82)","v":{"$error":"#DIV/0!"}},null,null,null,null,null,null,null,null,null,{"$f":"AVERAGE(Z6:Z10,Z14:Z18,Z22:Z26,Z30:Z34,Z38:Z42,Z46:Z50,Z54:Z58,Z62:Z66,Z70:Z74,Z78:Z82)","v":{"$error":"#DIV/0!"}},{"$f":"AVERAGE(AA6:AA10,AA14:AA18,AA22:AA26,AA30:AA34,AA38:AA42,AA46:AA50,AA54:AA58,AA62:AA66,AA70:AA74,AA78:AA82)","v":{"$error":"#DIV/0!"}},null,null,null,null,null,null,null,null,null,{"$f":"AVERAGE(AK6:AK10,AK14:AK18,AK22:AK26,AK30:AK34,AK38:AK42,AK46:AK50,AK54:AK58,AK62:AK66,AK70:AK74,AK78:AK82)","v":{"$error":"#DIV/0!"}},{"$f":"AVERAGE(AL6:AL10,AL14:AL18,AL22:AL26,AL30:AL34,AL38:AL42,AL46:AL50,AL54:AL58,AL62:AL66,AL70:AL74,AL78:AL82)","v":{"$error":"#DIV/0!"}},null,null,null,null,null,null,null,null,null,{"$f":"AVERAGE(AV6:AV10,AV14:AV18,AV22:AV26,AV30:AV34,AV38:AV42,AV46:AV50,AV54:AV58,AV62:AV66,AV70:AV74,AV78:AV82)","v":{"$error":"#DIV/0!"}},{"$f":"AVERAGE(AW6:AW10,AW14:AW18,AW22:AW26,AW30:AW34,AW38:AW42,AW46:AW50,AW54:AW58,AW62:AW66,AW70:AW74,AW78:AW82)","v":{"$error":"#DIV/0!"}},null,null,null,null,null,null,null,null,null,{"$f":"AVERAGE(BG6:BG10,BG14:BG18,BG22:BG26,BG30:BG34,BG38:BG42,BG46:BG50,BG54:BG58,BG62:BG66,BG70:BG74,BG78:BG82)","v":{"$error":"#DIV/0!"}},{"$f":"AVERAGE(BH6:BH10,BH14:BH18,BH22:BH26,BH30:BH34,BH38:BH42,BH46:BH50,BH54:BH58,BH62:BH66,BH70:BH74,BH78:BH82)","v":{"$error":"#DIV/0!"}},null,null,null,null,null,null,null,null,null,{"$f":"AVERAGE(BR6:BR10,BR14:BR18,BR22:BR26,BR30:BR34,BR38:BR42,BR46:BR50,BR54:BR58,BR62:BR66,BR70:BR74,BR78:BR82)","v":{"$error":"#DIV/0!"}},{"$f":"AVERAGE(BS6:BS10,BS14:BS18,BS22:BS26,BS30:BS34,BS38:BS42,BS46:BS50,BS54:BS58,BS62:BS66,BS70:BS74,BS78:BS82)","v":{"$error":"#DIV/0!"}}]
[]
[null,null,null,null,null,null,"Mood/Emottional Functioning ",null,null,null,null,null,null,null,null,null,null,"Mood/Emottional Functioning ",null,null,null,null,null,null,null,null,null,null,"Mood/Emottional Functioning ",null,null,null,null,null,null,null,null,null,null,"Mood/Emottional Functioning ",null,null,null,null,null,null,null,null,null,null,"Mood/Emottional Functioning ",null,null,null,null,null,null,null,null,null,null,"Mood/Emottional Functioning "]
[]
[null,null,"Depression","Measure Name"]
[null,null,"Outcome 1:",null,null,null,null,null,null,null,null,null,null,{"$f":"IF(Sheet2!$A$105=TRUE,-1*((G90-K90)/SQRT(((H90^2*(I90-1))+(L90^2*(M90-1)))/(I90+M90-2))),(G90-K90)/SQRT(((H90^2*(I90-1))+(L90^2*(M90-1)))/(I90+M90-2)))","v":{"$error":"#DIV/0!"}},{"$f":"IF(G90=\"\",\"\",N90)","v":""},{"$f":"IF(I90=\"\",\"\",SQRT((I90+M90)/(I90*M90)+(O90^2/(2*(I90+M90)))))","v":""},null,null,null,null,null,null,null,null,{"$f":"IF(Sheet2!$A$105=TRUE,-1*((R90-V90)/SQRT(((S90^2*(T90-1))+(W90^2*(X90-1)))/(T90+X90-2))),(R90-V90)/SQRT(((S90^2*(T90-1))+(W90^2*(X90-1)))/(T90+X90-2)))","v":{"$error":"#DIV/0!"}},{"$f":"IF(R90=\"\",\"\",Y90)","v":""},{"$f":"IF(T90=\"\",\"\",SQRT((T90+X90)/(T90*X90)+(Z90^2/(2*(T90+X90)))))","v":""},null,null,null,null,null,null,null,null,{"$f":"IF(Sheet2!$A$105=TRUE,-1*((AC90-AG90)/SQRT(((AD90^2*(AE90-1))+(AH90^2*(AI90-1)))/(AE90+AI90-2))),(AC90-AG90)/SQRT(((AD90^2*(AE90-1))+(AH90^2*(AI90-1)))/(AE90+AI90-2)))","v":{"$error":"#DIV/0!"}},{"$f":"IF(AC90=\"\",\"\",AJ90)","v":""},{"$f":"IF(AE90=\"\",\"\",SQRT((AE90+AI90)/(AE90*AI90)+(AK90^2/(2*(AE90+AI90)))))","v":""},null,null,null,null,null,null,null,null,{"$f":"IF(Sheet2!$A$105=TRUE,-1*((AN90-AR90)/SQRT(((AO90^2*(AP90-1))+(AS90^2*(AT90-1)))/(AP90+AT90-2))),(AN90-AR90)/SQRT(((AO90^2*(AP90-1))+(AS90^2*(AT90-1)))/(AP90+AT90-2)))","v":{"$error":"#DIV/0!"}},{"$f":"IF(AN90=\"\",\"\",AU90)","v":""},{"$f":"IF(AP90=\"\",\"\",SQRT((AP90+AT90)/(AP90*AT90)+(AV90^2/(2*(AP90+AT90)))))","v":""},null,null,null,null,null,null,null,null,{"$f":"IF(Sheet2!$A$105=TRUE,-1*((AY90-BC90)/SQRT(((AZ90^2*(BA90-1))+(BD90^2*(BE90-1)))/(BA90+BE90-2))),(AY90-BC90)/SQRT(((AZ90^2*(BA90-1))+(BD90^2*(BE90-1)))/(BA90+BE90-2)))","v":{"$error":"#DIV/0!"}},{"$f":"IF(AY90=\"\",\"\",BF90)","v":""},{"$f":"IF(BA90=\"\",\"\",SQRT((BA90+BE90)/(BA90*BE90)+(BG90^2/(2*(BA90+BE90)))))","v":""},null,null,null,null,null,null,null,null,{"$f":"IF(Sheet2!$A$105=TRUE,-1*((BJ90-BN90)/SQRT(((BK90^2*(BL90-1))+(BO90^2*(BP90-1)))/(BL90+BP90-2))),(BJ90-BN90)/SQRT(((BK90^2*(BL90-1))+(BO90^2*(BP90-1)))/(BL90+BP90-2)))","v":{"$error":"#DIV/0!"}},{"$f":"IF(BJ90=\"\",\"\",BQ90)","v":""},{"$f":"IF(BL90=\"\",\"\",SQRT((BL90+BP90)/(BL90*BP90)+(BR90^2/(2*(BL90+BP90)))))","v":""}]
[null,null,"Outcome 2:",null,null,null,null,null,null,null,null,null,null,{"$f":"IF(Sheet2!$A$106=TRUE,-1*((G91-K91)/SQRT(((H91^2*(I91-1))+(L91^2*(M91-1)))/(I91+M91-2))),(G91-K91)/SQRT(((H91^2*(I91-1))+(L91^2*(M91-1)))/(I91+M91-2)))","v":{"$error":"#DIV/0!"}},{"$f":"IF(G91=\"\",\"\",N91)","v":""},"",null,null,null,null,null,null,null,null,{"$f":"IF(Sheet2!$A$106=TRUE,-1*((R91-V91)/SQRT(((S91^2*(T91-1))+(W91^2*(X91-1)))/(T91+X91-2))),(R91-V91)/SQRT(((S91^2*(T91-1))+(W91^2*(X91-1)))/(T91+X91-2)))","v":{"$error":"#DIV/0!"}},{"$f":"IF(R91=\"\",\"\",Y91)","v":""},"",null,null,null,null,null,null,null,null,{"$f":"IF(Sheet2!$A$106=TRUE,-1*((AC91-AG91)/SQRT(((AD91^2*(AE91-1))+(AH91^2*(AI91-1)))/(AE91+AI91-2))),(AC91-AG91)/SQRT(((AD91^2*(AE91-1))+(AH91^2*(AI91-1)))/(AE91+AI91-2)))","v":{"$error":"#DIV/0!"}},{"$f":"IF(AC91=\"\",\"\",AJ91)","v":""},"",null,null,null,null,null,null,null,null,{"$f":"IF(Sheet2!$A$106=TRUE,-1*((AN91-AR91)/SQRT(((AO91^2*(AP91-1))+(AS91^2*(AT91-1)))/(AP91+AT91-2))),(AN91-AR91)/SQRT(((AO91^2*(AP91-1))+(AS91^2*(AT91-1)))/(AP91+AT91-2)))","v":{"$error":"#DIV/0!"}},{"$f":"IF(AN91=\"\",\"\",AU91)","v":""},"",null,null,null,null,null,null,null,null,{"$f":"IF(Sheet2!$A$106=TRUE,-1*((AY91-BC91)/SQRT(((AZ91^2*(BA91-1))+(BD91^2*(BE91-1)))/(BA91+BE91-2))),(AY91-BC91)/SQRT(((AZ91^2*(BA91-1))+(BD91^2*(BE91-1)))/(BA91+BE91-2)))","v":{"$error":"#DIV/0!"}},{"$f":"IF(AY91=\"\",\"\",BF91)","v":""},"",null,null,null,null,null,null,null,null,{"$f":"IF(Sheet2!$A$106=TRUE,-1*((BJ91-BN91)/SQRT(((BK91^2*(BL91-1))+(BO91^2*(BP91-1)))/(BL91+BP91-2))),(BJ91-BN91)/SQRT(((BK91^2*(BL91-1))+(BO91^2*(BP91-1)))/(BL91+BP91-2)))","v":{"$error":"#DIV/0!"}},{"$f":"IF(BJ91=\"\",\"\",BQ91)","v":""},""]
[null,null,"Outcome 3:",null,null,null,null,null,null,null,null,null,null,{"$f":"IF(Sheet2!$A$107=TRUE,-1*((G92-K92)/SQRT(((H92^2*(I92-1))+(L92^2*(M92-1)))/(I92+M92-2))),(G92-K92)/SQRT(((H92^2*(I92-1))+(L92^2*(M92-1)))/(I92+M92-2)))","v":{"$error":"#DIV/0!"}},"","",null,null,null,null,null,null,null,null,{"$f":"IF(Sheet2!$A$107=TRUE,-1*((R92-V92)/SQRT(((S92^2*(T92-1))+(W92^2*(X92-1)))/(T92+X92-2))),(R92-V92)/SQRT(((S92^2*(T92-1))+(W92^2*(X92-1)))/(T92+X92-2)))","v":{"$error":"#DIV/0!"}},"","",null,null,null,null,null,null,null,null,{"$f":"IF(Sheet2!$A$107=TRUE,-1*((AC92-AG92)/SQRT(((AD92^2*(AE92-1))+(AH92^2*(AI92-1)))/(AE92+AI92-2))),(AC92-AG92)/SQRT(((AD92^2*(AE92-1))+(AH92^2*(AI92-1)))/(AE92+AI92-2)))","v":{"$error":"#DIV/0!"}},"","",null,null,null,null,null,null,null,null,{"$f":"IF(Sheet2!$A$107=TRUE,-1*((AN92-AR92)/SQRT(((AO92^2*(AP92-1))+(AS92^2*(AT92-1)))/(AP92+AT92-2))),(AN92-AR92)/SQRT(((AO92^2*(AP92-1))+(AS92^2*(AT92-1)))/(AP92+AT92-2)))","v":{"$error":"#DIV/0!"}},"","",null,null,null,null,null,null,null,null,{"$f":"IF(Sheet2!$A$107=TRUE,-1*((AY92-BC92)/SQRT(((AZ92^2*(BA92-1))+(BD92^2*(BE92-1)))/(BA92+BE92-2))),(AY92-BC92)/SQRT(((AZ92^2*(BA92-1))+(BD92^2*(BE92-1)))/(BA92+BE92-2)))","v":{"$error":"#DIV/0!"}},"","",null,null,null,null,null,null,null,null,{"$f":"IF(Sheet2!$A$107=TRUE,-1*((BJ92-BN92)/SQRT(((BK92^2*(BL92-1))+(BO92^2*(BP92-1)))/(BL92+BP92-2))),(BJ92-BN92)/SQRT(((BK92^2*(BL92-1))+(BO92^2*(BP92-1)))/(BL92+BP92-2)))","v":{"$error":"#DIV/0!"}},"",""]
[null,null,"Outcome 4:",null,null,null,null,null,null,null,null,null,null,{"$f":"IF(Sheet2!$A$108=TRUE,-1*((G93-K93)/SQRT(((H93^2*(I93-1))+(L93^2*(M93-1)))/(I93+M93-2))),(G93-K93)/SQRT(((H93^2*(I93-1))+(L93^2*(M93-1)))/(I93+M93-2)))","v":{"$error":"#DIV/0!"}},"","",null,null,null,null,null,null,null,null,{"$f":"IF(Sheet2!$A$108=TRUE,-1*((R93-V93)/SQRT(((S93^2*(T93-1))+(W93^2*(X93-1)))/(T93+X93-2))),(R93-V93)/SQRT(((S93^2*(T93-1))+(W93^2*(X93-1)))/(T93+X93-2)))","v":{"$error":"#DIV/0!"}},"","",null,null,null,null,null,null,null,null,{"$f":"IF(Sheet2!$A$108=TRUE,-1*((AC93-AG93)/SQRT(((AD93^2*(AE93-1))+(AH93^2*(AI93-1)))/(AE93+AI93-2))),(AC93-AG93)/SQRT(((AD93^2*(AE93-1))+(AH93^2*(AI93-1)))/(AE93+AI93-2)))","v":{"$error":"#DIV/0!"}},"","",null,null,null,null,null,null,null,null,{"$f":"IF(Sheet2!$A$108=TRUE,-1*((AN93-AR93)/SQRT(((AO93^2*(AP93-1))+(AS93^2*(AT93-1)))/(AP93+AT93-2))),(AN93-AR93)/SQRT(((AO93^2*(AP93-1))+(AS93^2*(AT93-1)))/(AP93+AT93-2)))","v":{"$error":"#DIV/0!"}},"","",null,null,null,null,null,null,null,null,{"$f":"IF(Sheet2!$A$108=TRUE,-1*((AY93-BC93)/SQRT(((AZ93^2*(BA93-1))+(BD93^2*(BE93-1)))/(BA93+BE93-2))),(AY93-BC93)/SQRT(((AZ93^2*(BA93-1))+(BD93^2*(BE93-1)))/(BA93+BE93-2)))","v":{"$error":"#DIV/0!"}},"","",null,null,null,null,null,null,null,null,{"$f":"IF(Sheet2!$A$108=TRUE,-1*((BJ93-BN93)/SQRT(((BK93^2*(BL93-1))+(BO93^2*(BP93-1)))/(BL93+BP93-2))),(BJ93-BN93)/SQRT(((BK93^2*(BL93-1))+(BO93^2*(BP93-1)))/(BL93+BP93-2)))","v":{"$error":"#DIV/0!"}},"",""]
[null,null,"Outcome 5:",null,null,null,null,null,null,null,null,null,null,{"$f":"IF(Sheet2!$A$109=TRUE,-1*((G94-K94)/SQRT(((H94^2*(I94-1))+(L94^2*(M94-1)))/(I94+M94-2))),(G94-K94)/SQRT(((H94^2*(I94-1))+(L94^2*(M94-1)))/(I94+M94-2)))","v":{"$error":"#DIV/0!"}},"","",null,null,null,null,null,null,null,null,{"$f":"IF(Sheet2!$A$109=TRUE,-1*((R94-V94)/SQRT(((S94^2*(T94-1))+(W94^2*(X94-1)))/(T94+X94-2))),(R94-V94)/SQRT(((S94^2*(T94-1))+(W94^2*(X94-1)))/(T94+X94-2)))","v":{"$error":"#DIV/0!"}},"","",null,null,null,null,null,null,null,null,{"$f":"IF(Sheet2!$A$109=TRUE,-1*((AC94-AG94)/SQRT(((AD94^2*(AE94-1))+(AH94^2*(AI94-1)))/(AE94+AI94-2))),(AC94-AG94)/SQRT(((AD94^2*(AE94-1))+(AH94^2*(AI94-1)))/(AE94+AI94-2)))","v":{"$error":"#DIV/0!"}},"","",null,null,null,null,null,null,null,null,{"$f":"IF(Sheet2!$A$109=TRUE,-1*((AN94-AR94)/SQRT(((AO94^2*(AP94-1))+(AS94^2*(AT94-1)))/(AP94+AT94-2))),(AN94-AR94)/SQRT(((AO94^2*(AP94-1))+(AS94^2*(AT94-1)))/(AP94+AT94-2)))","v":{"$error":"#DIV/0!"}},"","",null,null,null,null,null,null,null,null,{"$f":"IF(Sheet2!$A$109=TRUE,-1*((AY94-BC94)/SQRT(((AZ94^2*(BA94-1))+(BD94^2*(BE94-1)))/(BA94+BE94-2))),(AY94-BC94)/SQRT(((AZ94^2*(BA94-1))+(BD94^2*(BE94-1)))/(BA94+BE94-2)))","v":{"$error":"#DIV/0!"}},"","",null,null,null,null,null,null,null,null,{"$f":"IF(Sheet2!$A$109=TRUE,-1*((BJ94-BN94)/SQRT(((BK94^2*(BL94-1))+(BO94^2*(BP94-1)))/(BL94+BP94-2))),(BJ94-BN94)/SQRT(((BK94^2*(BL94-1))+(BO94^2*(BP94-1)))/(BL94+BP94-2)))","v":{"$error":"#DIV/0!"}},"",""]
[null,null,"Despression d",null,null,null,null,null,null,null,null,null,null,null,{"$f":"IF(O90=\"\",\"\",AVERAGE(O90:O94))","v":""},{"$f":"IF(P90=\"\",\"\",AVERAGE(P90:P94))","v":""},null,null,null,null,null,null,null,null,null,{"$f":"IF(Z90=\"\",\"\",AVERAGE(Z90:Z94))","v":""},{"$f":"IF(AA90=\"\",\"\",AVERAGE(AA90:AA94))","v":""},null,null,null,null,null,null,null,null,null,{"$f":"IF(AK90=\"\",\"\",AVERAGE(AK90:AK94))","v":""},{"$f":"IF(AL90=\"\",\"\",AVERAGE(AL90:AL94))","v":""},null,null,null,null,null,null,null,null,null,{"$f":"IF(AV90=\"\",\"\",AVERAGE(AV90:AV94))","v":""},{"$f":"IF(AW90=\"\",\"\",AVERAGE(AW90:AW94))","v":""},null,null,null,null,null,null,null,null,null,{"$f":"IF(BG90=\"\",\"\",AVERAGE(BG90:BG94))","v":""},{"$f":"IF(BH90=\"\",\"\",AVERAGE(BH90:BH94))","v":""},null,null,null,null,null,null,null,null,null,{"$f":"IF(BR90=\"\",\"\",AVERAGE(BR90:BR94))","v":""},{"$f":"IF(BS90=\"\",\"\",AVERAGE(BS90:BS94))","v":""}]
[]
[null,null,"Anxiety","Measure Name"]
[null,null,"Outcome 1:",null,null,null,null,null,null,null,null,null,null,{"$f":"IF(Sheet2!$A$113=TRUE,-1*((G98-K98)/SQRT(((H98^2*(I98-1))+(L98^2*(M98-1)))/(I98+M98-2))),(G98-K98)/SQRT(((H98^2*(I98-1))+(L98^2*(M98-1)))/(I98+M98-2)))","v":{"$error":"#DIV/0!"}},{"$f":"IF(G98=\"\",\"\",N98)","v":""},{"$f":"IF(I98=\"\",\"\",SQRT((I98+M98)/(I98*M98)+(O98^2/(2*(I98+M98)))))","v":""},null,null,null,null,null,null,null,null,{"$f":"IF(Sheet2!$A$113=TRUE,-1*((R98-V98)/SQRT(((S98^2*(T98-1))+(W98^2*(X98-1)))/(T98+X98-2))),(R98-V98)/SQRT(((S98^2*(T98-1))+(W98^2*(X98-1)))/(T98+X98-2)))","v":{"$error":"#DIV/0!"}},{"$f":"IF(R98=\"\",\"\",Y98)","v":""},{"$f":"IF(T98=\"\",\"\",SQRT((T98+X98)/(T98*X98)+(Z98^2/(2*(T98+X98)))))","v":""},null,null,null,null,null,null,null,null,{"$f":"IF(Sheet2!$A$113=TRUE,-1*((AC98-AG98)/SQRT(((AD98^2*(AE98-1))+(AH98^2*(AI98-1)))/(AE98+AI98-2))),(AC98-AG98)/SQRT(((AD98^2*(AE98-1))+(AH98^2*(AI98-1)))/(AE98+AI98-2)))","v":{"$error":"#DIV/0!"}},{"$f":"IF(AC98=\"\",\"\",AJ98)","v":""},{"$f":"IF(AE98=\"\",\"\",SQRT((AE98+AI98)/(AE98*AI98)+(AK98^2/(2*(AE98+AI98)))))","v":""},null,null,null,null,null,null,null,null,{"$f":"IF(Sheet2!$A$113=TRUE,-1*((AN98-AR98)/SQRT(((AO98^2*(AP98-1))+(AS98^2*(AT98-1)))/(AP98+AT98-2))),(AN98-AR98)/SQRT(((AO98^2*(AP98-1))+(AS98^2*(AT98-1)))/(AP98+AT98-2)))","v":{"$error":"#DIV/0!"}},{"$f":"IF(AN98=\"\",\"\",AU98)","v":""},{"$f":"IF(AP98=\"\",\"\",SQRT((AP98+AT98)/(AP98*AT98)+(AV98^2/(2*(AP98+AT98)))))","v":""},null,null,null,null,null,null,null,null,{"$f":"IF(Sheet2!$A$113=TRUE,-1*((AY98-BC98)/SQRT(((AZ98^2*(BA98-1))+(BD98^2*(BE98-1)))/(BA98+BE98-2))),(AY98-BC98)/SQRT(((AZ98^2*(BA98-1))+(BD98^2*(BE98-1)))/(BA98+BE98-2)))","v":{"$error":"#DIV/0!"}},{"$f":"IF(AY98=\"\",\"\",BF98)","v":""},{"$f":"IF(BA98=\"\",\"\",SQRT((BA98+BE98)/(BA98*BE98)+(BG98^2/(2*(BA98+BE98)))))","v":""},null,null,null,null,null,null,null,null,{"$f":"IF(Sheet2!$A$113=TRUE,-1*((BJ98-BN98)/SQRT(((BK98^2*(BL98-1))+(BO98^2*(BP98-1)))/(BL98+BP98-2))),(BJ98-BN98)/SQRT(((BK98^2*(BL98-1))+(BO98^2*(BP98-1)))/(BL98+BP98-2)))","v":{"$error":"#DIV/0!"}},{"$f":"IF(BJ98=\"\",\"\",BQ98)","v":""},{"$f":"IF(BL98=\"\",\"\",SQRT((BL98+BP98)/(BL98*BP98)+(BR98^2/(2*(BL98+BP98)))))","v":""}]
[null,null,"Outcome 2:",null,null,null,null,null,null,null,null,null,null,{"$f":"IF(Sheet2!$A$114=TRUE,-1*((G99-K99)/SQRT(((H99^2*(I99-1))+(L99^2*(M99-1)))/(I99+M99-2))),(G99-K99)/SQRT(((H99^2*(I99-1))+(L99^2*(M99-1)))/(I99+M99-2)))","v":{"$error":"#DIV/0!"}},"","",null,null,null,null,null,null,null,null,{"$f":"IF(Sheet2!$A$114=TRUE,-1*((R99-V99)/SQRT(((S99^2*(T99-1))+(W99^2*(X99-1)))/(T99+X99-2))),(R99-V99)/SQRT(((S99^2*(T99-1))+(W99^2*(X99-1)))/(T99+X99-2)))","v":{"$error":"#DIV/0!"}},"","",null,null,null,null,null,null,null,null,{"$f":"IF(Sheet2!$A$114=TRUE,-1*((AC99-AG99)/SQRT(((AD99^2*(AE99-1))+(AH99^2*(AI99-1)))/(AE99+AI99-2))),(AC99-AG99)/SQRT(((AD99^2*(AE99-1))+(AH99^2*(AI99-1)))/(AE99+AI99-2)))","v":{"$error":"#DIV/0!"}},"","",null,null,null,null,null,null,null,null,{"$f":"IF(Sheet2!$A$114=TRUE,-1*((AN99-AR99)/SQRT(((AO99^2*(AP99-1))+(AS99^2*(AT99-1)))/(AP99+AT99-2))),(AN99-AR99)/SQRT(((AO99^2*(AP99-1))+(AS99^2*(AT99-1)))/(AP99+AT99-2)))","v":{"$error":"#DIV/0!"}},"","",null,null,null,null,null,null,null,null,{"$f":"IF(Sheet2!$A$114=TRUE,-1*((AY99-BC99)/SQRT(((AZ99^2*(BA99-1))+(BD99^2*(BE99-1)))/(BA99+BE99-2))),(AY99-BC99)/SQRT(((AZ99^2*(BA99-1))+(BD99^2*(BE99-1)))/(BA99+BE99-2)))","v":{"$error":"#DIV/0!"}},"","",null,null,null,null,null,null,null,null,{"$f":"IF(Sheet2!$A$114=TRUE,-1*((BJ99-BN99)/SQRT(((BK99^2*(BL99-1))+(BO99^2*(BP99-1)))/(BL99+BP99-2))),(BJ99-BN99)/SQRT(((BK99^2*(BL99-1))+(BO99^2*(BP99-1)))/(BL99+BP99-2)))","v":{"$error":"#DIV/0!"}},"",""]
[null,null,"Outcome 3:",null,null,null,null,null,null,null,null,null,null,{"$f":"IF(Sheet2!$A$115=TRUE,-1*((G100-K100)/SQRT(((H100^2*(I100-1))+(L100^2*(M100-1)))/(I100+M100-2))),(G100-K100)/SQRT(((H100^2*(I100-1))+(L100^2*(M100-1)))/(I100+M100-2)))","v":{"$error":"#DIV/0!"}},"","",null,null,null,null,null,null,null,null,{"$f":"IF(Sheet2!$A$115=TRUE,-1*((R100-V100)/SQRT(((S100^2*(T100-1))+(W100^2*(X100-1)))/(T100+X100-2))),(R100-V100)/SQRT(((S100^2*(T100-1))+(W100^2*(X100-1)))/(T100+X100-2)))","v":{"$error":"#DIV/0!"}},"","",null,null,null,null,null,null,null,null,{"$f":"IF(Sheet2!$A$115=TRUE,-1*((AC100-AG100)/SQRT(((AD100^2*(AE100-1))+(AH100^2*(AI100-1)))/(AE100+AI100-2))),(AC100-AG100)/SQRT(((AD100^2*(AE100-1))+(AH100^2*(AI100-1)))/(AE100+AI100-2)))","v":{"$error":"#DIV/0!"}},"","",null,null,null,null,null,null,null,null,{"$f":"IF(Sheet2!$A$115=TRUE,-1*((AN100-AR100)/SQRT(((AO100^2*(AP100-1))+(AS100^2*(AT100-1)))/(AP100+AT100-2))),(AN100-AR100)/SQRT(((AO100^2*(AP100-1))+(AS100^2*(AT100-1)))/(AP100+AT100-2)))","v":{"$error":"#DIV/0!"}},"","",null,null,null,null,null,null,null,null,{"$f":"IF(Sheet2!$A$115=TRUE,-1*((AY100-BC100)/SQRT(((AZ100^2*(BA100-1))+(BD100^2*(BE100-1)))/(BA100+BE100-2))),(AY100-BC100)/SQRT(((AZ100^2*(BA100-1))+(BD100^2*(BE100-1)))/(BA100+BE100-2)))","v":{"$error":"#DIV/0!"}},"","",null,null,null,null,null,null,null,null,{"$f":"IF(Sheet2!$A$115=TRUE,-1*((BJ100-BN100)/SQRT(((BK100^2*(BL100-1))+(BO100^2*(BP100-1)))/(BL100+BP100-2))),(BJ100-BN100)/SQRT(((BK100^2*(BL100-1))+(BO100^2*(BP100-1)))/(BL100+BP100-2)))","v":{"$error":"#DIV/0!"}},"",""]
[null,null,"Outcome 4:",null,null,null,null,null,null,null,null,null,null,{"$f":"IF(Sheet2!$A$116=TRUE,-1*((G101-K101)/SQRT(((H101^2*(I101-1))+(L101^2*(M101-1)))/(I101+M101-2))),(G101-K101)/SQRT(((H101^2*(I101-1))+(L101^2*(M101-1)))/(I101+M101-2)))","v":{"$error":"#DIV/0!"}},"","",null,null,null,null,null,null,null,null,{"$f":"IF(Sheet2!$A$116=TRUE,-1*((R101-V101)/SQRT(((S101^2*(T101-1))+(W101^2*(X101-1)))/(T101+X101-2))),(R101-V101)/SQRT(((S101^2*(T101-1))+(W101^2*(X101-1)))/(T101+X101-2)))","v":{"$error":"#DIV/0!"}},"","",null,null,null,null,null,null,null,null,{"$f":"IF(Sheet2!$A$116=TRUE,-1*((AC101-AG101)/SQRT(((AD101^2*(AE101-1))+(AH101^2*(AI101-1)))/(AE101+AI101-2))),(AC101-AG101)/SQRT(((AD101^2*(AE101-1))+(AH101^2*(AI101-1)))/(AE101+AI101-2)))","v":{"$error":"#DIV/0!"}},"","",null,null,null,null,null,null,null,null,{"$f":"IF(Sheet2!$A$116=TRUE,-1*((AN101-AR101)/SQRT(((AO101^2*(AP101-1))+(AS101^2*(AT101-1)))/(AP101+AT101-2))),(AN101-AR101)/SQRT(((AO101^2*(AP101-1))+(AS101^2*(AT101-1)))/(AP101+AT101-2)))","v":{"$error":"#DIV/0!"}},"","",null,null,null,null,null,null,null,null,{"$f":"IF(Sheet2!$A$116=TRUE,-1*((AY101-BC101)/SQRT(((AZ101^2*(BA101-1))+(BD101^2*(BE101-1)))/(BA101+BE101-2))),(AY101-BC101)/SQRT(((AZ101^2*(BA101-1))+(BD101^2*(BE101-1)))/(BA101+BE101-2)))","v":{"$error":"#DIV/0!"}},"","",null,null,null,null,null,null,null,null,{"$f":"IF(Sheet2!$A$116=TRUE,-1*((BJ101-BN101)/SQRT(((BK101^2*(BL101-1))+(BO101^2*(BP101-1)))/(BL101+BP101-2))),(BJ101-BN101)/SQRT(((BK101^2*(BL101-1))+(BO101^2*(BP101-1)))/(BL101+BP101-2)))","v":{"$error":"#DIV/0!"}},"",""]
[null,null,"Outcome 5:",null,null,null,null,null,null,null,null,null,null,{"$f":"IF(Sheet2!$A$117=TRUE,-1*((G102-K102)/SQRT(((H102^2*(I102-1))+(L102^2*(M102-1)))/(I102+M102-2))),(G102-K102)/SQRT(((H102^2*(I102-1))+(L102^2*(M102-1)))/(I102+M102-2)))","v":{"$error":"#DIV/0!"}},"","",null,null,null,null,null,null,null,null,{"$f":"IF(Sheet2!$A$117=TRUE,-1*((R102-V102)/SQRT(((S102^2*(T102-1))+(W102^2*(X102-1)))/(T102+X102-2))),(R102-V102)/SQRT(((S102^2*(T102-1))+(W102^2*(X102-1)))/(T102+X102-2)))","v":{"$error":"#DIV/0!"}},"","",null,null,null,null,null,null,null,null,{"$f":"IF(Sheet2!$A$117=TRUE,-1*((AC102-AG102)/SQRT(((AD102^2*(AE102-1))+(AH102^2*(AI102-1)))/(AE102+AI102-2))),(AC102-AG102)/SQRT(((AD102^2*(AE102-1))+(AH102^2*(AI102-1)))/(AE102+AI102-2)))","v":{"$error":"#DIV/0!"}},"","",null,null,null,null,null,null,null,null,{"$f":"IF(Sheet2!$A$117=TRUE,-1*((AN102-AR102)/SQRT(((AO102^2*(AP102-1))+(AS102^2*(AT102-1)))/(AP102+AT102-2))),(AN102-AR102)/SQRT(((AO102^2*(AP102-1))+(AS102^2*(AT102-1)))/(AP102+AT102-2)))","v":{"$error":"#DIV/0!"}},"","",null,null,null,null,null,null,null,null,{"$f":"IF(Sheet2!$A$117=TRUE,-1*((AY102-BC102)/SQRT(((AZ102^2*(BA102-1))+(BD102^2*(BE102-1)))/(BA102+BE102-2))),(AY102-BC102)/SQRT(((AZ102^2*(BA102-1))+(BD102^2*(BE102-1)))/(BA102+BE102-2)))","v":{"$error":"#DIV/0!"}},"","",null,null,null,null,null,null,null,null,{"$f":"IF(Sheet2!$A$117=TRUE,-1*((BJ102-BN102)/SQRT(((BK102^2*(BL102-1))+(BO102^2*(BP102-1)))/(BL102+BP102-2))),(BJ102-BN102)/SQRT(((BK102^2*(BL102-1))+(BO102^2*(BP102-1)))/(BL102+BP102-2)))","v":{"$error":"#DIV/0!"}},"",""]
[null,null,"Anxiety d",null,null,null,null,null,null,null,null,null,null,null,{"$f":"IF(O98=\"\",\"\",AVERAGE(O98:O102))","v":""},{"$f":"IF(P98=\"\",\"\",AVERAGE(P98:P102))","v":""},null,null,null,null,null,null,null,null,null,{"$f":"IF(Z98=\"\",\"\",AVERAGE(Z98:Z102))","v":""},{"$f":"IF(AA98=\"\",\"\",AVERAGE(AA98:AA102))","v":""},null,null,null,null,null,null,null,null,null,{"$f":"IF(AK98=\"\",\"\",AVERAGE(AK98:AK102))","v":""},{"$f":"IF(AL98=\"\",\"\",AVERAGE(AL98:AL102))","v":""},null,null,null,null,null,null,null,null,null,{"$f":"IF(AV98=\"\",\"\",AVERAGE(AV98:AV102))","v":""},{"$f":"IF(AW98=\"\",\"\",AVERAGE(AW98:AW102))","v":""},null,null,null,null,null,null,null,null,null,{"$f":"IF(BG98=\"\",\"\",AVERAGE(BG98:BG102))","v":""},{"$f":"IF(BH98=\"\",\"\",AVERAGE(BH98:BH102))","v":""},null,null,null,null,null,null,null,null,null,{"$f":"IF(BR98=\"\",\"\",AVERAGE(BR98:BR102))","v":""},{"$f":"IF(BS98=\"\",\"\",AVERAGE(BS98:BS102))","v":""}]
[]
[null,null,"PTSD","Measure Name"]
[null,null,"Outcome 1:",null,null,null,null,null,null,null,null,null,null,{"$f":"IF(Sheet2!$A$121=TRUE,-1*((G106-K106)/SQRT(((H106^2*(I106-1))+(L106^2*(M106-1)))/(I106+M106-2))),(G106-K106)/SQRT(((H106^2*(I106-1))+(L106^2*(M106-1)))/(I106+M106-2)))","v":{"$error":"#DIV/0!"}},{"$f":"IF(G106=\"\",\"\",N106)","v":""},{"$f":"IF(I106=\"\",\"\",SQRT((I106+M106)/(I106*M106)+(O106^2/(2*(I106+M106)))))","v":""},null,null,null,null,null,null,null,null,{"$f":"IF(Sheet2!$A$121=TRUE,-1*((R106-V106)/SQRT(((S106^2*(T106-1))+(W106^2*(X106-1)))/(T106+X106-2))),(R106-V106)/SQRT(((S106^2*(T106-1))+(W106^2*(X106-1)))/(T106+X106-2)))","v":{"$error":"#DIV/0!"}},{"$f":"IF(R106=\"\",\"\",Y106)","v":""},{"$f":"IF(T106=\"\",\"\",SQRT((T106+X106)/(T106*X106)+(Z106^2/(2*(T106+X106)))))","v":""},null,null,null,null,null,null,null,null,{"$f":"IF(Sheet2!$A$121=TRUE,-1*((AC106-AG106)/SQRT(((AD106^2*(AE106-1))+(AH106^2*(AI106-1)))/(AE106+AI106-2))),(AC106-AG106)/SQRT(((AD106^2*(AE106-1))+(AH106^2*(AI106-1)))/(AE106+AI106-2)))","v":{"$error":"#DIV/0!"}},{"$f":"IF(AC106=\"\",\"\",AJ106)","v":""},{"$f":"IF(AE106=\"\",\"\",SQRT((AE106+AI106)/(AE106*AI106)+(AK106^2/(2*(AE106+AI106)))))","v":""},null,null,null,null,null,null,null,null,{"$f":"IF(Sheet2!$A$121=TRUE,-1*((AN106-AR106)/SQRT(((AO106^2*(AP106-1))+(AS106^2*(AT106-1)))/(AP106+AT106-2))),(AN106-AR106)/SQRT(((AO106^2*(AP106-1))+(AS106^2*(AT106-1)))/(AP106+AT106-2)))","v":{"$error":"#DIV/0!"}},{"$f":"IF(AN106=\"\",\"\",AU106)","v":""},{"$f":"IF(AP106=\"\",\"\",SQRT((AP106+AT106)/(AP106*AT106)+(AV106^2/(2*(AP106+AT106)))))","v":""},null,null,null,null,null,null,null,null,{"$f":"IF(Sheet2!$A$121=TRUE,-1*((AY106-BC106)/SQRT(((AZ106^2*(BA106-1))+(BD106^2*(BE106-1)))/(BA106+BE106-2))),(AY106-BC106)/SQRT(((AZ106^2*(BA106-1))+(BD106^2*(BE106-1)))/(BA106+BE106-2)))","v":{"$error":"#DIV/0!"}},{"$f":"IF(AY106=\"\",\"\",BF106)","v":""},{"$f":"IF(BA106=\"\",\"\",SQRT((BA106+BE106)/(BA106*BE106)+(BG106^2/(2*(BA106+BE106)))))","v":""},null,null,null,null,null,null,null,null,{"$f":"IF(Sheet2!$A$121=TRUE,-1*((BJ106-BN106)/SQRT(((BK106^2*(BL106-1))+(BO106^2*(BP106-1)))/(BL106+BP106-2))),(BJ106-BN106)/SQRT(((BK106^2*(BL106-1))+(BO106^2*(BP106-1)))/(BL106+BP106-2)))","v":{"$error":"#DIV/0!"}},{"$f":"IF(BJ106=\"\",\"\",BQ106)","v":""},{"$f":"IF(BL106=\"\",\"\",SQRT((BL106+BP106)/(BL106*BP106)+(BR106^2/(2*(BL106+BP106)))))","v":""}]
[null,null,"Outcome 2:",null,null,null,null,null,null,null,null,null,null,{"$f":"IF(Sheet2!$A$122=TRUE,-1*((G107-K107)/SQRT(((H107^2*(I107-1))+(L107^2*(M107-1)))/(I107+M107-2))),(G107-K107)/SQRT(((H107^2*(I107-1))+(L107^2*(M107-1)))/(I107+M107-2)))","v":{"$error":"#DIV/0!"}},"","",null,null,null,null,null,null,null,null,{"$f":"IF(Sheet2!$A$122=TRUE,-1*((R107-V107)/SQRT(((S107^2*(T107-1))+(W107^2*(X107-1)))/(T107+X107-2))),(R107-V107)/SQRT(((S107^2*(T107-1))+(W107^2*(X107-1)))/(T107+X107-2)))","v":{"$error":"#DIV/0!"}},"","",null,null,null,null,null,null,null,null,{"$f":"IF(Sheet2!$A$122=TRUE,-1*((AC107-AG107)/SQRT(((AD107^2*(AE107-1))+(AH107^2*(AI107-1)))/(AE107+AI107-2))),(AC107-AG107)/SQRT(((AD107^2*(AE107-1))+(AH107^2*(AI107-1)))/(AE107+AI107-2)))","v":{"$error":"#DIV/0!"}},"","",null,null,null,null,null,null,null,null,{"$f":"IF(Sheet2!$A$122=TRUE,-1*((AN107-AR107)/SQRT(((AO107^2*(AP107-1))+(AS107^2*(AT107-1)))/(AP107+AT107-2))),(AN107-AR107)/SQRT(((AO107^2*(AP107-1))+(AS107^2*(AT107-1)))/(AP107+AT107-2)))","v":{"$error":"#DIV/0!"}},"","",null,null,null,null,null,null,null,null,{"$f":"IF(Sheet2!$A$122=TRUE,-1*((AY107-BC107)/SQRT(((AZ107^2*(BA107-1))+(BD107^2*(BE107-1)))/(BA107+BE107-2))),(AY107-BC107)/SQRT(((AZ107^2*(BA107-1))+(BD107^2*(BE107-1)))/(BA107+BE107-2)))","v":{"$error":"#DIV/0!"}},"","",null,null,null,null,null,null,null,null,{"$f":"IF(Sheet2!$A$122=TRUE,-1*((BJ107-BN107)/SQRT(((BK107^2*(BL107-1))+(BO107^2*(BP107-1)))/(BL107+BP107-2))),(BJ107-BN107)/SQRT(((BK107^2*(BL107-1))+(BO107^2*(BP107-1)))/(BL107+BP107-2)))","v":{"$error":"#DIV/0!"}},"",""]
[null,null,"Outcome 3:",null,null,null,null,null,null,null,null,null,null,{"$f":"IF(Sheet2!$A$123=TRUE,-1*((G108-K108)/SQRT(((H108^2*(I108-1))+(L108^2*(M108-1)))/(I108+M108-2))),(G108-K108)/SQRT(((H108^2*(I108-1))+(L108^2*(M108-1)))/(I108+M108-2)))","v":{"$error":"#DIV/0!"}},"","",null,null,null,null,null,null,null,null,{"$f":"IF(Sheet2!$A$123=TRUE,-1*((R108-V108)/SQRT(((S108^2*(T108-1))+(W108^2*(X108-1)))/(T108+X108-2))),(R108-V108)/SQRT(((S108^2*(T108-1))+(W108^2*(X108-1)))/(T108+X108-2)))","v":{"$error":"#DIV/0!"}},"","",null,null,null,null,null,null,null,null,{"$f":"IF(Sheet2!$A$123=TRUE,-1*((AC108-AG108)/SQRT(((AD108^2*(AE108-1))+(AH108^2*(AI108-1)))/(AE108+AI108-2))),(AC108-AG108)/SQRT(((AD108^2*(AE108-1))+(AH108^2*(AI108-1)))/(AE108+AI108-2)))","v":{"$error":"#DIV/0!"}},"","",null,null,null,null,null,null,null,null,{"$f":"IF(Sheet2!$A$123=TRUE,-1*((AN108-AR108)/SQRT(((AO108^2*(AP108-1))+(AS108^2*(AT108-1)))/(AP108+AT108-2))),(AN108-AR108)/SQRT(((AO108^2*(AP108-1))+(AS108^2*(AT108-1)))/(AP108+AT108-2)))","v":{"$error":"#DIV/0!"}},"","",null,null,null,null,null,null,null,null,{"$f":"IF(Sheet2!$A$123=TRUE,-1*((AY108-BC108)/SQRT(((AZ108^2*(BA108-1))+(BD108^2*(BE108-1)))/(BA108+BE108-2))),(AY108-BC108)/SQRT(((AZ108^2*(BA108-1))+(BD108^2*(BE108-1)))/(BA108+BE108-2)))","v":{"$error":"#DIV/0!"}},"","",null,null,null,null,null,null,null,null,{"$f":"IF(Sheet2!$A$123=TRUE,-1*((BJ108-BN108)/SQRT(((BK108^2*(BL108-1))+(BO108^2*(BP108-1)))/(BL108+BP108-2))),(BJ108-BN108)/SQRT(((BK108^2*(BL108-1))+(BO108^2*(BP108-1)))/(BL108+BP108-2)))","v":{"$error":"#DIV/0!"}},"",""]
[null,null,"Outcome 4:",null,null,null,null,null,null,null,null,null,null,{"$f":"IF(Sheet2!$A$124=TRUE,-1*((G109-K109)/SQRT(((H109^2*(I109-1))+(L109^2*(M109-1)))/(I109+M109-2))),(G109-K109)/SQRT(((H109^2*(I109-1))+(L109^2*(M109-1)))/(I109+M109-2)))","v":{"$error":"#DIV/0!"}},"","",null,null,null,null,null,null,null,null,{"$f":"IF(Sheet2!$A$124=TRUE,-1*((R109-V109)/SQRT(((S109^2*(T109-1))+(W109^2*(X109-1)))/(T109+X109-2))),(R109-V109)/SQRT(((S109^2*(T109-1))+(W109^2*(X109-1)))/(T109+X109-2)))","v":{"$error":"#DIV/0!"}},"","",null,null,null,null,null,null,null,null,{"$f":"IF(Sheet2!$A$124=TRUE,-1*((AC109-AG109)/SQRT(((AD109^2*(AE109-1))+(AH109^2*(AI109-1)))/(AE109+AI109-2))),(AC109-AG109)/SQRT(((AD109^2*(AE109-1))+(AH109^2*(AI109-1)))/(AE109+AI109-2)))","v":{"$error":"#DIV/0!"}},"","",null,null,null,null,null,null,null,null,{"$f":"IF(Sheet2!$A$124=TRUE,-1*((AN109-AR109)/SQRT(((AO109^2*(AP109-1))+(AS109^2*(AT109-1)))/(AP109+AT109-2))),(AN109-AR109)/SQRT(((AO109^2*(AP109-1))+(AS109^2*(AT109-1)))/(AP109+AT109-2)))","v":{"$error":"#DIV/0!"}},"","",null,null,null,null,null,null,null,null,{"$f":"IF(Sheet2!$A$124=TRUE,-1*((AY109-BC109)/SQRT(((AZ109^2*(BA109-1))+(BD109^2*(BE109-1)))/(BA109+BE109-2))),(AY109-BC109)/SQRT(((AZ109^2*(BA109-1))+(BD109^2*(BE109-1)))/(BA109+BE109-2)))","v":{"$error":"#DIV/0!"}},"","",null,null,null,null,null,null,null,null,{"$f":"IF(Sheet2!$A$124=TRUE,-1*((BJ109-BN109)/SQRT(((BK109^2*(BL109-1))+(BO109^2*(BP109-1)))/(BL109+BP109-2))),(BJ109-BN109)/SQRT(((BK109^2*(BL109-1))+(BO109^2*(BP109-1)))/(BL109+BP109-2)))","v":{"$error":"#DIV/0!"}},"",""]
[null,null,"Outcome 5:",null,null,null,null,null,null,null,null,null,null,{"$f":"IF(Sheet2!$A$125=TRUE,-1*((G110-K110)/SQRT(((H110^2*(I110-1))+(L110^2*(M110-1)))/(I110+M110-2))),(G110-K110)/SQRT(((H110^2*(I110-1))+(L110^2*(M110-1)))/(I110+M110-2)))","v":{"$error":"#DIV/0!"}},"","",null,null,null,null,null,null,null,null,{"$f":"IF(Sheet2!$A$125=TRUE,-1*((R110-V110)/SQRT(((S110^2*(T110-1))+(W110^2*(X110-1)))/(T110+X110-2))),(R110-V110)/SQRT(((S110^2*(T110-1))+(W110^2*(X110-1)))/(T110+X110-2)))","v":{"$error":"#DIV/0!"}},"","",null,null,null,null,null,null,null,null,{"$f":"IF(Sheet2!$A$125=TRUE,-1*((AC110-AG110)/SQRT(((AD110^2*(AE110-1))+(AH110^2*(AI110-1)))/(AE110+AI110-2))),(AC110-AG110)/SQRT(((AD110^2*(AE110-1))+(AH110^2*(AI110-1)))/(AE110+AI110-2)))","v":{"$error":"#DIV/0!"}},"","",null,null,null,null,null,null,null,null,{"$f":"IF(Sheet2!$A$125=TRUE,-1*((AN110-AR110)/SQRT(((AO110^2*(AP110-1))+(AS110^2*(AT110-1)))/(AP110+AT110-2))),(AN110-AR110)/SQRT(((AO110^2*(AP110-1))+(AS110^2*(AT110-1)))/(AP110+AT110-2)))","v":{"$error":"#DIV/0!"}},"","",null,null,null,null,null,null,null,null,{"$f":"IF(Sheet2!$A$125=TRUE,-1*((AY110-BC110)/SQRT(((AZ110^2*(BA110-1))+(BD110^2*(BE110-1)))/(BA110+BE110-2))),(AY110-BC110)/SQRT(((AZ110^2*(BA110-1))+(BD110^2*(BE110-1)))/(BA110+BE110-2)))","v":{"$error":"#DIV/0!"}},"","",null,null,null,null,null,null,null,null,{"$f":"IF(Sheet2!$A$125=TRUE,-1*((BJ110-BN110)/SQRT(((BK110^2*(BL110-1))+(BO110^2*(BP110-1)))/(BL110+BP110-2))),(BJ110-BN110)/SQRT(((BK110^2*(BL110-1))+(BO110^2*(BP110-1)))/(BL110+BP110-2)))","v":{"$error":"#DIV/0!"}},"",""]
[null,null,"PTSD d",null,null,null,null,null,null,null,null,null,null,null,{"$f":"IF(O106=\"\",\"\",AVERAGE(O106:O110))","v":""},{"$f":"IF(P106=\"\",\"\",AVERAGE(P106:P110))","v":""},null,null,null,null,null,null,null,null,null,{"$f":"IF(Z106=\"\",\"\",AVERAGE(Z106:Z110))","v":""},{"$f":"IF(AA106=\"\",\"\",AVERAGE(AA106:AA110))","v":""},null,null,null,null,null,null,null,null,null,{"$f":"IF(AK106=\"\",\"\",AVERAGE(AK106:AK110))","v":""},{"$f":"IF(AL106=\"\",\"\",AVERAGE(AL106:AL110))","v":""},null,null,null,null,null,null,null,null,null,{"$f":"IF(AV106=\"\",\"\",AVERAGE(AV106:AV110))","v":""},{"$f":"IF(AW106=\"\",\"\",AVERAGE(AW106:AW110))","v":""},null,null,null,null,null,null,null,null,null,{"$f":"IF(BG106=\"\",\"\",AVERAGE(BG106:BG110))","v":""},{"$f":"IF(BH106=\"\",\"\",AVERAGE(BH106:BH110))","v":""},null,null,null,null,null,null,null,null,null,{"$f":"IF(BR106=\"\",\"\",AVERAGE(BR106:BR110))","v":""},{"$f":"IF(BS106=\"\",\"\",AVERAGE(BS106:BS110))","v":""}]
[]
[null,null,"SUD","Measure Name"]
[null,null,"Outcome 1:",null,null,null,null,null,null,null,null,null,null,{"$f":"IF(Sheet2!$A$129=TRUE,-1*((G114-K114)/SQRT(((H114^2*(I114-1))+(L114^2*(M114-1)))/(I114+M114-2))),(G114-K114)/SQRT(((H114^2*(I114-1))+(L114^2*(M114-1)))/(I114+M114-2)))","v":{"$error":"#DIV/0!"}},{"$f":"IF(G114=\"\",\"\",N114)","v":""},{"$f":"IF(I114=\"\",\"\",SQRT((I114+M114)/(I114*M114)+(O114^2/(2*(I114+M114)))))","v":""},null,null,null,null,null,null,null,null,{"$f":"IF(Sheet2!$A$129=TRUE,-1*((R114-V114)/SQRT(((S114^2*(T114-1))+(W114^2*(X114-1)))/(T114+X114-2))),(R114-V114)/SQRT(((S114^2*(T114-1))+(W114^2*(X114-1)))/(T114+X114-2)))","v":{"$error":"#DIV/0!"}},{"$f":"IF(R114=\"\",\"\",Y114)","v":""},{"$f":"IF(T114=\"\",\"\",SQRT((T114+X114)/(T114*X114)+(Z114^2/(2*(T114+X114)))))","v":""},null,null,null,null,null,null,null,null,{"$f":"IF(Sheet2!$A$129=TRUE,-1*((AC114-AG114)/SQRT(((AD114^2*(AE114-1))+(AH114^2*(AI114-1)))/(AE114+AI114-2))),(AC114-AG114)/SQRT(((AD114^2*(AE114-1))+(AH114^2*(AI114-1)))/(AE114+AI114-2)))","v":{"$error":"#DIV/0!"}},{"$f":"IF(AC114=\"\",\"\",AJ114)","v":""},{"$f":"IF(AE114=\"\",\"\",SQRT((AE114+AI114)/(AE114*AI114)+(AK114^2/(2*(AE114+AI114)))))","v":""},null,null,null,null,null,null,null,null,{"$f":"IF(Sheet2!$A$129=TRUE,-1*((AN114-AR114)/SQRT(((AO114^2*(AP114-1))+(AS114^2*(AT114-1)))/(AP114+AT114-2))),(AN114-AR114)/SQRT(((AO114^2*(AP114-1))+(AS114^2*(AT114-1)))/(AP114+AT114-2)))","v":{"$error":"#DIV/0!"}},{"$f":"IF(AN114=\"\",\"\",AU114)","v":""},{"$f":"IF(AP114=\"\",\"\",SQRT((AP114+AT114)/(AP114*AT114)+(AV114^2/(2*(AP114+AT114)))))","v":""},null,null,null,null,null,null,null,null,{"$f":"IF(Sheet2!$A$129=TRUE,-1*((AY114-BC114)/SQRT(((AZ114^2*(BA114-1))+(BD114^2*(BE114-1)))/(BA114+BE114-2))),(AY114-BC114)/SQRT(((AZ114^2*(BA114-1))+(BD114^2*(BE114-1)))/(BA114+BE114-2)))","v":{"$error":"#DIV/0!"}},{"$f":"IF(AY114=\"\",\"\",BF114)","v":""},{"$f":"IF(BA114=\"\",\"\",SQRT((BA114+BE114)/(BA114*BE114)+(BG114^2/(2*(BA114+BE114)))))","v":""},null,null,null,null,null,null,null,null,{"$f":"IF(Sheet2!$A$129=TRUE,-1*((BJ114-BN114)/SQRT(((BK114^2*(BL114-1))+(BO114^2*(BP114-1)))/(BL114+BP114-2))),(BJ114-BN114)/SQRT(((BK114^2*(BL114-1))+(BO114^2*(BP114-1)))/(BL114+BP114-2)))","v":{"$error":"#DIV/0!"}},{"$f":"IF(BJ114=\"\",\"\",BQ114)","v":""},{"$f":"IF(BL114=\"\",\"\",SQRT((BL114+BP114)/(BL114*BP114)+(BR114^2/(2*(BL114+BP114)))))","v":""}]
[null,null,"Outcome 2:",null,null,null,null,null,null,null,null,null,null,{"$f":"IF(Sheet2!$A$130=TRUE,-1*((G115-K115)/SQRT(((H115^2*(I115-1))+(L115^2*(M115-1)))/(I115+M115-2))),(G115-K115)/SQRT(((H115^2*(I115-1))+(L115^2*(M115-1)))/(I115+M115-2)))","v":{"$error":"#DIV/0!"}},"","",null,null,null,null,null,null,null,null,{"$f":"IF(Sheet2!$A$130=TRUE,-1*((R115-V115)/SQRT(((S115^2*(T115-1))+(W115^2*(X115-1)))/(T115+X115-2))),(R115-V115)/SQRT(((S115^2*(T115-1))+(W115^2*(X115-1)))/(T115+X115-2)))","v":{"$error":"#DIV/0!"}},"","",null,null,null,null,null,null,null,null,{"$f":"IF(Sheet2!$A$130=TRUE,-1*((AC115-AG115)/SQRT(((AD115^2*(AE115-1))+(AH115^2*(AI115-1)))/(AE115+AI115-2))),(AC115-AG115)/SQRT(((AD115^2*(AE115-1))+(AH115^2*(AI115-1)))/(AE115+AI115-2)))","v":{"$error":"#DIV/0!"}},"","",null,null,null,null,null,null,null,null,{"$f":"IF(Sheet2!$A$130=TRUE,-1*((AN115-AR115)/SQRT(((AO115^2*(AP115-1))+(AS115^2*(AT115-1)))/(AP115+AT115-2))),(AN115-AR115)/SQRT(((AO115^2*(AP115-1))+(AS115^2*(AT115-1)))/(AP115+AT115-2)))","v":{"$error":"#DIV/0!"}},"","",null,null,null,null,null,null,null,null,{"$f":"IF(Sheet2!$A$130=TRUE,-1*((AY115-BC115)/SQRT(((AZ115^2*(BA115-1))+(BD115^2*(BE115-1)))/(BA115+BE115-2))),(AY115-BC115)/SQRT(((AZ115^2*(BA115-1))+(BD115^2*(BE115-1)))/(BA115+BE115-2)))","v":{"$error":"#DIV/0!"}},"","",null,null,null,null,null,null,null,null,{"$f":"IF(Sheet2!$A$130=TRUE,-1*((BJ115-BN115)/SQRT(((BK115^2*(BL115-1))+(BO115^2*(BP115-1)))/(BL115+BP115-2))),(BJ115-BN115)/SQRT(((BK115^2*(BL115-1))+(BO115^2*(BP115-1)))/(BL115+BP115-2)))","v":{"$error":"#DIV/0!"}},"",""]
[null,null,"Outcome 3:",null,null,null,null,null,null,null,null,null,null,{"$f":"IF(Sheet2!$A$131=TRUE,-1*((G116-K116)/SQRT(((H116^2*(I116-1))+(L116^2*(M116-1)))/(I116+M116-2))),(G116-K116)/SQRT(((H116^2*(I116-1))+(L116^2*(M116-1)))/(I116+M116-2)))","v":{"$error":"#DIV/0!"}},"","",null,null,null,null,null,null,null,null,{"$f":"IF(Sheet2!$A$131=TRUE,-1*((R116-V116)/SQRT(((S116^2*(T116-1))+(W116^2*(X116-1)))/(T116+X116-2))),(R116-V116)/SQRT(((S116^2*(T116-1))+(W116^2*(X116-1)))/(T116+X116-2)))","v":{"$error":"#DIV/0!"}},"","",null,null,null,null,null,null,null,null,{"$f":"IF(Sheet2!$A$131=TRUE,-1*((AC116-AG116)/SQRT(((AD116^2*(AE116-1))+(AH116^2*(AI116-1)))/(AE116+AI116-2))),(AC116-AG116)/SQRT(((AD116^2*(AE116-1))+(AH116^2*(AI116-1)))/(AE116+AI116-2)))","v":{"$error":"#DIV/0!"}},"","",null,null,null,null,null,null,null,null,{"$f":"IF(Sheet2!$A$131=TRUE,-1*((AN116-AR116)/SQRT(((AO116^2*(AP116-1))+(AS116^2*(AT116-1)))/(AP116+AT116-2))),(AN116-AR116)/SQRT(((AO116^2*(AP116-1))+(AS116^2*(AT116-1)))/(AP116+AT116-2)))","v":{"$error":"#DIV/0!"}},"","",null,null,null,null,null,null,null,null,{"$f":"IF(Sheet2!$A$131=TRUE,-1*((AY116-BC116)/SQRT(((AZ116^2*(BA116-1))+(BD116^2*(BE116-1)))/(BA116+BE116-2))),(AY116-BC116)/SQRT(((AZ116^2*(BA116-1))+(BD116^2*(BE116-1)))/(BA116+BE116-2)))","v":{"$error":"#DIV/0!"}},"","",null,null,null,null,null,null,null,null,{"$f":"IF(Sheet2!$A$131=TRUE,-1*((BJ116-BN116)/SQRT(((BK116^2*(BL116-1))+(BO116^2*(BP116-1)))/(BL116+BP116-2))),(BJ116-BN116)/SQRT(((BK116^2*(BL116-1))+(BO116^2*(BP116-1)))/(BL116+BP116-2)))","v":{"$error":"#DIV/0!"}},"",""]
[null,null,"Outcome 4:",null,null,null,null,null,null,null,null,null,null,{"$f":"IF(Sheet2!$A$132=TRUE,-1*((G117-K117)/SQRT(((H117^2*(I117-1))+(L117^2*(M117-1)))/(I117+M117-2))),(G117-K117)/SQRT(((H117^2*(I117-1))+(L117^2*(M117-1)))/(I117+M117-2)))","v":{"$error":"#DIV/0!"}},"","",null,null,null,null,null,null,null,null,{"$f":"IF(Sheet2!$A$132=TRUE,-1*((R117-V117)/SQRT(((S117^2*(T117-1))+(W117^2*(X117-1)))/(T117+X117-2))),(R117-V117)/SQRT(((S117^2*(T117-1))+(W117^2*(X117-1)))/(T117+X117-2)))","v":{"$error":"#DIV/0!"}},"","",null,null,null,null,null,null,null,null,{"$f":"IF(Sheet2!$A$132=TRUE,-1*((AC117-AG117)/SQRT(((AD117^2*(AE117-1))+(AH117^2*(AI117-1)))/(AE117+AI117-2))),(AC117-AG117)/SQRT(((AD117^2*(AE117-1))+(AH117^2*(AI117-1)))/(AE117+AI117-2)))","v":{"$error":"#DIV/0!"}},"","",null,null,null,null,null,null,null,null,{"$f":"IF(Sheet2!$A$132=TRUE,-1*((AN117-AR117)/SQRT(((AO117^2*(AP117-1))+(AS117^2*(AT117-1)))/(AP117+AT117-2))),(AN117-AR117)/SQRT(((AO117^2*(AP117-1))+(AS117^2*(AT117-1)))/(AP117+AT117-2)))","v":{"$error":"#DIV/0!"}},"","",null,null,null,null,null,null,null,null,{"$f":"IF(Sheet2!$A$132=TRUE,-1*((AY117-BC117)/SQRT(((AZ117^2*(BA117-1))+(BD117^2*(BE117-1)))/(BA117+BE117-2))),(AY117-BC117)/SQRT(((AZ117^2*(BA117-1))+(BD117^2*(BE117-1)))/(BA117+BE117-2)))","v":{"$error":"#DIV/0!"}},"","",null,null,null,null,null,null,null,null,{"$f":"IF(Sheet2!$A$132=TRUE,-1*((BJ117-BN117)/SQRT(((BK117^2*(BL117-1))+(BO117^2*(BP117-1)))/(BL117+BP117-2))),(BJ117-BN117)/SQRT(((BK117^2*(BL117-1))+(BO117^2*(BP117-1)))/(BL117+BP117-2)))","v":{"$error":"#DIV/0!"}},"",""]
[null,null,"Outcome 5:",null,null,null,null,null,null,null,null,null,null,{"$f":"IF(Sheet2!$A$133=TRUE,-1*((G118-K118)/SQRT(((H118^2*(I118-1))+(L118^2*(M118-1)))/(I118+M118-2))),(G118-K118)/SQRT(((H118^2*(I118-1))+(L118^2*(M118-1)))/(I118+M118-2)))","v":{"$error":"#DIV/0!"}},"","",null,null,null,null,null,null,null,null,{"$f":"IF(Sheet2!$A$133=TRUE,-1*((R118-V118)/SQRT(((S118^2*(T118-1))+(W118^2*(X118-1)))/(T118+X118-2))),(R118-V118)/SQRT(((S118^2*(T118-1))+(W118^2*(X118-1)))/(T118+X118-2)))","v":{"$error":"#DIV/0!"}},"",{"$f":"IF(T118=\"\",\"\",SQRT((T118+X118)/(T118*X118)+(Z118^2/(2*(T118+X118)))))","v":""},null,null,null,null,null,null,null,null,{"$f":"IF(Sheet2!$A$133=TRUE,-1*((AC118-AG118)/SQRT(((AD118^2*(AE118-1))+(AH118^2*(AI118-1)))/(AE118+AI118-2))),(AC118-AG118)/SQRT(((AD118^2*(AE118-1))+(AH118^2*(AI118-1)))/(AE118+AI118-2)))","v":{"$error":"#DIV/0!"}},"","",null,null,null,null,null,null,null,null,{"$f":"IF(Sheet2!$A$133=TRUE,-1*((AN118-AR118)/SQRT(((AO118^2*(AP118-1))+(AS118^2*(AT118-1)))/(AP118+AT118-2))),(AN118-AR118)/SQRT(((AO118^2*(AP118-1))+(AS118^2*(AT118-1)))/(AP118+AT118-2)))","v":{"$error":"#DIV/0!"}},"",{"$f":"IF(AP118=\"\",\"\",SQRT((AP118+AT118)/(AP118*AT118)+(AV118^2/(2*(AP118+AT118)))))","v":""},null,null,null,null,null,null,null,null,{"$f":"IF(Sheet2!$A$133=TRUE,-1*((AY118-BC118)/SQRT(((AZ118^2*(BA118-1))+(BD118^2*(BE118-1)))/(BA118+BE118-2))),(AY118-BC118)/SQRT(((AZ118^2*(BA118-1))+(BD118^2*(BE118-1)))/(BA118+BE118-2)))","v":{"$error":"#DIV/0!"}},"",{"$f":"IF(BA118=\"\",\"\",SQRT((BA118+BE118)/(BA118*BE118)+(BG118^2/(2*(BA118+BE118)))))","v":""},null,null,null,null,null,null,null,null,{"$f":"IF(Sheet2!$A$133=TRUE,-1*((BJ118-BN118)/SQRT(((BK118^2*(BL118-1))+(BO118^2*(BP118-1)))/(BL118+BP118-2))),(BJ118-BN118)/SQRT(((BK118^2*(BL118-1))+(BO118^2*(BP118-1)))/(BL118+BP118-2)))","v":{"$error":"#DIV/0!"}},"",{"$f":"IF(BL118=\"\",\"\",SQRT((BL118+BP118)/(BL118*BP118)+(BR118^2/(2*(BL118+BP118)))))","v":""}]
[null,null,"SUD d",null,null,null,null,null,null,null,null,null,null,null,{"$f":"IF(O114=\"\",\"\",AVERAGE(O114:O118))","v":""},{"$f":"IF(P114=\"\",\"\",AVERAGE(P114:P118))","v":""},null,null,null,null,null,null,null,null,null,{"$f":"IF(Z114=\"\",\"\",AVERAGE(Z114:Z118))","v":""},{"$f":"IF(AA114=\"\",\"\",AVERAGE(AA114:AA118))","v":""},null,null,null,null,null,null,null,null,null,{"$f":"IF(AK114=\"\",\"\",AVERAGE(AK114:AK118))","v":""},{"$f":"IF(AL114=\"\",\"\",AVERAGE(AL114:AL118))","v":""},null,null,null,null,null,null,null,null,null,{"$f":"IF(AV114=\"\",\"\",AVERAGE(AV114:AV118))","v":""},{"$f":"IF(AW114=\"\",\"\",AVERAGE(AW114:AW118))","v":""},null,null,null,null,null,null,null,null,null,{"$f":"IF(BG114=\"\",\"\",AVERAGE(BG114:BG118))","v":""},{"$f":"IF(BH114=\"\",\"\",AVERAGE(BH114:BH118))","v":""},null,null,null,null,null,null,null,null,null,{"$f":"IF(BR114=\"\",\"\",AVERAGE(BR114:BR118))","v":""},{"$f":"IF(BS114=\"\",\"\",AVERAGE(BS114:BS118))","v":""}]
[]
[null,null,"Somatization","Measure Name"]
[null,null,"Outcome 1:",null,null,null,null,null,null,null,null,null,null,{"$f":"IF(Sheet2!$A$137=TRUE,-1*((G122-K122)/SQRT(((H122^2*(I122-1))+(L122^2*(M122-1)))/(I122+M122-2))),(G122-K122)/SQRT(((H122^2*(I122-1))+(L122^2*(M122-1)))/(I122+M122-2)))","v":{"$error":"#DIV/0!"}},{"$f":"IF(G122=\"\",\"\",N122)","v":""},{"$f":"IF(I122=\"\",\"\",SQRT((I122+M122)/(I122*M122)+(O122^2/(2*(I122+M122)))))","v":""},null,null,null,null,null,null,null,null,{"$f":"IF(Sheet2!$A$137=TRUE,-1*((R122-V122)/SQRT(((S122^2*(T122-1))+(W122^2*(X122-1)))/(T122+X122-2))),(R122-V122)/SQRT(((S122^2*(T122-1))+(W122^2*(X122-1)))/(T122+X122-2)))","v":{"$error":"#DIV/0!"}},{"$f":"IF(R122=\"\",\"\",Y122)","v":""},{"$f":"IF(T122=\"\",\"\",SQRT((T122+X122)/(T122*X122)+(Z122^2/(2*(T122+X122)))))","v":""},null,null,null,null,null,null,null,null,{"$f":"IF(Sheet2!$A$137=TRUE,-1*((AC122-AG122)/SQRT(((AD122^2*(AE122-1))+(AH122^2*(AI122-1)))/(AE122+AI122-2))),(AC122-AG122)/SQRT(((AD122^2*(AE122-1))+(AH122^2*(AI122-1)))/(AE122+AI122-2)))","v":{"$error":"#DIV/0!"}},{"$f":"IF(AC122=\"\",\"\",AJ122)","v":""},{"$f":"IF(AE122=\"\",\"\",SQRT((AE122+AI122)/(AE122*AI122)+(AK122^2/(2*(AE122+AI122)))))","v":""},null,null,null,null,null,null,null,null,{"$f":"IF(Sheet2!$A$137=TRUE,-1*((AN122-AR122)/SQRT(((AO122^2*(AP122-1))+(AS122^2*(AT122-1)))/(AP122+AT122-2))),(AN122-AR122)/SQRT(((AO122^2*(AP122-1))+(AS122^2*(AT122-1)))/(AP122+AT122-2)))","v":{"$error":"#DIV/0!"}},{"$f":"IF(AN122=\"\",\"\",AU122)","v":""},{"$f":"IF(AP122=\"\",\"\",SQRT((AP122+AT122)/(AP122*AT122)+(AV122^2/(2*(AP122+AT122)))))","v":""},null,null,null,null,null,null,null,null,{"$f":"IF(Sheet2!$A$137=TRUE,-1*((AY122-BC122)/SQRT(((AZ122^2*(BA122-1))+(BD122^2*(BE122-1)))/(BA122+BE122-2))),(AY122-BC122)/SQRT(((AZ122^2*(BA122-1))+(BD122^2*(BE122-1)))/(BA122+BE122-2)))","v":{"$error":"#DIV/0!"}},{"$f":"IF(AY122=\"\",\"\",BF122)","v":""},{"$f":"IF(BA122=\"\",\"\",SQRT((BA122+BE122)/(BA122*BE122)+(BG122^2/(2*(BA122+BE122)))))","v":""},null,null,null,null,null,null,null,null,{"$f":"IF(Sheet2!$A$137=TRUE,-1*((BJ122-BN122)/SQRT(((BK122^2*(BL122-1))+(BO122^2*(BP122-1)))/(BL122+BP122-2))),(BJ122-BN122)/SQRT(((BK122^2*(BL122-1))+(BO122^2*(BP122-1)))/(BL122+BP122-2)))","v":{"$error":"#DIV/0!"}},{"$f":"IF(BJ122=\"\",\"\",BQ122)","v":""},{"$f":"IF(BL122=\"\",\"\",SQRT((BL122+BP122)/(BL122*BP122)+(BR122^2/(2*(BL122+BP122)))))","v":""}]
[null,null,"Outcome 2:",null,null,null,null,null,null,null,null,null,null,{"$f":"IF(Sheet2!$A$138=TRUE,-1*((G123-K123)/SQRT(((H123^2*(I123-1))+(L123^2*(M123-1)))/(I123+M123-2))),(G123-K123)/SQRT(((H123^2*(I123-1))+(L123^2*(M123-1)))/(I123+M123-2)))","v":{"$error":"#DIV/0!"}},"","",null,null,null,null,null,null,null,null,{"$f":"IF(Sheet2!$A$138=TRUE,-1*((R123-V123)/SQRT(((S123^2*(T123-1))+(W123^2*(X123-1)))/(T123+X123-2))),(R123-V123)/SQRT(((S123^2*(T123-1))+(W123^2*(X123-1)))/(T123+X123-2)))","v":{"$error":"#DIV/0!"}},"","",null,null,null,null,null,null,null,null,{"$f":"IF(Sheet2!$A$138=TRUE,-1*((AC123-AG123)/SQRT(((AD123^2*(AE123-1))+(AH123^2*(AI123-1)))/(AE123+AI123-2))),(AC123-AG123)/SQRT(((AD123^2*(AE123-1))+(AH123^2*(AI123-1)))/(AE123+AI123-2)))","v":{"$error":"#DIV/0!"}},"","",null,null,null,null,null,null,null,null,{"$f":"IF(Sheet2!$A$138=TRUE,-1*((AN123-AR123)/SQRT(((AO123^2*(AP123-1))+(AS123^2*(AT123-1)))/(AP123+AT123-2))),(AN123-AR123)/SQRT(((AO123^2*(AP123-1))+(AS123^2*(AT123-1)))/(AP123+AT123-2)))","v":{"$error":"#DIV/0!"}},"","",null,null,null,null,null,null,null,null,{"$f":"IF(Sheet2!$A$138=TRUE,-1*((AY123-BC123)/SQRT(((AZ123^2*(BA123-1))+(BD123^2*(BE123-1)))/(BA123+BE123-2))),(AY123-BC123)/SQRT(((AZ123^2*(BA123-1))+(BD123^2*(BE123-1)))/(BA123+BE123-2)))","v":{"$error":"#DIV/0!"}},"","",null,null,null,null,null,null,null,null,{"$f":"IF(Sheet2!$A$138=TRUE,-1*((BJ123-BN123)/SQRT(((BK123^2*(BL123-1))+(BO123^2*(BP123-1)))/(BL123+BP123-2))),(BJ123-BN123)/SQRT(((BK123^2*(BL123-1))+(BO123^2*(BP123-1)))/(BL123+BP123-2)))","v":{"$error":"#DIV/0!"}},"",""]
[null,null,"Outcome 3:",null,null,null,null,null,null,null,null,null,null,{"$f":"IF(Sheet2!$A$139=TRUE,-1*((G124-K124)/SQRT(((H124^2*(I124-1))+(L124^2*(M124-1)))/(I124+M124-2))),(G124-K124)/SQRT(((H124^2*(I124-1))+(L124^2*(M124-1)))/(I124+M124-2)))","v":{"$error":"#DIV/0!"}},"","",null,null,null,null,null,null,null,null,{"$f":"IF(Sheet2!$A$139=TRUE,-1*((R124-V124)/SQRT(((S124^2*(T124-1))+(W124^2*(X124-1)))/(T124+X124-2))),(R124-V124)/SQRT(((S124^2*(T124-1))+(W124^2*(X124-1)))/(T124+X124-2)))","v":{"$error":"#DIV/0!"}},"","",null,null,null,null,null,null,null,null,{"$f":"IF(Sheet2!$A$139=TRUE,-1*((AC124-AG124)/SQRT(((AD124^2*(AE124-1))+(AH124^2*(AI124-1)))/(AE124+AI124-2))),(AC124-AG124)/SQRT(((AD124^2*(AE124-1))+(AH124^2*(AI124-1)))/(AE124+AI124-2)))","v":{"$error":"#DIV/0!"}},"","",null,null,null,null,null,null,null,null,{"$f":"IF(Sheet2!$A$139=TRUE,-1*((AN124-AR124)/SQRT(((AO124^2*(AP124-1))+(AS124^2*(AT124-1)))/(AP124+AT124-2))),(AN124-AR124)/SQRT(((AO124^2*(AP124-1))+(AS124^2*(AT124-1)))/(AP124+AT124-2)))","v":{"$error":"#DIV/0!"}},"","",null,null,null,null,null,null,null,null,{"$f":"IF(Sheet2!$A$139=TRUE,-1*((AY124-BC124)/SQRT(((AZ124^2*(BA124-1))+(BD124^2*(BE124-1)))/(BA124+BE124-2))),(AY124-BC124)/SQRT(((AZ124^2*(BA124-1))+(BD124^2*(BE124-1)))/(BA124+BE124-2)))","v":{"$error":"#DIV/0!"}},"","",null,null,null,null,null,null,null,null,{"$f":"IF(Sheet2!$A$139=TRUE,-1*((BJ124-BN124)/SQRT(((BK124^2*(BL124-1))+(BO124^2*(BP124-1)))/(BL124+BP124-2))),(BJ124-BN124)/SQRT(((BK124^2*(BL124-1))+(BO124^2*(BP124-1)))/(BL124+BP124-2)))","v":{"$error":"#DIV/0!"}},"",""]
[null,null,"Outcome 4:",null,null,null,null,null,null,null,null,null,null,{"$f":"IF(Sheet2!$A$140=TRUE,-1*((G125-K125)/SQRT(((H125^2*(I125-1))+(L125^2*(M125-1)))/(I125+M125-2))),(G125-K125)/SQRT(((H125^2*(I125-1))+(L125^2*(M125-1)))/(I125+M125-2)))","v":{"$error":"#DIV/0!"}},"","",null,null,null,null,null,null,null,null,{"$f":"IF(Sheet2!$A$140=TRUE,-1*((R125-V125)/SQRT(((S125^2*(T125-1))+(W125^2*(X125-1)))/(T125+X125-2))),(R125-V125)/SQRT(((S125^2*(T125-1))+(W125^2*(X125-1)))/(T125+X125-2)))","v":{"$error":"#DIV/0!"}},"","",null,null,null,null,null,null,null,null,{"$f":"IF(Sheet2!$A$140=TRUE,-1*((AC125-AG125)/SQRT(((AD125^2*(AE125-1))+(AH125^2*(AI125-1)))/(AE125+AI125-2))),(AC125-AG125)/SQRT(((AD125^2*(AE125-1))+(AH125^2*(AI125-1)))/(AE125+AI125-2)))","v":{"$error":"#DIV/0!"}},"","",null,null,null,null,null,null,null,null,{"$f":"IF(Sheet2!$A$140=TRUE,-1*((AN125-AR125)/SQRT(((AO125^2*(AP125-1))+(AS125^2*(AT125-1)))/(AP125+AT125-2))),(AN125-AR125)/SQRT(((AO125^2*(AP125-1))+(AS125^2*(AT125-1)))/(AP125+AT125-2)))","v":{"$error":"#DIV/0!"}},"","",null,null,null,null,null,null,null,null,{"$f":"IF(Sheet2!$A$140=TRUE,-1*((AY125-BC125)/SQRT(((AZ125^2*(BA125-1))+(BD125^2*(BE125-1)))/(BA125+BE125-2))),(AY125-BC125)/SQRT(((AZ125^2*(BA125-1))+(BD125^2*(BE125-1)))/(BA125+BE125-2)))","v":{"$error":"#DIV/0!"}},"","",null,null,null,null,null,null,null,null,{"$f":"IF(Sheet2!$A$140=TRUE,-1*((BJ125-BN125)/SQRT(((BK125^2*(BL125-1))+(BO125^2*(BP125-1)))/(BL125+BP125-2))),(BJ125-BN125)/SQRT(((BK125^2*(BL125-1))+(BO125^2*(BP125-1)))/(BL125+BP125-2)))","v":{"$error":"#DIV/0!"}},"",""]
[null,null,"Outcome 5:",null,null,null,null,null,null,null,null,null,null,{"$f":"IF(Sheet2!$A$141=TRUE,-1*((G126-K126)/SQRT(((H126^2*(I126-1))+(L126^2*(M126-1)))/(I126+M126-2))),(G126-K126)/SQRT(((H126^2*(I126-1))+(L126^2*(M126-1)))/(I126+M126-2)))","v":{"$error":"#DIV/0!"}},"","",null,null,null,null,null,null,null,null,{"$f":"IF(Sheet2!$A$141=TRUE,-1*((R126-V126)/SQRT(((S126^2*(T126-1))+(W126^2*(X126-1)))/(T126+X126-2))),(R126-V126)/SQRT(((S126^2*(T126-1))+(W126^2*(X126-1)))/(T126+X126-2)))","v":{"$error":"#DIV/0!"}},"","",null,null,null,null,null,null,null,null,{"$f":"IF(Sheet2!$A$141=TRUE,-1*((AC126-AG126)/SQRT(((AD126^2*(AE126-1))+(AH126^2*(AI126-1)))/(AE126+AI126-2))),(AC126-AG126)/SQRT(((AD126^2*(AE126-1))+(AH126^2*(AI126-1)))/(AE126+AI126-2)))","v":{"$error":"#DIV/0!"}},"","",null,null,null,null,null,null,null,null,{"$f":"IF(Sheet2!$A$141=TRUE,-1*((AN126-AR126)/SQRT(((AO126^2*(AP126-1))+(AS126^2*(AT126-1)))/(AP126+AT126-2))),(AN126-AR126)/SQRT(((AO126^2*(AP126-1))+(AS126^2*(AT126-1)))/(AP126+AT126-2)))","v":{"$error":"#DIV/0!"}},"","",null,null,null,null,null,null,null,null,{"$f":"IF(Sheet2!$A$141=TRUE,-1*((AY126-BC126)/SQRT(((AZ126^2*(BA126-1))+(BD126^2*(BE126-1)))/(BA126+BE126-2))),(AY126-BC126)/SQRT(((AZ126^2*(BA126-1))+(BD126^2*(BE126-1)))/(BA126+BE126-2)))","v":{"$error":"#DIV/0!"}},"","",null,null,null,null,null,null,null,null,{"$f":"IF(Sheet2!$A$141=TRUE,-1*((BJ126-BN126)/SQRT(((BK126^2*(BL126-1))+(BO126^2*(BP126-1)))/(BL126+BP126-2))),(BJ126-BN126)/SQRT(((BK126^2*(BL126-1))+(BO126^2*(BP126-1)))/(BL126+BP126-2)))","v":{"$error":"#DIV/0!"}},"",""]
[null,null,"Somatization d",null,null,null,null,null,null,null,null,null,null,null,{"$f":"IF(O122=\"\",\"\",AVERAGE(O122:O126))","v":""},{"$f":"IF(P122=\"\",\"\",AVERAGE(P122:P126))","v":""},null,null,null,null,null,null,null,null,null,{"$f":"IF(Z122=\"\",\"\",AVERAGE(Z122:Z126))","v":""},{"$f":"IF(AA122=\"\",\"\",AVERAGE(AA122:AA126))","v":""},null,null,null,null,null,null,null,null,null,{"$f":"IF(AK122=\"\",\"\",AVERAGE(AK122:AK126))","v":""},{"$f":"IF(AL122=\"\",\"\",AVERAGE(AL122:AL126))","v":""},null,null,null,null,null,null,null,null,null,{"$f":"IF(AV122=\"\",\"\",AVERAGE(AV122:AV126))","v":""},{"$f":"IF(AW122=\"\",\"\",AVERAGE(AW122:AW126))","v":""},null,null,null,null,null,null,null,null,null,{"$f":"IF(BG122=\"\",\"\",AVERAGE(BG122:BG126))","v":""},{"$f":"IF(BH122=\"\",\"\",AVERAGE(BH122:BH126))","v":""},null,null,null,null,null,null,null,null,null,{"$f":"IF(BR122=\"\",\"\",AVERAGE(BR122:BR126))","v":""},{"$f":"IF(BS122=\"\",\"\",AVERAGE(BS122:BS126))","v":""}]
[]
[null,null,"Internalizing Bx","Measure Name"]
[null,null,"Outcome 1:",null,null,null,null,null,null,null,null,null,null,{"$f":"IF(Sheet2!$A$145=TRUE,-1*((G130-K130)/SQRT(((H130^2*(I130-1))+(L130^2*(M130-1)))/(I130+M130-2))),(G130-K130)/SQRT(((H130^2*(I130-1))+(L130^2*(M130-1)))/(I130+M130-2)))","v":{"$error":"#DIV/0!"}},{"$f":"IF(G130=\"\",\"\",N130)","v":""},{"$f":"IF(I130=\"\",\"\",SQRT((I130+M130)/(I130*M130)+(O130^2/(2*(I130+M130)))))","v":""},null,null,null,null,null,null,null,null,{"$f":"IF(Sheet2!$A$145=TRUE,-1*((R130-V130)/SQRT(((S130^2*(T130-1))+(W130^2*(X130-1)))/(T130+X130-2))),(R130-V130)/SQRT(((S130^2*(T130-1))+(W130^2*(X130-1)))/(T130+X130-2)))","v":{"$error":"#DIV/0!"}},{"$f":"IF(R130=\"\",\"\",Y130)","v":""},{"$f":"IF(T130=\"\",\"\",SQRT((T130+X130)/(T130*X130)+(Z130^2/(2*(T130+X130)))))","v":""},null,null,null,null,null,null,null,null,{"$f":"IF(Sheet2!$A$145=TRUE,-1*((AC130-AG130)/SQRT(((AD130^2*(AE130-1))+(AH130^2*(AI130-1)))/(AE130+AI130-2))),(AC130-AG130)/SQRT(((AD130^2*(AE130-1))+(AH130^2*(AI130-1)))/(AE130+AI130-2)))","v":{"$error":"#DIV/0!"}},{"$f":"IF(AC130=\"\",\"\",AJ130)","v":""},{"$f":"IF(AE130=\"\",\"\",SQRT((AE130+AI130)/(AE130*AI130)+(AK130^2/(2*(AE130+AI130)))))","v":""},null,null,null,null,null,null,null,null,{"$f":"IF(Sheet2!$A$145=TRUE,-1*((AN130-AR130)/SQRT(((AO130^2*(AP130-1))+(AS130^2*(AT130-1)))/(AP130+AT130-2))),(AN130-AR130)/SQRT(((AO130^2*(AP130-1))+(AS130^2*(AT130-1)))/(AP130+AT130-2)))","v":{"$error":"#DIV/0!"}},{"$f":"IF(AN130=\"\",\"\",AU130)","v":""},{"$f":"IF(AP130=\"\",\"\",SQRT((AP130+AT130)/(AP130*AT130)+(AV130^2/(2*(AP130+AT130)))))","v":""},null,null,null,null,null,null,null,null,{"$f":"IF(Sheet2!$A$145=TRUE,-1*((AY130-BC130)/SQRT(((AZ130^2*(BA130-1))+(BD130^2*(BE130-1)))/(BA130+BE130-2))),(AY130-BC130)/SQRT(((AZ130^2*(BA130-1))+(BD130^2*(BE130-1)))/(BA130+BE130-2)))","v":{"$error":"#DIV/0!"}},{"$f":"IF(AY130=\"\",\"\",BF130)","v":""},{"$f":"IF(BA130=\"\",\"\",SQRT((BA130+BE130)/(BA130*BE130)+(BG130^2/(2*(BA130+BE130)))))","v":""},null,null,null,null,null,null,null,null,{"$f":"IF(Sheet2!$A$145=TRUE,-1*((BJ130-BN130)/SQRT(((BK130^2*(BL130-1))+(BO130^2*(BP130-1)))/(BL130+BP130-2))),(BJ130-BN130)/SQRT(((BK130^2*(BL130-1))+(BO130^2*(BP130-1)))/(BL130+BP130-2)))","v":{"$error":"#DIV/0!"}},{"$f":"IF(BJ130=\"\",\"\",BQ130)","v":""},{"$f":"IF(BL130=\"\",\"\",SQRT((BL130+BP130)/(BL130*BP130)+(BR130^2/(2*(BL130+BP130)))))","v":""}]
[null,null,"Outcome 2:",null,null,null,null,null,null,null,null,null,null,{"$f":"IF(Sheet2!$A$146=TRUE,-1*((G131-K131)/SQRT(((H131^2*(I131-1))+(L131^2*(M131-1)))/(I131+M131-2))),(G131-K131)/SQRT(((H131^2*(I131-1))+(L131^2*(M131-1)))/(I131+M131-2)))","v":{"$error":"#DIV/0!"}},"","",null,null,null,null,null,null,null,null,{"$f":"IF(Sheet2!$A$146=TRUE,-1*((R131-V131)/SQRT(((S131^2*(T131-1))+(W131^2*(X131-1)))/(T131+X131-2))),(R131-V131)/SQRT(((S131^2*(T131-1))+(W131^2*(X131-1)))/(T131+X131-2)))","v":{"$error":"#DIV/0!"}},"","",null,null,null,null,null,null,null,null,{"$f":"IF(Sheet2!$A$146=TRUE,-1*((AC131-AG131)/SQRT(((AD131^2*(AE131-1))+(AH131^2*(AI131-1)))/(AE131+AI131-2))),(AC131-AG131)/SQRT(((AD131^2*(AE131-1))+(AH131^2*(AI131-1)))/(AE131+AI131-2)))","v":{"$error":"#DIV/0!"}},"","",null,null,null,null,null,null,null,null,{"$f":"IF(Sheet2!$A$146=TRUE,-1*((AN131-AR131)/SQRT(((AO131^2*(AP131-1))+(AS131^2*(AT131-1)))/(AP131+AT131-2))),(AN131-AR131)/SQRT(((AO131^2*(AP131-1))+(AS131^2*(AT131-1)))/(AP131+AT131-2)))","v":{"$error":"#DIV/0!"}},"","",null,null,null,null,null,null,null,null,{"$f":"IF(Sheet2!$A$146=TRUE,-1*((AY131-BC131)/SQRT(((AZ131^2*(BA131-1))+(BD131^2*(BE131-1)))/(BA131+BE131-2))),(AY131-BC131)/SQRT(((AZ131^2*(BA131-1))+(BD131^2*(BE131-1)))/(BA131+BE131-2)))","v":{"$error":"#DIV/0!"}},"","",null,null,null,null,null,null,null,null,{"$f":"IF(Sheet2!$A$146=TRUE,-1*((BJ131-BN131)/SQRT(((BK131^2*(BL131-1))+(BO131^2*(BP131-1)))/(BL131+BP131-2))),(BJ131-BN131)/SQRT(((BK131^2*(BL131-1))+(BO131^2*(BP131-1)))/(BL131+BP131-2)))","v":{"$error":"#DIV/0!"}},"",""]
[null,null,"Outcome 3:",null,null,null,null,null,null,null,null,null,null,{"$f":"IF(Sheet2!$A$147=TRUE,-1*((G132-K132)/SQRT(((H132^2*(I132-1))+(L132^2*(M132-1)))/(I132+M132-2))),(G132-K132)/SQRT(((H132^2*(I132-1))+(L132^2*(M132-1)))/(I132+M132-2)))","v":{"$error":"#DIV/0!"}},"","",null,null,null,null,null,null,null,null,{"$f":"IF(Sheet2!$A$147=TRUE,-1*((R132-V132)/SQRT(((S132^2*(T132-1))+(W132^2*(X132-1)))/(T132+X132-2))),(R132-V132)/SQRT(((S132^2*(T132-1))+(W132^2*(X132-1)))/(T132+X132-2)))","v":{"$error":"#DIV/0!"}},"","",null,null,null,null,null,null,null,null,{"$f":"IF(Sheet2!$A$147=TRUE,-1*((AC132-AG132)/SQRT(((AD132^2*(AE132-1))+(AH132^2*(AI132-1)))/(AE132+AI132-2))),(AC132-AG132)/SQRT(((AD132^2*(AE132-1))+(AH132^2*(AI132-1)))/(AE132+AI132-2)))","v":{"$error":"#DIV/0!"}},"","",null,null,null,null,null,null,null,null,{"$f":"IF(Sheet2!$A$147=TRUE,-1*((AN132-AR132)/SQRT(((AO132^2*(AP132-1))+(AS132^2*(AT132-1)))/(AP132+AT132-2))),(AN132-AR132)/SQRT(((AO132^2*(AP132-1))+(AS132^2*(AT132-1)))/(AP132+AT132-2)))","v":{"$error":"#DIV/0!"}},"","",null,null,null,null,null,null,null,null,{"$f":"IF(Sheet2!$A$147=TRUE,-1*((AY132-BC132)/SQRT(((AZ132^2*(BA132-1))+(BD132^2*(BE132-1)))/(BA132+BE132-2))),(AY132-BC132)/SQRT(((AZ132^2*(BA132-1))+(BD132^2*(BE132-1)))/(BA132+BE132-2)))","v":{"$error":"#DIV/0!"}},"","",null,null,null,null,null,null,null,null,{"$f":"IF(Sheet2!$A$147=TRUE,-1*((BJ132-BN132)/SQRT(((BK132^2*(BL132-1))+(BO132^2*(BP132-1)))/(BL132+BP132-2))),(BJ132-BN132)/SQRT(((BK132^2*(BL132-1))+(BO132^2*(BP132-1)))/(BL132+BP132-2)))","v":{"$error":"#DIV/0!"}},"",""]
[null,null,"Outcome 4:",null,null,null,null,null,null,null,null,null,null,{"$f":"IF(Sheet2!$A$148=TRUE,-1*((G133-K133)/SQRT(((H133^2*(I133-1))+(L133^2*(M133-1)))/(I133+M133-2))),(G133-K133)/SQRT(((H133^2*(I133-1))+(L133^2*(M133-1)))/(I133+M133-2)))","v":{"$error":"#DIV/0!"}},"","",null,null,null,null,null,null,null,null,{"$f":"IF(Sheet2!$A$148=TRUE,-1*((R133-V133)/SQRT(((S133^2*(T133-1))+(W133^2*(X133-1)))/(T133+X133-2))),(R133-V133)/SQRT(((S133^2*(T133-1))+(W133^2*(X133-1)))/(T133+X133-2)))","v":{"$error":"#DIV/0!"}},"","",null,null,null,null,null,null,null,null,{"$f":"IF(Sheet2!$A$148=TRUE,-1*((AC133-AG133)/SQRT(((AD133^2*(AE133-1))+(AH133^2*(AI133-1)))/(AE133+AI133-2))),(AC133-AG133)/SQRT(((AD133^2*(AE133-1))+(AH133^2*(AI133-1)))/(AE133+AI133-2)))","v":{"$error":"#DIV/0!"}},"","",null,null,null,null,null,null,null,null,{"$f":"IF(Sheet2!$A$148=TRUE,-1*((AN133-AR133)/SQRT(((AO133^2*(AP133-1))+(AS133^2*(AT133-1)))/(AP133+AT133-2))),(AN133-AR133)/SQRT(((AO133^2*(AP133-1))+(AS133^2*(AT133-1)))/(AP133+AT133-2)))","v":{"$error":"#DIV/0!"}},"","",null,null,null,null,null,null,null,null,{"$f":"IF(Sheet2!$A$148=TRUE,-1*((AY133-BC133)/SQRT(((AZ133^2*(BA133-1))+(BD133^2*(BE133-1)))/(BA133+BE133-2))),(AY133-BC133)/SQRT(((AZ133^2*(BA133-1))+(BD133^2*(BE133-1)))/(BA133+BE133-2)))","v":{"$error":"#DIV/0!"}},"","",null,null,null,null,null,null,null,null,{"$f":"IF(Sheet2!$A$148=TRUE,-1*((BJ133-BN133)/SQRT(((BK133^2*(BL133-1))+(BO133^2*(BP133-1)))/(BL133+BP133-2))),(BJ133-BN133)/SQRT(((BK133^2*(BL133-1))+(BO133^2*(BP133-1)))/(BL133+BP133-2)))","v":{"$error":"#DIV/0!"}},"",""]
[null,null,"Outcome 5:",null,null,null,null,null,null,null,null,null,null,{"$f":"IF(Sheet2!$A$149=TRUE,-1*((G134-K134)/SQRT(((H134^2*(I134-1))+(L134^2*(M134-1)))/(I134+M134-2))),(G134-K134)/SQRT(((H134^2*(I134-1))+(L134^2*(M134-1)))/(I134+M134-2)))","v":{"$error":"#DIV/0!"}},"","",null,null,null,null,null,null,null,null,{"$f":"IF(Sheet2!$A$149=TRUE,-1*((R134-V134)/SQRT(((S134^2*(T134-1))+(W134^2*(X134-1)))/(T134+X134-2))),(R134-V134)/SQRT(((S134^2*(T134-1))+(W134^2*(X134-1)))/(T134+X134-2)))","v":{"$error":"#DIV/0!"}},"","",null,null,null,null,null,null,null,null,{"$f":"IF(Sheet2!$A$149=TRUE,-1*((AC134-AG134)/SQRT(((AD134^2*(AE134-1))+(AH134^2*(AI134-1)))/(AE134+AI134-2))),(AC134-AG134)/SQRT(((AD134^2*(AE134-1))+(AH134^2*(AI134-1)))/(AE134+AI134-2)))","v":{"$error":"#DIV/0!"}},"","",null,null,null,null,null,null,null,null,{"$f":"IF(Sheet2!$A$149=TRUE,-1*((AN134-AR134)/SQRT(((AO134^2*(AP134-1))+(AS134^2*(AT134-1)))/(AP134+AT134-2))),(AN134-AR134)/SQRT(((AO134^2*(AP134-1))+(AS134^2*(AT134-1)))/(AP134+AT134-2)))","v":{"$error":"#DIV/0!"}},"","",null,null,null,null,null,null,null,null,{"$f":"IF(Sheet2!$A$149=TRUE,-1*((AY134-BC134)/SQRT(((AZ134^2*(BA134-1))+(BD134^2*(BE134-1)))/(BA134+BE134-2))),(AY134-BC134)/SQRT(((AZ134^2*(BA134-1))+(BD134^2*(BE134-1)))/(BA134+BE134-2)))","v":{"$error":"#DIV/0!"}},"","",null,null,null,null,null,null,null,null,{"$f":"IF(Sheet2!$A$149=TRUE,-1*((BJ134-BN134)/SQRT(((BK134^2*(BL134-1))+(BO134^2*(BP134-1)))/(BL134+BP134-2))),(BJ134-BN134)/SQRT(((BK134^2*(BL134-1))+(BO134^2*(BP134-1)))/(BL134+BP134-2)))","v":{"$error":"#DIV/0!"}},"",""]
[null,null,"Internalizing Bx d",null,null,null,null,null,null,null,null,null,null,null,{"$f":"IF(O130=\"\",\"\",AVERAGE(O130:O134))","v":""},{"$f":"IF(P130=\"\",\"\",AVERAGE(P130:P134))","v":""},null,null,null,null,null,null,null,null,null,{"$f":"IF(Z130=\"\",\"\",AVERAGE(Z130:Z134))","v":""},{"$f":"IF(AA130=\"\",\"\",AVERAGE(AA130:AA134))","v":""},null,null,null,null,null,null,null,null,null,{"$f":"IF(AK130=\"\",\"\",AVERAGE(AK130:AK134))","v":""},{"$f":"IF(AL130=\"\",\"\",AVERAGE(AL130:AL134))","v":""},null,null,null,null,null,null,null,null,null,{"$f":"IF(AV130=\"\",\"\",AVERAGE(AV130:AV134))","v":""},{"$f":"IF(AW130=\"\",\"\",AVERAGE(AW130:AW134))","v":""},null,null,null,null,null,null,null,null,null,{"$f":"IF(BG130=\"\",\"\",AVERAGE(BG130:BG134))","v":""},{"$f":"IF(BH130=\"\",\"\",AVERAGE(BH130:BH134))","v":""},null,null,null,null,null,null,null,null,null,{"$f":"IF(BR130=\"\",\"\",AVERAGE(BR130:BR134))","v":""},{"$f":"IF(BS130=\"\",\"\",AVERAGE(BS130:BS134))","v":""}]
[]
[null,null,"Externalizing Bx","Measure Name"]
[null,null,"Outcome 1:",null,null,null,null,null,null,null,null,null,null,{"$f":"IF(Sheet2!$A$153=TRUE,-1*((G138-K138)/SQRT(((H138^2*(I138-1))+(L138^2*(M138-1)))/(I138+M138-2))),(G138-K138)/SQRT(((H138^2*(I138-1))+(L138^2*(M138-1)))/(I138+M138-2)))","v":{"$error":"#DIV/0!"}},{"$f":"IF(G138=\"\",\"\",N138)","v":""},{"$f":"IF(I138=\"\",\"\",SQRT((I138+M138)/(I138*M138)+(O138^2/(2*(I138+M138)))))","v":""},null,null,null,null,null,null,null,null,{"$f":"IF(Sheet2!$A$153=TRUE,-1*((R138-V138)/SQRT(((S138^2*(T138-1))+(W138^2*(X138-1)))/(T138+X138-2))),(R138-V138)/SQRT(((S138^2*(T138-1))+(W138^2*(X138-1)))/(T138+X138-2)))","v":{"$error":"#DIV/0!"}},{"$f":"IF(R138=\"\",\"\",Y138)","v":""},{"$f":"IF(T138=\"\",\"\",SQRT((T138+X138)/(T138*X138)+(Z138^2/(2*(T138+X138)))))","v":""},null,null,null,null,null,null,null,null,{"$f":"IF(Sheet2!$A$153=TRUE,-1*((AC138-AG138)/SQRT(((AD138^2*(AE138-1))+(AH138^2*(AI138-1)))/(AE138+AI138-2))),(AC138-AG138)/SQRT(((AD138^2*(AE138-1))+(AH138^2*(AI138-1)))/(AE138+AI138-2)))","v":{"$error":"#DIV/0!"}},{"$f":"IF(AC138=\"\",\"\",AJ138)","v":""},{"$f":"IF(AE138=\"\",\"\",SQRT((AE138+AI138)/(AE138*AI138)+(AK138^2/(2*(AE138+AI138)))))","v":""},null,null,null,null,null,null,null,null,{"$f":"IF(Sheet2!$A$153=TRUE,-1*((AN138-AR138)/SQRT(((AO138^2*(AP138-1))+(AS138^2*(AT138-1)))/(AP138+AT138-2))),(AN138-AR138)/SQRT(((AO138^2*(AP138-1))+(AS138^2*(AT138-1)))/(AP138+AT138-2)))","v":{"$error":"#DIV/0!"}},{"$f":"IF(AN138=\"\",\"\",AU138)","v":""},{"$f":"IF(AP138=\"\",\"\",SQRT((AP138+AT138)/(AP138*AT138)+(AV138^2/(2*(AP138+AT138)))))","v":""},null,null,null,null,null,null,null,null,{"$f":"IF(Sheet2!$A$153=TRUE,-1*((AY138-BC138)/SQRT(((AZ138^2*(BA138-1))+(BD138^2*(BE138-1)))/(BA138+BE138-2))),(AY138-BC138)/SQRT(((AZ138^2*(BA138-1))+(BD138^2*(BE138-1)))/(BA138+BE138-2)))","v":{"$error":"#DIV/0!"}},{"$f":"IF(AY138=\"\",\"\",BF138)","v":""},{"$f":"IF(BA138=\"\",\"\",SQRT((BA138+BE138)/(BA138*BE138)+(BG138^2/(2*(BA138+BE138)))))","v":""},null,null,null,null,null,null,null,null,{"$f":"IF(Sheet2!$A$153=TRUE,-1*((BJ138-BN138)/SQRT(((BK138^2*(BL138-1))+(BO138^2*(BP138-1)))/(BL138+BP138-2))),(BJ138-BN138)/SQRT(((BK138^2*(BL138-1))+(BO138^2*(BP138-1)))/(BL138+BP138-2)))","v":{"$error":"#DIV/0!"}},{"$f":"IF(BJ138=\"\",\"\",BQ138)","v":""},{"$f":"IF(BL138=\"\",\"\",SQRT((BL138+BP138)/(BL138*BP138)+(BR138^2/(2*(BL138+BP138)))))","v":""}]
[null,null,"Outcome 2:",null,null,null,null,null,null,null,null,null,null,{"$f":"IF(Sheet2!$A$154=TRUE,-1*((G139-K139)/SQRT(((H139^2*(I139-1))+(L139^2*(M139-1)))/(I139+M139-2))),(G139-K139)/SQRT(((H139^2*(I139-1))+(L139^2*(M139-1)))/(I139+M139-2)))","v":{"$error":"#DIV/0!"}},{"$f":"IF(G139=\"\",\"\",N139)","v":""},"",null,null,null,null,null,null,null,null,{"$f":"IF(Sheet2!$A$154=TRUE,-1*((R139-V139)/SQRT(((S139^2*(T139-1))+(W139^2*(X139-1)))/(T139+X139-2))),(R139-V139)/SQRT(((S139^2*(T139-1))+(W139^2*(X139-1)))/(T139+X139-2)))","v":{"$error":"#DIV/0!"}},{"$f":"IF(R139=\"\",\"\",Y139)","v":""},"",null,null,null,null,null,null,null,null,{"$f":"IF(Sheet2!$A$154=TRUE,-1*((AC139-AG139)/SQRT(((AD139^2*(AE139-1))+(AH139^2*(AI139-1)))/(AE139+AI139-2))),(AC139-AG139)/SQRT(((AD139^2*(AE139-1))+(AH139^2*(AI139-1)))/(AE139+AI139-2)))","v":{"$error":"#DIV/0!"}},{"$f":"IF(AC139=\"\",\"\",AJ139)","v":""},"",null,null,null,null,null,null,null,null,{"$f":"IF(Sheet2!$A$154=TRUE,-1*((AN139-AR139)/SQRT(((AO139^2*(AP139-1))+(AS139^2*(AT139-1)))/(AP139+AT139-2))),(AN139-AR139)/SQRT(((AO139^2*(AP139-1))+(AS139^2*(AT139-1)))/(AP139+AT139-2)))","v":{"$error":"#DIV/0!"}},{"$f":"IF(AN139=\"\",\"\",AU139)","v":""},"",null,null,null,null,null,null,null,null,{"$f":"IF(Sheet2!$A$154=TRUE,-1*((AY139-BC139)/SQRT(((AZ139^2*(BA139-1))+(BD139^2*(BE139-1)))/(BA139+BE139-2))),(AY139-BC139)/SQRT(((AZ139^2*(BA139-1))+(BD139^2*(BE139-1)))/(BA139+BE139-2)))","v":{"$error":"#DIV/0!"}},{"$f":"IF(AY139=\"\",\"\",BF139)","v":""},"",null,null,null,null,null,null,null,null,{"$f":"IF(Sheet2!$A$154=TRUE,-1*((BJ139-BN139)/SQRT(((BK139^2*(BL139-1))+(BO139^2*(BP139-1)))/(BL139+BP139-2))),(BJ139-BN139)/SQRT(((BK139^2*(BL139-1))+(BO139^2*(BP139-1)))/(BL139+BP139-2)))","v":{"$error":"#DIV/0!"}},{"$f":"IF(BJ139=\"\",\"\",BQ139)","v":""},""]
[null,null,"Outcome 3:",null,null,null,null,null,null,null,null,null,null,{"$f":"IF(Sheet2!$A$155=TRUE,-1*((G140-K140)/SQRT(((H140^2*(I140-1))+(L140^2*(M140-1)))/(I140+M140-2))),(G140-K140)/SQRT(((H140^2*(I140-1))+(L140^2*(M140-1)))/(I140+M140-2)))","v":{"$error":"#DIV/0!"}},"","",null,null,null,null,null,null,null,null,{"$f":"IF(Sheet2!$A$155=TRUE,-1*((R140-V140)/SQRT(((S140^2*(T140-1))+(W140^2*(X140-1)))/(T140+X140-2))),(R140-V140)/SQRT(((S140^2*(T140-1))+(W140^2*(X140-1)))/(T140+X140-2)))","v":{"$error":"#DIV/0!"}},"","",null,null,null,null,null,null,null,null,{"$f":"IF(Sheet2!$A$155=TRUE,-1*((AC140-AG140)/SQRT(((AD140^2*(AE140-1))+(AH140^2*(AI140-1)))/(AE140+AI140-2))),(AC140-AG140)/SQRT(((AD140^2*(AE140-1))+(AH140^2*(AI140-1)))/(AE140+AI140-2)))","v":{"$error":"#DIV/0!"}},"","",null,null,null,null,null,null,null,null,{"$f":"IF(Sheet2!$A$155=TRUE,-1*((AN140-AR140)/SQRT(((AO140^2*(AP140-1))+(AS140^2*(AT140-1)))/(AP140+AT140-2))),(AN140-AR140)/SQRT(((AO140^2*(AP140-1))+(AS140^2*(AT140-1)))/(AP140+AT140-2)))","v":{"$error":"#DIV/0!"}},"","",null,null,null,null,null,null,null,null,{"$f":"IF(Sheet2!$A$155=TRUE,-1*((AY140-BC140)/SQRT(((AZ140^2*(BA140-1))+(BD140^2*(BE140-1)))/(BA140+BE140-2))),(AY140-BC140)/SQRT(((AZ140^2*(BA140-1))+(BD140^2*(BE140-1)))/(BA140+BE140-2)))","v":{"$error":"#DIV/0!"}},"","",null,null,null,null,null,null,null,null,{"$f":"IF(Sheet2!$A$155=TRUE,-1*((BJ140-BN140)/SQRT(((BK140^2*(BL140-1))+(BO140^2*(BP140-1)))/(BL140+BP140-2))),(BJ140-BN140)/SQRT(((BK140^2*(BL140-1))+(BO140^2*(BP140-1)))/(BL140+BP140-2)))","v":{"$error":"#DIV/0!"}},"",""]
[null,null,"Outcome 4:",null,null,null,null,null,null,null,null,null,null,{"$f":"IF(Sheet2!$A$156=TRUE,-1*((G141-K141)/SQRT(((H141^2*(I141-1))+(L141^2*(M141-1)))/(I141+M141-2))),(G141-K141)/SQRT(((H141^2*(I141-1))+(L141^2*(M141-1)))/(I141+M141-2)))","v":{"$error":"#DIV/0!"}},"","",null,null,null,null,null,null,null,null,{"$f":"IF(Sheet2!$A$156=TRUE,-1*((R141-V141)/SQRT(((S141^2*(T141-1))+(W141^2*(X141-1)))/(T141+X141-2))),(R141-V141)/SQRT(((S141^2*(T141-1))+(W141^2*(X141-1)))/(T141+X141-2)))","v":{"$error":"#DIV/0!"}},"","",null,null,null,null,null,null,null,null,{"$f":"IF(Sheet2!$A$156=TRUE,-1*((AC141-AG141)/SQRT(((AD141^2*(AE141-1))+(AH141^2*(AI141-1)))/(AE141+AI141-2))),(AC141-AG141)/SQRT(((AD141^2*(AE141-1))+(AH141^2*(AI141-1)))/(AE141+AI141-2)))","v":{"$error":"#DIV/0!"}},"","",null,null,null,null,null,null,null,null,{"$f":"IF(Sheet2!$A$156=TRUE,-1*((AN141-AR141)/SQRT(((AO141^2*(AP141-1))+(AS141^2*(AT141-1)))/(AP141+AT141-2))),(AN141-AR141)/SQRT(((AO141^2*(AP141-1))+(AS141^2*(AT141-1)))/(AP141+AT141-2)))","v":{"$error":"#DIV/0!"}},"","",null,null,null,null,null,null,null,null,{"$f":"IF(Sheet2!$A$156=TRUE,-1*((AY141-BC141)/SQRT(((AZ141^2*(BA141-1))+(BD141^2*(BE141-1)))/(BA141+BE141-2))),(AY141-BC141)/SQRT(((AZ141^2*(BA141-1))+(BD141^2*(BE141-1)))/(BA141+BE141-2)))","v":{"$error":"#DIV/0!"}},"","",null,null,null,null,null,null,null,null,{"$f":"IF(Sheet2!$A$156=TRUE,-1*((BJ141-BN141)/SQRT(((BK141^2*(BL141-1))+(BO141^2*(BP141-1)))/(BL141+BP141-2))),(BJ141-BN141)/SQRT(((BK141^2*(BL141-1))+(BO141^2*(BP141-1)))/(BL141+BP141-2)))","v":{"$error":"#DIV/0!"}},"",""]
[null,null,"Outcome 5:",null,null,null,null,null,null,null,null,null,null,{"$f":"IF(Sheet2!$A$157=TRUE,-1*((G142-K142)/SQRT(((H142^2*(I142-1))+(L142^2*(M142-1)))/(I142+M142-2))),(G142-K142)/SQRT(((H142^2*(I142-1))+(L142^2*(M142-1)))/(I142+M142-2)))","v":{"$error":"#DIV/0!"}},"","",null,null,null,null,null,null,null,null,{"$f":"IF(Sheet2!$A$157=TRUE,-1*((R142-V142)/SQRT(((S142^2*(T142-1))+(W142^2*(X142-1)))/(T142+X142-2))),(R142-V142)/SQRT(((S142^2*(T142-1))+(W142^2*(X142-1)))/(T142+X142-2)))","v":{"$error":"#DIV/0!"}},"","",null,null,null,null,null,null,null,null,{"$f":"IF(Sheet2!$A$157=TRUE,-1*((AC142-AG142)/SQRT(((AD142^2*(AE142-1))+(AH142^2*(AI142-1)))/(AE142+AI142-2))),(AC142-AG142)/SQRT(((AD142^2*(AE142-1))+(AH142^2*(AI142-1)))/(AE142+AI142-2)))","v":{"$error":"#DIV/0!"}},"","",null,null,null,null,null,null,null,null,{"$f":"IF(Sheet2!$A$157=TRUE,-1*((AN142-AR142)/SQRT(((AO142^2*(AP142-1))+(AS142^2*(AT142-1)))/(AP142+AT142-2))),(AN142-AR142)/SQRT(((AO142^2*(AP142-1))+(AS142^2*(AT142-1)))/(AP142+AT142-2)))","v":{"$error":"#DIV/0!"}},"","",null,null,null,null,null,null,null,null,{"$f":"IF(Sheet2!$A$157=TRUE,-1*((AY142-BC142)/SQRT(((AZ142^2*(BA142-1))+(BD142^2*(BE142-1)))/(BA142+BE142-2))),(AY142-BC142)/SQRT(((AZ142^2*(BA142-1))+(BD142^2*(BE142-1)))/(BA142+BE142-2)))","v":{"$error":"#DIV/0!"}},"","",null,null,null,null,null,null,null,null,{"$f":"IF(Sheet2!$A$157=TRUE,-1*((BJ142-BN142)/SQRT(((BK142^2*(BL142-1))+(BO142^2*(BP142-1)))/(BL142+BP142-2))),(BJ142-BN142)/SQRT(((BK142^2*(BL142-1))+(BO142^2*(BP142-1)))/(BL142+BP142-2)))","v":{"$error":"#DIV/0!"}},"",""]
[null,null,"Externalizing Bx d",null,null,null,null,null,null,null,null,null,null,null,{"$f":"IF(O138=\"\",\"\",AVERAGE(O138:O142))","v":""},{"$f":"IF(P138=\"\",\"\",AVERAGE(P138:P142))","v":""},null,null,null,null,null,null,null,null,null,{"$f":"IF(Z138=\"\",\"\",AVERAGE(Z138:Z142))","v":""},{"$f":"IF(AA138=\"\",\"\",AVERAGE(AA138:AA142))","v":""},null,null,null,null,null,null,null,null,null,{"$f":"IF(AK138=\"\",\"\",AVERAGE(AK138:AK142))","v":""},{"$f":"IF(AL138=\"\",\"\",AVERAGE(AL138:AL142))","v":""},null,null,null,null,null,null,null,null,null,{"$f":"IF(AV138=\"\",\"\",AVERAGE(AV138:AV142))","v":""},{"$f":"IF(AW138=\"\",\"\",AVERAGE(AW138:AW142))","v":""},null,null,null,null,null,null,null,null,null,{"$f":"IF(BG138=\"\",\"\",AVERAGE(BG138:BG142))","v":""},{"$f":"IF(BH138=\"\",\"\",AVERAGE(BH138:BH142))","v":""},null,null,null,null,null,null,null,null,null,{"$f":"IF(BR138=\"\",\"\",AVERAGE(BR138:BR142))","v":""},{"$f":"IF(BS138=\"\",\"\",AVERAGE(BS138:BS142))","v":""}]
[]
[null,null,"Overall Mood d",null,null,null,null,null,null,null,null,null,null,null,{"$f":"AVERAGE(O90:O94,O98:O102,O106:O110,O114:O118,O122:O126,O130:O134,O138:O142)","v":{"$error":"#DIV/0!"}},{"$f":"AVERAGE(P90:P94,P98:P102,P106:P110,P114:P118,P122:P126,P130:P134,P138:P142)","v":{"$error":"#DIV/0!"}},null,null,null,null,null,null,null,null,null,{"$f":"AVERAGE(Z90:Z94,Z98:Z102,Z106:Z110,Z114:Z118,Z122:Z126,Z130:Z134,Z138:Z142)","v":{"$error":"#DIV/0!"}},{"$f":"AVERAGE(AA90:AA94,AA98:AA102,AA106:AA110,AA114:AA118,AA122:AA126,AA130:AA134,AA138:AA142)","v":{"$error":"#DIV/0!"}},null,null,null,null,null,null,null,null,null,{"$f":"AVERAGE(AK90:AK94,AK98:AK102,AK106:AK110,AK114:AK118,AK122:AK126,AK130:AK134,AK138:AK142)","v":{"$error":"#DIV/0!"}},{"$f":"AVERAGE(AL90:AL94,AL98:AL102,AL106:AL110,AL114:AL118,AL122:AL126,AL130:AL134,AL138:AL142)","v":{"$error":"#DIV/0!"}},null,null,null,null,null,null,null,null,null,{"$f":"AVERAGE(AV90:AV94,AV98:AV102,AV106:AV110,AV114:AV118,AV122:AV126,AV130:AV134,AV138:AV142)","v":{"$error":"#DIV/0!"}},{"$f":"AVERAGE(AW90:AW94,AW98:AW102,AW106:AW110,AW114:AW118,AW122:AW126,AW130:AW134,AW138:AW142)","v":{"$error":"#DIV/0!"}},null,null,null,null,null,null,null,null,null,{"$f":"AVERAGE(BG90:BG94,BG98:BG102,BG106:BG110,BG114:BG118,BG122:BG126,BG130:BG134,BG138:BG142)","v":{"$error":"#DIV/0!"}},{"$f":"AVERAGE(BH90:BH94,BH98:BH102,BH106:BH110,BH114:BH118,BH122:BH126,BH130:BH134,BH138:BH142)","v":{"$error":"#DIV/0!"}},null,null,null,null,null,null,null,null,null,{"$f":"AVERAGE(BR90:BR94,BR98:BR102,BR106:BR110,BR114:BR118,BR122:BR126,BR130:BR134,BR138:BR142)","v":{"$error":"#DIV/0!"}},{"$f":"AVERAGE(BS90:BS94,BS98:BS102,BS106:BS110,BS114:BS118,BS122:BS126,BS130:BS134,BS138:BS142)","v":{"$error":"#DIV/0!"}}]
[]
[null,null,null,null,null,null,"Post-Concussive Symptomology",null,null,null,null,null,null,null,null,null,null,"Post-Concussive Symptomology",null,null,null,null,null,null,null,null,null,null,"Post-Concussive Symptomology",null,null,null,null,null,null,null,null,null,null,"Post-Concussive Symptomology",null,null,null,null,null,null,null,null,null,null,"Post-Concussive Symptomology",null,null,null,null,null,null,null,null,null,null,"Post-Concussive Symptomology"]
[]
[null,null,"PCS","Measure Name"]
[null,null,"Outcome 1:",null,null,null,null,null,null,null,null,null,null,{"$f":"IF(Sheet2!$A$165=TRUE,-1*((G150-K150)/SQRT(((H150^2*(I150-1))+(L150^2*(M150-1)))/(I150+M150-2))),(G150-K150)/SQRT(((H150^2*(I150-1))+(L150^2*(M150-1)))/(I150+M150-2)))","v":{"$error":"#DIV/0!"}},{"$f":"IF(G150=\"\",\"\",N150)","v":""},{"$f":"IF(I150=\"\",\"\",SQRT((I150+M150)/(I150*M150)+(O150^2/(2*(I150+M150)))))","v":""},null,null,null,null,null,null,null,null,{"$f":"IF(Sheet2!$A$165=TRUE,-1*((R150-V150)/SQRT(((S150^2*(T150-1))+(W150^2*(X150-1)))/(T150+X150-2))),(R150-V150)/SQRT(((S150^2*(T150-1))+(W150^2*(X150-1)))/(T150+X150-2)))","v":{"$error":"#DIV/0!"}},{"$f":"IF(R150=\"\",\"\",Y150)","v":""},{"$f":"IF(T150=\"\",\"\",SQRT((T150+X150)/(T150*X150)+(Z150^2/(2*(T150+X150)))))","v":""},null,null,null,null,null,null,null,null,{"$f":"IF(Sheet2!$A$165=TRUE,-1*((AC150-AG150)/SQRT(((AD150^2*(AE150-1))+(AH150^2*(AI150-1)))/(AE150+AI150-2))),(AC150-AG150)/SQRT(((AD150^2*(AE150-1))+(AH150^2*(AI150-1)))/(AE150+AI150-2)))","v":{"$error":"#DIV/0!"}},{"$f":"IF(AC150=\"\",\"\",AJ150)","v":""},{"$f":"IF(AE150=\"\",\"\",SQRT((AE150+AI150)/(AE150*AI150)+(AK150^2/(2*(AE150+AI150)))))","v":""},null,null,null,null,null,null,null,null,{"$f":"IF(Sheet2!$A$165=TRUE,-1*((AN150-AR150)/SQRT(((AO150^2*(AP150-1))+(AS150^2*(AT150-1)))/(AP150+AT150-2))),(AN150-AR150)/SQRT(((AO150^2*(AP150-1))+(AS150^2*(AT150-1)))/(AP150+AT150-2)))","v":{"$error":"#DIV/0!"}},{"$f":"IF(AN150=\"\",\"\",AU150)","v":""},{"$f":"IF(AP150=\"\",\"\",SQRT((AP150+AT150)/(AP150*AT150)+(AV150^2/(2*(AP150+AT150)))))","v":""},null,null,null,null,null,null,null,null,{"$f":"IF(Sheet2!$A$165=TRUE,-1*((AY150-BC150)/SQRT(((AZ150^2*(BA150-1))+(BD150^2*(BE150-1)))/(BA150+BE150-2))),(AY150-BC150)/SQRT(((AZ150^2*(BA150-1))+(BD150^2*(BE150-1)))/(BA150+BE150-2)))","v":{"$error":"#DIV/0!"}},{"$f":"IF(AY150=\"\",\"\",BF150)","v":""},{"$f":"IF(BA150=\"\",\"\",SQRT((BA150+BE150)/(BA150*BE150)+(BG150^2/(2*(BA150+BE150)))))","v":""},null,null,null,null,null,null,null,null,{"$f":"IF(Sheet2!$A$165=TRUE,-1*((BJ150-BN150)/SQRT(((BK150^2*(BL150-1))+(BO150^2*(BP150-1)))/(BL150+BP150-2))),(BJ150-BN150)/SQRT(((BK150^2*(BL150-1))+(BO150^2*(BP150-1)))/(BL150+BP150-2)))","v":{"$error":"#DIV/0!"}},{"$f":"IF(BJ150=\"\",\"\",BQ150)","v":""},{"$f":"IF(BL150=\"\",\"\",SQRT((BL150+BP150)/(BL150*BP150)+(BR150^2/(2*(BL150+BP150)))))","v":""}]
[null,null,"Outcome 2:",null,null,null,null,null,null,null,null,null,null,{"$f":"IF(Sheet2!$A$166=TRUE,-1*((G151-K151)/SQRT(((H151^2*(I151-1))+(L151^2*(M151-1)))/(I151+M151-2))),(G151-K151)/SQRT(((H151^2*(I151-1))+(L151^2*(M151-1)))/(I151+M151-2)))","v":{"$error":"#DIV/0!"}},{"$f":"IF(G151=\"\",\"\",N151)","v":""},{"$f":"IF(I151=\"\",\"\",SQRT((I151+M151)/(I151*M151)+(O151^2/(2*(I151+M151)))))","v":""},null,null,null,null,null,null,null,null,{"$f":"IF(Sheet2!$A$166=TRUE,-1*((R151-V151)/SQRT(((S151^2*(T151-1))+(W151^2*(X151-1)))/(T151+X151-2))),(R151-V151)/SQRT(((S151^2*(T151-1))+(W151^2*(X151-1)))/(T151+X151-2)))","v":{"$error":"#DIV/0!"}},{"$f":"IF(R151=\"\",\"\",Y151)","v":""},"",null,null,null,null,null,null,null,null,{"$f":"IF(Sheet2!$A$166=TRUE,-1*((AC151-AG151)/SQRT(((AD151^2*(AE151-1))+(AH151^2*(AI151-1)))/(AE151+AI151-2))),(AC151-AG151)/SQRT(((AD151^2*(AE151-1))+(AH151^2*(AI151-1)))/(AE151+AI151-2)))","v":{"$error":"#DIV/0!"}},{"$f":"IF(AC151=\"\",\"\",AJ151)","v":""},"",null,null,null,null,null,null,null,null,{"$f":"IF(Sheet2!$A$166=TRUE,-1*((AN151-AR151)/SQRT(((AO151^2*(AP151-1))+(AS151^2*(AT151-1)))/(AP151+AT151-2))),(AN151-AR151)/SQRT(((AO151^2*(AP151-1))+(AS151^2*(AT151-1)))/(AP151+AT151-2)))","v":{"$error":"#DIV/0!"}},{"$f":"IF(AN151=\"\",\"\",AU151)","v":""},"",null,null,null,null,null,null,null,null,{"$f":"IF(Sheet2!$A$166=TRUE,-1*((AY151-BC151)/SQRT(((AZ151^2*(BA151-1))+(BD151^2*(BE151-1)))/(BA151+BE151-2))),(AY151-BC151)/SQRT(((AZ151^2*(BA151-1))+(BD151^2*(BE151-1)))/(BA151+BE151-2)))","v":{"$error":"#DIV/0!"}},{"$f":"IF(AY151=\"\",\"\",BF151)","v":""},"",null,null,null,null,null,null,null,null,{"$f":"IF(Sheet2!$A$166=TRUE,-1*((BJ151-BN151)/SQRT(((BK151^2*(BL151-1))+(BO151^2*(BP151-1)))/(BL151+BP151-2))),(BJ151-BN151)/SQRT(((BK151^2*(BL151-1))+(BO151^2*(BP151-1)))/(BL151+BP151-2)))","v":{"$error":"#DIV/0!"}},{"$f":"IF(BJ151=\"\",\"\",BQ151)","v":""},""]
[null,null,"Outcome 3:",null,null,null,null,null,null,null,null,null,null,{"$f":"IF(Sheet2!$A$167=TRUE,-1*((G152-K152)/SQRT(((H152^2*(I152-1))+(L152^2*(M152-1)))/(I152+M152-2))),(G152-K152)/SQRT(((H152^2*(I152-1))+(L152^2*(M152-1)))/(I152+M152-2)))","v":{"$error":"#DIV/0!"}},"","",null,null,null,null,null,null,null,null,{"$f":"IF(Sheet2!$A$167=TRUE,-1*((R152-V152)/SQRT(((S152^2*(T152-1))+(W152^2*(X152-1)))/(T152+X152-2))),(R152-V152)/SQRT(((S152^2*(T152-1))+(W152^2*(X152-1)))/(T152+X152-2)))","v":{"$error":"#DIV/0!"}},"","",null,null,null,null,null,null,null,null,{"$f":"IF(Sheet2!$A$167=TRUE,-1*((AC152-AG152)/SQRT(((AD152^2*(AE152-1))+(AH152^2*(AI152-1)))/(AE152+AI152-2))),(AC152-AG152)/SQRT(((AD152^2*(AE152-1))+(AH152^2*(AI152-1)))/(AE152+AI152-2)))","v":{"$error":"#DIV/0!"}},"","",null,null,null,null,null,null,null,null,{"$f":"IF(Sheet2!$A$167=TRUE,-1*((AN152-AR152)/SQRT(((AO152^2*(AP152-1))+(AS152^2*(AT152-1)))/(AP152+AT152-2))),(AN152-AR152)/SQRT(((AO152^2*(AP152-1))+(AS152^2*(AT152-1)))/(AP152+AT152-2)))","v":{"$error":"#DIV/0!"}},"","",null,null,null,null,null,null,null,null,{"$f":"IF(Sheet2!$A$167=TRUE,-1*((AY152-BC152)/SQRT(((AZ152^2*(BA152-1))+(BD152^2*(BE152-1)))/(BA152+BE152-2))),(AY152-BC152)/SQRT(((AZ152^2*(BA152-1))+(BD152^2*(BE152-1)))/(BA152+BE152-2)))","v":{"$error":"#DIV/0!"}},"","",null,null,null,null,null,null,null,null,{"$f":"IF(Sheet2!$A$167=TRUE,-1*((BJ152-BN152)/SQRT(((BK152^2*(BL152-1))+(BO152^2*(BP152-1)))/(BL152+BP152-2))),(BJ152-BN152)/SQRT(((BK152^2*(BL152-1))+(BO152^2*(BP152-1)))/(BL152+BP152-2)))","v":{"$error":"#DIV/0!"}},"",""]
[null,null,"Outcome 4:",null,null,null,null,null,null,null,null,null,null,{"$f":"IF(Sheet2!$A$168=TRUE,-1*((G153-K153)/SQRT(((H153^2*(I153-1))+(L153^2*(M153-1)))/(I153+M153-2))),(G153-K153)/SQRT(((H153^2*(I153-1))+(L153^2*(M153-1)))/(I153+M153-2)))","v":{"$error":"#DIV/0!"}},"","",null,null,null,null,null,null,null,null,{"$f":"IF(Sheet2!$A$168=TRUE,-1*((R153-V153)/SQRT(((S153^2*(T153-1))+(W153^2*(X153-1)))/(T153+X153-2))),(R153-V153)/SQRT(((S153^2*(T153-1))+(W153^2*(X153-1)))/(T153+X153-2)))","v":{"$error":"#DIV/0!"}},"","",null,null,null,null,null,null,null,null,{"$f":"IF(Sheet2!$A$168=TRUE,-1*((AC153-AG153)/SQRT(((AD153^2*(AE153-1))+(AH153^2*(AI153-1)))/(AE153+AI153-2))),(AC153-AG153)/SQRT(((AD153^2*(AE153-1))+(AH153^2*(AI153-1)))/(AE153+AI153-2)))","v":{"$error":"#DIV/0!"}},"","",null,null,null,null,null,null,null,null,{"$f":"IF(Sheet2!$A$168=TRUE,-1*((AN153-AR153)/SQRT(((AO153^2*(AP153-1))+(AS153^2*(AT153-1)))/(AP153+AT153-2))),(AN153-AR153)/SQRT(((AO153^2*(AP153-1))+(AS153^2*(AT153-1)))/(AP153+AT153-2)))","v":{"$error":"#DIV/0!"}},"","",null,null,null,null,null,null,null,null,{"$f":"IF(Sheet2!$A$168=TRUE,-1*((AY153-BC153)/SQRT(((AZ153^2*(BA153-1))+(BD153^2*(BE153-1)))/(BA153+BE153-2))),(AY153-BC153)/SQRT(((AZ153^2*(BA153-1))+(BD153^2*(BE153-1)))/(BA153+BE153-2)))","v":{"$error":"#DIV/0!"}},"","",null,null,null,null,null,null,null,null,{"$f":"IF(Sheet2!$A$168=TRUE,-1*((BJ153-BN153)/SQRT(((BK153^2*(BL153-1))+(BO153^2*(BP153-1)))/(BL153+BP153-2))),(BJ153-BN153)/SQRT(((BK153^2*(BL153-1))+(BO153^2*(BP153-1)))/(BL153+BP153-2)))","v":{"$error":"#DIV/0!"}},"",""]
[null,null,"Outcome 5:",null,null,null,null,null,null,null,null,null,null,{"$f":"IF(Sheet2!$A$169=TRUE,-1*((G154-K154)/SQRT(((H154^2*(I154-1))+(L154^2*(M154-1)))/(I154+M154-2))),(G154-K154)/SQRT(((H154^2*(I154-1))+(L154^2*(M154-1)))/(I154+M154-2)))","v":{"$error":"#DIV/0!"}},"","",null,null,null,null,null,null,null,null,{"$f":"IF(Sheet2!$A$169=TRUE,-1*((R154-V154)/SQRT(((S154^2*(T154-1))+(W154^2*(X154-1)))/(T154+X154-2))),(R154-V154)/SQRT(((S154^2*(T154-1))+(W154^2*(X154-1)))/(T154+X154-2)))","v":{"$error":"#DIV/0!"}},"","",null,null,null,null,null,null,null,null,{"$f":"IF(Sheet2!$A$169=TRUE,-1*((AC154-AG154)/SQRT(((AD154^2*(AE154-1))+(AH154^2*(AI154-1)))/(AE154+AI154-2))),(AC154-AG154)/SQRT(((AD154^2*(AE154-1))+(AH154^2*(AI154-1)))/(AE154+AI154-2)))","v":{"$error":"#DIV/0!"}},"","",null,null,null,null,null,null,null,null,{"$f":"IF(Sheet2!$A$169=TRUE,-1*((AN154-AR154)/SQRT(((AO154^2*(AP154-1))+(AS154^2*(AT154-1)))/(AP154+AT154-2))),(AN154-AR154)/SQRT(((AO154^2*(AP154-1))+(AS154^2*(AT154-1)))/(AP154+AT154-2)))","v":{"$error":"#DIV/0!"}},"","",null,null,null,null,null,null,null,null,{"$f":"IF(Sheet2!$A$169=TRUE,-1*((AY154-BC154)/SQRT(((AZ154^2*(BA154-1))+(BD154^2*(BE154-1)))/(BA154+BE154-2))),(AY154-BC154)/SQRT(((AZ154^2*(BA154-1))+(BD154^2*(BE154-1)))/(BA154+BE154-2)))","v":{"$error":"#DIV/0!"}},"","",null,null,null,null,null,null,null,null,{"$f":"IF(Sheet2!$A$169=TRUE,-1*((BJ154-BN154)/SQRT(((BK154^2*(BL154-1))+(BO154^2*(BP154-1)))/(BL154+BP154-2))),(BJ154-BN154)/SQRT(((BK154^2*(BL154-1))+(BO154^2*(BP154-1)))/(BL154+BP154-2)))","v":{"$error":"#DIV/0!"}},"",""]
[null,null,"PCS d",null,null,null,null,null,null,null,null,null,null,null,{"$f":"IF(O150=\"\",\"\",AVERAGE(O150:O154))","v":""},{"$f":"IF(P150=\"\",\"\",AVERAGE(P150:P154))","v":""},null,null,null,null,null,null,null,null,null,{"$f":"IF(Z150=\"\",\"\",AVERAGE(Z150:Z154))","v":""},{"$f":"IF(AA150=\"\",\"\",AVERAGE(AA150:AA154))","v":""},null,null,null,null,null,null,null,null,null,{"$f":"IF(AK150=\"\",\"\",AVERAGE(AK150:AK154))","v":""},{"$f":"IF(AL150=\"\",\"\",AVERAGE(AL150:AL154))","v":""},null,null,null,null,null,null,null,null,null,{"$f":"IF(AV150=\"\",\"\",AVERAGE(AV150:AV154))","v":""},{"$f":"IF(AW150=\"\",\"\",AVERAGE(AW150:AW154))","v":""},null,null,null,null,null,null,null,null,null,{"$f":"IF(BG150=\"\",\"\",AVERAGE(BG150:BG154))","v":""},{"$f":"IF(BH150=\"\",\"\",AVERAGE(BH150:BH154))","v":""},null,null,null,null,null,null,null,null,null,{"$f":"IF(BR150=\"\",\"\",AVERAGE(BR150:BR154))","v":""},{"$f":"IF(BS150=\"\",\"\",AVERAGE(BS150:BS154))","v":""}]
[]
[null,null,"Overall PCS d",null,null,null,null,null,null,null,null,null,null,null,{"$f":"AVERAGE(O150:O154)","v":{"$error":"#DIV/0!"}},{"$f":"AVERAGE(P150:P154)","v":{"$error":"#DIV/0!"}},null,null,null,null,null,null,null,null,null,{"$f":"AVERAGE(Z150:Z154)","v":{"$error":"#DIV/0!"}},{"$f":"AVERAGE(AA150:AA154)","v":{"$error":"#DIV/0!"}},null,null,null,null,null,null,null,null,null,{"$f":"AVERAGE(AK150:AK154)","v":{"$error":"#DIV/0!"}},{"$f":"AVERAGE(AL150:AL154)","v":{"$error":"#DIV/0!"}},null,null,null,null,null,null,null,null,null,{"$f":"AVERAGE(AV150:AV154)","v":{"$error":"#DIV/0!"}},{"$f":"AVERAGE(AW150:AW154)","v":{"$error":"#DIV/0!"}},null,null,null,null,null,null,null,null,null,{"$f":"AVERAGE(BG150:BG154)","v":{"$error":"#DIV/0!"}},{"$f":"AVERAGE(BH150:BH154)","v":{"$error":"#DIV/0!"}},null,null,null,null,null,null,null,null,null,{"$f":"AVERAGE(BR150:BR154)","v":{"$error":"#DIV/0!"}},{"$f":"AVERAGE(BS150:BS154)","v":{"$error":"#DIV/0!"}}]

{"sheet":"Pre-Post Design","index":3,"n_rows":85,"n_cols":52,"rows_kept":85,"cut":false,"hidden":true,"merged":[[2,46,2,48],[2,39,2,41],[2,0,3,0],[2,2,3,3],[2,6,2,8],[2,11,2,13],[2,18,2,20],[2,25,2,27],[2,32,2,34]]}
[]
[]
["Check Box if Higher Score is Worse",null,"Cognitive Domain Assessed:",null,null,null,"Baseline Testing ",null,null,null,null,"Post-Test 1",null,null,null,null,null,null,"Post-Test 2",null,null,null,null,null,null,"Post-Test 3",null,null,null,null,null,null,"Post-Test 4",null,null,null,null,null,null,"Post-Test 5",null,null,null,null,null,null,"Post-Test 6"]
[null,null,null,null,null,null,"MTBI","SDTBI","NTBI","d",null,"MTBI","SDTBI","NTBI","d","d","SEd",null,"MTBI","SDTBI","NTBI","d","d","SEd",null,"MTBI","SDTBI","NTBI","d","d","SEd",null,"MTBI","SDTBI","NTBI","d","d","SEd",null,"MTBI","SDTBI","NTBI","d","d","SEd",null,"MTBI","SDTBI","NTBI","d","d","SEd"]
[null,null,"Orientation ","Test Name"]
[null,null,"Outcome 1:",null,null,null,null,null,null,null,null,null,null,null,{"$f":"IF(Sheet2!$A$21=TRUE,(-1*($G6-L6)/$H6),($G6-L6)/$H6)","v":{"$error":"#DIV/0!"}},{"$f":"IF(L6=\"\",\"\",O6)","v":""},null,null,null,null,null,{"$f":"IF(Sheet2!$A$21=TRUE,(-1*($G6-S6)/$H6),($G6-S6)/$H6)","v":{"$error":"#DIV/0!"}},{"$f":"IF(S6=\"\",\"\",V6)","v":""},null,null,null,null,null,{"$f":"IF(Sheet2!$A$21=TRUE,(-1*($G6-Z6)/$H6),($G6-Z6)/$H6)","v":{"$error":"#DIV/0!"}},{"$f":"IF(Z6=\"\",\"\",AC6)","v":""},null,null,null,null,null,{"$f":"IF(Sheet2!$A$21=TRUE,(-1*($G6-AG6)/$H6),($G6-AG6)/$H6)","v":{"$error":"#DIV/0!"}},{"$f":"IF(AG6=\"\",\"\",AJ6)","v":""},null,null,null,null,null,{"$f":"IF(Sheet2!$A$21=TRUE,(-1*($G6-AN6)/$H6),($G6-AN6)/$H6)","v":{"$error":"#DIV/0!"}},{"$f":"IF(AN6=\"\",\"\",AQ6)","v":""},null,null,null,null,null,{"$f":"IF(Sheet2!$A$21=TRUE,(-1*($G6-AU6)/$H6),($G6-AU6)/$H6)","v":{"$error":"#DIV/0!"}},{"$f":"IF(AU6=\"\",\"\",AX6)","v":""}]
[null,null,"Outcome 2:",null,null,null,null,null,null,{"$f":"IF(Sheet2!$A$22=TRUE,-1*(#REF!-G7)/SQRT(((#REF!^2*(#REF!-1))+(H7^2*(I7-1)))/(#REF!+I7-2)),(#REF!-G7)/SQRT(((#REF!^2*(#REF!-1))+(H7^2*(I7-1)))/(#REF!+I7-2)))","v":{"$error":"#REF!"}},null,null,null,null,{"$f":"IF(Sheet2!$A$22=TRUE,(-1*($G7-L7)/$H7),($G7-L7)/$H7)","v":{"$error":"#DIV/0!"}},{"$f":"IF(L7=\"\",\"\",O7)","v":""},null,null,null,null,null,{"$f":"IF(Sheet2!$A$22=TRUE,(-1*($G7-S7)/$H7),($G7-S7)/$H7)","v":{"$error":"#DIV/0!"}},{"$f":"IF(S7=\"\",\"\",V7)","v":""},null,null,null,null,null,{"$f":"IF(Sheet2!$A$22=TRUE,(-1*($G7-Z7)/$H7),($G7-Z7)/$H7)","v":{"$error":"#DIV/0!"}},{"$f":"IF(Z7=\"\",\"\",AC7)","v":""},null,null,null,null,null,{"$f":"IF(Sheet2!$A$22=TRUE,(-1*($G7-AG7)/$H7),($G7-AG7)/$H7)","v":{"$error":"#DIV/0!"}},{"$f":"IF(AG7=\"\",\"\",AJ7)","v":""},null,null,null,null,null,{"$f":"IF(Sheet2!$A$22=TRUE,(-1*($G7-AN7)/$H7),($G7-AN7)/$H7)","v":{"$error":"#DIV/0!"}},{"$f":"IF(AN7=\"\",\"\",AQ7)","v":""},null,null,null,null,null,{"$f":"IF(Sheet2!$A$22=TRUE,(-1*($G7-AU7)/$H7),($G7-AU7)/$H7)","v":{"$error":"#DIV/0!"}},{"$f":"IF(AU7=\"\",\"\",AX7)","v":""}]
[null,null,"Outcome 3:",null,null,null,null,null,null,{"$f":"IF(Sheet2!$A$23=TRUE,-1*(#REF!-G8)/SQRT(((#REF!^2*(#REF!-1))+(H8^2*(I8-1)))/(#REF!+I8-2)),(#REF!-G8)/SQRT(((#REF!^2*(#REF!-1))+(H8^2*(I8-1)))/(#REF!+I8-2)))","v":{"$error":"#REF!"}},null,null,null,null,{"$f":"IF(Sheet2!$A$23=TRUE,(-1*($G8-L8)/$H8),($G8-L8)/$H8)","v":{"$error":"#DIV/0!"}},{"$f":"IF(L8=\"\",\"\",O8)","v":""},null,null,null,null,null,{"$f":"IF(Sheet2!$A$23=TRUE,(-1*($G8-S8)/$H8),($G8-S8)/$H8)","v":{"$error":"#DIV/0!"}},{"$f":"IF(S8=\"\",\"\",V8)","v":""},null,null,null,null,null,{"$f":"IF(Sheet2!$A$23=TRUE,(-1*($G8-Z8)/$H8),($G8-Z8)/$H8)","v":{"$error":"#DIV/0!"}},{"$f":"IF(Z8=\"\",\"\",AC8)","v":""},null,null,null,null,null,{"$f":"IF(Sheet2!$A$23=TRUE,(-1*($G8-AG8)/$H8),($G8-AG8)/$H8)","v":{"$error":"#DIV/0!"}},{"$f":"IF(AG8=\"\",\"\",AJ8)","v":""},null,null,null,null,null,{"$f":"IF(Sheet2!$A$23=TRUE,(-1*($G8-AN8)/$H8),($G8-AN8)/$H8)","v":{"$error":"#DIV/0!"}},{"$f":"IF(AN8=\"\",\"\",AQ8)","v":""},null,null,null,null,null,{"$f":"IF(Sheet2!$A$23=TRUE,(-1*($G8-AU8)/$H8),($G8-AU8)/$H8)","v":{"$error":"#DIV/0!"}},{"$f":"IF(AU8=\"\",\"\",AX8)","v":""}]
[null,null,"Outcome 4:",null,null,null,null,null,null,{"$f":"IF(Sheet2!$A$24=TRUE,-1*(#REF!-G9)/SQRT(((#REF!^2*(#REF!-1))+(H9^2*(I9-1)))/(#REF!+I9-2)),(#REF!-G9)/SQRT(((#REF!^2*(#REF!-1))+(H9^2*(I9-1)))/(#REF!+I9-2)))","v":{"$error":"#REF!"}},null,null,null,null,{"$f":"IF(Sheet2!$A$24=TRUE,(-1*($G9-L9)/$H9),($G9-L9)/$H9)","v":{"$error":"#DIV/0!"}},"",null,null,null,null,null,{"$f":"IF(Sheet2!$A$24=TRUE,(-1*($G9-S9)/$H9),($G9-S9)/$H9)","v":{"$error":"#DIV/0!"}},"",null,null,null,null,null,{"$f":"IF(Sheet2!$A$24=TRUE,(-1*($G9-Z9)/$H9),($G9-Z9)/$H9)","v":{"$error":"#DIV/0!"}},"",null,null,null,null,null,{"$f":"IF(Sheet2!$A$24=TRUE,(-1*($G9-AG9)/$H9),($G9-AG9)/$H9)","v":{"$error":"#DIV/0!"}},"",null,null,null,null,null,{"$f":"IF(Sheet2!$A$24=TRUE,(-1*($G9-AN9)/$H9),($G9-AN9)/$H9)","v":{"$error":"#DIV/0!"}},"",null,null,null,null,null,{"$f":"IF(Sheet2!$A$24=TRUE,(-1*($G9-AU9)/$H9),($G9-AU9)/$H9)","v":{"$error":"#DIV/0!"}},""]
[null,null,"Outcome 5:",null,null,null,null,null,null,{"$f":"IF(Sheet2!$A$25=TRUE,-1*(#REF!-G10)/SQRT(((#REF!^2*(#REF!-1))+(H10^2*(I10-1)))/(#REF!+I10-2)),(#REF!-G10)/SQRT(((#REF!^2*(#REF!-1))+(H10^2*(I10-1)))/(#REF!+I10-2)))","v":{"$error":"#REF!"}},null,null,null,null,{"$f":"IF(Sheet2!$A$25=TRUE,(-1*($G10-L10)/$H10),($G10-L10)/$H10)","v":{"$error":"#DIV/0!"}},"",null,null,null,null,null,{"$f":"IF(Sheet2!$A$25=TRUE,(-1*($G10-S10)/$H10),($G10-S10)/$H10)","v":{"$error":"#DIV/0!"}},"",null,null,null,null,null,{"$f":"IF(Sheet2!$A$25=TRUE,(-1*($G10-Z10)/$H10),($G10-Z10)/$H10)","v":{"$error":"#DIV/0!"}},"",null,null,null,null,null,{"$f":"IF(Sheet2!$A$25=TRUE,(-1*($G10-AG10)/$H10),($G10-AG10)/$H10)","v":{"$error":"#DIV/0!"}},"",null,null,null,null,null,{"$f":"IF(Sheet2!$A$25=TRUE,(-1*($G10-AN10)/$H10),($G10-AN10)/$H10)","v":{"$error":"#DIV/0!"}},"",null,null,null,null,null,{"$f":"IF(Sheet2!$A$25=TRUE,(-1*($G10-AU10)/$H10),($G10-AU10)/$H10)","v":{"$error":"#DIV/0!"}},""]
[null,null,"Orientation d",null,null,null,null,null,null,null,null,null,null,null,null,{"$f":"IF(P6=\"\",\"\",AVERAGE(P6:P10))","v":""},{"$f":"IF(Q6=\"\",\"\",AVERAGE(Q6:Q10))","v":""},null,null,null,null,null,{"$f":"IF(W6=\"\",\"\",AVERAGE(W6:W10))","v":""},{"$f":"IF(X6=\"\",\"\",AVERAGE(X6:X10))","v":""},null,null,null,null,null,{"$f":"IF(AD6=\"\",\"\",AVERAGE(AD6:AD10))","v":""},{"$f":"IF(AE6=\"\",\"\",AVERAGE(AE6:AE10))","v":""},null,null,null,null,null,{"$f":"IF(AK6=\"\",\"\",AVERAGE(AK6:AK10))","v":""},{"$f":"IF(AL6=\"\",\"\",AVERAGE(AL6:AL10))","v":""},null,null,null,null,null,{"$f":"IF(AR6=\"\",\"\",AVERAGE(AR6:AR10))","v":""},{"$f":"IF(AS6=\"\",\"\",AVERAGE(AS6:AS10))","v":""},null,null,null,null,null,{"$f":"IF(AY6=\"\",\"\",AVERAGE(AY6:AY10))","v":""},{"$f":"IF(AZ6=\"\",\"\",AVERAGE(AZ6:AZ10))","v":""}]
[]
[null,null,"General Ability/IQ","Test Name"]
[null,null,"Outcome 1:",null,null,null,null,null,null,{"$f":"IF(Sheet2!$A$29=TRUE,-1*(#REF!-G14)/SQRT(((#REF!^2*(#REF!-1))+(H14^2*(I14-1)))/(#REF!+I14-2)),(#REF!-G14)/SQRT(((#REF!^2*(#REF!-1))+(H14^2*(I14-1)))/(#REF!+I14-2)))","v":{"$error":"#REF!"}},null,null,null,null,{"$f":"IF(Sheet2!$A$29=TRUE,(-1*($G14-L14)/$H14),($G14-L14)/$H14)","v":{"$error":"#DIV/0!"}},{"$f":"IF(L14=\"\",\"\",O14)","v":""},null,null,null,null,null,{"$f":"IF(Sheet2!$A$29=TRUE,(-1*($G14-S14)/$H14),($G14-S14)/$H14)","v":{"$error":"#DIV/0!"}},{"$f":"IF(S14=\"\",\"\",V14)","v":""},null,null,null,null,null,{"$f":"IF(Sheet2!$A$29=TRUE,(-1*($G14-Z14)/$H14),($G14-Z14)/$H14)","v":{"$error":"#DIV/0!"}},{"$f":"IF(Z14=\"\",\"\",AC14)","v":""},null,null,null,null,null,{"$f":"IF(Sheet2!$A$29=TRUE,(-1*($G14-AG14)/$H14),($G14-AG14)/$H14)","v":{"$error":"#DIV/0!"}},{"$f":"IF(AG14=\"\",\"\",AJ14)","v":""},null,null,null,null,null,{"$f":"IF(Sheet2!$A$29=TRUE,(-1*($G14-AN14)/$H14),($G14-AN14)/$H14)","v":{"$error":"#DIV/0!"}},{"$f":"IF(AN14=\"\",\"\",AQ14)","v":""},null,null,null,null,null,{"$f":"IF(Sheet2!$A$29=TRUE,(-1*($G14-AU14)/$H14),($G14-AU14)/$H14)","v":{"$error":"#DIV/0!"}},{"$f":"IF(AU14=\"\",\"\",AX14)","v":""}]
[null,null,"Outcome 2:",null,null,null,null,null,null,{"$f":"IF(Sheet2!$A$30=TRUE,-1*(#REF!-G15)/SQRT(((#REF!^2*(#REF!-1))+(H15^2*(I15-1)))/(#REF!+I15-2)),(#REF!-G15)/SQRT(((#REF!^2*(#REF!-1))+(H15^2*(I15-1)))/(#REF!+I15-2)))","v":{"$error":"#REF!"}},null,null,null,null,{"$f":"IF(Sheet2!$A$30=TRUE,(-1*($G15-L15)/$H15),($G15-L15)/$H15)","v":{"$error":"#DIV/0!"}},{"$f":"IF(L15=\"\",\"\",O15)","v":""},null,null,null,null,null,{"$f":"IF(Sheet2!$A$30=TRUE,(-1*($G15-S15)/$H15),($G15-S15)/$H15)","v":{"$error":"#DIV/0!"}},{"$f":"IF(S15=\"\",\"\",V15)","v":""},null,null,null,null,null,{"$f":"IF(Sheet2!$A$30=TRUE,(-1*($G15-Z15)/$H15),($G15-Z15)/$H15)","v":{"$error":"#DIV/0!"}},{"$f":"IF(Z15=\"\",\"\",AC15)","v":""},null,null,null,null,null,{"$f":"IF(Sheet2!$A$30=TRUE,(-1*($G15-AG15)/$H15),($G15-AG15)/$H15)","v":{"$error":"#DIV/0!"}},{"$f":"IF(AG15=\"\",\"\",AJ15)","v":""},null,null,null,null,null,{"$f":"IF(Sheet2!$A$30=TRUE,(-1*($G15-AN15)/$H15),($G15-AN15)/$H15)","v":{"$error":"#DIV/0!"}},{"$f":"IF(AN15=\"\",\"\",AQ15)","v":""},null,null,null,null,null,{"$f":"IF(Sheet2!$A$30=TRUE,(-1*($G15-AU15)/$H15),($G15-AU15)/$H15)","v":{"$error":"#DIV/0!"}},{"$f":"IF(AU15=\"\",\"\",AX15)","v":""}]
[null,null,"Outcome 3:",null,null,null,null,null,null,{"$f":"IF(Sheet2!$A$31=TRUE,-1*(#REF!-G16)/SQRT(((#REF!^2*(#REF!-1))+(H16^2*(I16-1)))/(#REF!+I16-2)),(#REF!-G16)/SQRT(((#REF!^2*(#REF!-1))+(H16^2*(I16-1)))/(#REF!+I16-2)))","v":{"$error":"#REF!"}},null,null,null,null,{"$f":"IF(Sheet2!$A$31=TRUE,(-1*($G16-L16)/$H16),($G16-L16)/$H16)","v":{"$error":"#DIV/0!"}},{"$f":"IF(L16=\"\",\"\",O16)","v":""},null,null,null,null,null,{"$f":"IF(Sheet2!$A$31=TRUE,(-1*($G16-S16)/$H16),($G16-S16)/$H16)","v":{"$error":"#DIV/0!"}},{"$f":"IF(S16=\"\",\"\",V16)","v":""},null,null,null,null,null,{"$f":"IF(Sheet2!$A$31=TRUE,(-1*($G16-Z16)/$H16),($G16-Z16)/$H16)","v":{"$error":"#DIV/0!"}},{"$f":"IF(Z16=\"\",\"\",AC16)","v":""},null,null,null,null,null,{"$f":"IF(Sheet2!$A$31=TRUE,(-1*($G16-AG16)/$H16),($G16-AG16)/$H16)","v":{"$error":"#DIV/0!"}},{"$f":"IF(AG16=\"\",\"\",AJ16)","v":""},null,null,null,null,null,{"$f":"IF(Sheet2!$A$31=TRUE,(-1*($G16-AN16)/$H16),($G16-AN16)/$H16)","v":{"$error":"#DIV/0!"}},{"$f":"IF(AN16=\"\",\"\",AQ16)","v":""},null,null,null,null,null,{"$f":"IF(Sheet2!$A$31=TRUE,(-1*($G16-AU16)/$H16),($G16-AU16)/$H16)","v":{"$error":"#DIV/0!"}},{"$f":"IF(AU16=\"\",\"\",AX16)","v":""}]
[null,null,"Outcome 4:",null,null,null,null,null,null,{"$f":"IF(Sheet2!$A$32=TRUE,-1*(#REF!-G17)/SQRT(((#REF!^2*(#REF!-1))+(H17^2*(I17-1)))/(#REF!+I17-2)),(#REF!-G17)/SQRT(((#REF!^2*(#REF!-1))+(H17^2*(I17-1)))/(#REF!+I17-2)))","v":{"$error":"#REF!"}},null,null,null,null,{"$f":"IF(Sheet2!$A$32=TRUE,(-1*($G17-L17)/$H17),($G17-L17)/$H17)","v":{"$error":"#DIV/0!"}},"",null,null,null,null,null,{"$f":"IF(Sheet2!$A$32=TRUE,(-1*($G17-S17)/$H17),($G17-S17)/$H17)","v":{"$error":"#DIV/0!"}},"",null,null,null,null,null,{"$f":"IF(Sheet2!$A$32=TRUE,(-1*($G17-Z17)/$H17),($G17-Z17)/$H17)","v":{"$error":"#DIV/0!"}},"",null,null,null,null,null,{"$f":"IF(Sheet2!$A$32=TRUE,(-1*($G17-AG17)/$H17),($G17-AG17)/$H17)","v":{"$error":"#DIV/0!"}},"",null,null,null,null,null,{"$f":"IF(Sheet2!$A$32=TRUE,(-1*($G17-AN17)/$H17),($G17-AN17)/$H17)","v":{"$error":"#DIV/0!"}},"",null,null,null,null,null,{"$f":"IF(Sheet2!$A$32=TRUE,(-1*($G17-AU17)/$H17),($G17-AU17)/$H17)","v":{"$error":"#DIV/0!"}},""]
[null,null,"Outcome 5:",null,null,null,null,null,null,{"$f":"IF(Sheet2!$A$33=TRUE,-1*(#REF!-G18)/SQRT(((#REF!^2*(#REF!-1))+(H18^2*(I18-1)))/(#REF!+I18-2)),(#REF!-G18)/SQRT(((#REF!^2*(#REF!-1))+(H18^2*(I18-1)))/(#REF!+I18-2)))","v":{"$error":"#REF!"}},null,null,null,null,{"$f":"IF(Sheet2!$A$33=TRUE,(-1*($G18-L18)/$H18),($G18-L18)/$H18)","v":{"$error":"#DIV/0!"}},"",null,null,null,null,null,{"$f":"IF(Sheet2!$A$33=TRUE,(-1*($G18-S18)/$H18),($G18-S18)/$H18)","v":{"$error":"#DIV/0!"}},"",null,null,null,null,null,{"$f":"IF(Sheet2!$A$33=TRUE,(-1*($G18-Z18)/$H18),($G18-Z18)/$H18)","v":{"$error":"#DIV/0!"}},"",null,null,null,null,null,{"$f":"IF(Sheet2!$A$33=TRUE,(-1*($G18-AG18)/$H18),($G18-AG18)/$H18)","v":{"$error":"#DIV/0!"}},"",null,null,null,null,null,{"$f":"IF(Sheet2!$A$33=TRUE,(-1*($G18-AN18)/$H18),($G18-AN18)/$H18)","v":{"$error":"#DIV/0!"}},"",null,null,null,null,null,{"$f":"IF(Sheet2!$A$33=TRUE,(-1*($G18-AU18)/$H18),($G18-AU18)/$H18)","v":{"$error":"#DIV/0!"}},""]
[null,null,"General Ability/IQ d",null,null,null,null,null,null,null,null,null,null,null,null,{"$f":"IF(P14=\"\",\"\",AVERAGE(P14:P18))","v":""},{"$f":"IF(Q14=\"\",\"\",AVERAGE(Q14:Q18))","v":""},null,null,null,null,null,{"$f":"IF(W14=\"\",\"\",AVERAGE(W14:W18))","v":""},{"$f":"IF(X14=\"\",\"\",AVERAGE(X14:X18))","v":""},null,null,null,null,null,{"$f":"IF(AD14=\"\",\"\",AVERAGE(AD14:AD18))","v":""},{"$f":"IF(AE14=\"\",\"\",AVERAGE(AE14:AE18))","v":""},null,null,null,null,null,{"$f":"IF(AK14=\"\",\"\",AVERAGE(AK14:AK18))","v":""},{"$f":"IF(AL14=\"\",\"\",AVERAGE(AL14:AL18))","v":""},null,null,null,null,null,{"$f":"IF(AR14=\"\",\"\",AVERAGE(AR14:AR18))","v":""},{"$f":"IF(AS14=\"\",\"\",AVERAGE(AS14:AS18))","v":""},null,null,null,null,null,{"$f":"IF(AY14=\"\",\"\",AVERAGE(AY14:AY18))","v":""},{"$f":"IF(AZ14=\"\",\"\",AVERAGE(AZ14:AZ18))","v":""}]
[]
[null,null,"Achievement ","Test Name"]
[null,null,"Outcome 1:",null,null,null,null,null,null,{"$f":"IF(Sheet2!$A$37=TRUE,-1*(#REF!-G22)/SQRT(((#REF!^2*(#REF!-1))+(H22^2*(I22-1)))/(#REF!+I22-2)),(#REF!-G22)/SQRT(((#REF!^2*(#REF!-1))+(H22^2*(I22-1)))/(#REF!+I22-2)))","v":{"$error":"#REF!"}},null,null,null,null,{"$f":"IF(Sheet2!$A$37=TRUE,(-1*($G22-L22)/$H22),($G22-L22)/$H22)","v":{"$error":"#DIV/0!"}},{"$f":"IF(L22=\"\",\"\",O22)","v":""},null,null,null,null,null,{"$f":"IF(Sheet2!$A$37=TRUE,(-1*($G22-S22)/$H22),($G22-S22)/$H22)","v":{"$error":"#DIV/0!"}},{"$f":"IF(S22=\"\",\"\",V22)","v":""},null,null,null,null,null,{"$f":"IF(Sheet2!$A$37=TRUE,(-1*($G22-Z22)/$H22),($G22-Z22)/$H22)","v":{"$error":"#DIV/0!"}},{"$f":"IF(Z22=\"\",\"\",AC22)","v":""},null,null,null,null,null,{"$f":"IF(Sheet2!$A$37=TRUE,(-1*($G22-AG22)/$H22),($G22-AG22)/$H22)","v":{"$error":"#DIV/0!"}},{"$f":"IF(AG22=\"\",\"\",AJ22)","v":""},null,null,null,null,null,{"$f":"IF(Sheet2!$A$37=TRUE,(-1*($G22-AN22)/$H22),($G22-AN22)/$H22)","v":{"$error":"#DIV/0!"}},{"$f":"IF(AN22=\"\",\"\",AQ22)","v":""},null,null,null,null,null,{"$f":"IF(Sheet2!$A$37=TRUE,(-1*($G22-AU22)/$H22),($G22-AU22)/$H22)","v":{"$error":"#DIV/0!"}},{"$f":"IF(AU22=\"\",\"\",AX22)","v":""}]
[null,null,"Outcome 2:",null,null,null,null,null,null,{"$f":"IF(Sheet2!$A$38=TRUE,-1*(#REF!-G23)/SQRT(((#REF!^2*(#REF!-1))+(H23^2*(I23-1)))/(#REF!+I23-2)),(#REF!-G23)/SQRT(((#REF!^2*(#REF!-1))+(H23^2*(I23-1)))/(#REF!+I23-2)))","v":{"$error":"#REF!"}},null,null,null,null,{"$f":"IF(Sheet2!$A$38=TRUE,(-1*($G23-L23)/$H23),($G23-L23)/$H23)","v":{"$error":"#DIV/0!"}},{"$f":"IF(L23=\"\",\"\",O23)","v":""},null,null,null,null,null,{"$f":"IF(Sheet2!$A$38=TRUE,(-1*($G23-S23)/$H23),($G23-S23)/$H23)","v":{"$error":"#DIV/0!"}},{"$f":"IF(S23=\"\",\"\",V23)","v":""},null,null,null,null,null,{"$f":"IF(Sheet2!$A$38=TRUE,(-1*($G23-Z23)/$H23),($G23-Z23)/$H23)","v":{"$error":"#DIV/0!"}},{"$f":"IF(Z23=\"\",\"\",AC23)","v":""},null,null,null,null,null,{"$f":"IF(Sheet2!$A$38=TRUE,(-1*($G23-AG23)/$H23),($G23-AG23)/$H23)","v":{"$error":"#DIV/0!"}},{"$f":"IF(AG23=\"\",\"\",AJ23)","v":""},null,null,null,null,null,{"$f":"IF(Sheet2!$A$38=TRUE,(-1*($G23-AN23)/$H23),($G23-AN23)/$H23)","v":{"$error":"#DIV/0!"}},{"$f":"IF(AN23=\"\",\"\",AQ23)","v":""},null,null,null,null,null,{"$f":"IF(Sheet2!$A$38=TRUE,(-1*($G23-AU23)/$H23),($G23-AU23)/$H23)","v":{"$error":"#DIV/0!"}},{"$f":"IF(AU23=\"\",\"\",AX23)","v":""}]
[null,null,"Outcome 3:",null,null,null,null,null,null,{"$f":"IF(Sheet2!$A$39=TRUE,-1*(#REF!-G24)/SQRT(((#REF!^2*(#REF!-1))+(H24^2*(I24-1)))/(#REF!+I24-2)),(#REF!-G24)/SQRT(((#REF!^2*(#REF!-1))+(H24^2*(I24-1)))/(#REF!+I24-2)))","v":{"$error":"#REF!"}},null,null,null,null,{"$f":"IF(Sheet2!$A$39=TRUE,(-1*($G24-L24)/$H24),($G24-L24)/$H24)","v":{"$error":"#DIV/0!"}},{"$f":"IF(L24=\"\",\"\",O24)","v":""},null,null,null,null,null,{"$f":"IF(Sheet2!$A$39=TRUE,(-1*($G24-S24)/$H24),($G24-S24)/$H24)","v":{"$error":"#DIV/0!"}},{"$f":"IF(S24=\"\",\"\",V24)","v":""},null,null,null,null,null,{"$f":"IF(Sheet2!$A$39=TRUE,(-1*($G24-Z24)/$H24),($G24-Z24)/$H24)","v":{"$error":"#DIV/0!"}},{"$f":"IF(Z24=\"\",\"\",AC24)","v":""},null,null,null,null,null,{"$f":"IF(Sheet2!$A$39=TRUE,(-1*($G24-AG24)/$H24),($G24-AG24)/$H24)","v":{"$error":"#DIV/0!"}},{"$f":"IF(AG24=\"\",\"\",AJ24)","v":""},null,null,null,null,null,{"$f":"IF(Sheet2!$A$39=TRUE,(-1*($G24-AN24)/$H24),($G24-AN24)/$H24)","v":{"$error":"#DIV/0!"}},{"$f":"IF(AN24=\"\",\"\",AQ24)","v":""},null,null,null,null,null,{"$f":"IF(Sheet2!$A$39=TRUE,(-1*($G24-AU24)/$H24),($G24-AU24)/$H24)","v":{"$error":"#DIV/0!"}},{"$f":"IF(AU24=\"\",\"\",AX24)","v":""}]
[null,null,"Outcome 4:",null,null,null,null,null,null,{"$f":"IF(Sheet2!$A$40=TRUE,-1*(#REF!-G25)/SQRT(((#REF!^2*(#REF!-1))+(H25^2*(I25-1)))/(#REF!+I25-2)),(#REF!-G25)/SQRT(((#REF!^2*(#REF!-1))+(H25^2*(I25-1)))/(#REF!+I25-2)))","v":{"$error":"#REF!"}},null,null,null,null,{"$f":"IF(Sheet2!$A$40=TRUE,(-1*($G25-L25)/$H25),($G25-L25)/$H25)","v":{"$error":"#DIV/0!"}},"",null,null,null,null,null,{"$f":"IF(Sheet2!$A$40=TRUE,(-1*($G25-S25)/$H25),($G25-S25)/$H25)","v":{"$error":"#DIV/0!"}},"",null,null,null,null,null,{"$f":"IF(Sheet2!$A$40=TRUE,(-1*($G25-Z25)/$H25),($G25-Z25)/$H25)","v":{"$error":"#DIV/0!"}},"",null,null,null,null,null,{"$f":"IF(Sheet2!$A$40=TRUE,(-1*($G25-AG25)/$H25),($G25-AG25)/$H25)","v":{"$error":"#DIV/0!"}},"",null,null,null,null,null,{"$f":"IF(Sheet2!$A$40=TRUE,(-1*($G25-AN25)/$H25),($G25-AN25)/$H25)","v":{"$error":"#DIV/0!"}},"",null,null,null,null,null,{"$f":"IF(Sheet2!$A$40=TRUE,(-1*($G25-AU25)/$H25),($G25-AU25)/$H25)","v":{"$error":"#DIV/0!"}},""]
[null,null,"Outcome 5:",null,null,null,null,null,null,{"$f":"IF(Sheet2!$A$41=TRUE,-1*(#REF!-G26)/SQRT(((#REF!^2*(#REF!-1))+(H26^2*(I26-1)))/(#REF!+I26-2)),(#REF!-G26)/SQRT(((#REF!^2*(#REF!-1))+(H26^2*(I26-1)))/(#REF!+I26-2)))","v":{"$error":"#REF!"}},null,null,null,null,{"$f":"IF(Sheet2!$A$41=TRUE,(-1*($G26-L26)/$H26),($G26-L26)/$H26)","v":{"$error":"#DIV/0!"}},"",null,null,null,null,null,{"$f":"IF(Sheet2!$A$41=TRUE,(-1*($G26-S26)/$H26),($G26-S26)/$H26)","v":{"$error":"#DIV/0!"}},"",null,null,null,null,null,{"$f":"IF(Sheet2!$A$41=TRUE,(-1*($G26-Z26)/$H26),($G26-Z26)/$H26)","v":{"$error":"#DIV/0!"}},"",null,null,null,null,null,{"$f":"IF(Sheet2!$A$41=TRUE,(-1*($G26-AG26)/$H26),($G26-AG26)/$H26)","v":{"$error":"#DIV/0!"}},"",null,null,null,null,null,{"$f":"IF(Sheet2!$A$41=TRUE,(-1*($G26-AN26)/$H26),($G26-AN26)/$H26)","v":{"$error":"#DIV/0!"}},"",null,null,null,null,null,{"$f":"IF(Sheet2!$A$41=TRUE,(-1*($G26-AU26)/$H26),($G26-AU26)/$H26)","v":{"$error":"#DIV/0!"}},""]
[null,null,"Achievement d",null,null,null,null,null,null,null,null,null,null,null,null,{"$f":"IF(P22=\"\",\"\",AVERAGE(P22:P26))","v":""},{"$f":"IF(Q22=\"\",\"\",AVERAGE(Q22:Q26))","v":""},null,null,null,null,null,{"$f":"IF(W22=\"\",\"\",AVERAGE(W22:W26))","v":""},{"$f":"IF(X22=\"\",\"\",AVERAGE(X22:X26))","v":""},null,null,null,null,null,{"$f":"IF(AD22=\"\",\"\",AVERAGE(AD22:AD26))","v":""},{"$f":"IF(AE22=\"\",\"\",AVERAGE(AE22:AE26))","v":""},null,null,null,null,null,{"$f":"IF(AK22=\"\",\"\",AVERAGE(AK22:AK26))","v":""},{"$f":"IF(AL22=\"\",\"\",AVERAGE(AL22:AL26))","v":""},null,null,null,null,null,{"$f":"IF(AR22=\"\",\"\",AVERAGE(AR22:AR26))","v":""},{"$f":"IF(AS22=\"\",\"\",AVERAGE(AS22:AS26))","v":""},null,null,null,null,null,{"$f":"IF(AY22=\"\",\"\",AVERAGE(AY22:AY26))","v":""},{"$f":"IF(AZ22=\"\",\"\",AVERAGE(AZ22:AZ26))","v":""}]
[]
[null,null,"Attn/Wrk Memory","Test Name"]
[null,null,"Outcome 1:",null,null,null,null,null,null,{"$f":"IF(Sheet2!$A$45=TRUE,-1*(#REF!-G30)/SQRT(((#REF!^2*(#REF!-1))+(H30^2*(I30-1)))/(#REF!+I30-2)),(#REF!-G30)/SQRT(((#REF!^2*(#REF!-1))+(H30^2*(I30-1)))/(#REF!+I30-2)))","v":{"$error":"#REF!"}},null,null,null,null,{"$f":"IF(Sheet2!$A$45=TRUE,(-1*($G30-L30)/$H30),($G30-L30)/$H30)","v":{"$error":"#DIV/0!"}},{"$f":"IF(L30=\"\",\"\",O30)","v":""},null,null,null,null,null,{"$f":"IF(Sheet2!$A$45=TRUE,(-1*($G30-S30)/$H30),($G30-S30)/$H30)","v":{"$error":"#DIV/0!"}},{"$f":"IF(S30=\"\",\"\",V30)","v":""},null,null,null,null,null,{"$f":"IF(Sheet2!$A$45=TRUE,(-1*($G30-Z30)/$H30),($G30-Z30)/$H30)","v":{"$error":"#DIV/0!"}},{"$f":"IF(Z30=\"\",\"\",AC30)","v":""},null,null,null,null,null,{"$f":"IF(Sheet2!$A$45=TRUE,(-1*($G30-AG30)/$H30),($G30-AG30)/$H30)","v":{"$error":"#DIV/0!"}},{"$f":"IF(AG30=\"\",\"\",AJ30)","v":""},null,null,null,null,null,{"$f":"IF(Sheet2!$A$45=TRUE,(-1*($G30-AN30)/$H30),($G30-AN30)/$H30)","v":{"$error":"#DIV/0!"}},{"$f":"IF(AN30=\"\",\"\",AQ30)","v":""},null,null,null,null,null,{"$f":"IF(Sheet2!$A$45=TRUE,(-1*($G30-AU30)/$H30),($G30-AU30)/$H30)","v":{"$error":"#DIV/0!"}},{"$f":"IF(AU30=\"\",\"\",AX30)","v":""}]
[null,null,"Outcome 2:",null,null,null,null,null,null,{"$f":"IF(Sheet2!$A$46=TRUE,-1*(#REF!-G31)/SQRT(((#REF!^2*(#REF!-1))+(H31^2*(I31-1)))/(#REF!+I31-2)),(#REF!-G31)/SQRT(((#REF!^2*(#REF!-1))+(H31^2*(I31-1)))/(#REF!+I31-2)))","v":{"$error":"#REF!"}},null,null,null,null,{"$f":"IF(Sheet2!$A$46=TRUE,(-1*($G31-L31)/$H31),($G31-L31)/$H31)","v":{"$error":"#DIV/0!"}},{"$f":"IF(L31=\"\",\"\",O31)","v":""},null,null,null,null,null,{"$f":"IF(Sheet2!$A$46=TRUE,(-1*($G31-S31)/$H31),($G31-S31)/$H31)","v":{"$error":"#DIV/0!"}},{"$f":"IF(S31=\"\",\"\",V31)","v":""},null,null,null,null,null,{"$f":"IF(Sheet2!$A$46=TRUE,(-1*($G31-Z31)/$H31),($G31-Z31)/$H31)","v":{"$error":"#DIV/0!"}},{"$f":"IF(Z31=\"\",\"\",AC31)","v":""},null,null,null,null,null,{"$f":"IF(Sheet2!$A$46=TRUE,(-1*($G31-AG31)/$H31),($G31-AG31)/$H31)","v":{"$error":"#DIV/0!"}},{"$f":"IF(AG31=\"\",\"\",AJ31)","v":""},null,null,null,null,null,{"$f":"IF(Sheet2!$A$46=TRUE,(-1*($G31-AN31)/$H31),($G31-AN31)/$H31)","v":{"$error":"#DIV/0!"}},{"$f":"IF(AN31=\"\",\"\",AQ31)","v":""},null,null,null,null,null,{"$f":"IF(Sheet2!$A$46=TRUE,(-1*($G31-AU31)/$H31),($G31-AU31)/$H31)","v":{"$error":"#DIV/0!"}},{"$f":"IF(AU31=\"\",\"\",AX31)","v":""}]
[null,null,"Outcome 3:",null,null,null,null,null,null,{"$f":"IF(Sheet2!$A$47=TRUE,-1*(#REF!-G32)/SQRT(((#REF!^2*(#REF!-1))+(H32^2*(I32-1)))/(#REF!+I32-2)),(#REF!-G32)/SQRT(((#REF!^2*(#REF!-1))+(H32^2*(I32-1)))/(#REF!+I32-2)))","v":{"$error":"#REF!"}},null,null,null,null,{"$f":"IF(Sheet2!$A$47=TRUE,(-1*($G32-L32)/$H32),($G32-L32)/$H32)","v":{"$error":"#DIV/0!"}},{"$f":"IF(L32=\"\",\"\",O32)","v":""},null,null,null,null,null,{"$f":"IF(Sheet2!$A$47=TRUE,(-1*($G32-S32)/$H32),($G32-S32)/$H32)","v":{"$error":"#DIV/0!"}},{"$f":"IF(S32=\"\",\"\",V32)","v":""},null,null,null,null,null,{"$f":"IF(Sheet2!$A$47=TRUE,(-1*($G32-Z32)/$H32),($G32-Z32)/$H32)","v":{"$error":"#DIV/0!"}},{"$f":"IF(Z32=\"\",\"\",AC32)","v":""},null,null,null,null,null,{"$f":"IF(Sheet2!$A$47=TRUE,(-1*($G32-AG32)/$H32),($G32-AG32)/$H32)","v":{"$error":"#DIV/0!"}},{"$f":"IF(AG32=\"\",\"\",AJ32)","v":""},null,null,null,null,null,{"$f":"IF(Sheet2!$A$47=TRUE,(-1*($G32-AN32)/$H32),($G32-AN32)/$H32)","v":{"$error":"#DIV/0!"}},{"$f":"IF(AN32=\"\",\"\",AQ32)","v":""},null,null,null,null,null,{"$f":"IF(Sheet2!$A$47=TRUE,(-1*($G32-AU32)/$H32),($G32-AU32)/$H32)","v":{"$error":"#DIV/0!"}},{"$f":"IF(AU32=\"\",\"\",AX32)","v":""}]
[null,null,"Outcome 4:",null,null,null,null,null,null,{"$f":"IF(Sheet2!$A$48=TRUE,-1*(#REF!-G33)/SQRT(((#REF!^2*(#REF!-1))+(H33^2*(I33-1)))/(#REF!+I33-2)),(#REF!-G33)/SQRT(((#REF!^2*(#REF!-1))+(H33^2*(I33-1)))/(#REF!+I33-2)))","v":{"$error":"#REF!"}},null,null,null,null,{"$f":"IF(Sheet2!$A$48=TRUE,(-1*($G33-L33)/$H33),($G33-L33)/$H33)","v":{"$error":"#DIV/0!"}},"",null,null,null,null,null,{"$f":"IF(Sheet2!$A$48=TRUE,(-1*($G33-S33)/$H33),($G33-S33)/$H33)","v":{"$error":"#DIV/0!"}},"",null,null,null,null,null,{"$f":"IF(Sheet2!$A$48=TRUE,(-1*($G33-Z33)/$H33),($G33-Z33)/$H33)","v":{"$error":"#DIV/0!"}},"",null,null,null,null,null,{"$f":"IF(Sheet2!$A$48=TRUE,(-1*($G33-AG33)/$H33),($G33-AG33)/$H33)","v":{"$error":"#DIV/0!"}},"",null,null,null,null,null,{"$f":"IF(Sheet2!$A$48=TRUE,(-1*($G33-AN33)/$H33),($G33-AN33)/$H33)","v":{"$error":"#DIV/0!"}},"",null,null,null,null,null,{"$f":"IF(Sheet2!$A$48=TRUE,(-1*($G33-AU33)/$H33),($G33-AU33)/$H33)","v":{"$error":"#DIV/0!"}},""]
[null,null,"Outcome 5:",null,null,null,null,null,null,{"$f":"IF(Sheet2!$A$49=TRUE,-1*(#REF!-G34)/SQRT(((#REF!^2*(#REF!-1))+(H34^2*(I34-1)))/(#REF!+I34-2)),(#REF!-G34)/SQRT(((#REF!^2*(#REF!-1))+(H34^2*(I34-1)))/(#REF!+I34-2)))","v":{"$error":"#REF!"}},null,null,null,null,{"$f":"IF(Sheet2!$A$49=TRUE,(-1*($G34-L34)/$H34),($G34-L34)/$H34)","v":{"$error":"#DIV/0!"}},"",null,null,null,null,null,{"$f":"IF(Sheet2!$A$49=TRUE,(-1*($G34-S34)/$H34),($G34-S34)/$H34)","v":{"$error":"#DIV/0!"}},"",null,null,null,null,null,{"$f":"IF(Sheet2!$A$49=TRUE,(-1*($G34-Z34)/$H34),($G34-Z34)/$H34)","v":{"$error":"#DIV/0!"}},"",null,null,null,null,null,{"$f":"IF(Sheet2!$A$49=TRUE,(-1*($G34-AG34)/$H34),($G34-AG34)/$H34)","v":{"$error":"#DIV/0!"}},"",null,null,null,null,null,{"$f":"IF(Sheet2!$A$49=TRUE,(-1*($G34-AN34)/$H34),($G34-AN34)/$H34)","v":{"$error":"#DIV/0!"}},"",null,null,null,null,null,{"$f":"IF(Sheet2!$A$49=TRUE,(-1*($G34-AU34)/$H34),($G34-AU34)/$H34)","v":{"$error":"#DIV/0!"}},""]
[null,null,"Attn/Wrk Mem d",null,null,null,null,null,null,null,null,null,null,null,null,{"$f":"IF(P30=\"\",\"\",AVERAGE(P30:P34))","v":""},{"$f":"IF(Q30=\"\",\"\",AVERAGE(Q30:Q34))","v":""},null,null,null,null,null,{"$f":"IF(W30=\"\",\"\",AVERAGE(W30:W34))","v":""},{"$f":"IF(X30=\"\",\"\",AVERAGE(X30:X34))","v":""},null,null,null,null,null,{"$f":"IF(AD30=\"\",\"\",AVERAGE(AD30:AD34))","v":""},{"$f":"IF(AE30=\"\",\"\",AVERAGE(AE30:AE34))","v":""},null,null,null,null,null,{"$f":"IF(AK30=\"\",\"\",AVERAGE(AK30:AK34))","v":""},{"$f":"IF(AL30=\"\",\"\",AVERAGE(AL30:AL34))","v":""},null,null,null,null,null,{"$f":"IF(AR30=\"\",\"\",AVERAGE(AR30:AR34))","v":""},{"$f":"IF(AS30=\"\",\"\",AVERAGE(AS30:AS34))","v":""},null,null,null,null,null,{"$f":"IF(AY30=\"\",\"\",AVERAGE(AY30:AY34))","v":""},{"$f":"IF(AZ30=\"\",\"\",AVERAGE(AZ30:AZ34))","v":""}]
[]
[null,null,"Processing Speed","Test Name"]
[null,null,"Outcome 1:",null,null,null,null,null,null,{"$f":"IF(Sheet2!$A$53=TRUE,-1*(#REF!-G38)/SQRT(((#REF!^2*(#REF!-1))+(H38^2*(I38-1)))/(#REF!+I38-2)),(#REF!-G38)/SQRT(((#REF!^2*(#REF!-1))+(H38^2*(I38-1)))/(#REF!+I38-2)))","v":{"$error":"#REF!"}},null,null,null,null,{"$f":"IF(Sheet2!$A$53=TRUE,(-1*($G38-L38)/$H38),($G38-L38)/$H38)","v":{"$error":"#DIV/0!"}},{"$f":"IF(L38=\"\",\"\",O38)","v":""},null,null,null,null,null,{"$f":"IF(Sheet2!$A$53=TRUE,(-1*($G38-S38)/$H38),($G38-S38)/$H38)","v":{"$error":"#DIV/0!"}},{"$f":"IF(S38=\"\",\"\",V38)","v":""},null,null,null,null,null,{"$f":"IF(Sheet2!$A$53=TRUE,(-1*($G38-Z38)/$H38),($G38-Z38)/$H38)","v":{"$error":"#DIV/0!"}},{"$f":"IF(Z38=\"\",\"\",AC38)","v":""},null,null,null,null,null,{"$f":"IF(Sheet2!$A$53=TRUE,(-1*($G38-AG38)/$H38),($G38-AG38)/$H38)","v":{"$error":"#DIV/0!"}},{"$f":"IF(AG38=\"\",\"\",AJ38)","v":""},null,null,null,null,null,{"$f":"IF(Sheet2!$A$53=TRUE,(-1*($G38-AN38)/$H38),($G38-AN38)/$H38)","v":{"$error":"#DIV/0!"}},{"$f":"IF(AN38=\"\",\"\",AQ38)","v":""},null,null,null,null,null,{"$f":"IF(Sheet2!$A$53=TRUE,(-1*($G38-AU38)/$H38),($G38-AU38)/$H38)","v":{"$error":"#DIV/0!"}},{"$f":"IF(AU38=\"\",\"\",AX38)","v":""}]
[null,null,"Outcome 2:",null,null,null,null,null,null,{"$f":"IF(Sheet2!$A$54=TRUE,-1*(#REF!-G39)/SQRT(((#REF!^2*(#REF!-1))+(H39^2*(I39-1)))/(#REF!+I39-2)),(#REF!-G39)/SQRT(((#REF!^2*(#REF!-1))+(H39^2*(I39-1)))/(#REF!+I39-2)))","v":{"$error":"#REF!"}},null,null,null,null,{"$f":"IF(Sheet2!$A$54=TRUE,(-1*($G39-L39)/$H39),($G39-L39)/$H39)","v":{"$error":"#DIV/0!"}},{"$f":"IF(L39=\"\",\"\",O39)","v":""},null,null,null,null,null,{"$f":"IF(Sheet2!$A$54=TRUE,(-1*($G39-S39)/$H39),($G39-S39)/$H39)","v":{"$error":"#DIV/0!"}},{"$f":"IF(S39=\"\",\"\",V39)","v":""},null,null,null,null,null,{"$f":"IF(Sheet2!$A$54=TRUE,(-1*($G39-Z39)/$H39),($G39-Z39)/$H39)","v":{"$error":"#DIV/0!"}},{"$f":"IF(Z39=\"\",\"\",AC39)","v":""},null,null,null,null,null,{"$f":"IF(Sheet2!$A$54=TRUE,(-1*($G39-AG39)/$H39),($G39-AG39)/$H39)","v":{"$error":"#DIV/0!"}},{"$f":"IF(AG39=\"\",\"\",AJ39)","v":""},null,null,null,null,null,{"$f":"IF(Sheet2!$A$54=TRUE,(-1*($G39-AN39)/$H39),($G39-AN39)/$H39)","v":{"$error":"#DIV/0!"}},{"$f":"IF(AN39=\"\",\"\",AQ39)","v":""},null,null,null,null,null,{"$f":"IF(Sheet2!$A$54=TRUE,(-1*($G39-AU39)/$H39),($G39-AU39)/$H39)","v":{"$error":"#DIV/0!"}},{"$f":"IF(AU39=\"\",\"\",AX39)","v":""}]
[null,null,"Outcome 3:",null,null,null,null,null,null,{"$f":"IF(Sheet2!$A$55=TRUE,-1*(#REF!-G40)/SQRT(((#REF!^2*(#REF!-1))+(H40^2*(I40-1)))/(#REF!+I40-2)),(#REF!-G40)/SQRT(((#REF!^2*(#REF!-1))+(H40^2*(I40-1)))/(#REF!+I40-2)))","v":{"$error":"#REF!"}},null,null,null,null,{"$f":"IF(Sheet2!$A$55=TRUE,(-1*($G40-L40)/$H40),($G40-L40)/$H40)","v":{"$error":"#DIV/0!"}},{"$f":"IF(L40=\"\",\"\",O40)","v":""},null,null,null,null,null,{"$f":"IF(Sheet2!$A$55=TRUE,(-1*($G40-S40)/$H40),($G40-S40)/$H40)","v":{"$error":"#DIV/0!"}},{"$f":"IF(S40=\"\",\"\",V40)","v":""},null,null,null,null,null,{"$f":"IF(Sheet2!$A$55=TRUE,(-1*($G40-Z40)/$H40),($G40-Z40)/$H40)","v":{"$error":"#DIV/0!"}},{"$f":"IF(Z40=\"\",\"\",AC40)","v":""},null,null,null,null,null,{"$f":"IF(Sheet2!$A$55=TRUE,(-1*($G40-AG40)/$H40),($G40-AG40)/$H40)","v":{"$error":"#DIV/0!"}},{"$f":"IF(AG40=\"\",\"\",AJ40)","v":""},null,null,null,null,null,{"$f":"IF(Sheet2!$A$55=TRUE,(-1*($G40-AN40)/$H40),($G40-AN40)/$H40)","v":{"$error":"#DIV/0!"}},{"$f":"IF(AN40=\"\",\"\",AQ40)","v":""},null,null,null,null,null,{"$f":"IF(Sheet2!$A$55=TRUE,(-1*($G40-AU40)/$H40),($G40-AU40)/$H40)","v":{"$error":"#DIV/0!"}},{"$f":"IF(AU40=\"\",\"\",AX40)","v":""}]
[null,null,"Outcome 4:",null,null,null,null,null,null,{"$f":"IF(Sheet2!$A$56=TRUE,-1*(#REF!-G41)/SQRT(((#REF!^2*(#REF!-1))+(H41^2*(I41-1)))/(#REF!+I41-2)),(#REF!-G41)/SQRT(((#REF!^2*(#REF!-1))+(H41^2*(I41-1)))/(#REF!+I41-2)))","v":{"$error":"#REF!"}},null,null,null,null,{"$f":"IF(Sheet2!$A$56=TRUE,(-1*($G41-L41)/$H41),($G41-L41)/$H41)","v":{"$error":"#DIV/0!"}},"",null,null,null,null,null,{"$f":"IF(Sheet2!$A$56=TRUE,(-1*($G41-S41)/$H41),($G41-S41)/$H41)","v":{"$error":"#DIV/0!"}},"",null,null,null,null,null,{"$f":"IF(Sheet2!$A$56=TRUE,(-1*($G41-Z41)/$H41),($G41-Z41)/$H41)","v":{"$error":"#DIV/0!"}},"",null,null,null,null,null,{"$f":"IF(Sheet2!$A$56=TRUE,(-1*($G41-AG41)/$H41),($G41-AG41)/$H41)","v":{"$error":"#DIV/0!"}},"",null,null,null,null,null,{"$f":"IF(Sheet2!$A$56=TRUE,(-1*($G41-AN41)/$H41),($G41-AN41)/$H41)","v":{"$error":"#DIV/0!"}},"",null,null,null,null,null,{"$f":"IF(Sheet2!$A$56=TRUE,(-1*($G41-AU41)/$H41),($G41-AU41)/$H41)","v":{"$error":"#DIV/0!"}},""]
[null,null,"Outcome 5:",null,null,null,null,null,null,{"$f":"IF(Sheet2!$A$57=TRUE,-1*(#REF!-G42)/SQRT(((#REF!^2*(#REF!-1))+(H42^2*(I42-1)))/(#REF!+I42-2)),(#REF!-G42)/SQRT(((#REF!^2*(#REF!-1))+(H42^2*(I42-1)))/(#REF!+I42-2)))","v":{"$error":"#REF!"}},null,null,null,null,{"$f":"IF(Sheet2!$A$57=TRUE,(-1*($G42-L42)/$H42),($G42-L42)/$H42)","v":{"$error":"#DIV/0!"}},"",null,null,null,null,null,{"$f":"IF(Sheet2!$A$57=TRUE,(-1*($G42-S42)/$H42),($G42-S42)/$H42)","v":{"$error":"#DIV/0!"}},"",null,null,null,null,null,{"$f":"IF(Sheet2!$A$57=TRUE,(-1*($G42-Z42)/$H42),($G42-Z42)/$H42)","v":{"$error":"#DIV/0!"}},"",null,null,null,null,null,{"$f":"IF(Sheet2!$A$57=TRUE,(-1*($G42-AG42)/$H42),($G42-AG42)/$H42)","v":{"$error":"#DIV/0!"}},"",null,null,null,null,null,{"$f":"IF(Sheet2!$A$57=TRUE,(-1*($G42-AN42)/$H42),($G42-AN42)/$H42)","v":{"$error":"#DIV/0!"}},"",null,null,null,null,null,{"$f":"IF(Sheet2!$A$57=TRUE,(-1*($G42-AU42)/$H42),($G42-AU42)/$H42)","v":{"$error":"#DIV/0!"}},""]
[null,null,"Processing Speed d",null,null,null,null,null,null,null,null,null,null,null,null,{"$f":"IF(P38=\"\",\"\",AVERAGE(P38:P42))","v":""},{"$f":"IF(Q38=\"\",\"\",AVERAGE(Q38:Q42))","v":""},null,null,null,null,null,{"$f":"IF(W38=\"\",\"\",AVERAGE(W38:W42))","v":""},{"$f":"IF(X38=\"\",\"\",AVERAGE(X38:X42))","v":""},null,null,null,null,null,{"$f":"IF(AD38=\"\",\"\",AVERAGE(AD38:AD42))","v":""},{"$f":"IF(AE38=\"\",\"\",AVERAGE(AE38:AE42))","v":""},null,null,null,null,null,{"$f":"IF(AK38=\"\",\"\",AVERAGE(AK38:AK42))","v":""},{"$f":"IF(AL38=\"\",\"\",AVERAGE(AL38:AL42))","v":""},null,null,null,null,null,{"$f":"IF(AR38=\"\",\"\",AVERAGE(AR38:AR42))","v":""},{"$f":"IF(AS38=\"\",\"\",AVERAGE(AS38:AS42))","v":""},null,null,null,null,null,{"$f":"IF(AY38=\"\",\"\",AVERAGE(AY38:AY42))","v":""},{"$f":"IF(AZ38=\"\",\"\",AVERAGE(AZ38:AZ42))","v":""}]
[]
[null,null,"Executive Function","Test Name"]
[null,null,"Outcome 1:",null,null,null,null,null,null,{"$f":"IF(Sheet2!$A$61=TRUE,-1*(#REF!-G46)/SQRT(((#REF!^2*(#REF!-1))+(H46^2*(I46-1)))/(#REF!+I46-2)),(#REF!-G46)/SQRT(((#REF!^2*(#REF!-1))+(H46^2*(I46-1)))/(#REF!+I46-2)))","v":{"$error":"#REF!"}},null,null,null,null,{"$f":"IF(Sheet2!$A$61=TRUE,(-1*($G46-L46)/$H46),($G46-L46)/$H46)","v":{"$error":"#DIV/0!"}},{"$f":"IF(L46=\"\",\"\",O46)","v":""},null,null,null,null,null,{"$f":"IF(Sheet2!$A$61=TRUE,(-1*($G46-S46)/$H46),($G46-S46)/$H46)","v":{"$error":"#DIV/0!"}},{"$f":"IF(S46=\"\",\"\",V46)","v":""},null,null,null,null,null,{"$f":"IF(Sheet2!$A$61=TRUE,(-1*($G46-Z46)/$H46),($G46-Z46)/$H46)","v":{"$error":"#DIV/0!"}},{"$f":"IF(Z46=\"\",\"\",AC46)","v":""},null,null,null,null,null,{"$f":"IF(Sheet2!$A$61=TRUE,(-1*($G46-AG46)/$H46),($G46-AG46)/$H46)","v":{"$error":"#DIV/0!"}},{"$f":"IF(AG46=\"\",\"\",AJ46)","v":""},null,null,null,null,null,{"$f":"IF(Sheet2!$A$61=TRUE,(-1*($G46-AN46)/$H46),($G46-AN46)/$H46)","v":{"$error":"#DIV/0!"}},{"$f":"IF(AN46=\"\",\"\",AQ46)","v":""},null,null,null,null,null,{"$f":"IF(Sheet2!$A$61=TRUE,(-1*($G46-AU46)/$H46),($G46-AU46)/$H46)","v":{"$error":"#DIV/0!"}},{"$f":"IF(AU46=\"\",\"\",AX46)","v":""}]
[null,null,"Outcome 2:",null,null,null,null,null,null,{"$f":"IF(Sheet2!$A$62=TRUE,-1*(#REF!-G47)/SQRT(((#REF!^2*(#REF!-1))+(H47^2*(I47-1)))/(#REF!+I47-2)),(#REF!-G47)/SQRT(((#REF!^2*(#REF!-1))+(H47^2*(I47-1)))/(#REF!+I47-2)))","v":{"$error":"#REF!"}},null,null,null,null,{"$f":"IF(Sheet2!$A$62=TRUE,(-1*($G47-L47)/$H47),($G47-L47)/$H47)","v":{"$error":"#DIV/0!"}},{"$f":"IF(L47=\"\",\"\",O47)","v":""},null,null,null,null,null,{"$f":"IF(Sheet2!$A$62=TRUE,(-1*($G47-S47)/$H47),($G47-S47)/$H47)","v":{"$error":"#DIV/0!"}},{"$f":"IF(S47=\"\",\"\",V47)","v":""},null,null,null,null,null,{"$f":"IF(Sheet2!$A$62=TRUE,(-1*($G47-Z47)/$H47),($G47-Z47)/$H47)","v":{"$error":"#DIV/0!"}},{"$f":"IF(Z47=\"\",\"\",AC47)","v":""},null,null,null,null,null,{"$f":"IF(Sheet2!$A$62=TRUE,(-1*($G47-AG47)/$H47),($G47-AG47)/$H47)","v":{"$error":"#DIV/0!"}},{"$f":"IF(AG47=\"\",\"\",AJ47)","v":""},null,null,null,null,null,{"$f":"IF(Sheet2!$A$62=TRUE,(-1*($G47-AN47)/$H47),($G47-AN47)/$H47)","v":{"$error":"#DIV/0!"}},{"$f":"IF(AN47=\"\",\"\",AQ47)","v":""},null,null,null,null,null,{"$f":"IF(Sheet2!$A$62=TRUE,(-1*($G47-AU47)/$H47),($G47-AU47)/$H47)","v":{"$error":"#DIV/0!"}},{"$f":"IF(AU47=\"\",\"\",AX47)","v":""}]
[null,null,"Outcome 3:",null,null,null,null,null,null,{"$f":"IF(Sheet2!$A$63=TRUE,-1*(#REF!-G48)/SQRT(((#REF!^2*(#REF!-1))+(H48^2*(I48-1)))/(#REF!+I48-2)),(#REF!-G48)/SQRT(((#REF!^2*(#REF!-1))+(H48^2*(I48-1)))/(#REF!+I48-2)))","v":{"$error":"#REF!"}},null,null,null,null,{"$f":"IF(Sheet2!$A$63=TRUE,(-1*($G48-L48)/$H48),($G48-L48)/$H48)","v":{"$error":"#DIV/0!"}},{"$f":"IF(L48=\"\",\"\",O48)","v":""},null,null,null,null,null,{"$f":"IF(Sheet2!$A$63=TRUE,(-1*($G48-S48)/$H48),($G48-S48)/$H48)","v":{"$error":"#DIV/0!"}},{"$f":"IF(S48=\"\",\"\",V48)","v":""},null,null,null,null,null,{"$f":"IF(Sheet2!$A$63=TRUE,(-1*($G48-Z48)/$H48),($G48-Z48)/$H48)","v":{"$error":"#DIV/0!"}},{"$f":"IF(Z48=\"\",\"\",AC48)","v":""},null,null,null,null,null,{"$f":"IF(Sheet2!$A$63=TRUE,(-1*($G48-AG48)/$H48),($G48-AG48)/$H48)","v":{"$error":"#DIV/0!"}},{"$f":"IF(AG48=\"\",\"\",AJ48)","v":""},null,null,null,null,null,{"$f":"IF(Sheet2!$A$63=TRUE,(-1*($G48-AN48)/$H48),($G48-AN48)/$H48)","v":{"$error":"#DIV/0!"}},{"$f":"IF(AN48=\"\",\"\",AQ48)","v":""},null,null,null,null,null,{"$f":"IF(Sheet2!$A$63=TRUE,(-1*($G48-AU48)/$H48),($G48-AU48)/$H48)","v":{"$error":"#DIV/0!"}},{"$f":"IF(AU48=\"\",\"\",AX48)","v":""}]
[null,null,"Outcome 4:",null,null,null,null,null,null,{"$f":"IF(Sheet2!$A$64=TRUE,-1*(#REF!-G49)/SQRT(((#REF!^2*(#REF!-1))+(H49^2*(I49-1)))/(#REF!+I49-2)),(#REF!-G49)/SQRT(((#REF!^2*(#REF!-1))+(H49^2*(I49-1)))/(#REF!+I49-2)))","v":{"$error":"#REF!"}},null,null,null,null,{"$f":"IF(Sheet2!$A$64=TRUE,(-1*($G49-L49)/$H49),($G49-L49)/$H49)","v":{"$error":"#DIV/0!"}},"",null,null,null,null,null,{"$f":"IF(Sheet2!$A$64=TRUE,(-1*($G49-S49)/$H49),($G49-S49)/$H49)","v":{"$error":"#DIV/0!"}},"",null,null,null,null,null,{"$f":"IF(Sheet2!$A$64=TRUE,(-1*($G49-Z49)/$H49),($G49-Z49)/$H49)","v":{"$error":"#DIV/0!"}},"",null,null,null,null,null,{"$f":"IF(Sheet2!$A$64=TRUE,(-1*($G49-AG49)/$H49),($G49-AG49)/$H49)","v":{"$error":"#DIV/0!"}},"",null,null,null,null,null,{"$f":"IF(Sheet2!$A$64=TRUE,(-1*($G49-AN49)/$H49),($G49-AN49)/$H49)","v":{"$error":"#DIV/0!"}},"",null,null,null,null,null,{"$f":"IF(Sheet2!$A$64=TRUE,(-1*($G49-AU49)/$H49),($G49-AU49)/$H49)","v":{"$error":"#DIV/0!"}},""]
[null,null,"Outcome 5:",null,null,null,null,null,null,{"$f":"IF(Sheet2!$A$65=TRUE,-1*(#REF!-G50)/SQRT(((#REF!^2*(#REF!-1))+(H50^2*(I50-1)))/(#REF!+I50-2)),(#REF!-G50)/SQRT(((#REF!^2*(#REF!-1))+(H50^2*(I50-1)))/(#REF!+I50-2)))","v":{"$error":"#REF!"}},null,null,null,null,{"$f":"IF(Sheet2!$A$65=TRUE,(-1*($G50-L50)/$H50),($G50-L50)/$H50)","v":{"$error":"#DIV/0!"}},"",null,null,null,null,null,{"$f":"IF(Sheet2!$A$65=TRUE,(-1*($G50-S50)/$H50),($G50-S50)/$H50)","v":{"$error":"#DIV/0!"}},"",null,null,null,null,null,{"$f":"IF(Sheet2!$A$65=TRUE,(-1*($G50-Z50)/$H50),($G50-Z50)/$H50)","v":{"$error":"#DIV/0!"}},"",null,null,null,null,null,{"$f":"IF(Sheet2!$A$65=TRUE,(-1*($G50-AG50)/$H50),($G50-AG50)/$H50)","v":{"$error":"#DIV/0!"}},"",null,null,null,null,null,{"$f":"IF(Sheet2!$A$65=TRUE,(-1*($G50-AN50)/$H50),($G50-AN50)/$H50)","v":{"$error":"#DIV/0!"}},"",null,null,null,null,null,{"$f":"IF(Sheet2!$A$65=TRUE,(-1*($G50-AU50)/$H50),($G50-AU50)/$H50)","v":{"$error":"#DIV/0!"}},""]
[null,null,"Executive Function d",null,null,null,null,null,null,null,null,null,null,null,null,{"$f":"IF(P46=\"\",\"\",AVERAGE(P46:P50))","v":""},{"$f":"IF(Q46=\"\",\"\",AVERAGE(Q46:Q50))","v":""},null,null,null,null,null,{"$f":"IF(W46=\"\",\"\",AVERAGE(W46:W50))","v":""},{"$f":"IF(X46=\"\",\"\",AVERAGE(X46:X50))","v":""},null,null,null,null,null,{"$f":"IF(AD46=\"\",\"\",AVERAGE(AD46:AD50))","v":""},{"$f":"IF(AE46=\"\",\"\",AVERAGE(AE46:AE50))","v":""},null,null,null,null,null,{"$f":"IF(AK46=\"\",\"\",AVERAGE(AK46:AK50))","v":""},{"$f":"IF(AL46=\"\",\"\",AVERAGE(AL46:AL50))","v":""},null,null,null,null,null,{"$f":"IF(AR46=\"\",\"\",AVERAGE(AR46:AR50))","v":""},{"$f":"IF(AS46=\"\",\"\",AVERAGE(AS46:AS50))","v":""},null,null,null,null,null,{"$f":"IF(AY46=\"\",\"\",AVERAGE(AY46:AY50))","v":""},{"$f":"IF(AZ46=\"\",\"\",AVERAGE(AZ46:AZ50))","v":""}]
[]
[null,null,"Immediate Memory","Test Name"]
[null,null,"Outcome 1:",null,null,null,null,null,null,{"$f":"IF(Sheet2!$A$69=TRUE,-1*(#REF!-G54)/SQRT(((#REF!^2*(#REF!-1))+(H54^2*(I54-1)))/(#REF!+I54-2)),(#REF!-G54)/SQRT(((#REF!^2*(#REF!-1))+(H54^2*(I54-1)))/(#REF!+I54-2)))","v":{"$error":"#REF!"}},null,null,null,null,{"$f":"IF(Sheet2!$A$69=TRUE,(-1*($G54-L54)/$H54),($G54-L54)/$H54)","v":{"$error":"#DIV/0!"}},{"$f":"IF(L54=\"\",\"\",O54)","v":""},null,null,null,null,null,{"$f":"IF(Sheet2!$A$69=TRUE,(-1*($G54-S54)/$H54),($G54-S54)/$H54)","v":{"$error":"#DIV/0!"}},{"$f":"IF(S54=\"\",\"\",V54)","v":""},null,null,null,null,null,{"$f":"IF(Sheet2!$A$69=TRUE,(-1*($G54-Z54)/$H54),($G54-Z54)/$H54)","v":{"$error":"#DIV/0!"}},{"$f":"IF(Z54=\"\",\"\",AC54)","v":""},null,null,null,null,null,{"$f":"IF(Sheet2!$A$69=TRUE,(-1*($G54-AG54)/$H54),($G54-AG54)/$H54)","v":{"$error":"#DIV/0!"}},{"$f":"IF(AG54=\"\",\"\",AJ54)","v":""},null,null,null,null,null,{"$f":"IF(Sheet2!$A$69=TRUE,(-1*($G54-AN54)/$H54),($G54-AN54)/$H54)","v":{"$error":"#DIV/0!"}},{"$f":"IF(AN54=\"\",\"\",AQ54)","v":""},null,null,null,null,null,{"$f":"IF(Sheet2!$A$69=TRUE,(-1*($G54-AU54)/$H54),($G54-AU54)/$H54)","v":{"$error":"#DIV/0!"}},{"$f":"IF(AU54=\"\",\"\",AX54)","v":""}]
[null,null,"Outcome 2:",null,null,null,null,null,null,{"$f":"IF(Sheet2!$A$70=TRUE,-1*(#REF!-G55)/SQRT(((#REF!^2*(#REF!-1))+(H55^2*(I55-1)))/(#REF!+I55-2)),(#REF!-G55)/SQRT(((#REF!^2*(#REF!-1))+(H55^2*(I55-1)))/(#REF!+I55-2)))","v":{"$error":"#REF!"}},null,null,null,null,{"$f":"IF(Sheet2!$A$70=TRUE,(-1*($G55-L55)/$H55),($G55-L55)/$H55)","v":{"$error":"#DIV/0!"}},{"$f":"IF(L55=\"\",\"\",O55)","v":""},null,null,null,null,null,{"$f":"IF(Sheet2!$A$70=TRUE,(-1*($G55-S55)/$H55),($G55-S55)/$H55)","v":{"$error":"#DIV/0!"}},{"$f":"IF(S55=\"\",\"\",V55)","v":""},null,null,null,null,null,{"$f":"IF(Sheet2!$A$70=TRUE,(-1*($G55-Z55)/$H55),($G55-Z55)/$H55)","v":{"$error":"#DIV/0!"}},{"$f":"IF(Z55=\"\",\"\",AC55)","v":""},null,null,null,null,null,{"$f":"IF(Sheet2!$A$70=TRUE,(-1*($G55-AG55)/$H55),($G55-AG55)/$H55)","v":{"$error":"#DIV/0!"}},{"$f":"IF(AG55=\"\",\"\",AJ55)","v":""},null,null,null,null,null,{"$f":"IF(Sheet2!$A$70=TRUE,(-1*($G55-AN55)/$H55),($G55-AN55)/$H55)","v":{"$error":"#DIV/0!"}},{"$f":"IF(AN55=\"\",\"\",AQ55)","v":""},null,null,null,null,null,{"$f":"IF(Sheet2!$A$70=TRUE,(-1*($G55-AU55)/$H55),($G55-AU55)/$H55)","v":{"$error":"#DIV/0!"}},{"$f":"IF(AU55=\"\",\"\",AX55)","v":""}]
[null,null,"Outcome 3:",null,null,null,null,null,null,{"$f":"IF(Sheet2!$A$71=TRUE,-1*(#REF!-G56)/SQRT(((#REF!^2*(#REF!-1))+(H56^2*(I56-1)))/(#REF!+I56-2)),(#REF!-G56)/SQRT(((#REF!^2*(#REF!-1))+(H56^2*(I56-1)))/(#REF!+I56-2)))","v":{"$error":"#REF!"}},null,null,null,null,{"$f":"IF(Sheet2!$A$71=TRUE,(-1*($G56-L56)/$H56),($G56-L56)/$H56)","v":{"$error":"#DIV/0!"}},{"$f":"IF(L56=\"\",\"\",O56)","v":""},null,null,null,null,null,{"$f":"IF(Sheet2!$A$71=TRUE,(-1*($G56-S56)/$H56),($G56-S56)/$H56)","v":{"$error":"#DIV/0!"}},{"$f":"IF(S56=\"\",\"\",V56)","v":""},null,null,null,null,null,{"$f":"IF(Sheet2!$A$71=TRUE,(-1*($G56-Z56)/$H56),($G56-Z56)/$H56)","v":{"$error":"#DIV/0!"}},{"$f":"IF(Z56=\"\",\"\",AC56)","v":""},null,null,null,null,null,{"$f":"IF(Sheet2!$A$71=TRUE,(-1*($G56-AG56)/$H56),($G56-AG56)/$H56)","v":{"$error":"#DIV/0!"}},{"$f":"IF(AG56=\"\",\"\",AJ56)","v":""},null,null,null,null,null,{"$f":"IF(Sheet2!$A$71=TRUE,(-1*($G56-AN56)/$H56),($G56-AN56)/$H56)","v":{"$error":"#DIV/0!"}},{"$f":"IF(AN56=\"\",\"\",AQ56)","v":""},null,null,null,null,null,{"$f":"IF(Sheet2!$A$71=TRUE,(-1*($G56-AU56)/$H56),($G56-AU56)/$H56)","v":{"$error":"#DIV/0!"}},{"$f":"IF(AU56=\"\",\"\",AX56)","v":""}]
[null,null,"Outcome 4:",null,null,null,null,null,null,{"$f":"IF(Sheet2!$A$72=TRUE,-1*(#REF!-G57)/SQRT(((#REF!^2*(#REF!-1))+(H57^2*(I57-1)))/(#REF!+I57-2)),(#REF!-G57)/SQRT(((#REF!^2*(#REF!-1))+(H57^2*(I57-1)))/(#REF!+I57-2)))","v":{"$error":"#REF!"}},null,null,null,null,{"$f":"IF(Sheet2!$A$72=TRUE,(-1*($G57-L57)/$H57),($G57-L57)/$H57)","v":{"$error":"#DIV/0!"}},"",null,null,null,null,null,{"$f":"IF(Sheet2!$A$72=TRUE,(-1*($G57-S57)/$H57),($G57-S57)/$H57)","v":{"$error":"#DIV/0!"}},"",null,null,null,null,null,{"$f":"IF(Sheet2!$A$72=TRUE,(-1*($G57-Z57)/$H57),($G57-Z57)/$H57)","v":{"$error":"#DIV/0!"}},"",null,null,null,null,null,{"$f":"IF(Sheet2!$A$72=TRUE,(-1*($G57-AG57)/$H57),($G57-AG57)/$H57)","v":{"$error":"#DIV/0!"}},"",null,null,null,null,null,{"$f":"IF(Sheet2!$A$72=TRUE,(-1*($G57-AN57)/$H57),($G57-AN57)/$H57)","v":{"$error":"#DIV/0!"}},"",null,null,null,null,null,{"$f":"IF(Sheet2!$A$72=TRUE,(-1*($G57-AU57)/$H57),($G57-AU57)/$H57)","v":{"$error":"#DIV/0!"}},""]
[null,null,"Outcome 5:",null,null,null,null,null,null,{"$f":"IF(Sheet2!$A$73=TRUE,-1*(#REF!-G58)/SQRT(((#REF!^2*(#REF!-1))+(H58^2*(I58-1)))/(#REF!+I58-2)),(#REF!-G58)/SQRT(((#REF!^2*(#REF!-1))+(H58^2*(I58-1)))/(#REF!+I58-2)))","v":{"$error":"#REF!"}},null,null,null,null,{"$f":"IF(Sheet2!$A$73=TRUE,(-1*($G58-L58)/$H58),($G58-L58)/$H58)","v":{"$error":"#DIV/0!"}},"",null,null,null,null,null,{"$f":"IF(Sheet2!$A$73=TRUE,(-1*($G58-S58)/$H58),($G58-S58)/$H58)","v":{"$error":"#DIV/0!"}},"",null,null,null,null,null,{"$f":"IF(Sheet2!$A$73=TRUE,(-1*($G58-Z58)/$H58),($G58-Z58)/$H58)","v":{"$error":"#DIV/0!"}},"",null,null,null,null,null,{"$f":"IF(Sheet2!$A$73=TRUE,(-1*($G58-AG58)/$H58),($G58-AG58)/$H58)","v":{"$error":"#DIV/0!"}},"",null,null,null,null,null,{"$f":"IF(Sheet2!$A$73=TRUE,(-1*($G58-AN58)/$H58),($G58-AN58)/$H58)","v":{"$error":"#DIV/0!"}},"",null,null,null,null,null,{"$f":"IF(Sheet2!$A$73=TRUE,(-1*($G58-AU58)/$H58),($G58-AU58)/$H58)","v":{"$error":"#DIV/0!"}},""]
[null,null,"Immediate Memory d",null,null,null,null,null,null,null,null,null,null,null,null,{"$f":"IF(P54=\"\",\"\",AVERAGE(P54:P58))","v":""},{"$f":"IF(Q54=\"\",\"\",AVERAGE(Q54:Q58))","v":""},null,null,null,null,null,{"$f":"IF(W54=\"\",\"\",AVERAGE(W54:W58))","v":""},{"$f":"IF(X54=\"\",\"\",AVERAGE(X54:X58))","v":""},null,null,null,null,null,{"$f":"IF(AD54=\"\",\"\",AVERAGE(AD54:AD58))","v":""},{"$f":"IF(AE54=\"\",\"\",AVERAGE(AE54:AE58))","v":""},null,null,null,null,null,{"$f":"IF(AK54=\"\",\"\",AVERAGE(AK54:AK58))","v":""},{"$f":"IF(AL54=\"\",\"\",AVERAGE(AL54:AL58))","v":""},null,null,null,null,null,{"$f":"IF(AR54=\"\",\"\",AVERAGE(AR54:AR58))","v":""},{"$f":"IF(AS54=\"\",\"\",AVERAGE(AS54:AS58))","v":""},null,null,null,null,null,{"$f":"IF(AY54=\"\",\"\",AVERAGE(AY54:AY58))","v":""},{"$f":"IF(AZ54=\"\",\"\",AVERAGE(AZ54:AZ58))","v":""}]
[]
[null,null,"Delayed Memory","Test Name"]
[null,null,"Outcome 1:",null,null,null,null,null,null,{"$f":"IF(Sheet2!$A$77=TRUE,-1*(#REF!-G62)/SQRT(((#REF!^2*(#REF!-1))+(H62^2*(I62-1)))/(#REF!+I62-2)),(#REF!-G62)/SQRT(((#REF!^2*(#REF!-1))+(H62^2*(I62-1)))/(#REF!+I62-2)))","v":{"$error":"#REF!"}},null,null,null,null,{"$f":"IF(Sheet2!$A$77=TRUE,(-1*($G62-L62)/$H62),($G62-L62)/$H62)","v":{"$error":"#DIV/0!"}},{"$f":"IF(L62=\"\",\"\",O62)","v":""},null,null,null,null,null,{"$f":"IF(Sheet2!$A$77=TRUE,(-1*($G62-S62)/$H62),($G62-S62)/$H62)","v":{"$error":"#DIV/0!"}},{"$f":"IF(S62=\"\",\"\",V62)","v":""},null,null,null,null,null,{"$f":"IF(Sheet2!$A$77=TRUE,(-1*($G62-Z62)/$H62),($G62-Z62)/$H62)","v":{"$error":"#DIV/0!"}},{"$f":"IF(Z62=\"\",\"\",AC62)","v":""},null,null,null,null,null,{"$f":"IF(Sheet2!$A$77=TRUE,(-1*($G62-AG62)/$H62),($G62-AG62)/$H62)","v":{"$error":"#DIV/0!"}},{"$f":"IF(AG62=\"\",\"\",AJ62)","v":""},null,null,null,null,null,{"$f":"IF(Sheet2!$A$77=TRUE,(-1*($G62-AN62)/$H62),($G62-AN62)/$H62)","v":{"$error":"#DIV/0!"}},{"$f":"IF(AN62=\"\",\"\",AQ62)","v":""},null,null,null,null,null,{"$f":"IF(Sheet2!$A$77=TRUE,(-1*($G62-AU62)/$H62),($G62-AU62)/$H62)","v":{"$error":"#DIV/0!"}},{"$f":"IF(AU62=\"\",\"\",AX62)","v":""}]
[null,null,"Outcome 2:",null,null,null,null,null,null,{"$f":"IF(Sheet2!$A$78=TRUE,-1*(#REF!-G63)/SQRT(((#REF!^2*(#REF!-1))+(H63^2*(I63-1)))/(#REF!+I63-2)),(#REF!-G63)/SQRT(((#REF!^2*(#REF!-1))+(H63^2*(I63-1)))/(#REF!+I63-2)))","v":{"$error":"#REF!"}},null,null,null,null,{"$f":"IF(Sheet2!$A$78=TRUE,(-1*($G63-L63)/$H63),($G63-L63)/$H63)","v":{"$error":"#DIV/0!"}},{"$f":"IF(L63=\"\",\"\",O63)","v":""},null,null,null,null,null,{"$f":"IF(Sheet2!$A$78=TRUE,(-1*($G63-S63)/$H63),($G63-S63)/$H63)","v":{"$error":"#DIV/0!"}},{"$f":"IF(S63=\"\",\"\",V63)","v":""},null,null,null,null,null,{"$f":"IF(Sheet2!$A$78=TRUE,(-1*($G63-Z63)/$H63),($G63-Z63)/$H63)","v":{"$error":"#DIV/0!"}},{"$f":"IF(Z63=\"\",\"\",AC63)","v":""},null,null,null,null,null,{"$f":"IF(Sheet2!$A$78=TRUE,(-1*($G63-AG63)/$H63),($G63-AG63)/$H63)","v":{"$error":"#DIV/0!"}},{"$f":"IF(AG63=\"\",\"\",AJ63)","v":""},null,null,null,null,null,{"$f":"IF(Sheet2!$A$78=TRUE,(-1*($G63-AN63)/$H63),($G63-AN63)/$H63)","v":{"$error":"#DIV/0!"}},{"$f":"IF(AN63=\"\",\"\",AQ63)","v":""},null,null,null,null,null,{"$f":"IF(Sheet2!$A$78=TRUE,(-1*($G63-AU63)/$H63),($G63-AU63)/$H63)","v":{"$error":"#DIV/0!"}},{"$f":"IF(AU63=\"\",\"\",AX63)","v":""}]
[null,null,"Outcome 3:",null,null,null,null,null,null,{"$f":"IF(Sheet2!$A$79=TRUE,-1*(#REF!-G64)/SQRT(((#REF!^2*(#REF!-1))+(H64^2*(I64-1)))/(#REF!+I64-2)),(#REF!-G64)/SQRT(((#REF!^2*(#REF!-1))+(H64^2*(I64-1)))/(#REF!+I64-2)))","v":{"$error":"#REF!"}},null,null,null,null,{"$f":"IF(Sheet2!$A$79=TRUE,(-1*($G64-L64)/$H64),($G64-L64)/$H64)","v":{"$error":"#DIV/0!"}},{"$f":"IF(L64=\"\",\"\",O64)","v":""},null,null,null,null,null,{"$f":"IF(Sheet2!$A$79=TRUE,(-1*($G64-S64)/$H64),($G64-S64)/$H64)","v":{"$error":"#DIV/0!"}},{"$f":"IF(S64=\"\",\"\",V64)","v":""},null,null,null,null,null,{"$f":"IF(Sheet2!$A$79=TRUE,(-1*($G64-Z64)/$H64),($G64-Z64)/$H64)","v":{"$error":"#DIV/0!"}},{"$f":"IF(Z64=\"\",\"\",AC64)","v":""},null,null,null,null,null,{"$f":"IF(Sheet2!$A$79=TRUE,(-1*($G64-AG64)/$H64),($G64-AG64)/$H64)","v":{"$error":"#DIV/0!"}},{"$f":"IF(AG64=\"\",\"\",AJ64)","v":""},null,null,null,null,null,{"$f":"IF(Sheet2!$A$79=TRUE,(-1*($G64-AN64)/$H64),($G64-AN64)/$H64)","v":{"$error":"#DIV/0!"}},{"$f":"IF(AN64=\"\",\"\",AQ64)","v":""},null,null,null,null,null,{"$f":"IF(Sheet2!$A$79=TRUE,(-1*($G64-AU64)/$H64),($G64-AU64)/$H64)","v":{"$error":"#DIV/0!"}},{"$f":"IF(AU64=\"\",\"\",AX64)","v":""}]
[null,null,"Outcome 4:",null,null,null,null,null,null,{"$f":"IF(Sheet2!$A$80=TRUE,-1*(#REF!-G65)/SQRT(((#REF!^2*(#REF!-1))+(H65^2*(I65-1)))/(#REF!+I65-2)),(#REF!-G65)/SQRT(((#REF!^2*(#REF!-1))+(H65^2*(I65-1)))/(#REF!+I65-2)))","v":{"$error":"#REF!"}},null,null,null,null,{"$f":"IF(Sheet2!$A$80=TRUE,(-1*($G65-L65)/$H65),($G65-L65)/$H65)","v":{"$error":"#DIV/0!"}},"",null,null,null,null,null,{"$f":"IF(Sheet2!$A$80=TRUE,(-1*($G65-S65)/$H65),($G65-S65)/$H65)","v":{"$error":"#DIV/0!"}},"",null,null,null,null,null,{"$f":"IF(Sheet2!$A$80=TRUE,(-1*($G65-Z65)/$H65),($G65-Z65)/$H65)","v":{"$error":"#DIV/0!"}},"",null,null,null,null,null,{"$f":"IF(Sheet2!$A$80=TRUE,(-1*($G65-AG65)/$H65),($G65-AG65)/$H65)","v":{"$error":"#DIV/0!"}},"",null,null,null,null,null,{"$f":"IF(Sheet2!$A$80=TRUE,(-1*($G65-AN65)/$H65),($G65-AN65)/$H65)","v":{"$error":"#DIV/0!"}},"",null,null,null,null,null,{"$f":"IF(Sheet2!$A$80=TRUE,(-1*($G65-AU65)/$H65),($G65-AU65)/$H65)","v":{"$error":"#DIV/0!"}},""]
[null,null,"Outcome 5:",null,null,null,null,null,null,{"$f":"IF(Sheet2!$A$81=TRUE,-1*(#REF!-G66)/SQRT(((#REF!^2*(#REF!-1))+(H66^2*(I66-1)))/(#REF!+I66-2)),(#REF!-G66)/SQRT(((#REF!^2*(#REF!-1))+(H66^2*(I66-1)))/(#REF!+I66-2)))","v":{"$error":"#REF!"}},null,null,null,null,{"$f":"IF(Sheet2!$A$81=TRUE,(-1*($G66-L66)/$H66),($G66-L66)/$H66)","v":{"$error":"#DIV/0!"}},"",null,null,null,null,null,{"$f":"IF(Sheet2!$A$81=TRUE,(-1*($G66-S66)/$H66),($G66-S66)/$H66)","v":{"$error":"#DIV/0!"}},"",null,null,null,null,null,{"$f":"IF(Sheet2!$A$81=TRUE,(-1*($G66-Z66)/$H66),($G66-Z66)/$H66)","v":{"$error":"#DIV/0!"}},"",null,null,null,null,null,{"$f":"IF(Sheet2!$A$81=TRUE,(-1*($G66-AG66)/$H66),($G66-AG66)/$H66)","v":{"$error":"#DIV/0!"}},"",null,null,null,null,null,{"$f":"IF(Sheet2!$A$81=TRUE,(-1*($G66-AN66)/$H66),($G66-AN66)/$H66)","v":{"$error":"#DIV/0!"}},"",null,null,null,null,null,{"$f":"IF(Sheet2!$A$81=TRUE,(-1*($G66-AU66)/$H66),($G66-AU66)/$H66)","v":{"$error":"#DIV/0!"}},""]
[null,null,"Delayed Memory d",null,null,null,null,null,null,null,null,null,null,null,null,{"$f":"IF(P62=\"\",\"\",AVERAGE(P62:P66))","v":""},{"$f":"IF(Q62=\"\",\"\",AVERAGE(Q62:Q66))","v":""},null,null,null,null,null,{"$f":"IF(W62=\"\",\"\",AVERAGE(W62:W66))","v":""},{"$f":"IF(X62=\"\",\"\",AVERAGE(X62:X66))","v":""},null,null,null,null,null,{"$f":"IF(AD62=\"\",\"\",AVERAGE(AD62:AD66))","v":""},{"$f":"IF(AE62=\"\",\"\",AVERAGE(AE62:AE66))","v":""},null,null,null,null,null,{"$f":"IF(AK62=\"\",\"\",AVERAGE(AK62:AK66))","v":""},{"$f":"IF(AL62=\"\",\"\",AVERAGE(AL62:AL66))","v":""},null,null,null,null,null,{"$f":"IF(AR62=\"\",\"\",AVERAGE(AR62:AR66))","v":""},{"$f":"IF(AS62=\"\",\"\",AVERAGE(AS62:AS66))","v":""},null,null,null,null,null,{"$f":"IF(AY62=\"\",\"\",AVERAGE(AY62:AY66))","v":""},{"$f":"IF(AZ62=\"\",\"\",AVERAGE(AZ62:AZ66))","v":""}]
[]
[null,null,"Visuospatial Skills"]
[null,null,"Outcome 1:",null,null,null,null,null,null,null,null,null,null,null,{"$f":"IF(Sheet2!$A$85=TRUE,(-1*($G70-L70)/$H70),($G70-L70)/$H70)","v":{"$error":"#DIV/0!"}},{"$f":"IF(L70=\"\",\"\",O70)","v":""},null,null,null,null,null,{"$f":"IF(Sheet2!$A$85=TRUE,(-1*($G70-S70)/$H70),($G70-S70)/$H70)","v":{"$error":"#DIV/0!"}},{"$f":"IF(S70=\"\",\"\",V70)","v":""},null,null,null,null,null,{"$f":"IF(Sheet2!$A$85=TRUE,(-1*($G70-Z70)/$H70),($G70-Z70)/$H70)","v":{"$error":"#DIV/0!"}},{"$f":"IF(Z70=\"\",\"\",AC70)","v":""},null,null,null,null,null,{"$f":"IF(Sheet2!$A$85=TRUE,(-1*($G70-AG70)/$H70),($G70-AG70)/$H70)","v":{"$error":"#DIV/0!"}},{"$f":"IF(AG70=\"\",\"\",AJ70)","v":""},null,null,null,null,null,{"$f":"IF(Sheet2!$A$85=TRUE,(-1*($G70-AN70)/$H70),($G70-AN70)/$H70)","v":{"$error":"#DIV/0!"}},{"$f":"IF(AN70=\"\",\"\",AQ70)","v":""},null,null,null,null,null,{"$f":"IF(Sheet2!$A$85=TRUE,(-1*($G70-AU70)/$H70),($G70-AU70)/$H70)","v":{"$error":"#DIV/0!"}},{"$f":"IF(AU70=\"\",\"\",AX70)","v":""}]
[null,null,"Outcome 2:",null,null,null,null,null,null,null,null,null,null,null,{"$f":"IF(Sheet2!$A$86=TRUE,(-1*($G71-L71)/$H71),($G71-L71)/$H71)","v":{"$error":"#DIV/0!"}},{"$f":"IF(L71=\"\",\"\",O71)","v":""},null,null,null,null,null,{"$f":"IF(Sheet2!$A$86=TRUE,(-1*($G71-S71)/$H71),($G71-S71)/$H71)","v":{"$error":"#DIV/0!"}},{"$f":"IF(S71=\"\",\"\",V71)","v":""},null,null,null,null,null,{"$f":"IF(Sheet2!$A$86=TRUE,(-1*($G71-Z71)/$H71),($G71-Z71)/$H71)","v":{"$error":"#DIV/0!"}},{"$f":"IF(Z71=\"\",\"\",AC71)","v":""},null,null,null,null,null,{"$f":"IF(Sheet2!$A$86=TRUE,(-1*($G71-AG71)/$H71),($G71-AG71)/$H71)","v":{"$error":"#DIV/0!"}},{"$f":"IF(AG71=\"\",\"\",AJ71)","v":""},null,null,null,null,null,{"$f":"IF(Sheet2!$A$86=TRUE,(-1*($G71-AN71)/$H71),($G71-AN71)/$H71)","v":{"$error":"#DIV/0!"}},{"$f":"IF(AN71=\"\",\"\",AQ71)","v":""},null,null,null,null,null,{"$f":"IF(Sheet2!$A$86=TRUE,(-1*($G71-AU71)/$H71),($G71-AU71)/$H71)","v":{"$error":"#DIV/0!"}},{"$f":"IF(AU71=\"\",\"\",AX71)","v":""}]
[null,null,"Outcome 3:",null,null,null,null,null,null,null,null,null,null,null,{"$f":"IF(Sheet2!$A$87=TRUE,(-1*($G72-L72)/$H72),($G72-L72)/$H72)","v":{"$error":"#DIV/0!"}},{"$f":"IF(L72=\"\",\"\",O72)","v":""},null,null,null,null,null,{"$f":"IF(Sheet2!$A$87=TRUE,(-1*($G72-S72)/$H72),($G72-S72)/$H72)","v":{"$error":"#DIV/0!"}},{"$f":"IF(S72=\"\",\"\",V72)","v":""},null,null,null,null,null,{"$f":"IF(Sheet2!$A$87=TRUE,(-1*($G72-Z72)/$H72),($G72-Z72)/$H72)","v":{"$error":"#DIV/0!"}},{"$f":"IF(Z72=\"\",\"\",AC72)","v":""},null,null,null,null,null,{"$f":"IF(Sheet2!$A$87=TRUE,(-1*($G72-AG72)/$H72),($G72-AG72)/$H72)","v":{"$error":"#DIV/0!"}},{"$f":"IF(AG72=\"\",\"\",AJ72)","v":""},null,null,null,null,null,{"$f":"IF(Sheet2!$A$87=TRUE,(-1*($G72-AN72)/$H72),($G72-AN72)/$H72)","v":{"$error":"#DIV/0!"}},{"$f":"IF(AN72=\"\",\"\",AQ72)","v":""},null,null,null,null,null,{"$f":"IF(Sheet2!$A$87=TRUE,(-1*($G72-AU72)/$H72),($G72-AU72)/$H72)","v":{"$error":"#DIV/0!"}},{"$f":"IF(AU72=\"\",\"\",AX72)","v":""}]
[null,null,"Outcome 4:",null,null,null,null,null,null,null,null,null,null,null,{"$f":"IF(Sheet2!$A$88=TRUE,(-1*($G73-L73)/$H73),($G73-L73)/$H73)","v":{"$error":"#DIV/0!"}},"",null,null,null,null,null,{"$f":"IF(Sheet2!$A$88=TRUE,(-1*($G73-S73)/$H73),($G73-S73)/$H73)","v":{"$error":"#DIV/0!"}},"",null,null,null,null,null,{"$f":"IF(Sheet2!$A$88=TRUE,(-1*($G73-Z73)/$H73),($G73-Z73)/$H73)","v":{"$error":"#DIV/0!"}},"",null,null,null,null,null,{"$f":"IF(Sheet2!$A$88=TRUE,(-1*($G73-AG73)/$H73),($G73-AG73)/$H73)","v":{"$error":"#DIV/0!"}},"",null,null,null,null,null,{"$f":"IF(Sheet2!$A$88=TRUE,(-1*($G73-AN73)/$H73),($G73-AN73)/$H73)","v":{"$error":"#DIV/0!"}},"",null,null,null,null,null,{"$f":"IF(Sheet2!$A$88=TRUE,(-1*($G73-AU73)/$H73),($G73-AU73)/$H73)","v":{"$error":"#DIV/0!"}},""]
[null,null,"Outcome 5:",null,null,null,null,null,null,null,null,null,null,null,{"$f":"IF(Sheet2!$A$89=TRUE,(-1*($G74-L74)/$H74),($G74-L74)/$H74)","v":{"$error":"#DIV/0!"}},"",null,null,null,null,null,{"$f":"IF(Sheet2!$A$89=TRUE,(-1*($G74-S74)/$H74),($G74-S74)/$H74)","v":{"$error":"#DIV/0!"}},"",null,null,null,null,null,{"$f":"IF(Sheet2!$A$89=TRUE,(-1*($G74-Z74)/$H74),($G74-Z74)/$H74)","v":{"$error":"#DIV/0!"}},"",null,null,null,null,null,{"$f":"IF(Sheet2!$A$89=TRUE,(-1*($G74-AG74)/$H74),($G74-AG74)/$H74)","v":{"$error":"#DIV/0!"}},"",null,null,null,null,null,{"$f":"IF(Sheet2!$A$89=TRUE,(-1*($G74-AN74)/$H74),($G74-AN74)/$H74)","v":{"$error":"#DIV/0!"}},"",null,null,null,null,null,{"$f":"IF(Sheet2!$A$89=TRUE,(-1*($G74-AU74)/$H74),($G74-AU74)/$H74)","v":{"$error":"#DIV/0!"}},""]
[null,null,"Visuospatial Skills d",null,null,null,null,null,null,null,null,null,null,null,null,{"$f":"IF(P70=\"\",\"\",AVERAGE(P70:P74))","v":""},{"$f":"IF(Q70=\"\",\"\",AVERAGE(Q70:Q74))","v":""},null,null,null,null,null,{"$f":"IF(W70=\"\",\"\",AVERAGE(W70:W74))","v":""},{"$f":"IF(X70=\"\",\"\",AVERAGE(X70:X74))","v":""},null,null,null,null,null,{"$f":"IF(AD70=\"\",\"\",AVERAGE(AD70:AD74))","v":""},{"$f":"IF(AE70=\"\",\"\",AVERAGE(AE70:AE74))","v":""},null,null,null,null,null,{"$f":"IF(AK70=\"\",\"\",AVERAGE(AK70:AK74))","v":""},{"$f":"IF(AL70=\"\",\"\",AVERAGE(AL70:AL74))","v":""},null,null,null,null,null,{"$f":"IF(AR70=\"\",\"\",AVERAGE(AR70:AR74))","v":""},{"$f":"IF(AS70=\"\",\"\",AVERAGE(AS70:AS74))","v":""},null,null,null,null,null,{"$f":"IF(AY70=\"\",\"\",AVERAGE(AY70:AY74))","v":""},{"$f":"IF(AZ70=\"\",\"\",AVERAGE(AZ70:AZ74))","v":""}]
[]
[null,null,"Fine Motor Mvmt"]
[null,null,"Outcome 1:",null,null,null,null,null,null,null,null,null,null,null,{"$f":"IF(Sheet2!$A$93=TRUE,(-1*($G78-L78)/$H78),($G78-L78)/$H78)","v":{"$error":"#DIV/0!"}},{"$f":"IF(L78=\"\",\"\",O78)","v":""},null,null,null,null,null,{"$f":"IF(Sheet2!$A$93=TRUE,(-1*($G78-S78)/$H78),($G78-S78)/$H78)","v":{"$error":"#DIV/0!"}},{"$f":"IF(S78=\"\",\"\",V78)","v":""},null,null,null,null,null,{"$f":"IF(Sheet2!$A$93=TRUE,(-1*($G78-Z78)/$H78),($G78-Z78)/$H78)","v":{"$error":"#DIV/0!"}},{"$f":"IF(Z78=\"\",\"\",AC78)","v":""},null,null,null,null,null,{"$f":"IF(Sheet2!$A$93=TRUE,(-1*($G78-AG78)/$H78),($G78-AG78)/$H78)","v":{"$error":"#DIV/0!"}},{"$f":"IF(AG78=\"\",\"\",AJ78)","v":""},null,null,null,null,null,{"$f":"IF(Sheet2!$A$93=TRUE,(-1*($G78-AN78)/$H78),($G78-AN78)/$H78)","v":{"$error":"#DIV/0!"}},{"$f":"IF(AN78=\"\",\"\",AQ78)","v":""},null,null,null,null,null,{"$f":"IF(Sheet2!$A$93=TRUE,(-1*($G78-AU78)/$H78),($G78-AU78)/$H78)","v":{"$error":"#DIV/0!"}},{"$f":"IF(AU78=\"\",\"\",AX78)","v":""}]
[null,null,"Outcome 2:",null,null,null,null,null,null,null,null,null,null,null,{"$f":"IF(Sheet2!$A$94=TRUE,(-1*($G79-L79)/$H79),($G79-L79)/$H79)","v":{"$error":"#DIV/0!"}},{"$f":"IF(L79=\"\",\"\",O79)","v":""},null,null,null,null,null,{"$f":"IF(Sheet2!$A$94=TRUE,(-1*($G79-S79)/$H79),($G79-S79)/$H79)","v":{"$error":"#DIV/0!"}},{"$f":"IF(S79=\"\",\"\",V79)","v":""},null,null,null,null,null,{"$f":"IF(Sheet2!$A$94=TRUE,(-1*($G79-Z79)/$H79),($G79-Z79)/$H79)","v":{"$error":"#DIV/0!"}},{"$f":"IF(Z79=\"\",\"\",AC79)","v":""},null,null,null,null,null,{"$f":"IF(Sheet2!$A$94=TRUE,(-1*($G79-AG79)/$H79),($G79-AG79)/$H79)","v":{"$error":"#DIV/0!"}},{"$f":"IF(AG79=\"\",\"\",AJ79)","v":""},null,null,null,null,null,{"$f":"IF(Sheet2!$A$94=TRUE,(-1*($G79-AN79)/$H79),($G79-AN79)/$H79)","v":{"$error":"#DIV/0!"}},{"$f":"IF(AN79=\"\",\"\",AQ79)","v":""},null,null,null,null,null,{"$f":"IF(Sheet2!$A$94=TRUE,(-1*($G79-AU79)/$H79),($G79-AU79)/$H79)","v":{"$error":"#DIV/0!"}},{"$f":"IF(AU79=\"\",\"\",AX79)","v":""}]
[null,null,"Outcome 3:",null,null,null,null,null,null,null,null,null,null,null,{"$f":"IF(Sheet2!$A$95=TRUE,(-1*($G80-L80)/$H80),($G80-L80)/$H80)","v":{"$error":"#DIV/0!"}},{"$f":"IF(L80=\"\",\"\",O80)","v":""},null,null,null,null,null,{"$f":"IF(Sheet2!$A$95=TRUE,(-1*($G80-S80)/$H80),($G80-S80)/$H80)","v":{"$error":"#DIV/0!"}},{"$f":"IF(S80=\"\",\"\",V80)","v":""},null,null,null,null,null,{"$f":"IF(Sheet2!$A$95=TRUE,(-1*($G80-Z80)/$H80),($G80-Z80)/$H80)","v":{"$error":"#DIV/0!"}},{"$f":"IF(Z80=\"\",\"\",AC80)","v":""},null,null,null,null,null,{"$f":"IF(Sheet2!$A$95=TRUE,(-1*($G80-AG80)/$H80),($G80-AG80)/$H80)","v":{"$error":"#DIV/0!"}},{"$f":"IF(AG80=\"\",\"\",AJ80)","v":""},null,null,null,null,null,{"$f":"IF(Sheet2!$A$95=TRUE,(-1*($G80-AN80)/$H80),($G80-AN80)/$H80)","v":{"$error":"#DIV/0!"}},{"$f":"IF(AN80=\"\",\"\",AQ80)","v":""},null,null,null,null,null,{"$f":"IF(Sheet2!$A$95=TRUE,(-1*($G80-AU80)/$H80),($G80-AU80)/$H80)","v":{"$error":"#DIV/0!"}},{"$f":"IF(AU80=\"\",\"\",AX80)","v":""}]
[null,null,"Outcome 4:",null,null,null,null,null,null,null,null,null,null,null,{"$f":"IF(Sheet2!$A$96=TRUE,(-1*($G81-L81)/$H81),($G81-L81)/$H81)","v":{"$error":"#DIV/0!"}},"",null,null,null,null,null,{"$f":"IF(Sheet2!$A$96=TRUE,(-1*($G81-S81)/$H81),($G81-S81)/$H81)","v":{"$error":"#DIV/0!"}},"",null,null,null,null,null,{"$f":"IF(Sheet2!$A$96=TRUE,(-1*($G81-Z81)/$H81),($G81-Z81)/$H81)","v":{"$error":"#DIV/0!"}},"",null,null,null,null,null,{"$f":"IF(Sheet2!$A$96=TRUE,(-1*($G81-AG81)/$H81),($G81-AG81)/$H81)","v":{"$error":"#DIV/0!"}},"",null,null,null,null,null,{"$f":"IF(Sheet2!$A$96=TRUE,(-1*($G81-AN81)/$H81),($G81-AN81)/$H81)","v":{"$error":"#DIV/0!"}},"",null,null,null,null,null,{"$f":"IF(Sheet2!$A$96=TRUE,(-1*($G81-AU81)/$H81),($G81-AU81)/$H81)","v":{"$error":"#DIV/0!"}},""]
[null,null,"Outcome 5:",null,null,null,null,null,null,null,null,null,null,null,{"$f":"IF(Sheet2!$A$97=TRUE,(-1*($G82-L82)/$H82),($G82-L82)/$H82)","v":{"$error":"#DIV/0!"}},"",null,null,null,null,null,{"$f":"IF(Sheet2!$A$97=TRUE,(-1*($G82-S82)/$H82),($G82-S82)/$H82)","v":{"$error":"#DIV/0!"}},"",null,null,null,null,null,{"$f":"IF(Sheet2!$A$97=TRUE,(-1*($G82-Z82)/$H82),($G82-Z82)/$H82)","v":{"$error":"#DIV/0!"}},"",null,null,null,null,null,{"$f":"IF(Sheet2!$A$97=TRUE,(-1*($G82-AG82)/$H82),($G82-AG82)/$H82)","v":{"$error":"#DIV/0!"}},"",null,null,null,null,null,{"$f":"IF(Sheet2!$A$97=TRUE,(-1*($G82-AN82)/$H82),($G82-AN82)/$H82)","v":{"$error":"#DIV/0!"}},"",null,null,null,null,null,{"$f":"IF(Sheet2!$A$97=TRUE,(-1*($G82-AU82)/$H82),($G82-AU82)/$H82)","v":{"$error":"#DIV/0!"}},""]
[null,null,"Fine Motor Mvmt d",null,null,null,null,null,null,null,null,null,null,null,null,{"$f":"IF(P78=\"\",\"\",AVERAGE(P78:P82))","v":""},{"$f":"IF(Q78=\"\",\"\",AVERAGE(Q78:Q82))","v":""},null,null,null,null,null,{"$f":"IF(W78=\"\",\"\",AVERAGE(W78:W82))","v":""},{"$f":"IF(X78=\"\",\"\",AVERAGE(X78:X82))","v":""},null,null,null,null,null,{"$f":"IF(AD78=\"\",\"\",AVERAGE(AD78:AD82))","v":""},{"$f":"IF(AE78=\"\",\"\",AVERAGE(AE78:AE82))","v":""},null,null,null,null,null,{"$f":"IF(AK78=\"\",\"\",AVERAGE(AK78:AK82))","v":""},{"$f":"IF(AL78=\"\",\"\",AVERAGE(AL78:AL82))","v":""},null,null,null,null,null,{"$f":"IF(AR78=\"\",\"\",AVERAGE(AR78:AR82))","v":""},{"$f":"IF(AS78=\"\",\"\",AVERAGE(AS78:AS82))","v":""},null,null,null,null,null,{"$f":"IF(AY78=\"\",\"\",AVERAGE(AY78:AY82))","v":""},{"$f":"IF(AZ78=\"\",\"\",AVERAGE(AZ78:AZ82))","v":""}]
[]
[null,null,"Overall d",null,null,null,null,null,null,null,null,null,null,null,null,{"$f":"AVERAGE(P6:P10,P14:P18,P22:P26,P30:P34,P38:P42,P46:P50,P54:P58,P62:P66,P70:P74,P78:P82)","v":{"$error":"#DIV/0!"}},{"$f":"AVERAGE(Q6:Q10,Q14:Q18,Q22:Q26,Q30:Q34,Q38:Q42,Q46:Q50,Q54:Q58,Q62:Q66,Q70:Q74,Q78:Q82)","v":{"$error":"#DIV/0!"}},null,null,null,null,null,{"$f":"AVERAGE(W6:W10,W14:W18,W22:W26,W30:W34,W38:W42,W46:W50,W54:W58,W62:W66,W70:W74,W78:W82)","v":{"$error":"#DIV/0!"}},{"$f":"AVERAGE(X6:X10,X14:X18,X22:X26,X30:X34,X38:X42,X46:X50,X54:X58,X62:X66,X70:X74,X78:X82)","v":{"$error":"#DIV/0!"}},null,null,null,null,null,{"$f":"AVERAGE(AD6:AD10,AD14:AD18,AD22:AD26,AD30:AD34,AD38:AD42,AD46:AD50,AD54:AD58,AD62:AD66,AD70:AD74,AD78:AD82)","v":{"$error":"#DIV/0!"}},{"$f":"AVERAGE(AE6:AE10,AE14:AE18,AE22:AE26,AE30:AE34,AE38:AE42,AE46:AE50,AE54:AE58,AE62:AE66,AE70:AE74,AE78:AE82)","v":{"$error":"#DIV/0!"}},null,null,null,null,null,{"$f":"AVERAGE(AK6:AK10,AK14:AK18,AK22:AK26,AK30:AK34,AK38:AK42,AK46:AK50,AK54:AK58,AK62:AK66,AK70:AK74,AK78:AK82)","v":{"$error":"#DIV/0!"}},{"$f":"AVERAGE(AL6:AL10,AL14:AL18,AL22:AL26,AL30:AL34,AL38:AL42,AL46:AL50,AL54:AL58,AL62:AL66,AL70:AL74,AL78:AL82)","v":{"$error":"#DIV/0!"}},null,null,null,null,null,{"$f":"AVERAGE(AR6:AR10,AR14:AR18,AR22:AR26,AR30:AR34,AR38:AR42,AR46:AR50,AR54:AR58,AR62:AR66,AR70:AR74,AR78:AR82)","v":{"$error":"#DIV/0!"}},{"$f":"AVERAGE(AS6:AS10,AS14:AS18,AS22:AS26,AS30:AS34,AS38:AS42,AS46:AS50,AS54:AS58,AS62:AS66,AS70:AS74,AS78:AS82)","v":{"$error":"#DIV/0!"}},null,null,null,null,null,{"$f":"AVERAGE(AY6:AY10,AY14:AY18,AY22:AY26,AY30:AY34,AY38:AY42,AY46:AY50,AY54:AY58,AY62:AY66,AY70:AY74,AY78:AY82)","v":{"$error":"#DIV/0!"}},{"$f":"AVERAGE(AZ6:AZ10,AZ14:AZ18,AZ22:AZ26,AZ30:AZ34,AZ38:AZ42,AZ46:AZ50,AZ54:AZ58,AZ62:AZ66,AZ70:AZ74,AZ78:AZ82)","v":{"$error":"#DIV/0!"}}]

{"sheet":"Independent Groups, Pre-Post","index":4,"n_rows":157,"n_cols":79,"rows_kept":157,"cut":false,"hidden":false,"merged":[[86,6,86,12],[2,47,2,53],[2,58,2,64],[2,69,2,75],[2,0,3,0],[2,2,3,3],[2,6,2,12],[2,14,2,20],[2,25,2,31],[2,36,2,42],[86,69,86,75],[86,14,86,20],[86,25,86,31],[86,36,86,42],[86,58,86,64],[86,47,86,53]]}
[]
[]
["Check Box if Higher Score is Worse",null,"Cognitive/Emotional Domain Assessed:",null,null,null,"Baseline",null,null,null,null,null,null,null,"Time Point 1",null,null,null,null,null,null,null,null,null,null,"Time Point 2",null,null,null,null,null,null,null,null,null,null,"Time Point 3",null,null,null,null,null,null,null,null,null,null,"Time Point 4",null,null,null,null,null,null,null,null,null,null,"Time Point 5",null,null,null,null,null,null,null,null,null,null,"Time Point 6"]
[null,null,null,null,null,null,"Mcontrol","SDcontrol","Ncontrol",null,"MTBI","SDTBI","NTBI",null,"Mcontrol","SDcontrol","Ncontrol",null,"MTBI","SDTBI","NTBI","d","d","SEd",null,"Mcontrol","SDcontrol","Ncontrol",null,"MTBI","SDTBI","NTBI","d","d","SEd",null,"Mcontrol","SDcontrol","Ncontrol",null,"MTBI","SDTBI","NTBI","d","d","SEd",null,"Mcontrol","SDcontrol","Ncontrol",null,"MTBI","SDTBI","NTBI","d","d","SEd",null,"Mcontrol","SDcontrol","Ncontrol",null,"MTBI","SDTBI","NTBI","d","d","SEd",null,"Mcontrol","SDcontrol","Ncontrol",null,"MTBI","SDTBI","NTBI","d","d","SEd"]
[null,null,"Orientation ","Test Name"]
[null,null,"Outcome 1:",null,null,null,null,null,null,null,null,null,null,null,null,null,null,null,null,null,null,{"$f":"IF(Sheet2!$A$21=TRUE,-1*(((O6-$G$6)-(S6-$K$6))/SQRT(((P6^2*(Q6-1))+(T6^2*(U6-1)))/(Q6+U6-2))),((O6-$G$6)-(S6-$K$6))/SQRT(((P6^2*(Q6-1))+(T6^2*(U6-1)))/(Q6+U6-2)))","v":{"$error":"#DIV/0!"}},{"$f":"IF(O6=\"\",\"\",V6)","v":""},{"$f":"IF(Q6=\"\",\"\",SQRT((Q6+U6)/(Q6*U6)+(W6^2/(2*(Q6+U6)))))","v":""},null,null,null,null,null,null,null,null,{"$f":"IF(Sheet2!$A$21=TRUE,-1*(((Z6-$G$6)-(AD6-$K$6))/SQRT(((AA6^2*(AB6-1))+(AE6^2*(AF6-1)))/(AB6+AF6-2))),((Z6-$G$6)-(AD6-$K$6))/SQRT(((AA6^2*(AB6-1))+(AE6^2*(AF6-1)))/(AB6+AF6-2)))","v":{"$error":"#DIV/0!"}},{"$f":"IF(Z6=\"\",\"\",AG6)","v":""},{"$f":"IF(AB6=\"\",\"\",SQRT((AB6+AF6)/(AB6*AF6)+(AH6^2/(2*(AB6+AF6)))))","v":""},null,null,null,null,null,null,null,null,{"$f":"IF(Sheet2!$A$21=TRUE,-1*(((AK6-$G$6)-(AO6-$K$6))/SQRT(((AL6^2*(AM6-1))+(AP6^2*(AQ6-1)))/(AM6+AQ6-2))),((AK6-$G$6)-(AO6-$K$6))/SQRT(((AL6^2*(AM6-1))+(AP6^2*(AQ6-1)))/(AM6+AQ6-2)))","v":{"$error":"#DIV/0!"}},{"$f":"IF(AK6=\"\",\"\",AR6)","v":""},{"$f":"IF(AM6=\"\",\"\",SQRT((AM6+AQ6)/(AM6*AQ6)+(AS6^2/(2*(AM6+AQ6)))))","v":""},null,null,null,null,null,null,null,null,{"$f":"IF(Sheet2!$A$21=TRUE,-1*(((AV6-$G$6)-(AZ6-$K$6))/SQRT(((AW6^2*(AX6-1))+(BA6^2*(BB6-1)))/(AX6+BB6-2))),((AV6-$G$6)-(AZ6-$K$6))/SQRT(((AW6^2*(AX6-1))+(BA6^2*(BB6-1)))/(AX6+BB6-2)))","v":{"$error":"#DIV/0!"}},{"$f":"IF(AV6=\"\",\"\",BC6)","v":""},{"$f":"IF(AX6=\"\",\"\",SQRT((AX6+BB6)/(AX6*BB6)+(BD6^2/(2*(AX6+BB6)))))","v":""},null,null,null,null,null,null,null,null,{"$f":"IF(Sheet2!$A$21=TRUE,-1*(((BG6-$G$6)-(BK6-$K$6))/SQRT(((BH6^2*(BI6-1))+(BL6^2*(BM6-1)))/(BI6+BM6-2))),((BG6-$G$6)-(BK6-$K$6))/SQRT(((BH6^2*(BI6-1))+(BL6^2*(BM6-1)))/(BI6+BM6-2)))","v":{"$error":"#DIV/0!"}},{"$f":"IF(BG6=\"\",\"\",BN6)","v":""},{"$f":"IF(BI6=\"\",\"\",SQRT((BI6+BM6)/(BI6*BM6)+(BO6^2/(2*(BI6+BM6)))))","v":""},null,null,null,null,null,null,null,null,{"$f":"IF(Sheet2!$A$21=TRUE,-1*(((BR6-$G$6)-(BV6-$K$6))/SQRT(((BS6^2*(BT6-1))+(BW6^2*(BX6-1)))/(BT6+BX6-2))),((BR6-$G$6)-(BV6-$K$6))/SQRT(((BS6^2*(BT6-1))+(BW6^2*(BX6-1)))/(BT6+BX6-2)))","v":{"$error":"#DIV/0!"}},{"$f":"IF(BR6=\"\",\"\",BY6)","v":""},{"$f":"IF(BT6=\"\",\"\",SQRT((BT6+BX6)/(BT6*BX6)+(BZ6^2/(2*(BT6+BX6)))))","v":""}]
[null,null,"Outcome 2:",null,null,null,null,null,null,null,null,null,null,null,null,null,null,null,null,null,null,{"$f":"IF(Sheet2!$A$22=TRUE,-1*(((O7-$G$7)-(S7-$K$7))/SQRT(((P7^2*(Q7-1))+(T7^2*(U7-1)))/(Q7+U7-2))),((O7-$G$7)-(S7-$K$7))/SQRT(((P7^2*(Q7-1))+(T7^2*(U7-1)))/(Q7+U7-2)))","v":{"$error":"#DIV/0!"}},{"$f":"IF(O7=\"\",\"\",V7)","v":""},{"$f":"IF(Q7=\"\",\"\",SQRT((Q7+U7)/(Q7*U7)+(W7^2/(2*(Q7+U7)))))","v":""},null,null,null,null,null,null,null,null,{"$f":"IF(Sheet2!$A$22=TRUE,-1*(((Z7-$G$7)-(AD7-$K$7))/SQRT(((AA7^2*(AB7-1))+(AE7^2*(AF7-1)))/(AB7+AF7-2))),((Z7-$G$7)-(AD7-$K$7))/SQRT(((AA7^2*(AB7-1))+(AE7^2*(AF7-1)))/(AB7+AF7-2)))","v":{"$error":"#DIV/0!"}},{"$f":"IF(Z7=\"\",\"\",AG7)","v":""},{"$f":"IF(AB7=\"\",\"\",SQRT((AB7+AF7)/(AB7*AF7)+(AH7^2/(2*(AB7+AF7)))))","v":""},null,null,null,null,null,null,null,null,{"$f":"IF(Sheet2!$A$22=TRUE,-1*(((AK7-$G$7)-(AO7-$K$7))/SQRT(((AL7^2*(AM7-1))+(AP7^2*(AQ7-1)))/(AM7+AQ7-2))),((AK7-$G$7)-(AO7-$K$7))/SQRT(((AL7^2*(AM7-1))+(AP7^2*(AQ7-1)))/(AM7+AQ7-2)))","v":{"$error":"#DIV/0!"}},{"$f":"IF(AK7=\"\",\"\",AR7)","v":""},{"$f":"IF(AM7=\"\",\"\",SQRT((AM7+AQ7)/(AM7*AQ7)+(AS7^2/(2*(AM7+AQ7)))))","v":""},null,null,null,null,null,null,null,null,{"$f":"IF(Sheet2!$A$22=TRUE,-1*(((AV7-$G$7)-(AZ7-$K$7))/SQRT(((AW7^2*(AX7-1))+(BA7^2*(BB7-1)))/(AX7+BB7-2))),((AV7-$G$7)-(AZ7-$K$7))/SQRT(((AW7^2*(AX7-1))+(BA7^2*(BB7-1)))/(AX7+BB7-2)))","v":{"$error":"#DIV/0!"}},{"$f":"IF(AV7=\"\",\"\",BC7)","v":""},{"$f":"IF(AX7=\"\",\"\",SQRT((AX7+BB7)/(AX7*BB7)+(BD7^2/(2*(AX7+BB7)))))","v":""},null,null,null,null,null,null,null,null,{"$f":"IF(Sheet2!$A$22=TRUE,-1*(((BG7-$G$7)-(BK7-$K$7))/SQRT(((BH7^2*(BI7-1))+(BL7^2*(BM7-1)))/(BI7+BM7-2))),((BG7-$G$7)-(BK7-$K$7))/SQRT(((BH7^2*(BI7-1))+(BL7^2*(BM7-1)))/(BI7+BM7-2)))","v":{"$error":"#DIV/0!"}},{"$f":"IF(BG7=\"\",\"\",BN7)","v":""},{"$f":"IF(BI7=\"\",\"\",SQRT((BI7+BM7)/(BI7*BM7)+(BO7^2/(2*(BI7+BM7)))))","v":""},null,null,null,null,null,null,null,null,{"$f":"IF(Sheet2!$A$22=TRUE,-1*(((BR7-$G$7)-(BV7-$K$7))/SQRT(((BS7^2*(BT7-1))+(BW7^2*(BX7-1)))/(BT7+BX7-2))),((BR7-$G$7)-(BV7-$K$7))/SQRT(((BS7^2*(BT7-1))+(BW7^2*(BX7-1)))/(BT7+BX7-2)))","v":{"$error":"#DIV/0!"}},{"$f":"IF(BR7=\"\",\"\",BY7)","v":""},{"$f":"IF(BT7=\"\",\"\",SQRT((BT7+BX7)/(BT7*BX7)+(BZ7^2/(2*(BT7+BX7)))))","v":""}]
[null,null,"Outcome 3:",null,null,null,null,null,null,null,null,null,null,null,null,null,null,null,null,null,null,{"$f":"IF(Sheet2!$A$23=TRUE,-1*(((O8-$G$8)-(S8-$K$8))/SQRT(((P8^2*(Q8-1))+(T8^2*(U8-1)))/(Q8+U8-2))),((O8-$G$8)-(S8-$K$8))/SQRT(((P8^2*(Q8-1))+(T8^2*(U8-1)))/(Q8+U8-2)))","v":{"$error":"#DIV/0!"}},{"$f":"IF(O8=\"\",\"\",V8)","v":""},"",null,null,null,null,null,null,null,null,{"$f":"IF(Sheet2!$A$23=TRUE,-1*(((Z8-$G$8)-(AD8-$K$8))/SQRT(((AA8^2*(AB8-1))+(AE8^2*(AF8-1)))/(AB8+AF8-2))),((Z8-$G$8)-(AD8-$K$8))/SQRT(((AA8^2*(AB8-1))+(AE8^2*(AF8-1)))/(AB8+AF8-2)))","v":{"$error":"#DIV/0!"}},{"$f":"IF(Z8=\"\",\"\",AG8)","v":""},"",null,null,null,null,null,null,null,null,{"$f":"IF(Sheet2!$A$23=TRUE,-1*(((AK8-$G$8)-(AO8-$K$8))/SQRT(((AL8^2*(AM8-1))+(AP8^2*(AQ8-1)))/(AM8+AQ8-2))),((AK8-$G$8)-(AO8-$K$8))/SQRT(((AL8^2*(AM8-1))+(AP8^2*(AQ8-1)))/(AM8+AQ8-2)))","v":{"$error":"#DIV/0!"}},{"$f":"IF(AK8=\"\",\"\",AR8)","v":""},"",null,null,null,null,null,null,null,null,{"$f":"IF(Sheet2!$A$23=TRUE,-1*(((AV8-$G$8)-(AZ8-$K$8))/SQRT(((AW8^2*(AX8-1))+(BA8^2*(BB8-1)))/(AX8+BB8-2))),((AV8-$G$8)-(AZ8-$K$8))/SQRT(((AW8^2*(AX8-1))+(BA8^2*(BB8-1)))/(AX8+BB8-2)))","v":{"$error":"#DIV/0!"}},{"$f":"IF(AV8=\"\",\"\",BC8)","v":""},"",null,null,null,null,null,null,null,null,{"$f":"IF(Sheet2!$A$23=TRUE,-1*(((BG8-$G$8)-(BK8-$K$8))/SQRT(((BH8^2*(BI8-1))+(BL8^2*(BM8-1)))/(BI8+BM8-2))),((BG8-$G$8)-(BK8-$K$8))/SQRT(((BH8^2*(BI8-1))+(BL8^2*(BM8-1)))/(BI8+BM8-2)))","v":{"$error":"#DIV/0!"}},{"$f":"IF(BG8=\"\",\"\",BN8)","v":""},"",null,null,null,null,null,null,null,null,{"$f":"IF(Sheet2!$A$23=TRUE,-1*(((BR8-$G$8)-(BV8-$K$8))/SQRT(((BS8^2*(BT8-1))+(BW8^2*(BX8-1)))/(BT8+BX8-2))),((BR8-$G$8)-(BV8-$K$8))/SQRT(((BS8^2*(BT8-1))+(BW8^2*(BX8-1)))/(BT8+BX8-2)))","v":{"$error":"#DIV/0!"}},{"$f":"IF(BR8=\"\",\"\",BY8)","v":""},""]
[null,null,"Outcome 4:",null,null,null,null,null,null,null,null,null,null,null,null,null,null,null,null,null,null,{"$f":"IF(Sheet2!$A$24=TRUE,-1*(((O9-$G$9)-(S9-$K$9))/SQRT(((P9^2*(Q9-1))+(T9^2*(U9-1)))/(Q9+U9-2))),((O9-$G$9)-(S9-$K$9))/SQRT(((P9^2*(Q9-1))+(T9^2*(U9-1)))/(Q9+U9-2)))","v":{"$error":"#DIV/0!"}},{"$f":"IF(O9=\"\",\"\",V9)","v":""},{"$f":"IF(Q9=\"\",\"\",SQRT((Q9+U9)/(Q9*U9)+(W9^2/(2*(Q9+U9)))))","v":""},null,null,null,null,null,null,null,null,{"$f":"IF(Sheet2!$A$24=TRUE,-1*(((Z9-$G$9)-(AD9-$K$9))/SQRT(((AA9^2*(AB9-1))+(AE9^2*(AF9-1)))/(AB9+AF9-2))),((Z9-$G$9)-(AD9-$K$9))/SQRT(((AA9^2*(AB9-1))+(AE9^2*(AF9-1)))/(AB9+AF9-2)))","v":{"$error":"#DIV/0!"}},{"$f":"IF(Z9=\"\",\"\",AG9)","v":""},{"$f":"IF(AB9=\"\",\"\",SQRT((AB9+AF9)/(AB9*AF9)+(AH9^2/(2*(AB9+AF9)))))","v":""},null,null,null,null,null,null,null,null,{"$f":"IF(Sheet2!$A$24=TRUE,-1*(((AK9-$G$9)-(AO9-$K$9))/SQRT(((AL9^2*(AM9-1))+(AP9^2*(AQ9-1)))/(AM9+AQ9-2))),((AK9-$G$9)-(AO9-$K$9))/SQRT(((AL9^2*(AM9-1))+(AP9^2*(AQ9-1)))/(AM9+AQ9-2)))","v":{"$error":"#DIV/0!"}},{"$f":"IF(AK9=\"\",\"\",AR9)","v":""},{"$f":"IF(AM9=\"\",\"\",SQRT((AM9+AQ9)/(AM9*AQ9)+(AS9^2/(2*(AM9+AQ9)))))","v":""},null,null,null,null,null,null,null,null,{"$f":"IF(Sheet2!$A$24=TRUE,-1*(((AV9-$G$9)-(AZ9-$K$9))/SQRT(((AW9^2*(AX9-1))+(BA9^2*(BB9-1)))/(AX9+BB9-2))),((AV9-$G$9)-(AZ9-$K$9))/SQRT(((AW9^2*(AX9-1))+(BA9^2*(BB9-1)))/(AX9+BB9-2)))","v":{"$error":"#DIV/0!"}},{"$f":"IF(AV9=\"\",\"\",BC9)","v":""},{"$f":"IF(AX9=\"\",\"\",SQRT((AX9+BB9)/(AX9*BB9)+(BD9^2/(2*(AX9+BB9)))))","v":""},null,null,null,null,null,null,null,null,{"$f":"IF(Sheet2!$A$24=TRUE,-1*(((BG9-$G$9)-(BK9-$K$9))/SQRT(((BH9^2*(BI9-1))+(BL9^2*(BM9-1)))/(BI9+BM9-2))),((BG9-$G$9)-(BK9-$K$9))/SQRT(((BH9^2*(BI9-1))+(BL9^2*(BM9-1)))/(BI9+BM9-2)))","v":{"$error":"#DIV/0!"}},{"$f":"IF(BG9=\"\",\"\",BN9)","v":""},{"$f":"IF(BI9=\"\",\"\",SQRT((BI9+BM9)/(BI9*BM9)+(BO9^2/(2*(BI9+BM9)))))","v":""},null,null,null,null,null,null,null,null,{"$f":"IF(Sheet2!$A$24=TRUE,-1*(((BR9-$G$9)-(BV9-$K$9))/SQRT(((BS9^2*(BT9-1))+(BW9^2*(BX9-1)))/(BT9+BX9-2))),((BR9-$G$9)-(BV9-$K$9))/SQRT(((BS9^2*(BT9-1))+(BW9^2*(BX9-1)))/(BT9+BX9-2)))","v":{"$error":"#DIV/0!"}},{"$f":"IF(BR9=\"\",\"\",BY9)","v":""},{"$f":"IF(BT9=\"\",\"\",SQRT((BT9+BX9)/(BT9*BX9)+(BZ9^2/(2*(BT9+BX9)))))","v":""}]
[null,null,"Outcome 5:",null,null,null,null,null,null,null,null,null,null,null,null,null,null,null,null,null,null,{"$f":"IF(Sheet2!$A$25=TRUE,-1*(((O10-$G$10)-(S10-$K$10))/SQRT(((P10^2*(Q10-1))+(T10^2*(U10-1)))/(Q10+U10-2))),((O10-$G$10)-(S10-$K$10))/SQRT(((P10^2*(Q10-1))+(T10^2*(U10-1)))/(Q10+U10-2)))","v":{"$error":"#DIV/0!"}},{"$f":"IF(O10=\"\",\"\",V10)","v":""},"",null,null,null,null,null,null,null,null,{"$f":"IF(Sheet2!$A$25=TRUE,-1*(((Z10-$G$10)-(AD10-$K$10))/SQRT(((AA10^2*(AB10-1))+(AE10^2*(AF10-1)))/(AB10+AF10-2))),((Z10-$G$10)-(AD10-$K$10))/SQRT(((AA10^2*(AB10-1))+(AE10^2*(AF10-1)))/(AB10+AF10-2)))","v":{"$error":"#DIV/0!"}},{"$f":"IF(Z10=\"\",\"\",AG10)","v":""},{"$f":"IF(AB10=\"\",\"\",SQRT((AB10+AF10)/(AB10*AF10)+(AH10^2/(2*(AB10+AF10)))))","v":""},null,null,null,null,null,null,null,null,{"$f":"IF(Sheet2!$A$25=TRUE,-1*(((AK10-$G$10)-(AO10-$K$10))/SQRT(((AL10^2*(AM10-1))+(AP10^2*(AQ10-1)))/(AM10+AQ10-2))),((AK10-$G$10)-(AO10-$K$10))/SQRT(((AL10^2*(AM10-1))+(AP10^2*(AQ10-1)))/(AM10+AQ10-2)))","v":{"$error":"#DIV/0!"}},{"$f":"IF(AK10=\"\",\"\",AR10)","v":""},{"$f":"IF(AM10=\"\",\"\",SQRT((AM10+AQ10)/(AM10*AQ10)+(AS10^2/(2*(AM10+AQ10)))))","v":""},null,null,null,null,null,null,null,null,{"$f":"IF(Sheet2!$A$25=TRUE,-1*(((AV10-$G$10)-(AZ10-$K$10))/SQRT(((AW10^2*(AX10-1))+(BA10^2*(BB10-1)))/(AX10+BB10-2))),((AV10-$G$10)-(AZ10-$K$10))/SQRT(((AW10^2*(AX10-1))+(BA10^2*(BB10-1)))/(AX10+BB10-2)))","v":{"$error":"#DIV/0!"}},{"$f":"IF(AV10=\"\",\"\",BC10)","v":""},{"$f":"IF(AX10=\"\",\"\",SQRT((AX10+BB10)/(AX10*BB10)+(BD10^2/(2*(AX10+BB10)))))","v":""},null,null,null,null,null,null,null,null,{"$f":"IF(Sheet2!$A$25=TRUE,-1*(((BG10-$G$10)-(BK10-$K$10))/SQRT(((BH10^2*(BI10-1))+(BL10^2*(BM10-1)))/(BI10+BM10-2))),((BG10-$G$10)-(BK10-$K$10))/SQRT(((BH10^2*(BI10-1))+(BL10^2*(BM10-1)))/(BI10+BM10-2)))","v":{"$error":"#DIV/0!"}},{"$f":"IF(BG10=\"\",\"\",BN10)","v":""},{"$f":"IF(BI10=\"\",\"\",SQRT((BI10+BM10)/(BI10*BM10)+(BO10^2/(2*(BI10+BM10)))))","v":""},null,null,null,null,null,null,null,null,{"$f":"IF(Sheet2!$A$25=TRUE,-1*(((BR10-$G$10)-(BV10-$K$10))/SQRT(((BS10^2*(BT10-1))+(BW10^2*(BX10-1)))/(BT10+BX10-2))),((BR10-$G$10)-(BV10-$K$10))/SQRT(((BS10^2*(BT10-1))+(BW10^2*(BX10-1)))/(BT10+BX10-2)))","v":{"$error":"#DIV/0!"}},{"$f":"IF(BR10=\"\",\"\",BY10)","v":""},{"$f":"IF(BT10=\"\",\"\",SQRT((BT10+BX10)/(BT10*BX10)+(BZ10^2/(2*(BT10+BX10)))))","v":""}]
[null,null,"Orientation d",null,null,null,null,null,null,null,null,null,null,null,null,null,null,null,null,null,null,null,{"$f":"IF(W6=\"\",\"\",AVERAGE(W6:W10))","v":""},{"$f":"IF(X6=\"\",\"\",AVERAGE(X6:X10))","v":""},null,null,null,null,null,null,null,null,null,{"$f":"IF(AH6=\"\",\"\",AVERAGE(AH6:AH10))","v":""},{"$f":"IF(AI6=\"\",\"\",AVERAGE(AI6:AI10))","v":""},null,null,null,null,null,null,null,null,null,{"$f":"IF(AS6=\"\",\"\",AVERAGE(AS6:AS10))","v":""},{"$f":"IF(AT6=\"\",\"\",AVERAGE(AT6:AT10))","v":""},null,null,null,null,null,null,null,null,null,{"$f":"IF(BD6=\"\",\"\",AVERAGE(BD6:BD10))","v":""},{"$f":"IF(BE6=\"\",\"\",AVERAGE(BE6:BE10))","v":""},null,null,null,null,null,null,null,null,null,{"$f":"IF(BO6=\"\",\"\",AVERAGE(BO6:BO10))","v":""},{"$f":"IF(BP6=\"\",\"\",AVERAGE(BP6:BP10))","v":""},null,null,null,null,null,null,null,null,null,{"$f":"IF(BZ6=\"\",\"\",AVERAGE(BZ6:BZ10))","v":""},{"$f":"IF(CA6=\"\",\"\",AVERAGE(CA6:CA10))","v":""}]
[]
[null,null,"General Ability/IQ","Test Name"]
[null,null,"Outcome 1:",null,null,null,null,null,null,null,null,null,null,null,null,null,null,null,null,null,null,{"$f":"IF(Sheet2!$A$29=TRUE,-1*(((O14-$G14)-(S14-$K14))/SQRT(((P14^2*(Q14-1))+(T14^2*(U14-1)))/(Q14+U14-2))),((O14-$G14)-(S14-$K14))/SQRT(((P14^2*(Q14-1))+(T14^2*(U14-1)))/(Q14+U14-2)))","v":{"$error":"#DIV/0!"}},{"$f":"IF(O14=\"\",\"\",V14)","v":""},{"$f":"IF(Q14=\"\",\"\",SQRT((Q14+U14)/(Q14*U14)+(W14^2/(2*(Q14+U14)))))","v":""},null,null,null,null,null,null,null,null,{"$f":"IF(Sheet2!$A$29=TRUE,-1*(((Z14-$G14)-(AD14-$K14))/SQRT(((AA14^2*(AB14-1))+(AE14^2*(AF14-1)))/(AB14+AF14-2))),((Z14-$G14)-(AD14-$K14))/SQRT(((AA14^2*(AB14-1))+(AE14^2*(AF14-1)))/(AB14+AF14-2)))","v":{"$error":"#DIV/0!"}},{"$f":"IF(Z14=\"\",\"\",AG14)","v":""},{"$f":"IF(AB14=\"\",\"\",SQRT((AB14+AF14)/(AB14*AF14)+(AH14^2/(2*(AB14+AF14)))))","v":""},null,null,null,null,null,null,null,null,{"$f":"IF(Sheet2!$A$29=TRUE,-1*(((AK14-$G14)-(AO14-$K14))/SQRT(((AL14^2*(AM14-1))+(AP14^2*(AQ14-1)))/(AM14+AQ14-2))),((AK14-$G14)-(AO14-$K14))/SQRT(((AL14^2*(AM14-1))+(AP14^2*(AQ14-1)))/(AM14+AQ14-2)))","v":{"$error":"#DIV/0!"}},{"$f":"IF(AK14=\"\",\"\",AR14)","v":""},{"$f":"IF(AM14=\"\",\"\",SQRT((AM14+AQ14)/(AM14*AQ14)+(AS14^2/(2*(AM14+AQ14)))))","v":""},null,null,null,null,null,null,null,null,{"$f":"IF(Sheet2!$A$29=TRUE,-1*(((AV14-$G14)-(AZ14-$K14))/SQRT(((AW14^2*(AX14-1))+(BA14^2*(BB14-1)))/(AX14+BB14-2))),((AV14-$G14)-(AZ14-$K14))/SQRT(((AW14^2*(AX14-1))+(BA14^2*(BB14-1)))/(AX14+BB14-2)))","v":{"$error":"#DIV/0!"}},{"$f":"IF(AV14=\"\",\"\",BC14)","v":""},{"$f":"IF(AX14=\"\",\"\",SQRT((AX14+BB14)/(AX14*BB14)+(BD14^2/(2*(AX14+BB14)))))","v":""},null,null,null,null,null,null,null,null,{"$f":"IF(Sheet2!$A$29=TRUE,-1*(((BG14-$G14)-(BK14-$K14))/SQRT(((BH14^2*(BI14-1))+(BL14^2*(BM14-1)))/(BI14+BM14-2))),((BG14-$G14)-(BK14-$K14))/SQRT(((BH14^2*(BI14-1))+(BL14^2*(BM14-1)))/(BI14+BM14-2)))","v":{"$error":"#DIV/0!"}},{"$f":"IF(BG14=\"\",\"\",BN14)","v":""},{"$f":"IF(BI14=\"\",\"\",SQRT((BI14+BM14)/(BI14*BM14)+(BO14^2/(2*(BI14+BM14)))))","v":""},null,null,null,null,null,null,null,null,{"$f":"IF(Sheet2!$A$29=TRUE,-1*(((BR14-$G14)-(BV14-$K14))/SQRT(((BS14^2*(BT14-1))+(BW14^2*(BX14-1)))/(BT14+BX14-2))),((BR14-$G14)-(BV14-$K14))/SQRT(((BS14^2*(BT14-1))+(BW14^2*(BX14-1)))/(BT14+BX14-2)))","v":{"$error":"#DIV/0!"}},{"$f":"IF(BR14=\"\",\"\",BY14)","v":""},{"$f":"IF(BT14=\"\",\"\",SQRT((BT14+BX14)/(BT14*BX14)+(BZ14^2/(2*(BT14+BX14)))))","v":""}]
[null,null,"Outcome 2:",null,null,null,null,null,null,null,null,null,null,null,null,null,null,null,null,null,null,{"$f":"IF(Sheet2!$A$30=TRUE,-1*(((O15-$G15)-(S15-$K15))/SQRT(((P15^2*(Q15-1))+(T15^2*(U15-1)))/(Q15+U15-2))),((O15-$G15)-(S15-$K15))/SQRT(((P15^2*(Q15-1))+(T15^2*(U15-1)))/(Q15+U15-2)))","v":{"$error":"#DIV/0!"}},{"$f":"IF(O15=\"\",\"\",V15)","v":""},{"$f":"IF(Q15=\"\",\"\",SQRT((Q15+U15)/(Q15*U15)+(W15^2/(2*(Q15+U15)))))","v":""},null,null,null,null,null,null,null,null,{"$f":"IF(Sheet2!$A$30=TRUE,-1*(((Z15-$G15)-(AD15-$K15))/SQRT(((AA15^2*(AB15-1))+(AE15^2*(AF15-1)))/(AB15+AF15-2))),((Z15-$G15)-(AD15-$K15))/SQRT(((AA15^2*(AB15-1))+(AE15^2*(AF15-1)))/(AB15+AF15-2)))","v":{"$error":"#DIV/0!"}},{"$f":"IF(Z15=\"\",\"\",AG15)","v":""},{"$f":"IF(AB15=\"\",\"\",SQRT((AB15+AF15)/(AB15*AF15)+(AH15^2/(2*(AB15+AF15)))))","v":""},null,null,null,null,null,null,null,null,{"$f":"IF(Sheet2!$A$30=TRUE,-1*(((AK15-$G15)-(AO15-$K15))/SQRT(((AL15^2*(AM15-1))+(AP15^2*(AQ15-1)))/(AM15+AQ15-2))),((AK15-$G15)-(AO15-$K15))/SQRT(((AL15^2*(AM15-1))+(AP15^2*(AQ15-1)))/(AM15+AQ15-2)))","v":{"$error":"#DIV/0!"}},{"$f":"IF(AK15=\"\",\"\",AR15)","v":""},{"$f":"IF(AM15=\"\",\"\",SQRT((AM15+AQ15)/(AM15*AQ15)+(AS15^2/(2*(AM15+AQ15)))))","v":""},null,null,null,null,null,null,null,null,{"$f":"IF(Sheet2!$A$30=TRUE,-1*(((AV15-$G15)-(AZ15-$K15))/SQRT(((AW15^2*(AX15-1))+(BA15^2*(BB15-1)))/(AX15+BB15-2))),((AV15-$G15)-(AZ15-$K15))/SQRT(((AW15^2*(AX15-1))+(BA15^2*(BB15-1)))/(AX15+BB15-2)))","v":{"$error":"#DIV/0!"}},{"$f":"IF(AV15=\"\",\"\",BC15)","v":""},{"$f":"IF(AX15=\"\",\"\",SQRT((AX15+BB15)/(AX15*BB15)+(BD15^2/(2*(AX15+BB15)))))","v":""},null,null,null,null,null,null,null,null,{"$f":"IF(Sheet2!$A$30=TRUE,-1*(((BG15-$G15)-(BK15-$K15))/SQRT(((BH15^2*(BI15-1))+(BL15^2*(BM15-1)))/(BI15+BM15-2))),((BG15-$G15)-(BK15-$K15))/SQRT(((BH15^2*(BI15-1))+(BL15^2*(BM15-1)))/(BI15+BM15-2)))","v":{"$error":"#DIV/0!"}},{"$f":"IF(BG15=\"\",\"\",BN15)","v":""},{"$f":"IF(BI15=\"\",\"\",SQRT((BI15+BM15)/(BI15*BM15)+(BO15^2/(2*(BI15+BM15)))))","v":""},null,null,null,null,null,null,null,null,{"$f":"IF(Sheet2!$A$30=TRUE,-1*(((BR15-$G15)-(BV15-$K15))/SQRT(((BS15^2*(BT15-1))+(BW15^2*(BX15-1)))/(BT15+BX15-2))),((BR15-$G15)-(BV15-$K15))/SQRT(((BS15^2*(BT15-1))+(BW15^2*(BX15-1)))/(BT15+BX15-2)))","v":{"$error":"#DIV/0!"}},{"$f":"IF(BR15=\"\",\"\",BY15)","v":""},{"$f":"IF(BT15=\"\",\"\",SQRT((BT15+BX15)/(BT15*BX15)+(BZ15^2/(2*(BT15+BX15)))))","v":""}]
[null,null,"Outcome 3:",null,null,null,null,null,null,null,null,null,null,null,null,null,null,null,null,null,null,{"$f":"IF(Sheet2!$A$31=TRUE,-1*(((O16-$G16)-(S16-$K16))/SQRT(((P16^2*(Q16-1))+(T16^2*(U16-1)))/(Q16+U16-2))),((O16-$G16)-(S16-$K16))/SQRT(((P16^2*(Q16-1))+(T16^2*(U16-1)))/(Q16+U16-2)))","v":{"$error":"#DIV/0!"}},{"$f":"IF(O16=\"\",\"\",V16)","v":""},"",null,null,null,null,null,null,null,null,{"$f":"IF(Sheet2!$A$31=TRUE,-1*(((Z16-$G16)-(AD16-$K16))/SQRT(((AA16^2*(AB16-1))+(AE16^2*(AF16-1)))/(AB16+AF16-2))),((Z16-$G16)-(AD16-$K16))/SQRT(((AA16^2*(AB16-1))+(AE16^2*(AF16-1)))/(AB16+AF16-2)))","v":{"$error":"#DIV/0!"}},{"$f":"IF(Z16=\"\",\"\",AG16)","v":""},"",null,null,null,null,null,null,null,null,{"$f":"IF(Sheet2!$A$31=TRUE,-1*(((AK16-$G16)-(AO16-$K16))/SQRT(((AL16^2*(AM16-1))+(AP16^2*(AQ16-1)))/(AM16+AQ16-2))),((AK16-$G16)-(AO16-$K16))/SQRT(((AL16^2*(AM16-1))+(AP16^2*(AQ16-1)))/(AM16+AQ16-2)))","v":{"$error":"#DIV/0!"}},{"$f":"IF(AK16=\"\",\"\",AR16)","v":""},"",null,null,null,null,null,null,null,null,{"$f":"IF(Sheet2!$A$31=TRUE,-1*(((AV16-$G16)-(AZ16-$K16))/SQRT(((AW16^2*(AX16-1))+(BA16^2*(BB16-1)))/(AX16+BB16-2))),((AV16-$G16)-(AZ16-$K16))/SQRT(((AW16^2*(AX16-1))+(BA16^2*(BB16-1)))/(AX16+BB16-2)))","v":{"$error":"#DIV/0!"}},{"$f":"IF(AV16=\"\",\"\",BC16)","v":""},"",null,null,null,null,null,null,null,null,{"$f":"IF(Sheet2!$A$31=TRUE,-1*(((BG16-$G16)-(BK16-$K16))/SQRT(((BH16^2*(BI16-1))+(BL16^2*(BM16-1)))/(BI16+BM16-2))),((BG16-$G16)-(BK16-$K16))/SQRT(((BH16^2*(BI16-1))+(BL16^2*(BM16-1)))/(BI16+BM16-2)))","v":{"$error":"#DIV/0!"}},{"$f":"IF(BG16=\"\",\"\",BN16)","v":""},"",null,null,null,null,null,null,null,null,{"$f":"IF(Sheet2!$A$31=TRUE,-1*(((BR16-$G16)-(BV16-$K16))/SQRT(((BS16^2*(BT16-1))+(BW16^2*(BX16-1)))/(BT16+BX16-2))),((BR16-$G16)-(BV16-$K16))/SQRT(((BS16^2*(BT16-1))+(BW16^2*(BX16-1)))/(BT16+BX16-2)))","v":{"$error":"#DIV/0!"}},{"$f":"IF(BR16=\"\",\"\",BY16)","v":""},""]
[null,null,"Outcome 4:",null,null,null,null,null,null,null,null,null,null,null,null,null,null,null,null,null,null,{"$f":"IF(Sheet2!$A$32=TRUE,-1*(((O17-$G17)-(S17-$K17))/SQRT(((P17^2*(Q17-1))+(T17^2*(U17-1)))/(Q17+U17-2))),((O17-$G17)-(S17-$K17))/SQRT(((P17^2*(Q17-1))+(T17^2*(U17-1)))/(Q17+U17-2)))","v":{"$error":"#DIV/0!"}},{"$f":"IF(O17=\"\",\"\",V17)","v":""},{"$f":"IF(Q17=\"\",\"\",SQRT((Q17+U17)/(Q17*U17)+(W17^2/(2*(Q17+U17)))))","v":""},null,null,null,null,null,null,null,null,{"$f":"IF(Sheet2!$A$32=TRUE,-1*(((Z17-$G17)-(AD17-$K17))/SQRT(((AA17^2*(AB17-1))+(AE17^2*(AF17-1)))/(AB17+AF17-2))),((Z17-$G17)-(AD17-$K17))/SQRT(((AA17^2*(AB17-1))+(AE17^2*(AF17-1)))/(AB17+AF17-2)))","v":{"$error":"#DIV/0!"}},{"$f":"IF(Z17=\"\",\"\",AG17)","v":""},{"$f":"IF(AB17=\"\",\"\",SQRT((AB17+AF17)/(AB17*AF17)+(AH17^2/(2*(AB17+AF17)))))","v":""},null,null,null,null,null,null,null,null,{"$f":"IF(Sheet2!$A$32=TRUE,-1*(((AK17-$G17)-(AO17-$K17))/SQRT(((AL17^2*(AM17-1))+(AP17^2*(AQ17-1)))/(AM17+AQ17-2))),((AK17-$G17)-(AO17-$K17))/SQRT(((AL17^2*(AM17-1))+(AP17^2*(AQ17-1)))/(AM17+AQ17-2)))","v":{"$error":"#DIV/0!"}},{"$f":"IF(AK17=\"\",\"\",AR17)","v":""},{"$f":"IF(AM17=\"\",\"\",SQRT((AM17+AQ17)/(AM17*AQ17)+(AS17^2/(2*(AM17+AQ17)))))","v":""},null,null,null,null,null,null,null,null,{"$f":"IF(Sheet2!$A$32=TRUE,-1*(((AV17-$G17)-(AZ17-$K17))/SQRT(((AW17^2*(AX17-1))+(BA17^2*(BB17-1)))/(AX17+BB17-2))),((AV17-$G17)-(AZ17-$K17))/SQRT(((AW17^2*(AX17-1))+(BA17^2*(BB17-1)))/(AX17+BB17-2)))","v":{"$error":"#DIV/0!"}},{"$f":"IF(AV17=\"\",\"\",BC17)","v":""},{"$f":"IF(AX17=\"\",\"\",SQRT((AX17+BB17)/(AX17*BB17)+(BD17^2/(2*(AX17+BB17)))))","v":""},null,null,null,null,null,null,null,null,{"$f":"IF(Sheet2!$A$32=TRUE,-1*(((BG17-$G17)-(BK17-$K17))/SQRT(((BH17^2*(BI17-1))+(BL17^2*(BM17-1)))/(BI17+BM17-2))),((BG17-$G17)-(BK17-$K17))/SQRT(((BH17^2*(BI17-1))+(BL17^2*(BM17-1)))/(BI17+BM17-2)))","v":{"$error":"#DIV/0!"}},{"$f":"IF(BG17=\"\",\"\",BN17)","v":""},{"$f":"IF(BI17=\"\",\"\",SQRT((BI17+BM17)/(BI17*BM17)+(BO17^2/(2*(BI17+BM17)))))","v":""},null,null,null,null,null,null,null,null,{"$f":"IF(Sheet2!$A$32=TRUE,-1*(((BR17-$G17)-(BV17-$K17))/SQRT(((BS17^2*(BT17-1))+(BW17^2*(BX17-1)))/(BT17+BX17-2))),((BR17-$G17)-(BV17-$K17))/SQRT(((BS17^2*(BT17-1))+(BW17^2*(BX17-1)))/(BT17+BX17-2)))","v":{"$error":"#DIV/0!"}},{"$f":"IF(BR17=\"\",\"\",BY17)","v":""},{"$f":"IF(BT17=\"\",\"\",SQRT((BT17+BX17)/(BT17*BX17)+(BZ17^2/(2*(BT17+BX17)))))","v":""}]
[null,null,"Outcome 5:",null,null,null,null,null,null,null,null,null,null,null,null,null,null,null,null,null,null,{"$f":"IF(Sheet2!$A$33=TRUE,-1*(((O18-$G18)-(S18-$K18))/SQRT(((P18^2*(Q18-1))+(T18^2*(U18-1)))/(Q18+U18-2))),((O18-$G18)-(S18-$K18))/SQRT(((P18^2*(Q18-1))+(T18^2*(U18-1)))/(Q18+U18-2)))","v":{"$error":"#DIV/0!"}},"","",null,null,null,null,null,null,null,null,{"$f":"IF(Sheet2!$A$33=TRUE,-1*(((Z18-$G18)-(AD18-$K18))/SQRT(((AA18^2*(AB18-1))+(AE18^2*(AF18-1)))/(AB18+AF18-2))),((Z18-$G18)-(AD18-$K18))/SQRT(((AA18^2*(AB18-1))+(AE18^2*(AF18-1)))/(AB18+AF18-2)))","v":{"$error":"#DIV/0!"}},"",{"$f":"IF(AB18=\"\",\"\",SQRT((AB18+AF18)/(AB18*AF18)+(AH18^2/(2*(AB18+AF18)))))","v":""},null,null,null,null,null,null,null,null,{"$f":"IF(Sheet2!$A$33=TRUE,-1*(((AK18-$G18)-(AO18-$K18))/SQRT(((AL18^2*(AM18-1))+(AP18^2*(AQ18-1)))/(AM18+AQ18-2))),((AK18-$G18)-(AO18-$K18))/SQRT(((AL18^2*(AM18-1))+(AP18^2*(AQ18-1)))/(AM18+AQ18-2)))","v":{"$error":"#DIV/0!"}},"",{"$f":"IF(AM18=\"\",\"\",SQRT((AM18+AQ18)/(AM18*AQ18)+(AS18^2/(2*(AM18+AQ18)))))","v":""},null,null,null,null,null,null,null,null,{"$f":"IF(Sheet2!$A$33=TRUE,-1*(((AV18-$G18)-(AZ18-$K18))/SQRT(((AW18^2*(AX18-1))+(BA18^2*(BB18-1)))/(AX18+BB18-2))),((AV18-$G18)-(AZ18-$K18))/SQRT(((AW18^2*(AX18-1))+(BA18^2*(BB18-1)))/(AX18+BB18-2)))","v":{"$error":"#DIV/0!"}},"",{"$f":"IF(AX18=\"\",\"\",SQRT((AX18+BB18)/(AX18*BB18)+(BD18^2/(2*(AX18+BB18)))))","v":""},null,null,null,null,null,null,null,null,{"$f":"IF(Sheet2!$A$33=TRUE,-1*(((BG18-$G18)-(BK18-$K18))/SQRT(((BH18^2*(BI18-1))+(BL18^2*(BM18-1)))/(BI18+BM18-2))),((BG18-$G18)-(BK18-$K18))/SQRT(((BH18^2*(BI18-1))+(BL18^2*(BM18-1)))/(BI18+BM18-2)))","v":{"$error":"#DIV/0!"}},"",{"$f":"IF(BI18=\"\",\"\",SQRT((BI18+BM18)/(BI18*BM18)+(BO18^2/(2*(BI18+BM18)))))","v":""},null,null,null,null,null,null,null,null,{"$f":"IF(Sheet2!$A$33=TRUE,-1*(((BR18-$G18)-(BV18-$K18))/SQRT(((BS18^2*(BT18-1))+(BW18^2*(BX18-1)))/(BT18+BX18-2))),((BR18-$G18)-(BV18-$K18))/SQRT(((BS18^2*(BT18-1))+(BW18^2*(BX18-1)))/(BT18+BX18-2)))","v":{"$error":"#DIV/0!"}},"",{"$f":"IF(BT18=\"\",\"\",SQRT((BT18+BX18)/(BT18*BX18)+(BZ18^2/(2*(BT18+BX18)))))","v":""}]
[null,null,"General Ability/IQ d",null,null,null,null,null,null,null,null,null,null,null,null,null,null,null,null,null,null,null,{"$f":"IF(W14=\"\",\"\",AVERAGE(W14:W18))","v":""},{"$f":"IF(X14=\"\",\"\",AVERAGE(X14:X18))","v":""},null,null,null,null,null,null,null,null,null,{"$f":"IF(AH14=\"\",\"\",AVERAGE(AH14:AH18))","v":""},{"$f":"IF(AI14=\"\",\"\",AVERAGE(AI14:AI18))","v":""},null,null,null,null,null,null,null,null,null,{"$f":"IF(AS14=\"\",\"\",AVERAGE(AS14:AS18))","v":""},{"$f":"IF(AT14=\"\",\"\",AVERAGE(AT14:AT18))","v":""},null,null,null,null,null,null,null,null,null,{"$f":"IF(BD14=\"\",\"\",AVERAGE(BD14:BD18))","v":""},{"$f":"IF(BE14=\"\",\"\",AVERAGE(BE14:BE18))","v":""},null,null,null,null,null,null,null,null,null,{"$f":"IF(BO14=\"\",\"\",AVERAGE(BO14:BO18))","v":""},{"$f":"IF(BP14=\"\",\"\",AVERAGE(BP14:BP18))","v":""},null,null,null,null,null,null,null,null,null,{"$f":"IF(BZ14=\"\",\"\",AVERAGE(BZ14:BZ18))","v":""},{"$f":"IF(CA14=\"\",\"\",AVERAGE(CA14:CA18))","v":""}]
[]
[null,null,"Achievement ","Test Name"]
[null,null,"Outcome 1:",null,null,null,null,null,null,null,null,null,null,null,null,null,null,null,null,null,null,{"$f":"IF(Sheet2!$A$37=TRUE,-1*(((O22-$G22)-(S22-$K22))/SQRT(((P22^2*(Q22-1))+(T22^2*(U22-1)))/(Q22+U22-2))),((O22-$G22)-(S22-$K22))/SQRT(((P22^2*(Q22-1))+(T22^2*(U22-1)))/(Q22+U22-2)))","v":{"$error":"#DIV/0!"}},{"$f":"IF(O22=\"\",\"\",V22)","v":""},{"$f":"IF(Q22=\"\",\"\",SQRT((Q22+U22)/(Q22*U22)+(W22^2/(2*(Q22+U22)))))","v":""},null,null,null,null,null,null,null,null,{"$f":"IF(Sheet2!$A$37=TRUE,-1*(((Z22-$G22)-(AD22-$K22))/SQRT(((AA22^2*(AB22-1))+(AE22^2*(AF22-1)))/(AB22+AF22-2))),((Z22-$G22)-(AD22-$K22))/SQRT(((AA22^2*(AB22-1))+(AE22^2*(AF22-1)))/(AB22+AF22-2)))","v":{"$error":"#DIV/0!"}},{"$f":"IF(Z22=\"\",\"\",AG22)","v":""},{"$f":"IF(AB22=\"\",\"\",SQRT((AB22+AF22)/(AB22*AF22)+(AH22^2/(2*(AB22+AF22)))))","v":""},null,null,null,null,null,null,null,null,{"$f":"IF(Sheet2!$A$37=TRUE,-1*(((AK22-$G22)-(AO22-$K22))/SQRT(((AL22^2*(AM22-1))+(AP22^2*(AQ22-1)))/(AM22+AQ22-2))),((AK22-$G22)-(AO22-$K22))/SQRT(((AL22^2*(AM22-1))+(AP22^2*(AQ22-1)))/(AM22+AQ22-2)))","v":{"$error":"#DIV/0!"}},{"$f":"IF(AK22=\"\",\"\",AR22)","v":""},{"$f":"IF(AM22=\"\",\"\",SQRT((AM22+AQ22)/(AM22*AQ22)+(AS22^2/(2*(AM22+AQ22)))))","v":""},null,null,null,null,null,null,null,null,{"$f":"IF(Sheet2!$A$37=TRUE,-1*(((AV22-$G22)-(AZ22-$K22))/SQRT(((AW22^2*(AX22-1))+(BA22^2*(BB22-1)))/(AX22+BB22-2))),((AV22-$G22)-(AZ22-$K22))/SQRT(((AW22^2*(AX22-1))+(BA22^2*(BB22-1)))/(AX22+BB22-2)))","v":{"$error":"#DIV/0!"}},{"$f":"IF(AV22=\"\",\"\",BC22)","v":""},{"$f":"IF(AX22=\"\",\"\",SQRT((AX22+BB22)/(AX22*BB22)+(BD22^2/(2*(AX22+BB22)))))","v":""},null,null,null,null,null,null,null,null,{"$f":"IF(Sheet2!$A$37=TRUE,-1*(((BG22-$G22)-(BK22-$K22))/SQRT(((BH22^2*(BI22-1))+(BL22^2*(BM22-1)))/(BI22+BM22-2))),((BG22-$G22)-(BK22-$K22))/SQRT(((BH22^2*(BI22-1))+(BL22^2*(BM22-1)))/(BI22+BM22-2)))","v":{"$error":"#DIV/0!"}},{"$f":"IF(BG22=\"\",\"\",BN22)","v":""},{"$f":"IF(BI22=\"\",\"\",SQRT((BI22+BM22)/(BI22*BM22)+(BO22^2/(2*(BI22+BM22)))))","v":""},null,null,null,null,null,null,null,null,{"$f":"IF(Sheet2!$A$37=TRUE,-1*(((BR22-$G22)-(BV22-$K22))/SQRT(((BS22^2*(BT22-1))+(BW22^2*(BX22-1)))/(BT22+BX22-2))),((BR22-$G22)-(BV22-$K22))/SQRT(((BS22^2*(BT22-1))+(BW22^2*(BX22-1)))/(BT22+BX22-2)))","v":{"$error":"#DIV/0!"}},{"$f":"IF(BR22=\"\",\"\",BY22)","v":""},{"$f":"IF(BT22=\"\",\"\",SQRT((BT22+BX22)/(BT22*BX22)+(BZ22^2/(2*(BT22+BX22)))))","v":""}]
[null,null,"Outcome 2:",null,null,null,null,null,null,null,null,null,null,null,null,null,null,null,null,null,null,{"$f":"IF(Sheet2!$A$38=TRUE,-1*(((O23-$G23)-(S23-$K23))/SQRT(((P23^2*(Q23-1))+(T23^2*(U23-1)))/(Q23+U23-2))),((O23-$G23)-(S23-$K23))/SQRT(((P23^2*(Q23-1))+(T23^2*(U23-1)))/(Q23+U23-2)))","v":{"$error":"#DIV/0!"}},{"$f":"IF(O23=\"\",\"\",V23)","v":""},{"$f":"IF(Q23=\"\",\"\",SQRT((Q23+U23)/(Q23*U23)+(W23^2/(2*(Q23+U23)))))","v":""},null,null,null,null,null,null,null,null,{"$f":"IF(Sheet2!$A$38=TRUE,-1*(((Z23-$G23)-(AD23-$K23))/SQRT(((AA23^2*(AB23-1))+(AE23^2*(AF23-1)))/(AB23+AF23-2))),((Z23-$G23)-(AD23-$K23))/SQRT(((AA23^2*(AB23-1))+(AE23^2*(AF23-1)))/(AB23+AF23-2)))","v":{"$error":"#DIV/0!"}},{"$f":"IF(Z23=\"\",\"\",AG23)","v":""},{"$f":"IF(AB23=\"\",\"\",SQRT((AB23+AF23)/(AB23*AF23)+(AH23^2/(2*(AB23+AF23)))))","v":""},null,null,null,null,null,null,null,null,{"$f":"IF(Sheet2!$A$38=TRUE,-1*(((AK23-$G23)-(AO23-$K23))/SQRT(((AL23^2*(AM23-1))+(AP23^2*(AQ23-1)))/(AM23+AQ23-2))),((AK23-$G23)-(AO23-$K23))/SQRT(((AL23^2*(AM23-1))+(AP23^2*(AQ23-1)))/(AM23+AQ23-2)))","v":{"$error":"#DIV/0!"}},{"$f":"IF(AK23=\"\",\"\",AR23)","v":""},{"$f":"IF(AM23=\"\",\"\",SQRT((AM23+AQ23)/(AM23*AQ23)+(AS23^2/(2*(AM23+AQ23)))))","v":""},null,null,null,null,null,null,null,null,{"$f":"IF(Sheet2!$A$38=TRUE,-1*(((AV23-$G23)-(AZ23-$K23))/SQRT(((AW23^2*(AX23-1))+(BA23^2*(BB23-1)))/(AX23+BB23-2))),((AV23-$G23)-(AZ23-$K23))/SQRT(((AW23^2*(AX23-1))+(BA23^2*(BB23-1)))/(AX23+BB23-2)))","v":{"$error":"#DIV/0!"}},{"$f":"IF(AV23=\"\",\"\",BC23)","v":""},{"$f":"IF(AX23=\"\",\"\",SQRT((AX23+BB23)/(AX23*BB23)+(BD23^2/(2*(AX23+BB23)))))","v":""},null,null,null,null,null,null,null,null,{"$f":"IF(Sheet2!$A$38=TRUE,-1*(((BG23-$G23)-(BK23-$K23))/SQRT(((BH23^2*(BI23-1))+(BL23^2*(BM23-1)))/(BI23+BM23-2))),((BG23-$G23)-(BK23-$K23))/SQRT(((BH23^2*(BI23-1))+(BL23^2*(BM23-1)))/(BI23+BM23-2)))","v":{"$error":"#DIV/0!"}},{"$f":"IF(BG23=\"\",\"\",BN23)","v":""},{"$f":"IF(BI23=\"\",\"\",SQRT((BI23+BM23)/(BI23*BM23)+(BO23^2/(2*(BI23+BM23)))))","v":""},null,null,null,null,null,null,null,null,{"$f":"IF(Sheet2!$A$38=TRUE,-1*(((BR23-$G23)-(BV23-$K23))/SQRT(((BS23^2*(BT23-1))+(BW23^2*(BX23-1)))/(BT23+BX23-2))),((BR23-$G23)-(BV23-$K23))/SQRT(((BS23^2*(BT23-1))+(BW23^2*(BX23-1)))/(BT23+BX23-2)))","v":{"$error":"#DIV/0!"}},{"$f":"IF(BR23=\"\",\"\",BY23)","v":""},{"$f":"IF(BT23=\"\",\"\",SQRT((BT23+BX23)/(BT23*BX23)+(BZ23^2/(2*(BT23+BX23)))))","v":""}]
[null,null,"Outcome 3:",null,null,null,null,null,null,null,null,null,null,null,null,null,null,null,null,null,null,{"$f":"IF(Sheet2!$A$39=TRUE,-1*(((O24-$G24)-(S24-$K24))/SQRT(((P24^2*(Q24-1))+(T24^2*(U24-1)))/(Q24+U24-2))),((O24-$G24)-(S24-$K24))/SQRT(((P24^2*(Q24-1))+(T24^2*(U24-1)))/(Q24+U24-2)))","v":{"$error":"#DIV/0!"}},{"$f":"IF(O24=\"\",\"\",V24)","v":""},"",null,null,null,null,null,null,null,null,{"$f":"IF(Sheet2!$A$39=TRUE,-1*(((Z24-$G24)-(AD24-$K24))/SQRT(((AA24^2*(AB24-1))+(AE24^2*(AF24-1)))/(AB24+AF24-2))),((Z24-$G24)-(AD24-$K24))/SQRT(((AA24^2*(AB24-1))+(AE24^2*(AF24-1)))/(AB24+AF24-2)))","v":{"$error":"#DIV/0!"}},{"$f":"IF(Z24=\"\",\"\",AG24)","v":""},"",null,null,null,null,null,null,null,null,{"$f":"IF(Sheet2!$A$39=TRUE,-1*(((AK24-$G24)-(AO24-$K24))/SQRT(((AL24^2*(AM24-1))+(AP24^2*(AQ24-1)))/(AM24+AQ24-2))),((AK24-$G24)-(AO24-$K24))/SQRT(((AL24^2*(AM24-1))+(AP24^2*(AQ24-1)))/(AM24+AQ24-2)))","v":{"$error":"#DIV/0!"}},{"$f":"IF(AK24=\"\",\"\",AR24)","v":""},"",null,null,null,null,null,null,null,null,{"$f":"IF(Sheet2!$A$39=TRUE,-1*(((AV24-$G24)-(AZ24-$K24))/SQRT(((AW24^2*(AX24-1))+(BA24^2*(BB24-1)))/(AX24+BB24-2))),((AV24-$G24)-(AZ24-$K24))/SQRT(((AW24^2*(AX24-1))+(BA24^2*(BB24-1)))/(AX24+BB24-2)))","v":{"$error":"#DIV/0!"}},{"$f":"IF(AV24=\"\",\"\",BC24)","v":""},"",null,null,null,null,null,null,null,null,{"$f":"IF(Sheet2!$A$39=TRUE,-1*(((BG24-$G24)-(BK24-$K24))/SQRT(((BH24^2*(BI24-1))+(BL24^2*(BM24-1)))/(BI24+BM24-2))),((BG24-$G24)-(BK24-$K24))/SQRT(((BH24^2*(BI24-1))+(BL24^2*(BM24-1)))/(BI24+BM24-2)))","v":{"$error":"#DIV/0!"}},{"$f":"IF(BG24=\"\",\"\",BN24)","v":""},"",null,null,null,null,null,null,null,null,{"$f":"IF(Sheet2!$A$39=TRUE,-1*(((BR24-$G24)-(BV24-$K24))/SQRT(((BS24^2*(BT24-1))+(BW24^2*(BX24-1)))/(BT24+BX24-2))),((BR24-$G24)-(BV24-$K24))/SQRT(((BS24^2*(BT24-1))+(BW24^2*(BX24-1)))/(BT24+BX24-2)))","v":{"$error":"#DIV/0!"}},{"$f":"IF(BR24=\"\",\"\",BY24)","v":""},""]
[null,null,"Outcome 4:",null,null,null,null,null,null,null,null,null,null,null,null,null,null,null,null,null,null,{"$f":"IF(Sheet2!$A$40=TRUE,-1*(((O25-$G25)-(S25-$K25))/SQRT(((P25^2*(Q25-1))+(T25^2*(U25-1)))/(Q25+U25-2))),((O25-$G25)-(S25-$K25))/SQRT(((P25^2*(Q25-1))+(T25^2*(U25-1)))/(Q25+U25-2)))","v":{"$error":"#DIV/0!"}},{"$f":"IF(O25=\"\",\"\",V25)","v":""},{"$f":"IF(Q25=\"\",\"\",SQRT((Q25+U25)/(Q25*U25)+(W25^2/(2*(Q25+U25)))))","v":""},null,null,null,null,null,null,null,null,{"$f":"IF(Sheet2!$A$40=TRUE,-1*(((Z25-$G25)-(AD25-$K25))/SQRT(((AA25^2*(AB25-1))+(AE25^2*(AF25-1)))/(AB25+AF25-2))),((Z25-$G25)-(AD25-$K25))/SQRT(((AA25^2*(AB25-1))+(AE25^2*(AF25-1)))/(AB25+AF25-2)))","v":{"$error":"#DIV/0!"}},{"$f":"IF(Z25=\"\",\"\",AG25)","v":""},{"$f":"IF(AB25=\"\",\"\",SQRT((AB25+AF25)/(AB25*AF25)+(AH25^2/(2*(AB25+AF25)))))","v":""},null,null,null,null,null,null,null,null,{"$f":"IF(Sheet2!$A$40=TRUE,-1*(((AK25-$G25)-(AO25-$K25))/SQRT(((AL25^2*(AM25-1))+(AP25^2*(AQ25-1)))/(AM25+AQ25-2))),((AK25-$G25)-(AO25-$K25))/SQRT(((AL25^2*(AM25-1))+(AP25^2*(AQ25-1)))/(AM25+AQ25-2)))","v":{"$error":"#DIV/0!"}},{"$f":"IF(AK25=\"\",\"\",AR25)","v":""},{"$f":"IF(AM25=\"\",\"\",SQRT((AM25+AQ25)/(AM25*AQ25)+(AS25^2/(2*(AM25+AQ25)))))","v":""},null,null,null,null,null,null,null,null,{"$f":"IF(Sheet2!$A$40=TRUE,-1*(((AV25-$G25)-(AZ25-$K25))/SQRT(((AW25^2*(AX25-1))+(BA25^2*(BB25-1)))/(AX25+BB25-2))),((AV25-$G25)-(AZ25-$K25))/SQRT(((AW25^2*(AX25-1))+(BA25^2*(BB25-1)))/(AX25+BB25-2)))","v":{"$error":"#DIV/0!"}},{"$f":"IF(AV25=\"\",\"\",BC25)","v":""},{"$f":"IF(AX25=\"\",\"\",SQRT((AX25+BB25)/(AX25*BB25)+(BD25^2/(2*(AX25+BB25)))))","v":""},null,null,null,null,null,null,null,null,{"$f":"IF(Sheet2!$A$40=TRUE,-1*(((BG25-$G25)-(BK25-$K25))/SQRT(((BH25^2*(BI25-1))+(BL25^2*(BM25-1)))/(BI25+BM25-2))),((BG25-$G25)-(BK25-$K25))/SQRT(((BH25^2*(BI25-1))+(BL25^2*(BM25-1)))/(BI25+BM25-2)))","v":{"$error":"#DIV/0!"}},{"$f":"IF(BG25=\"\",\"\",BN25)","v":""},{"$f":"IF(BI25=\"\",\"\",SQRT((BI25+BM25)/(BI25*BM25)+(BO25^2/(2*(BI25+BM25)))))","v":""},null,null,null,null,null,null,null,null,{"$f":"IF(Sheet2!$A$40=TRUE,-1*(((BR25-$G25)-(BV25-$K25))/SQRT(((BS25^2*(BT25-1))+(BW25^2*(BX25-1)))/(BT25+BX25-2))),((BR25-$G25)-(BV25-$K25))/SQRT(((BS25^2*(BT25-1))+(BW25^2*(BX25-1)))/(BT25+BX25-2)))","v":{"$error":"#DIV/0!"}},{"$f":"IF(BR25=\"\",\"\",BY25)","v":""},{"$f":"IF(BT25=\"\",\"\",SQRT((BT25+BX25)/(BT25*BX25)+(BZ25^2/(2*(BT25+BX25)))))","v":""}]
[null,null,"Outcome 5:",null,null,null,null,null,null,null,null,null,null,null,null,null,null,null,null,null,null,{"$f":"IF(Sheet2!$A$41=TRUE,-1*(((O26-$G26)-(S26-$K26))/SQRT(((P26^2*(Q26-1))+(T26^2*(U26-1)))/(Q26+U26-2))),((O26-$G26)-(S26-$K26))/SQRT(((P26^2*(Q26-1))+(T26^2*(U26-1)))/(Q26+U26-2)))","v":{"$error":"#DIV/0!"}},"","",null,null,null,null,null,null,null,null,{"$f":"IF(Sheet2!$A$41=TRUE,-1*(((Z26-$G26)-(AD26-$K26))/SQRT(((AA26^2*(AB26-1))+(AE26^2*(AF26-1)))/(AB26+AF26-2))),((Z26-$G26)-(AD26-$K26))/SQRT(((AA26^2*(AB26-1))+(AE26^2*(AF26-1)))/(AB26+AF26-2)))","v":{"$error":"#DIV/0!"}},"",{"$f":"IF(AB26=\"\",\"\",SQRT((AB26+AF26)/(AB26*AF26)+(AH26^2/(2*(AB26+AF26)))))","v":""},null,null,null,null,null,null,null,null,{"$f":"IF(Sheet2!$A$41=TRUE,-1*(((AK26-$G26)-(AO26-$K26))/SQRT(((AL26^2*(AM26-1))+(AP26^2*(AQ26-1)))/(AM26+AQ26-2))),((AK26-$G26)-(AO26-$K26))/SQRT(((AL26^2*(AM26-1))+(AP26^2*(AQ26-1)))/(AM26+AQ26-2)))","v":{"$error":"#DIV/0!"}},"",{"$f":"IF(AM26=\"\",\"\",SQRT((AM26+AQ26)/(AM26*AQ26)+(AS26^2/(2*(AM26+AQ26)))))","v":""},null,null,null,null,null,null,null,null,{"$f":"IF(Sheet2!$A$41=TRUE,-1*(((AV26-$G26)-(AZ26-$K26))/SQRT(((AW26^2*(AX26-1))+(BA26^2*(BB26-1)))/(AX26+BB26-2))),((AV26-$G26)-(AZ26-$K26))/SQRT(((AW26^2*(AX26-1))+(BA26^2*(BB26-1)))/(AX26+BB26-2)))","v":{"$error":"#DIV/0!"}},"",{"$f":"IF(AX26=\"\",\"\",SQRT((AX26+BB26)/(AX26*BB26)+(BD26^2/(2*(AX26+BB26)))))","v":""},null,null,null,null,null,null,null,null,{"$f":"IF(Sheet2!$A$41=TRUE,-1*(((BG26-$G26)-(BK26-$K26))/SQRT(((BH26^2*(BI26-1))+(BL26^2*(BM26-1)))/(BI26+BM26-2))),((BG26-$G26)-(BK26-$K26))/SQRT(((BH26^2*(BI26-1))+(BL26^2*(BM26-1)))/(BI26+BM26-2)))","v":{"$error":"#DIV/0!"}},"",{"$f":"IF(BI26=\"\",\"\",SQRT((BI26+BM26)/(BI26*BM26)+(BO26^2/(2*(BI26+BM26)))))","v":""},null,null,null,null,null,null,null,null,{"$f":"IF(Sheet2!$A$41=TRUE,-1*(((BR26-$G26)-(BV26-$K26))/SQRT(((BS26^2*(BT26-1))+(BW26^2*(BX26-1)))/(BT26+BX26-2))),((BR26-$G26)-(BV26-$K26))/SQRT(((BS26^2*(BT26-1))+(BW26^2*(BX26-1)))/(BT26+BX26-2)))","v":{"$error":"#DIV/0!"}},"",{"$f":"IF(BT26=\"\",\"\",SQRT((BT26+BX26)/(BT26*BX26)+(BZ26^2/(2*(BT26+BX26)))))","v":""}]
[null,null,"Achievement d",null,null,null,null,null,null,null,null,null,null,null,null,null,null,null,null,null,null,null,{"$f":"IF(W22=\"\",\"\",AVERAGE(W22:W26))","v":""},{"$f":"IF(X22=\"\",\"\",AVERAGE(X22:X26))","v":""},null,null,null,null,null,null,null,null,null,{"$f":"IF(AH22=\"\",\"\",AVERAGE(AH22:AH26))","v":""},{"$f":"IF(AI22=\"\",\"\",AVERAGE(AI22:AI26))","v":""},null,null,null,null,null,null,null,null,null,{"$f":"IF(AS22=\"\",\"\",AVERAGE(AS22:AS26))","v":""},{"$f":"IF(AT22=\"\",\"\",AVERAGE(AT22:AT26))","v":""},null,null,null,null,null,null,null,null,null,{"$f":"IF(BD22=\"\",\"\",AVERAGE(BD22:BD26))","v":""},{"$f":"IF(BE22=\"\",\"\",AVERAGE(BE22:BE26))","v":""},null,null,null,null,null,null,null,null,null,{"$f":"IF(BO22=\"\",\"\",AVERAGE(BO22:BO26))","v":""},{"$f":"IF(BP22=\"\",\"\",AVERAGE(BP22:BP26))","v":""},null,null,null,null,null,null,null,null,null,{"$f":"IF(BZ22=\"\",\"\",AVERAGE(BZ22:BZ26))","v":""},{"$f":"IF(CA22=\"\",\"\",AVERAGE(CA22:CA26))","v":""}]
[]
[null,null,"Attn/Wrk Memory","Test Name"]
[null,null,"Outcome 1:",null,null,null,null,null,null,null,null,null,null,null,null,null,null,null,null,null,null,{"$f":"IF(Sheet2!$A$45=TRUE,-1*(((O30-$G30)-(S30-$K30))/SQRT(((P30^2*(Q30-1))+(T30^2*(U30-1)))/(Q30+U30-2))),((O30-$G30)-(S30-$K30))/SQRT(((P30^2*(Q30-1))+(T30^2*(U30-1)))/(Q30+U30-2)))","v":{"$error":"#DIV/0!"}},{"$f":"IF(O30=\"\",\"\",V30)","v":""},{"$f":"IF(Q30=\"\",\"\",SQRT((Q30+U30)/(Q30*U30)+(W30^2/(2*(Q30+U30)))))","v":""},null,null,null,null,null,null,null,null,{"$f":"IF(Sheet2!$A$45=TRUE,-1*(((Z30-$G30)-(AD30-$K30))/SQRT(((AA30^2*(AB30-1))+(AE30^2*(AF30-1)))/(AB30+AF30-2))),((Z30-$G30)-(AD30-$K30))/SQRT(((AA30^2*(AB30-1))+(AE30^2*(AF30-1)))/(AB30+AF30-2)))","v":{"$error":"#DIV/0!"}},{"$f":"IF(Z30=\"\",\"\",AG30)","v":""},{"$f":"IF(AB30=\"\",\"\",SQRT((AB30+AF30)/(AB30*AF30)+(AH30^2/(2*(AB30+AF30)))))","v":""},null,null,null,null,null,null,null,null,{"$f":"IF(Sheet2!$A$45=TRUE,-1*(((AK30-$G30)-(AO30-$K30))/SQRT(((AL30^2*(AM30-1))+(AP30^2*(AQ30-1)))/(AM30+AQ30-2))),((AK30-$G30)-(AO30-$K30))/SQRT(((AL30^2*(AM30-1))+(AP30^2*(AQ30-1)))/(AM30+AQ30-2)))","v":{"$error":"#DIV/0!"}},{"$f":"IF(AK30=\"\",\"\",AR30)","v":""},{"$f":"IF(AM30=\"\",\"\",SQRT((AM30+AQ30)/(AM30*AQ30)+(AS30^2/(2*(AM30+AQ30)))))","v":""},null,null,null,null,null,null,null,null,{"$f":"IF(Sheet2!$A$45=TRUE,-1*(((AV30-$G30)-(AZ30-$K30))/SQRT(((AW30^2*(AX30-1))+(BA30^2*(BB30-1)))/(AX30+BB30-2))),((AV30-$G30)-(AZ30-$K30))/SQRT(((AW30^2*(AX30-1))+(BA30^2*(BB30-1)))/(AX30+BB30-2)))","v":{"$error":"#DIV/0!"}},{"$f":"IF(AV30=\"\",\"\",BC30)","v":""},{"$f":"IF(AX30=\"\",\"\",SQRT((AX30+BB30)/(AX30*BB30)+(BD30^2/(2*(AX30+BB30)))))","v":""},null,null,null,null,null,null,null,null,{"$f":"IF(Sheet2!$A$45=TRUE,-1*(((BG30-$G30)-(BK30-$K30))/SQRT(((BH30^2*(BI30-1))+(BL30^2*(BM30-1)))/(BI30+BM30-2))),((BG30-$G30)-(BK30-$K30))/SQRT(((BH30^2*(BI30-1))+(BL30^2*(BM30-1)))/(BI30+BM30-2)))","v":{"$error":"#DIV/0!"}},{"$f":"IF(BG30=\"\",\"\",BN30)","v":""},{"$f":"IF(BI30=\"\",\"\",SQRT((BI30+BM30)/(BI30*BM30)+(BO30^2/(2*(BI30+BM30)))))","v":""},null,null,null,null,null,null,null,null,{"$f":"IF(Sheet2!$A$45=TRUE,-1*(((BR30-$G30)-(BV30-$K30))/SQRT(((BS30^2*(BT30-1))+(BW30^2*(BX30-1)))/(BT30+BX30-2))),((BR30-$G30)-(BV30-$K30))/SQRT(((BS30^2*(BT30-1))+(BW30^2*(BX30-1)))/(BT30+BX30-2)))","v":{"$error":"#DIV/0!"}},{"$f":"IF(BR30=\"\",\"\",BY30)","v":""},{"$f":"IF(BT30=\"\",\"\",SQRT((BT30+BX30)/(BT30*BX30)+(BZ30^2/(2*(BT30+BX30)))))","v":""}]
[null,null,"Outcome 2:",null,null,null,null,null,null,null,null,null,null,null,null,null,null,null,null,null,null,{"$f":"IF(Sheet2!$A$46=TRUE,-1*(((O31-$G31)-(S31-$K31))/SQRT(((P31^2*(Q31-1))+(T31^2*(U31-1)))/(Q31+U31-2))),((O31-$G31)-(S31-$K31))/SQRT(((P31^2*(Q31-1))+(T31^2*(U31-1)))/(Q31+U31-2)))","v":{"$error":"#DIV/0!"}},{"$f":"IF(O31=\"\",\"\",V31)","v":""},{"$f":"IF(Q31=\"\",\"\",SQRT((Q31+U31)/(Q31*U31)+(W31^2/(2*(Q31+U31)))))","v":""},null,null,null,null,null,null,null,null,{"$f":"IF(Sheet2!$A$46=TRUE,-1*(((Z31-$G31)-(AD31-$K31))/SQRT(((AA31^2*(AB31-1))+(AE31^2*(AF31-1)))/(AB31+AF31-2))),((Z31-$G31)-(AD31-$K31))/SQRT(((AA31^2*(AB31-1))+(AE31^2*(AF31-1)))/(AB31+AF31-2)))","v":{"$error":"#DIV/0!"}},{"$f":"IF(Z31=\"\",\"\",AG31)","v":""},{"$f":"IF(AB31=\"\",\"\",SQRT((AB31+AF31)/(AB31*AF31)+(AH31^2/(2*(AB31+AF31)))))","v":""},null,null,null,null,null,null,null,null,{"$f":"IF(Sheet2!$A$46=TRUE,-1*(((AK31-$G31)-(AO31-$K31))/SQRT(((AL31^2*(AM31-1))+(AP31^2*(AQ31-1)))/(AM31+AQ31-2))),((AK31-$G31)-(AO31-$K31))/SQRT(((AL31^2*(AM31-1))+(AP31^2*(AQ31-1)))/(AM31+AQ31-2)))","v":{"$error":"#DIV/0!"}},{"$f":"IF(AK31=\"\",\"\",AR31)","v":""},{"$f":"IF(AM31=\"\",\"\",SQRT((AM31+AQ31)/(AM31*AQ31)+(AS31^2/(2*(AM31+AQ31)))))","v":""},null,null,null,null,null,null,null,null,{"$f":"IF(Sheet2!$A$46=TRUE,-1*(((AV31-$G31)-(AZ31-$K31))/SQRT(((AW31^2*(AX31-1))+(BA31^2*(BB31-1)))/(AX31+BB31-2))),((AV31-$G31)-(AZ31-$K31))/SQRT(((AW31^2*(AX31-1))+(BA31^2*(BB31-1)))/(AX31+BB31-2)))","v":{"$error":"#DIV/0!"}},{"$f":"IF(AV31=\"\",\"\",BC31)","v":""},{"$f":"IF(AX31=\"\",\"\",SQRT((AX31+BB31)/(AX31*BB31)+(BD31^2/(2*(AX31+BB31)))))","v":""},null,null,null,null,null,null,null,null,{"$f":"IF(Sheet2!$A$46=TRUE,-1*(((BG31-$G31)-(BK31-$K31))/SQRT(((BH31^2*(BI31-1))+(BL31^2*(BM31-1)))/(BI31+BM31-2))),((BG31-$G31)-(BK31-$K31))/SQRT(((BH31^2*(BI31-1))+(BL31^2*(BM31-1)))/(BI31+BM31-2)))","v":{"$error":"#DIV/0!"}},{"$f":"IF(BG31=\"\",\"\",BN31)","v":""},{"$f":"IF(BI31=\"\",\"\",SQRT((BI31+BM31)/(BI31*BM31)+(BO31^2/(2*(BI31+BM31)))))","v":""},null,null,null,null,null,null,null,null,{"$f":"IF(Sheet2!$A$46=TRUE,-1*(((BR31-$G31)-(BV31-$K31))/SQRT(((BS31^2*(BT31-1))+(BW31^2*(BX31-1)))/(BT31+BX31-2))),((BR31-$G31)-(BV31-$K31))/SQRT(((BS31^2*(BT31-1))+(BW31^2*(BX31-1)))/(BT31+BX31-2)))","v":{"$error":"#DIV/0!"}},{"$f":"IF(BR31=\"\",\"\",BY31)","v":""},{"$f":"IF(BT31=\"\",\"\",SQRT((BT31+BX31)/(BT31*BX31)+(BZ31^2/(2*(BT31+BX31)))))","v":""}]
[null,null,"Outcome 3:",null,null,null,null,null,null,null,null,null,null,null,null,null,null,null,null,null,null,{"$f":"IF(Sheet2!$A$47=TRUE,-1*(((O32-$G32)-(S32-$K32))/SQRT(((P32^2*(Q32-1))+(T32^2*(U32-1)))/(Q32+U32-2))),((O32-$G32)-(S32-$K32))/SQRT(((P32^2*(Q32-1))+(T32^2*(U32-1)))/(Q32+U32-2)))","v":{"$error":"#DIV/0!"}},{"$f":"IF(O32=\"\",\"\",V32)","v":""},"",null,null,null,null,null,null,null,null,{"$f":"IF(Sheet2!$A$47=TRUE,-1*(((Z32-$G32)-(AD32-$K32))/SQRT(((AA32^2*(AB32-1))+(AE32^2*(AF32-1)))/(AB32+AF32-2))),((Z32-$G32)-(AD32-$K32))/SQRT(((AA32^2*(AB32-1))+(AE32^2*(AF32-1)))/(AB32+AF32-2)))","v":{"$error":"#DIV/0!"}},{"$f":"IF(Z32=\"\",\"\",AG32)","v":""},"",null,null,null,null,null,null,null,null,{"$f":"IF(Sheet2!$A$47=TRUE,-1*(((AK32-$G32)-(AO32-$K32))/SQRT(((AL32^2*(AM32-1))+(AP32^2*(AQ32-1)))/(AM32+AQ32-2))),((AK32-$G32)-(AO32-$K32))/SQRT(((AL32^2*(AM32-1))+(AP32^2*(AQ32-1)))/(AM32+AQ32-2)))","v":{"$error":"#DIV/0!"}},{"$f":"IF(AK32=\"\",\"\",AR32)","v":""},"",null,null,null,null,null,null,null,null,{"$f":"IF(Sheet2!$A$47=TRUE,-1*(((AV32-$G32)-(AZ32-$K32))/SQRT(((AW32^2*(AX32-1))+(BA32^2*(BB32-1)))/(AX32+BB32-2))),((AV32-$G32)-(AZ32-$K32))/SQRT(((AW32^2*(AX32-1))+(BA32^2*(BB32-1)))/(AX32+BB32-2)))","v":{"$error":"#DIV/0!"}},{"$f":"IF(AV32=\"\",\"\",BC32)","v":""},"",null,null,null,null,null,null,null,null,{"$f":"IF(Sheet2!$A$47=TRUE,-1*(((BG32-$G32)-(BK32-$K32))/SQRT(((BH32^2*(BI32-1))+(BL32^2*(BM32-1)))/(BI32+BM32-2))),((BG32-$G32)-(BK32-$K32))/SQRT(((BH32^2*(BI32-1))+(BL32^2*(BM32-1)))/(BI32+BM32-2)))","v":{"$error":"#DIV/0!"}},{"$f":"IF(BG32=\"\",\"\",BN32)","v":""},"",null,null,null,null,null,null,null,null,{"$f":"IF(Sheet2!$A$47=TRUE,-1*(((BR32-$G32)-(BV32-$K32))/SQRT(((BS32^2*(BT32-1))+(BW32^2*(BX32-1)))/(BT32+BX32-2))),((BR32-$G32)-(BV32-$K32))/SQRT(((BS32^2*(BT32-1))+(BW32^2*(BX32-1)))/(BT32+BX32-2)))","v":{"$error":"#DIV/0!"}},{"$f":"IF(BR32=\"\",\"\",BY32)","v":""},""]
[null,null,"Outcome 4:",null,null,null,null,null,null,null,null,null,null,null,null,null,null,null,null,null,null,{"$f":"IF(Sheet2!$A$48=TRUE,-1*(((O33-$G33)-(S33-$K33))/SQRT(((P33^2*(Q33-1))+(T33^2*(U33-1)))/(Q33+U33-2))),((O33-$G33)-(S33-$K33))/SQRT(((P33^2*(Q33-1))+(T33^2*(U33-1)))/(Q33+U33-2)))","v":{"$error":"#DIV/0!"}},{"$f":"IF(O33=\"\",\"\",V33)","v":""},{"$f":"IF(Q33=\"\",\"\",SQRT((Q33+U33)/(Q33*U33)+(W33^2/(2*(Q33+U33)))))","v":""},null,null,null,null,null,null,null,null,{"$f":"IF(Sheet2!$A$48=TRUE,-1*(((Z33-$G33)-(AD33-$K33))/SQRT(((AA33^2*(AB33-1))+(AE33^2*(AF33-1)))/(AB33+AF33-2))),((Z33-$G33)-(AD33-$K33))/SQRT(((AA33^2*(AB33-1))+(AE33^2*(AF33-1)))/(AB33+AF33-2)))","v":{"$error":"#DIV/0!"}},{"$f":"IF(Z33=\"\",\"\",AG33)","v":""},{"$f":"IF(AB33=\"\",\"\",SQRT((AB33+AF33)/(AB33*AF33)+(AH33^2/(2*(AB33+AF33)))))","v":""},null,null,null,null,null,null,null,null,{"$f":"IF(Sheet2!$A$48=TRUE,-1*(((AK33-$G33)-(AO33-$K33))/SQRT(((AL33^2*(AM33-1))+(AP33^2*(AQ33-1)))/(AM33+AQ33-2))),((AK33-$G33)-(AO33-$K33))/SQRT(((AL33^2*(AM33-1))+(AP33^2*(AQ33-1)))/(AM33+AQ33-2)))","v":{"$error":"#DIV/0!"}},{"$f":"IF(AK33=\"\",\"\",AR33)","v":""},{"$f":"IF(AM33=\"\",\"\",SQRT((AM33+AQ33)/(AM33*AQ33)+(AS33^2/(2*(AM33+AQ33)))))","v":""},null,null,null,null,null,null,null,null,{"$f":"IF(Sheet2!$A$48=TRUE,-1*(((AV33-$G33)-(AZ33-$K33))/SQRT(((AW33^2*(AX33-1))+(BA33^2*(BB33-1)))/(AX33+BB33-2))),((AV33-$G33)-(AZ33-$K33))/SQRT(((AW33^2*(AX33-1))+(BA33^2*(BB33-1)))/(AX33+BB33-2)))","v":{"$error":"#DIV/0!"}},{"$f":"IF(AV33=\"\",\"\",BC33)","v":""},{"$f":"IF(AX33=\"\",\"\",SQRT((AX33+BB33)/(AX33*BB33)+(BD33^2/(2*(AX33+BB33)))))","v":""},null,null,null,null,null,null,null,null,{"$f":"IF(Sheet2!$A$48=TRUE,-1*(((BG33-$G33)-(BK33-$K33))/SQRT(((BH33^2*(BI33-1))+(BL33^2*(BM33-1)))/(BI33+BM33-2))),((BG33-$G33)-(BK33-$K33))/SQRT(((BH33^2*(BI33-1))+(BL33^2*(BM33-1)))/(BI33+BM33-2)))","v":{"$error":"#DIV/0!"}},{"$f":"IF(BG33=\"\",\"\",BN33)","v":""},{"$f":"IF(BI33=\"\",\"\",SQRT((BI33+BM33)/(BI33*BM33)+(BO33^2/(2*(BI33+BM33)))))","v":""},null,null,null,null,null,null,null,null,{"$f":"IF(Sheet2!$A$48=TRUE,-1*(((BR33-$G33)-(BV33-$K33))/SQRT(((BS33^2*(BT33-1))+(BW33^2*(BX33-1)))/(BT33+BX33-2))),((BR33-$G33)-(BV33-$K33))/SQRT(((BS33^2*(BT33-1))+(BW33^2*(BX33-1)))/(BT33+BX33-2)))","v":{"$error":"#DIV/0!"}},{"$f":"IF(BR33=\"\",\"\",BY33)","v":""},{"$f":"IF(BT33=\"\",\"\",SQRT((BT33+BX33)/(BT33*BX33)+(BZ33^2/(2*(BT33+BX33)))))","v":""}]
[null,null,"Outcome 5:",null,null,null,null,null,null,null,null,null,null,null,null,null,null,null,null,null,null,{"$f":"IF(Sheet2!$A$49=TRUE,-1*(((O34-$G34)-(S34-$K34))/SQRT(((P34^2*(Q34-1))+(T34^2*(U34-1)))/(Q34+U34-2))),((O34-$G34)-(S34-$K34))/SQRT(((P34^2*(Q34-1))+(T34^2*(U34-1)))/(Q34+U34-2)))","v":{"$error":"#DIV/0!"}},"","",null,null,null,null,null,null,null,null,{"$f":"IF(Sheet2!$A$49=TRUE,-1*(((Z34-$G34)-(AD34-$K34))/SQRT(((AA34^2*(AB34-1))+(AE34^2*(AF34-1)))/(AB34+AF34-2))),((Z34-$G34)-(AD34-$K34))/SQRT(((AA34^2*(AB34-1))+(AE34^2*(AF34-1)))/(AB34+AF34-2)))","v":{"$error":"#DIV/0!"}},"",{"$f":"IF(AB34=\"\",\"\",SQRT((AB34+AF34)/(AB34*AF34)+(AH34^2/(2*(AB34+AF34)))))","v":""},null,null,null,null,null,null,null,null,{"$f":"IF(Sheet2!$A$49=TRUE,-1*(((AK34-$G34)-(AO34-$K34))/SQRT(((AL34^2*(AM34-1))+(AP34^2*(AQ34-1)))/(AM34+AQ34-2))),((AK34-$G34)-(AO34-$K34))/SQRT(((AL34^2*(AM34-1))+(AP34^2*(AQ34-1)))/(AM34+AQ34-2)))","v":{"$error":"#DIV/0!"}},"",{"$f":"IF(AM34=\"\",\"\",SQRT((AM34+AQ34)/(AM34*AQ34)+(AS34^2/(2*(AM34+AQ34)))))","v":""},null,null,null,null,null,null,null,null,{"$f":"IF(Sheet2!$A$49=TRUE,-1*(((AV34-$G34)-(AZ34-$K34))/SQRT(((AW34^2*(AX34-1))+(BA34^2*(BB34-1)))/(AX34+BB34-2))),((AV34-$G34)-(AZ34-$K34))/SQRT(((AW34^2*(AX34-1))+(BA34^2*(BB34-1)))/(AX34+BB34-2)))","v":{"$error":"#DIV/0!"}},"",{"$f":"IF(AX34=\"\",\"\",SQRT((AX34+BB34)/(AX34*BB34)+(BD34^2/(2*(AX34+BB34)))))","v":""},null,null,null,null,null,null,null,null,{"$f":"IF(Sheet2!$A$49=TRUE,-1*(((BG34-$G34)-(BK34-$K34))/SQRT(((BH34^2*(BI34-1))+(BL34^2*(BM34-1)))/(BI34+BM34-2))),((BG34-$G34)-(BK34-$K34))/SQRT(((BH34^2*(BI34-1))+(BL34^2*(BM34-1)))/(BI34+BM34-2)))","v":{"$error":"#DIV/0!"}},"",{"$f":"IF(BI34=\"\",\"\",SQRT((BI34+BM34)/(BI34*BM34)+(BO34^2/(2*(BI34+BM34)))))","v":""},null,null,null,null,null,null,null,null,{"$f":"IF(Sheet2!$A$49=TRUE,-1*(((BR34-$G34)-(BV34-$K34))/SQRT(((BS34^2*(BT34-1))+(BW34^2*(BX34-1)))/(BT34+BX34-2))),((BR34-$G34)-(BV34-$K34))/SQRT(((BS34^2*(BT34-1))+(BW34^2*(BX34-1)))/(BT34+BX34-2)))","v":{"$error":"#DIV/0!"}},"",{"$f":"IF(BT34=\"\",\"\",SQRT((BT34+BX34)/(BT34*BX34)+(BZ34^2/(2*(BT34+BX34)))))","v":""}]
[null,null,"Attn/Wrk Mem d",null,null,null,null,null,null,null,null,null,null,null,null,null,null,null,null,null,null,null,{"$f":"IF(W30=\"\",\"\",AVERAGE(W30:W34))","v":""},{"$f":"IF(X30=\"\",\"\",AVERAGE(X30:X34))","v":""},null,null,null,null,null,null,null,null,null,{"$f":"IF(AH30=\"\",\"\",AVERAGE(AH30:AH34))","v":""},{"$f":"IF(AI30=\"\",\"\",AVERAGE(AI30:AI34))","v":""},null,null,null,null,null,null,null,null,null,{"$f":"IF(AS30=\"\",\"\",AVERAGE(AS30:AS34))","v":""},{"$f":"IF(AT30=\"\",\"\",AVERAGE(AT30:AT34))","v":""},null,null,null,null,null,null,null,null,null,{"$f":"IF(BD30=\"\",\"\",AVERAGE(BD30:BD34))","v":""},{"$f":"IF(BE30=\"\",\"\",AVERAGE(BE30:BE34))","v":""},null,null,null,null,null,null,null,null,null,{"$f":"IF(BO30=\"\",\"\",AVERAGE(BO30:BO34))","v":""},{"$f":"IF(BP30=\"\",\"\",AVERAGE(BP30:BP34))","v":""},null,null,null,null,null,null,null,null,null,{"$f":"IF(BZ30=\"\",\"\",AVERAGE(BZ30:BZ34))","v":""},{"$f":"IF(CA30=\"\",\"\",AVERAGE(CA30:CA34))","v":""}]
[]
[null,null,"Processing Speed","Test Name"]
[null,null,"Outcome 1:",null,null,null,null,null,null,null,null,null,null,null,null,null,null,null,null,null,null,{"$f":"IF(Sheet2!$A$53=TRUE,-1*(((O38-$G38)-(S38-$K38))/SQRT(((P38^2*(Q38-1))+(T38^2*(U38-1)))/(Q38+U38-2))),((O38-$G38)-(S38-$K38))/SQRT(((P38^2*(Q38-1))+(T38^2*(U38-1)))/(Q38+U38-2)))","v":{"$error":"#DIV/0!"}},{"$f":"IF(O38=\"\",\"\",V38)","v":""},{"$f":"IF(Q38=\"\",\"\",SQRT((Q38+U38)/(Q38*U38)+(W38^2/(2*(Q38+U38)))))","v":""},null,null,null,null,null,null,null,null,{"$f":"IF(Sheet2!$A$53=TRUE,-1*(((Z38-$G38)-(AD38-$K38))/SQRT(((AA38^2*(AB38-1))+(AE38^2*(AF38-1)))/(AB38+AF38-2))),((Z38-$G38)-(AD38-$K38))/SQRT(((AA38^2*(AB38-1))+(AE38^2*(AF38-1)))/(AB38+AF38-2)))","v":{"$error":"#DIV/0!"}},{"$f":"IF(Z38=\"\",\"\",AG38)","v":""},{"$f":"IF(AB38=\"\",\"\",SQRT((AB38+AF38)/(AB38*AF38)+(AH38^2/(2*(AB38+AF38)))))","v":""},null,null,null,null,null,null,null,null,{"$f":"IF(Sheet2!$A$53=TRUE,-1*(((AK38-$G38)-(AO38-$K38))/SQRT(((AL38^2*(AM38-1))+(AP38^2*(AQ38-1)))/(AM38+AQ38-2))),((AK38-$G38)-(AO38-$K38))/SQRT(((AL38^2*(AM38-1))+(AP38^2*(AQ38-1)))/(AM38+AQ38-2)))","v":{"$error":"#DIV/0!"}},{"$f":"IF(AK38=\"\",\"\",AR38)","v":""},{"$f":"IF(AM38=\"\",\"\",SQRT((AM38+AQ38)/(AM38*AQ38)+(AS38^2/(2*(AM38+AQ38)))))","v":""},null,null,null,null,null,null,null,null,{"$f":"IF(Sheet2!$A$53=TRUE,-1*(((AV38-$G38)-(AZ38-$K38))/SQRT(((AW38^2*(AX38-1))+(BA38^2*(BB38-1)))/(AX38+BB38-2))),((AV38-$G38)-(AZ38-$K38))/SQRT(((AW38^2*(AX38-1))+(BA38^2*(BB38-1)))/(AX38+BB38-2)))","v":{"$error":"#DIV/0!"}},{"$f":"IF(AV38=\"\",\"\",BC38)","v":""},{"$f":"IF(AX38=\"\",\"\",SQRT((AX38+BB38)/(AX38*BB38)+(BD38^2/(2*(AX38+BB38)))))","v":""},null,null,null,null,null,null,null,null,{"$f":"IF(Sheet2!$A$53=TRUE,-1*(((BG38-$G38)-(BK38-$K38))/SQRT(((BH38^2*(BI38-1))+(BL38^2*(BM38-1)))/(BI38+BM38-2))),((BG38-$G38)-(BK38-$K38))/SQRT(((BH38^2*(BI38-1))+(BL38^2*(BM38-1)))/(BI38+BM38-2)))","v":{"$error":"#DIV/0!"}},{"$f":"IF(BG38=\"\",\"\",BN38)","v":""},{"$f":"IF(BI38=\"\",\"\",SQRT((BI38+BM38)/(BI38*BM38)+(BO38^2/(2*(BI38+BM38)))))","v":""},null,null,null,null,null,null,null,null,{"$f":"IF(Sheet2!$A$53=TRUE,-1*(((BR38-$G38)-(BV38-$K38))/SQRT(((BS38^2*(BT38-1))+(BW38^2*(BX38-1)))/(BT38+BX38-2))),((BR38-$G38)-(BV38-$K38))/SQRT(((BS38^2*(BT38-1))+(BW38^2*(BX38-1)))/(BT38+BX38-2)))","v":{"$error":"#DIV/0!"}},{"$f":"IF(BR38=\"\",\"\",BY38)","v":""},{"$f":"IF(BT38=\"\",\"\",SQRT((BT38+BX38)/(BT38*BX38)+(BZ38^2/(2*(BT38+BX38)))))","v":""}]
[null,null,"Outcome 2:",null,null,null,null,null,null,null,null,null,null,null,null,null,null,null,null,null,null,{"$f":"IF(Sheet2!$A$54=TRUE,-1*(((O39-$G39)-(S39-$K39))/SQRT(((P39^2*(Q39-1))+(T39^2*(U39-1)))/(Q39+U39-2))),((O39-$G39)-(S39-$K39))/SQRT(((P39^2*(Q39-1))+(T39^2*(U39-1)))/(Q39+U39-2)))","v":{"$error":"#DIV/0!"}},{"$f":"IF(O39=\"\",\"\",V39)","v":""},{"$f":"IF(Q39=\"\",\"\",SQRT((Q39+U39)/(Q39*U39)+(W39^2/(2*(Q39+U39)))))","v":""},null,null,null,null,null,null,null,null,{"$f":"IF(Sheet2!$A$54=TRUE,-1*(((Z39-$G39)-(AD39-$K39))/SQRT(((AA39^2*(AB39-1))+(AE39^2*(AF39-1)))/(AB39+AF39-2))),((Z39-$G39)-(AD39-$K39))/SQRT(((AA39^2*(AB39-1))+(AE39^2*(AF39-1)))/(AB39+AF39-2)))","v":{"$error":"#DIV/0!"}},{"$f":"IF(Z39=\"\",\"\",AG39)","v":""},{"$f":"IF(AB39=\"\",\"\",SQRT((AB39+AF39)/(AB39*AF39)+(AH39^2/(2*(AB39+AF39)))))","v":""},null,null,null,null,null,null,null,null,{"$f":"IF(Sheet2!$A$54=TRUE,-1*(((AK39-$G39)-(AO39-$K39))/SQRT(((AL39^2*(AM39-1))+(AP39^2*(AQ39-1)))/(AM39+AQ39-2))),((AK39-$G39)-(AO39-$K39))/SQRT(((AL39^2*(AM39-1))+(AP39^2*(AQ39-1)))/(AM39+AQ39-2)))","v":{"$error":"#DIV/0!"}},{"$f":"IF(AK39=\"\",\"\",AR39)","v":""},{"$f":"IF(AM39=\"\",\"\",SQRT((AM39+AQ39)/(AM39*AQ39)+(AS39^2/(2*(AM39+AQ39)))))","v":""},null,null,null,null,null,null,null,null,{"$f":"IF(Sheet2!$A$54=TRUE,-1*(((AV39-$G39)-(AZ39-$K39))/SQRT(((AW39^2*(AX39-1))+(BA39^2*(BB39-1)))/(AX39+BB39-2))),((AV39-$G39)-(AZ39-$K39))/SQRT(((AW39^2*(AX39-1))+(BA39^2*(BB39-1)))/(AX39+BB39-2)))","v":{"$error":"#DIV/0!"}},{"$f":"IF(AV39=\"\",\"\",BC39)","v":""},{"$f":"IF(AX39=\"\",\"\",SQRT((AX39+BB39)/(AX39*BB39)+(BD39^2/(2*(AX39+BB39)))))","v":""},null,null,null,null,null,null,null,null,{"$f":"IF(Sheet2!$A$54=TRUE,-1*(((BG39-$G39)-(BK39-$K39))/SQRT(((BH39^2*(BI39-1))+(BL39^2*(BM39-1)))/(BI39+BM39-2))),((BG39-$G39)-(BK39-$K39))/SQRT(((BH39^2*(BI39-1))+(BL39^2*(BM39-1)))/(BI39+BM39-2)))","v":{"$error":"#DIV/0!"}},{"$f":"IF(BG39=\"\",\"\",BN39)","v":""},{"$f":"IF(BI39=\"\",\"\",SQRT((BI39+BM39)/(BI39*BM39)+(BO39^2/(2*(BI39+BM39)))))","v":""},null,null,null,null,null,null,null,null,{"$f":"IF(Sheet2!$A$54=TRUE,-1*(((BR39-$G39)-(BV39-$K39))/SQRT(((BS39^2*(BT39-1))+(BW39^2*(BX39-1)))/(BT39+BX39-2))),((BR39-$G39)-(BV39-$K39))/SQRT(((BS39^2*(BT39-1))+(BW39^2*(BX39-1)))/(BT39+BX39-2)))","v":{"$error":"#DIV/0!"}},{"$f":"IF(BR39=\"\",\"\",BY39)","v":""},{"$f":"IF(BT39=\"\",\"\",SQRT((BT39+BX39)/(BT39*BX39)+(BZ39^2/(2*(BT39+BX39)))))","v":""}]
[null,null,"Outcome 3:",null,null,null,null,null,null,null,null,null,null,null,null,null,null,null,null,null,null,{"$f":"IF(Sheet2!$A$55=TRUE,-1*(((O40-$G40)-(S40-$K40))/SQRT(((P40^2*(Q40-1))+(T40^2*(U40-1)))/(Q40+U40-2))),((O40-$G40)-(S40-$K40))/SQRT(((P40^2*(Q40-1))+(T40^2*(U40-1)))/(Q40+U40-2)))","v":{"$error":"#DIV/0!"}},{"$f":"IF(O40=\"\",\"\",V40)","v":""},"",null,null,null,null,null,null,null,null,{"$f":"IF(Sheet2!$A$55=TRUE,-1*(((Z40-$G40)-(AD40-$K40))/SQRT(((AA40^2*(AB40-1))+(AE40^2*(AF40-1)))/(AB40+AF40-2))),((Z40-$G40)-(AD40-$K40))/SQRT(((AA40^2*(AB40-1))+(AE40^2*(AF40-1)))/(AB40+AF40-2)))","v":{"$error":"#DIV/0!"}},{"$f":"IF(Z40=\"\",\"\",AG40)","v":""},"",null,null,null,null,null,null,null,null,{"$f":"IF(Sheet2!$A$55=TRUE,-1*(((AK40-$G40)-(AO40-$K40))/SQRT(((AL40^2*(AM40-1))+(AP40^2*(AQ40-1)))/(AM40+AQ40-2))),((AK40-$G40)-(AO40-$K40))/SQRT(((AL40^2*(AM40-1))+(AP40^2*(AQ40-1)))/(AM40+AQ40-2)))","v":{"$error":"#DIV/0!"}},{"$f":"IF(AK40=\"\",\"\",AR40)","v":""},"",null,null,null,null,null,null,null,null,{"$f":"IF(Sheet2!$A$55=TRUE,-1*(((AV40-$G40)-(AZ40-$K40))/SQRT(((AW40^2*(AX40-1))+(BA40^2*(BB40-1)))/(AX40+BB40-2))),((AV40-$G40)-(AZ40-$K40))/SQRT(((AW40^2*(AX40-1))+(BA40^2*(BB40-1)))/(AX40+BB40-2)))","v":{"$error":"#DIV/0!"}},{"$f":"IF(AV40=\"\",\"\",BC40)","v":""},"",null,null,null,null,null,null,null,null,{"$f":"IF(Sheet2!$A$55=TRUE,-1*(((BG40-$G40)-(BK40-$K40))/SQRT(((BH40^2*(BI40-1))+(BL40^2*(BM40-1)))/(BI40+BM40-2))),((BG40-$G40)-(BK40-$K40))/SQRT(((BH40^2*(BI40-1))+(BL40^2*(BM40-1)))/(BI40+BM40-2)))","v":{"$error":"#DIV/0!"}},{"$f":"IF(BG40=\"\",\"\",BN40)","v":""},"",null,null,null,null,null,null,null,null,{"$f":"IF(Sheet2!$A$55=TRUE,-1*(((BR40-$G40)-(BV40-$K40))/SQRT(((BS40^2*(BT40-1))+(BW40^2*(BX40-1)))/(BT40+BX40-2))),((BR40-$G40)-(BV40-$K40))/SQRT(((BS40^2*(BT40-1))+(BW40^2*(BX40-1)))/(BT40+BX40-2)))","v":{"$error":"#DIV/0!"}},{"$f":"IF(BR40=\"\",\"\",BY40)","v":""},""]
[null,null,"Outcome 4:",null,null,null,null,null,null,null,null,null,null,null,null,null,null,null,null,null,null,{"$f":"IF(Sheet2!$A$56=TRUE,-1*(((O41-$G41)-(S41-$K41))/SQRT(((P41^2*(Q41-1))+(T41^2*(U41-1)))/(Q41+U41-2))),((O41-$G41)-(S41-$K41))/SQRT(((P41^2*(Q41-1))+(T41^2*(U41-1)))/(Q41+U41-2)))","v":{"$error":"#DIV/0!"}},{"$f":"IF(O41=\"\",\"\",V41)","v":""},{"$f":"IF(Q41=\"\",\"\",SQRT((Q41+U41)/(Q41*U41)+(W41^2/(2*(Q41+U41)))))","v":""},null,null,null,null,null,null,null,null,{"$f":"IF(Sheet2!$A$56=TRUE,-1*(((Z41-$G41)-(AD41-$K41))/SQRT(((AA41^2*(AB41-1))+(AE41^2*(AF41-1)))/(AB41+AF41-2))),((Z41-$G41)-(AD41-$K41))/SQRT(((AA41^2*(AB41-1))+(AE41^2*(AF41-1)))/(AB41+AF41-2)))","v":{"$error":"#DIV/0!"}},{"$f":"IF(Z41=\"\",\"\",AG41)","v":""},{"$f":"IF(AB41=\"\",\"\",SQRT((AB41+AF41)/(AB41*AF41)+(AH41^2/(2*(AB41+AF41)))))","v":""},null,null,null,null,null,null,null,null,{"$f":"IF(Sheet2!$A$56=TRUE,-1*(((AK41-$G41)-(AO41-$K41))/SQRT(((AL41^2*(AM41-1))+(AP41^2*(AQ41-1)))/(AM41+AQ41-2))),((AK41-$G41)-(AO41-$K41))/SQRT(((AL41^2*(AM41-1))+(AP41^2*(AQ41-1)))/(AM41+AQ41-2)))","v":{"$error":"#DIV/0!"}},{"$f":"IF(AK41=\"\",\"\",AR41)","v":""},{"$f":"IF(AM41=\"\",\"\",SQRT((AM41+AQ41)/(AM41*AQ41)+(AS41^2/(2*(AM41+AQ41)))))","v":""},null,null,null,null,null,null,null,null,{"$f":"IF(Sheet2!$A$56=TRUE,-1*(((AV41-$G41)-(AZ41-$K41))/SQRT(((AW41^2*(AX41-1))+(BA41^2*(BB41-1)))/(AX41+BB41-2))),((AV41-$G41)-(AZ41-$K41))/SQRT(((AW41^2*(AX41-1))+(BA41^2*(BB41-1)))/(AX41+BB41-2)))","v":{"$error":"#DIV/0!"}},{"$f":"IF(AV41=\"\",\"\",BC41)","v":""},{"$f":"IF(AX41=\"\",\"\",SQRT((AX41+BB41)/(AX41*BB41)+(BD41^2/(2*(AX41+BB41)))))","v":""},null,null,null,null,null,null,null,null,{"$f":"IF(Sheet2!$A$56=TRUE,-1*(((BG41-$G41)-(BK41-$K41))/SQRT(((BH41^2*(BI41-1))+(BL41^2*(BM41-1)))/(BI41+BM41-2))),((BG41-$G41)-(BK41-$K41))/SQRT(((BH41^2*(BI41-1))+(BL41^2*(BM41-1)))/(BI41+BM41-2)))","v":{"$error":"#DIV/0!"}},{"$f":"IF(BG41=\"\",\"\",BN41)","v":""},{"$f":"IF(BI41=\"\",\"\",SQRT((BI41+BM41)/(BI41*BM41)+(BO41^2/(2*(BI41+BM41)))))","v":""},null,null,null,null,null,null,null,null,{"$f":"IF(Sheet2!$A$56=TRUE,-1*(((BR41-$G41)-(BV41-$K41))/SQRT(((BS41^2*(BT41-1))+(BW41^2*(BX41-1)))/(BT41+BX41-2))),((BR41-$G41)-(BV41-$K41))/SQRT(((BS41^2*(BT41-1))+(BW41^2*(BX41-1)))/(BT41+BX41-2)))","v":{"$error":"#DIV/0!"}},{"$f":"IF(BR41=\"\",\"\",BY41)","v":""},{"$f":"IF(BT41=\"\",\"\",SQRT((BT41+BX41)/(BT41*BX41)+(BZ41^2/(2*(BT41+BX41)))))","v":""}]
[null,null,"Outcome 5:",null,null,null,null,null,null,null,null,null,null,null,null,null,null,null,null,null,null,{"$f":"IF(Sheet2!$A$57=TRUE,-1*(((O42-$G42)-(S42-$K42))/SQRT(((P42^2*(Q42-1))+(T42^2*(U42-1)))/(Q42+U42-2))),((O42-$G42)-(S42-$K42))/SQRT(((P42^2*(Q42-1))+(T42^2*(U42-1)))/(Q42+U42-2)))","v":{"$error":"#DIV/0!"}},"","",null,null,null,null,null,null,null,null,{"$f":"IF(Sheet2!$A$57=TRUE,-1*(((Z42-$G42)-(AD42-$K42))/SQRT(((AA42^2*(AB42-1))+(AE42^2*(AF42-1)))/(AB42+AF42-2))),((Z42-$G42)-(AD42-$K42))/SQRT(((AA42^2*(AB42-1))+(AE42^2*(AF42-1)))/(AB42+AF42-2)))","v":{"$error":"#DIV/0!"}},"",{"$f":"IF(AB42=\"\",\"\",SQRT((AB42+AF42)/(AB42*AF42)+(AH42^2/(2*(AB42+AF42)))))","v":""},null,null,null,null,null,null,null,null,{"$f":"IF(Sheet2!$A$57=TRUE,-1*(((AK42-$G42)-(AO42-$K42))/SQRT(((AL42^2*(AM42-1))+(AP42^2*(AQ42-1)))/(AM42+AQ42-2))),((AK42-$G42)-(AO42-$K42))/SQRT(((AL42^2*(AM42-1))+(AP42^2*(AQ42-1)))/(AM42+AQ42-2)))","v":{"$error":"#DIV/0!"}},"",{"$f":"IF(AM42=\"\",\"\",SQRT((AM42+AQ42)/(AM42*AQ42)+(AS42^2/(2*(AM42+AQ42)))))","v":""},null,null,null,null,null,null,null,null,{"$f":"IF(Sheet2!$A$57=TRUE,-1*(((AV42-$G42)-(AZ42-$K42))/SQRT(((AW42^2*(AX42-1))+(BA42^2*(BB42-1)))/(AX42+BB42-2))),((AV42-$G42)-(AZ42-$K42))/SQRT(((AW42^2*(AX42-1))+(BA42^2*(BB42-1)))/(AX42+BB42-2)))","v":{"$error":"#DIV/0!"}},"",{"$f":"IF(AX42=\"\",\"\",SQRT((AX42+BB42)/(AX42*BB42)+(BD42^2/(2*(AX42+BB42)))))","v":""},null,null,null,null,null,null,null,null,{"$f":"IF(Sheet2!$A$57=TRUE,-1*(((BG42-$G42)-(BK42-$K42))/SQRT(((BH42^2*(BI42-1))+(BL42^2*(BM42-1)))/(BI42+BM42-2))),((BG42-$G42)-(BK42-$K42))/SQRT(((BH42^2*(BI42-1))+(BL42^2*(BM42-1)))/(BI42+BM42-2)))","v":{"$error":"#DIV/0!"}},"",{"$f":"IF(BI42=\"\",\"\",SQRT((BI42+BM42)/(BI42*BM42)+(BO42^2/(2*(BI42+BM42)))))","v":""},null,null,null,null,null,null,null,null,{"$f":"IF(Sheet2!$A$57=TRUE,-1*(((BR42-$G42)-(BV42-$K42))/SQRT(((BS42^2*(BT42-1))+(BW42^2*(BX42-1)))/(BT42+BX42-2))),((BR42-$G42)-(BV42-$K42))/SQRT(((BS42^2*(BT42-1))+(BW42^2*(BX42-1)))/(BT42+BX42-2)))","v":{"$error":"#DIV/0!"}},"",{"$f":"IF(BT42=\"\",\"\",SQRT((BT42+BX42)/(BT42*BX42)+(BZ42^2/(2*(BT42+BX42)))))","v":""}]
[null,null,"Processing Speed d",null,null,null,null,null,null,null,null,null,null,null,null,null,null,null,null,null,null,null,{"$f":"IF(W38=\"\",\"\",AVERAGE(W38:W42))","v":""},{"$f":"IF(X38=\"\",\"\",AVERAGE(X38:X42))","v":""},null,null,null,null,null,null,null,null,null,{"$f":"IF(AH38=\"\",\"\",AVERAGE(AH38:AH42))","v":""},{"$f":"IF(AI38=\"\",\"\",AVERAGE(AI38:AI42))","v":""},null,null,null,null,null,null,null,null,null,{"$f":"IF(AS38=\"\",\"\",AVERAGE(AS38:AS42))","v":""},{"$f":"IF(AT38=\"\",\"\",AVERAGE(AT38:AT42))","v":""},null,null,null,null,null,null,null,null,null,{"$f":"IF(BD38=\"\",\"\",AVERAGE(BD38:BD42))","v":""},{"$f":"IF(BE38=\"\",\"\",AVERAGE(BE38:BE42))","v":""},null,null,null,null,null,null,null,null,null,{"$f":"IF(BO38=\"\",\"\",AVERAGE(BO38:BO42))","v":""},{"$f":"IF(BP38=\"\",\"\",AVERAGE(BP38:BP42))","v":""},null,null,null,null,null,null,null,null,null,{"$f":"IF(BZ38=\"\",\"\",AVERAGE(BZ38:BZ42))","v":""},{"$f":"IF(CA38=\"\",\"\",AVERAGE(CA38:CA42))","v":""}]
[]
[null,null,"Executive Function","Test Name"]
[null,null,"Outcome 1:",null,null,null,null,null,null,null,null,null,null,null,null,null,null,null,null,null,null,{"$f":"IF(Sheet2!$A$61=TRUE,-1*(((O46-$G46)-(S46-$K46))/SQRT(((P46^2*(Q46-1))+(T46^2*(U46-1)))/(Q46+U46-2))),((O46-$G46)-(S46-$K46))/SQRT(((P46^2*(Q46-1))+(T46^2*(U46-1)))/(Q46+U46-2)))","v":{"$error":"#DIV/0!"}},{"$f":"IF(O46=\"\",\"\",V46)","v":""},{"$f":"IF(Q46=\"\",\"\",SQRT((Q46+U46)/(Q46*U46)+(W46^2/(2*(Q46+U46)))))","v":""},null,null,null,null,null,null,null,null,{"$f":"IF(Sheet2!$A$61=TRUE,-1*(((Z46-$G46)-(AD46-$K46))/SQRT(((AA46^2*(AB46-1))+(AE46^2*(AF46-1)))/(AB46+AF46-2))),((Z46-$G46)-(AD46-$K46))/SQRT(((AA46^2*(AB46-1))+(AE46^2*(AF46-1)))/(AB46+AF46-2)))","v":{"$error":"#DIV/0!"}},{"$f":"IF(Z46=\"\",\"\",AG46)","v":""},{"$f":"IF(AB46=\"\",\"\",SQRT((AB46+AF46)/(AB46*AF46)+(AH46^2/(2*(AB46+AF46)))))","v":""},null,null,null,null,null,null,null,null,{"$f":"IF(Sheet2!$A$61=TRUE,-1*(((AK46-$G46)-(AO46-$K46))/SQRT(((AL46^2*(AM46-1))+(AP46^2*(AQ46-1)))/(AM46+AQ46-2))),((AK46-$G46)-(AO46-$K46))/SQRT(((AL46^2*(AM46-1))+(AP46^2*(AQ46-1)))/(AM46+AQ46-2)))","v":{"$error":"#DIV/0!"}},{"$f":"IF(AK46=\"\",\"\",AR46)","v":""},{"$f":"IF(AM46=\"\",\"\",SQRT((AM46+AQ46)/(AM46*AQ46)+(AS46^2/(2*(AM46+AQ46)))))","v":""},null,null,null,null,null,null,null,null,{"$f":"IF(Sheet2!$A$61=TRUE,-1*(((AV46-$G46)-(AZ46-$K46))/SQRT(((AW46^2*(AX46-1))+(BA46^2*(BB46-1)))/(AX46+BB46-2))),((AV46-$G46)-(AZ46-$K46))/SQRT(((AW46^2*(AX46-1))+(BA46^2*(BB46-1)))/(AX46+BB46-2)))","v":{"$error":"#DIV/0!"}},{"$f":"IF(AV46=\"\",\"\",BC46)","v":""},{"$f":"IF(AX46=\"\",\"\",SQRT((AX46+BB46)/(AX46*BB46)+(BD46^2/(2*(AX46+BB46)))))","v":""},null,null,null,null,null,null,null,null,{"$f":"IF(Sheet2!$A$61=TRUE,-1*(((BG46-$G46)-(BK46-$K46))/SQRT(((BH46^2*(BI46-1))+(BL46^2*(BM46-1)))/(BI46+BM46-2))),((BG46-$G46)-(BK46-$K46))/SQRT(((BH46^2*(BI46-1))+(BL46^2*(BM46-1)))/(BI46+BM46-2)))","v":{"$error":"#DIV/0!"}},{"$f":"IF(BG46=\"\",\"\",BN46)","v":""},{"$f":"IF(BI46=\"\",\"\",SQRT((BI46+BM46)/(BI46*BM46)+(BO46^2/(2*(BI46+BM46)))))","v":""},null,null,null,null,null,null,null,null,{"$f":"IF(Sheet2!$A$61=TRUE,-1*(((BR46-$G46)-(BV46-$K46))/SQRT(((BS46^2*(BT46-1))+(BW46^2*(BX46-1)))/(BT46+BX46-2))),((BR46-$G46)-(BV46-$K46))/SQRT(((BS46^2*(BT46-1))+(BW46^2*(BX46-1)))/(BT46+BX46-2)))","v":{"$error":"#DIV/0!"}},{"$f":"IF(BR46=\"\",\"\",BY46)","v":""},{"$f":"IF(BT46=\"\",\"\",SQRT((BT46+BX46)/(BT46*BX46)+(BZ46^2/(2*(BT46+BX46)))))","v":""}]
[null,null,"Outcome 2:",null,null,null,null,null,null,null,null,null,null,null,null,null,null,null,null,null,null,{"$f":"IF(Sheet2!$A$62=TRUE,-1*(((O47-$G47)-(S47-$K47))/SQRT(((P47^2*(Q47-1))+(T47^2*(U47-1)))/(Q47+U47-2))),((O47-$G47)-(S47-$K47))/SQRT(((P47^2*(Q47-1))+(T47^2*(U47-1)))/(Q47+U47-2)))","v":{"$error":"#DIV/0!"}},{"$f":"IF(O47=\"\",\"\",V47)","v":""},{"$f":"IF(Q47=\"\",\"\",SQRT((Q47+U47)/(Q47*U47)+(W47^2/(2*(Q47+U47)))))","v":""},null,null,null,null,null,null,null,null,{"$f":"IF(Sheet2!$A$62=TRUE,-1*(((Z47-$G47)-(AD47-$K47))/SQRT(((AA47^2*(AB47-1))+(AE47^2*(AF47-1)))/(AB47+AF47-2))),((Z47-$G47)-(AD47-$K47))/SQRT(((AA47^2*(AB47-1))+(AE47^2*(AF47-1)))/(AB47+AF47-2)))","v":{"$error":"#DIV/0!"}},{"$f":"IF(Z47=\"\",\"\",AG47)","v":""},{"$f":"IF(AB47=\"\",\"\",SQRT((AB47+AF47)/(AB47*AF47)+(AH47^2/(2*(AB47+AF47)))))","v":""},null,null,null,null,null,null,null,null,{"$f":"IF(Sheet2!$A$62=TRUE,-1*(((AK47-$G47)-(AO47-$K47))/SQRT(((AL47^2*(AM47-1))+(AP47^2*(AQ47-1)))/(AM47+AQ47-2))),((AK47-$G47)-(AO47-$K47))/SQRT(((AL47^2*(AM47-1))+(AP47^2*(AQ47-1)))/(AM47+AQ47-2)))","v":{"$error":"#DIV/0!"}},{"$f":"IF(AK47=\"\",\"\",AR47)","v":""},{"$f":"IF(AM47=\"\",\"\",SQRT((AM47+AQ47)/(AM47*AQ47)+(AS47^2/(2*(AM47+AQ47)))))","v":""},null,null,null,null,null,null,null,null,{"$f":"IF(Sheet2!$A$62=TRUE,-1*(((AV47-$G47)-(AZ47-$K47))/SQRT(((AW47^2*(AX47-1))+(BA47^2*(BB47-1)))/(AX47+BB47-2))),((AV47-$G47)-(AZ47-$K47))/SQRT(((AW47^2*(AX47-1))+(BA47^2*(BB47-1)))/(AX47+BB47-2)))","v":{"$error":"#DIV/0!"}},{"$f":"IF(AV47=\"\",\"\",BC47)","v":""},{"$f":"IF(AX47=\"\",\"\",SQRT((AX47+BB47)/(AX47*BB47)+(BD47^2/(2*(AX47+BB47)))))","v":""},null,null,null,null,null,null,null,null,{"$f":"IF(Sheet2!$A$62=TRUE,-1*(((BG47-$G47)-(BK47-$K47))/SQRT(((BH47^2*(BI47-1))+(BL47^2*(BM47-1)))/(BI47+BM47-2))),((BG47-$G47)-(BK47-$K47))/SQRT(((BH47^2*(BI47-1))+(BL47^2*(BM47-1)))/(BI47+BM47-2)))","v":{"$error":"#DIV/0!"}},{"$f":"IF(BG47=\"\",\"\",BN47)","v":""},{"$f":"IF(BI47=\"\",\"\",SQRT((BI47+BM47)/(BI47*BM47)+(BO47^2/(2*(BI47+BM47)))))","v":""},null,null,null,null,null,null,null,null,{"$f":"IF(Sheet2!$A$62=TRUE,-1*(((BR47-$G47)-(BV47-$K47))/SQRT(((BS47^2*(BT47-1))+(BW47^2*(BX47-1)))/(BT47+BX47-2))),((BR47-$G47)-(BV47-$K47))/SQRT(((BS47^2*(BT47-1))+(BW47^2*(BX47-1)))/(BT47+BX47-2)))","v":{"$error":"#DIV/0!"}},{"$f":"IF(BR47=\"\",\"\",BY47)","v":""},{"$f":"IF(BT47=\"\",\"\",SQRT((BT47+BX47)/(BT47*BX47)+(BZ47^2/(2*(BT47+BX47)))))","v":""}]
[null,null,"Outcome 3:",null,null,null,null,null,null,null,null,null,null,null,null,null,null,null,null,null,null,{"$f":"IF(Sheet2!$A$63=TRUE,-1*(((O48-$G48)-(S48-$K48))/SQRT(((P48^2*(Q48-1))+(T48^2*(U48-1)))/(Q48+U48-2))),((O48-$G48)-(S48-$K48))/SQRT(((P48^2*(Q48-1))+(T48^2*(U48-1)))/(Q48+U48-2)))","v":{"$error":"#DIV/0!"}},{"$f":"IF(O48=\"\",\"\",V48)","v":""},"",null,null,null,null,null,null,null,null,{"$f":"IF(Sheet2!$A$63=TRUE,-1*(((Z48-$G48)-(AD48-$K48))/SQRT(((AA48^2*(AB48-1))+(AE48^2*(AF48-1)))/(AB48+AF48-2))),((Z48-$G48)-(AD48-$K48))/SQRT(((AA48^2*(AB48-1))+(AE48^2*(AF48-1)))/(AB48+AF48-2)))","v":{"$error":"#DIV/0!"}},{"$f":"IF(Z48=\"\",\"\",AG48)","v":""},"",null,null,null,null,null,null,null,null,{"$f":"IF(Sheet2!$A$63=TRUE,-1*(((AK48-$G48)-(AO48-$K48))/SQRT(((AL48^2*(AM48-1))+(AP48^2*(AQ48-1)))/(AM48+AQ48-2))),((AK48-$G48)-(AO48-$K48))/SQRT(((AL48^2*(AM48-1))+(AP48^2*(AQ48-1)))/(AM48+AQ48-2)))","v":{"$error":"#DIV/0!"}},{"$f":"IF(AK48=\"\",\"\",AR48)","v":""},"",null,null,null,null,null,null,null,null,{"$f":"IF(Sheet2!$A$63=TRUE,-1*(((AV48-$G48)-(AZ48-$K48))/SQRT(((AW48^2*(AX48-1))+(BA48^2*(BB48-1)))/(AX48+BB48-2))),((AV48-$G48)-(AZ48-$K48))/SQRT(((AW48^2*(AX48-1))+(BA48^2*(BB48-1)))/(AX48+BB48-2)))","v":{"$error":"#DIV/0!"}},{"$f":"IF(AV48=\"\",\"\",BC48)","v":""},"",null,null,null,null,null,null,null,null,{"$f":"IF(Sheet2!$A$63=TRUE,-1*(((BG48-$G48)-(BK48-$K48))/SQRT(((BH48^2*(BI48-1))+(BL48^2*(BM48-1)))/(BI48+BM48-2))),((BG48-$G48)-(BK48-$K48))/SQRT(((BH48^2*(BI48-1))+(BL48^2*(BM48-1)))/(BI48+BM48-2)))","v":{"$error":"#DIV/0!"}},{"$f":"IF(BG48=\"\",\"\",BN48)","v":""},"",null,null,null,null,null,null,null,null,{"$f":"IF(Sheet2!$A$63=TRUE,-1*(((BR48-$G48)-(BV48-$K48))/SQRT(((BS48^2*(BT48-1))+(BW48^2*(BX48-1)))/(BT48+BX48-2))),((BR48-$G48)-(BV48-$K48))/SQRT(((BS48^2*(BT48-1))+(BW48^2*(BX48-1)))/(BT48+BX48-2)))","v":{"$error":"#DIV/0!"}},{"$f":"IF(BR48=\"\",\"\",BY48)","v":""},""]
[null,null,"Outcome 4:",null,null,null,null,null,null,null,null,null,null,null,null,null,null,null,null,null,null,{"$f":"IF(Sheet2!$A$64=TRUE,-1*(((O49-$G49)-(S49-$K49))/SQRT(((P49^2*(Q49-1))+(T49^2*(U49-1)))/(Q49+U49-2))),((O49-$G49)-(S49-$K49))/SQRT(((P49^2*(Q49-1))+(T49^2*(U49-1)))/(Q49+U49-2)))","v":{"$error":"#DIV/0!"}},{"$f":"IF(O49=\"\",\"\",V49)","v":""},{"$f":"IF(Q49=\"\",\"\",SQRT((Q49+U49)/(Q49*U49)+(W49^2/(2*(Q49+U49)))))","v":""},null,null,null,null,null,null,null,null,{"$f":"IF(Sheet2!$A$64=TRUE,-1*(((Z49-$G49)-(AD49-$K49))/SQRT(((AA49^2*(AB49-1))+(AE49^2*(AF49-1)))/(AB49+AF49-2))),((Z49-$G49)-(AD49-$K49))/SQRT(((AA49^2*(AB49-1))+(AE49^2*(AF49-1)))/(AB49+AF49-2)))","v":{"$error":"#DIV/0!"}},{"$f":"IF(Z49=\"\",\"\",AG49)","v":""},{"$f":"IF(AB49=\"\",\"\",SQRT((AB49+AF49)/(AB49*AF49)+(AH49^2/(2*(AB49+AF49)))))","v":""},null,null,null,null,null,null,null,null,{"$f":"IF(Sheet2!$A$64=TRUE,-1*(((AK49-$G49)-(AO49-$K49))/SQRT(((AL49^2*(AM49-1))+(AP49^2*(AQ49-1)))/(AM49+AQ49-2))),((AK49-$G49)-(AO49-$K49))/SQRT(((AL49^2*(AM49-1))+(AP49^2*(AQ49-1)))/(AM49+AQ49-2)))","v":{"$error":"#DIV/0!"}},{"$f":"IF(AK49=\"\",\"\",AR49)","v":""},{"$f":"IF(AM49=\"\",\"\",SQRT((AM49+AQ49)/(AM49*AQ49)+(AS49^2/(2*(AM49+AQ49)))))","v":""},null,null,null,null,null,null,null,null,{"$f":"IF(Sheet2!$A$64=TRUE,-1*(((AV49-$G49)-(AZ49-$K49))/SQRT(((AW49^2*(AX49-1))+(BA49^2*(BB49-1)))/(AX49+BB49-2))),((AV49-$G49)-(AZ49-$K49))/SQRT(((AW49^2*(AX49-1))+(BA49^2*(BB49-1)))/(AX49+BB49-2)))","v":{"$error":"#DIV/0!"}},{"$f":"IF(AV49=\"\",\"\",BC49)","v":""},{"$f":"IF(AX49=\"\",\"\",SQRT((AX49+BB49)/(AX49*BB49)+(BD49^2/(2*(AX49+BB49)))))","v":""},null,null,null,null,null,null,null,null,{"$f":"IF(Sheet2!$A$64=TRUE,-1*(((BG49-$G49)-(BK49-$K49))/SQRT(((BH49^2*(BI49-1))+(BL49^2*(BM49-1)))/(BI49+BM49-2))),((BG49-$G49)-(BK49-$K49))/SQRT(((BH49^2*(BI49-1))+(BL49^2*(BM49-1)))/(BI49+BM49-2)))","v":{"$error":"#DIV/0!"}},{"$f":"IF(BG49=\"\",\"\",BN49)","v":""},{"$f":"IF(BI49=\"\",\"\",SQRT((BI49+BM49)/(BI49*BM49)+(BO49^2/(2*(BI49+BM49)))))","v":""},null,null,null,null,null,null,null,null,{"$f":"IF(Sheet2!$A$64=TRUE,-1*(((BR49-$G49)-(BV49-$K49))/SQRT(((BS49^2*(BT49-1))+(BW49^2*(BX49-1)))/(BT49+BX49-2))),((BR49-$G49)-(BV49-$K49))/SQRT(((BS49^2*(BT49-1))+(BW49^2*(BX49-1)))/(BT49+BX49-2)))","v":{"$error":"#DIV/0!"}},{"$f":"IF(BR49=\"\",\"\",BY49)","v":""},{"$f":"IF(BT49=\"\",\"\",SQRT((BT49+BX49)/(BT49*BX49)+(BZ49^2/(2*(BT49+BX49)))))","v":""}]
[null,null,"Outcome 5:",null,null,null,null,null,null,null,null,null,null,null,null,null,null,null,null,null,null,{"$f":"IF(Sheet2!$A$65=TRUE,-1*(((O50-$G50)-(S50-$K50))/SQRT(((P50^2*(Q50-1))+(T50^2*(U50-1)))/(Q50+U50-2))),((O50-$G50)-(S50-$K50))/SQRT(((P50^2*(Q50-1))+(T50^2*(U50-1)))/(Q50+U50-2)))","v":{"$error":"#DIV/0!"}},"","",null,null,null,null,null,null,null,null,{"$f":"IF(Sheet2!$A$65=TRUE,-1*(((Z50-$G50)-(AD50-$K50))/SQRT(((AA50^2*(AB50-1))+(AE50^2*(AF50-1)))/(AB50+AF50-2))),((Z50-$G50)-(AD50-$K50))/SQRT(((AA50^2*(AB50-1))+(AE50^2*(AF50-1)))/(AB50+AF50-2)))","v":{"$error":"#DIV/0!"}},"",{"$f":"IF(AB50=\"\",\"\",SQRT((AB50+AF50)/(AB50*AF50)+(AH50^2/(2*(AB50+AF50)))))","v":""},null,null,null,null,null,null,null,null,{"$f":"IF(Sheet2!$A$65=TRUE,-1*(((AK50-$G50)-(AO50-$K50))/SQRT(((AL50^2*(AM50-1))+(AP50^2*(AQ50-1)))/(AM50+AQ50-2))),((AK50-$G50)-(AO50-$K50))/SQRT(((AL50^2*(AM50-1))+(AP50^2*(AQ50-1)))/(AM50+AQ50-2)))","v":{"$error":"#DIV/0!"}},"",{"$f":"IF(AM50=\"\",\"\",SQRT((AM50+AQ50)/(AM50*AQ50)+(AS50^2/(2*(AM50+AQ50)))))","v":""},null,null,null,null,null,null,null,null,{"$f":"IF(Sheet2!$A$65=TRUE,-1*(((AV50-$G50)-(AZ50-$K50))/SQRT(((AW50^2*(AX50-1))+(BA50^2*(BB50-1)))/(AX50+BB50-2))),((AV50-$G50)-(AZ50-$K50))/SQRT(((AW50^2*(AX50-1))+(BA50^2*(BB50-1)))/(AX50+BB50-2)))","v":{"$error":"#DIV/0!"}},"",{"$f":"IF(AX50=\"\",\"\",SQRT((AX50+BB50)/(AX50*BB50)+(BD50^2/(2*(AX50+BB50)))))","v":""},null,null,null,null,null,null,null,null,{"$f":"IF(Sheet2!$A$65=TRUE,-1*(((BG50-$G50)-(BK50-$K50))/SQRT(((BH50^2*(BI50-1))+(BL50^2*(BM50-1)))/(BI50+BM50-2))),((BG50-$G50)-(BK50-$K50))/SQRT(((BH50^2*(BI50-1))+(BL50^2*(BM50-1)))/(BI50+BM50-2)))","v":{"$error":"#DIV/0!"}},"",{"$f":"IF(BI50=\"\",\"\",SQRT((BI50+BM50)/(BI50*BM50)+(BO50^2/(2*(BI50+BM50)))))","v":""},null,null,null,null,null,null,null,null,{"$f":"IF(Sheet2!$A$65=TRUE,-1*(((BR50-$G50)-(BV50-$K50))/SQRT(((BS50^2*(BT50-1))+(BW50^2*(BX50-1)))/(BT50+BX50-2))),((BR50-$G50)-(BV50-$K50))/SQRT(((BS50^2*(BT50-1))+(BW50^2*(BX50-1)))/(BT50+BX50-2)))","v":{"$error":"#DIV/0!"}},"",{"$f":"IF(BT50=\"\",\"\",SQRT((BT50+BX50)/(BT50*BX50)+(BZ50^2/(2*(BT50+BX50)))))","v":""}]
[null,null,"Executive Function d",null,null,null,null,null,null,null,null,null,null,null,null,null,null,null,null,null,null,null,{"$f":"IF(W46=\"\",\"\",AVERAGE(W46:W50))","v":""},{"$f":"IF(X46=\"\",\"\",AVERAGE(X46:X50))","v":""},null,null,null,null,null,null,null,null,null,{"$f":"IF(AH46=\"\",\"\",AVERAGE(AH46:AH50))","v":""},{"$f":"IF(AI46=\"\",\"\",AVERAGE(AI46:AI50))","v":""},null,null,null,null,null,null,null,null,null,{"$f":"IF(AS46=\"\",\"\",AVERAGE(AS46:AS50))","v":""},{"$f":"IF(AT46=\"\",\"\",AVERAGE(AT46:AT50))","v":""},null,null,null,null,null,null,null,null,null,{"$f":"IF(BD46=\"\",\"\",AVERAGE(BD46:BD50))","v":""},{"$f":"IF(BE46=\"\",\"\",AVERAGE(BE46:BE50))","v":""},null,null,null,null,null,null,null,null,null,{"$f":"IF(BO46=\"\",\"\",AVERAGE(BO46:BO50))","v":""},{"$f":"IF(BP46=\"\",\"\",AVERAGE(BP46:BP50))","v":""},null,null,null,null,null,null,null,null,null,{"$f":"IF(BZ46=\"\",\"\",AVERAGE(BZ46:BZ50))","v":""},{"$f":"IF(CA46=\"\",\"\",AVERAGE(CA46:CA50))","v":""}]
[]
[null,null,"Immediate Memory","Test Name"]
[null,null,"Outcome 1:",null,null,null,null,null,null,null,null,null,null,null,null,null,null,null,null,null,null,{"$f":"IF(Sheet2!$A$69=TRUE,-1*(((O54-$G54)-(S54-$K54))/SQRT(((P54^2*(Q54-1))+(T54^2*(U54-1)))/(Q54+U54-2))),((O54-$G54)-(S54-$K54))/SQRT(((P54^2*(Q54-1))+(T54^2*(U54-1)))/(Q54+U54-2)))","v":{"$error":"#DIV/0!"}},{"$f":"IF(O54=\"\",\"\",V54)","v":""},{"$f":"IF(Q54=\"\",\"\",SQRT((Q54+U54)/(Q54*U54)+(W54^2/(2*(Q54+U54)))))","v":""},null,null,null,null,null,null,null,null,{"$f":"IF(Sheet2!$A$69=TRUE,-1*(((Z54-$G54)-(AD54-$K54))/SQRT(((AA54^2*(AB54-1))+(AE54^2*(AF54-1)))/(AB54+AF54-2))),((Z54-$G54)-(AD54-$K54))/SQRT(((AA54^2*(AB54-1))+(AE54^2*(AF54-1)))/(AB54+AF54-2)))","v":{"$error":"#DIV/0!"}},{"$f":"IF(Z54=\"\",\"\",AG54)","v":""},{"$f":"IF(AB54=\"\",\"\",SQRT((AB54+AF54)/(AB54*AF54)+(AH54^2/(2*(AB54+AF54)))))","v":""},null,null,null,null,null,null,null,null,{"$f":"IF(Sheet2!$A$69=TRUE,-1*(((AK54-$G54)-(AO54-$K54))/SQRT(((AL54^2*(AM54-1))+(AP54^2*(AQ54-1)))/(AM54+AQ54-2))),((AK54-$G54)-(AO54-$K54))/SQRT(((AL54^2*(AM54-1))+(AP54^2*(AQ54-1)))/(AM54+AQ54-2)))","v":{"$error":"#DIV/0!"}},{"$f":"IF(AK54=\"\",\"\",AR54)","v":""},{"$f":"IF(AM54=\"\",\"\",SQRT((AM54+AQ54)/(AM54*AQ54)+(AS54^2/(2*(AM54+AQ54)))))","v":""},null,null,null,null,null,null,null,null,{"$f":"IF(Sheet2!$A$69=TRUE,-1*(((AV54-$G54)-(AZ54-$K54))/SQRT(((AW54^2*(AX54-1))+(BA54^2*(BB54-1)))/(AX54+BB54-2))),((AV54-$G54)-(AZ54-$K54))/SQRT(((AW54^2*(AX54-1))+(BA54^2*(BB54-1)))/(AX54+BB54-2)))","v":{"$error":"#DIV/0!"}},{"$f":"IF(AV54=\"\",\"\",BC54)","v":""},{"$f":"IF(AX54=\"\",\"\",SQRT((AX54+BB54)/(AX54*BB54)+(BD54^2/(2*(AX54+BB54)))))","v":""},null,null,null,null,null,null,null,null,{"$f":"IF(Sheet2!$A$69=TRUE,-1*(((BG54-$G54)-(BK54-$K54))/SQRT(((BH54^2*(BI54-1))+(BL54^2*(BM54-1)))/(BI54+BM54-2))),((BG54-$G54)-(BK54-$K54))/SQRT(((BH54^2*(BI54-1))+(BL54^2*(BM54-1)))/(BI54+BM54-2)))","v":{"$error":"#DIV/0!"}},{"$f":"IF(BG54=\"\",\"\",BN54)","v":""},{"$f":"IF(BI54=\"\",\"\",SQRT((BI54+BM54)/(BI54*BM54)+(BO54^2/(2*(BI54+BM54)))))","v":""},null,null,null,null,null,null,null,null,{"$f":"IF(Sheet2!$A$69=TRUE,-1*(((BR54-$G54)-(BV54-$K54))/SQRT(((BS54^2*(BT54-1))+(BW54^2*(BX54-1)))/(BT54+BX54-2))),((BR54-$G54)-(BV54-$K54))/SQRT(((BS54^2*(BT54-1))+(BW54^2*(BX54-1)))/(BT54+BX54-2)))","v":{"$error":"#DIV/0!"}},{"$f":"IF(BR54=\"\",\"\",BY54)","v":""},{"$f":"IF(BT54=\"\",\"\",SQRT((BT54+BX54)/(BT54*BX54)+(BZ54^2/(2*(BT54+BX54)))))","v":""}]
[null,null,"Outcome 2:",null,null,null,null,null,null,null,null,null,null,null,null,null,null,null,null,null,null,{"$f":"IF(Sheet2!$A$70=TRUE,-1*(((O55-$G55)-(S55-$K55))/SQRT(((P55^2*(Q55-1))+(T55^2*(U55-1)))/(Q55+U55-2))),((O55-$G55)-(S55-$K55))/SQRT(((P55^2*(Q55-1))+(T55^2*(U55-1)))/(Q55+U55-2)))","v":{"$error":"#DIV/0!"}},{"$f":"IF(O55=\"\",\"\",V55)","v":""},{"$f":"IF(Q55=\"\",\"\",SQRT((Q55+U55)/(Q55*U55)+(W55^2/(2*(Q55+U55)))))","v":""},null,null,null,null,null,null,null,null,{"$f":"IF(Sheet2!$A$70=TRUE,-1*(((Z55-$G55)-(AD55-$K55))/SQRT(((AA55^2*(AB55-1))+(AE55^2*(AF55-1)))/(AB55+AF55-2))),((Z55-$G55)-(AD55-$K55))/SQRT(((AA55^2*(AB55-1))+(AE55^2*(AF55-1)))/(AB55+AF55-2)))","v":{"$error":"#DIV/0!"}},{"$f":"IF(Z55=\"\",\"\",AG55)","v":""},{"$f":"IF(AB55=\"\",\"\",SQRT((AB55+AF55)/(AB55*AF55)+(AH55^2/(2*(AB55+AF55)))))","v":""},null,null,null,null,null,null,null,null,{"$f":"IF(Sheet2!$A$70=TRUE,-1*(((AK55-$G55)-(AO55-$K55))/SQRT(((AL55^2*(AM55-1))+(AP55^2*(AQ55-1)))/(AM55+AQ55-2))),((AK55-$G55)-(AO55-$K55))/SQRT(((AL55^2*(AM55-1))+(AP55^2*(AQ55-1)))/(AM55+AQ55-2)))","v":{"$error":"#DIV/0!"}},{"$f":"IF(AK55=\"\",\"\",AR55)","v":""},{"$f":"IF(AM55=\"\",\"\",SQRT((AM55+AQ55)/(AM55*AQ55)+(AS55^2/(2*(AM55+AQ55)))))","v":""},null,null,null,null,null,null,null,null,{"$f":"IF(Sheet2!$A$70=TRUE,-1*(((AV55-$G55)-(AZ55-$K55))/SQRT(((AW55^2*(AX55-1))+(BA55^2*(BB55-1)))/(AX55+BB55-2))),((AV55-$G55)-(AZ55-$K55))/SQRT(((AW55^2*(AX55-1))+(BA55^2*(BB55-1)))/(AX55+BB55-2)))","v":{"$error":"#DIV/0!"}},{"$f":"IF(AV55=\"\",\"\",BC55)","v":""},{"$f":"IF(AX55=\"\",\"\",SQRT((AX55+BB55)/(AX55*BB55)+(BD55^2/(2*(AX55+BB55)))))","v":""},null,null,null,null,null,null,null,null,{"$f":"IF(Sheet2!$A$70=TRUE,-1*(((BG55-$G55)-(BK55-$K55))/SQRT(((BH55^2*(BI55-1))+(BL55^2*(BM55-1)))/(BI55+BM55-2))),((BG55-$G55)-(BK55-$K55))/SQRT(((BH55^2*(BI55-1))+(BL55^2*(BM55-1)))/(BI55+BM55-2)))","v":{"$error":"#DIV/0!"}},{"$f":"IF(BG55=\"\",\"\",BN55)","v":""},{"$f":"IF(BI55=\"\",\"\",SQRT((BI55+BM55)/(BI55*BM55)+(BO55^2/(2*(BI55+BM55)))))","v":""},null,null,null,null,null,null,null,null,{"$f":"IF(Sheet2!$A$70=TRUE,-1*(((BR55-$G55)-(BV55-$K55))/SQRT(((BS55^2*(BT55-1))+(BW55^2*(BX55-1)))/(BT55+BX55-2))),((BR55-$G55)-(BV55-$K55))/SQRT(((BS55^2*(BT55-1))+(BW55^2*(BX55-1)))/(BT55+BX55-2)))","v":{"$error":"#DIV/0!"}},{"$f":"IF(BR55=\"\",\"\",BY55)","v":""},{"$f":"IF(BT55=\"\",\"\",SQRT((BT55+BX55)/(BT55*BX55)+(BZ55^2/(2*(BT55+BX55)))))","v":""}]
[null,null,"Outcome 3:",null,null,null,null,null,null,null,null,null,null,null,null,null,null,null,null,null,null,{"$f":"IF(Sheet2!$A$71=TRUE,-1*(((O56-$G56)-(S56-$K56))/SQRT(((P56^2*(Q56-1))+(T56^2*(U56-1)))/(Q56+U56-2))),((O56-$G56)-(S56-$K56))/SQRT(((P56^2*(Q56-1))+(T56^2*(U56-1)))/(Q56+U56-2)))","v":{"$error":"#DIV/0!"}},{"$f":"IF(O56=\"\",\"\",V56)","v":""},"",null,null,null,null,null,null,null,null,{"$f":"IF(Sheet2!$A$71=TRUE,-1*(((Z56-$G56)-(AD56-$K56))/SQRT(((AA56^2*(AB56-1))+(AE56^2*(AF56-1)))/(AB56+AF56-2))),((Z56-$G56)-(AD56-$K56))/SQRT(((AA56^2*(AB56-1))+(AE56^2*(AF56-1)))/(AB56+AF56-2)))","v":{"$error":"#DIV/0!"}},{"$f":"IF(Z56=\"\",\"\",AG56)","v":""},"",null,null,null,null,null,null,null,null,{"$f":"IF(Sheet2!$A$71=TRUE,-1*(((AK56-$G56)-(AO56-$K56))/SQRT(((AL56^2*(AM56-1))+(AP56^2*(AQ56-1)))/(AM56+AQ56-2))),((AK56-$G56)-(AO56-$K56))/SQRT(((AL56^2*(AM56-1))+(AP56^2*(AQ56-1)))/(AM56+AQ56-2)))","v":{"$error":"#DIV/0!"}},{"$f":"IF(AK56=\"\",\"\",AR56)","v":""},"",null,null,null,null,null,null,null,null,{"$f":"IF(Sheet2!$A$71=TRUE,-1*(((AV56-$G56)-(AZ56-$K56))/SQRT(((AW56^2*(AX56-1))+(BA56^2*(BB56-1)))/(AX56+BB56-2))),((AV56-$G56)-(AZ56-$K56))/SQRT(((AW56^2*(AX56-1))+(BA56^2*(BB56-1)))/(AX56+BB56-2)))","v":{"$error":"#DIV/0!"}},{"$f":"IF(AV56=\"\",\"\",BC56)","v":""},"",null,null,null,null,null,null,null,null,{"$f":"IF(Sheet2!$A$71=TRUE,-1*(((BG56-$G56)-(BK56-$K56))/SQRT(((BH56^2*(BI56-1))+(BL56^2*(BM56-1)))/(BI56+BM56-2))),((BG56-$G56)-(BK56-$K56))/SQRT(((BH56^2*(BI56-1))+(BL56^2*(BM56-1)))/(BI56+BM56-2)))","v":{"$error":"#DIV/0!"}},{"$f":"IF(BG56=\"\",\"\",BN56)","v":""},"",null,null,null,null,null,null,null,null,{"$f":"IF(Sheet2!$A$71=TRUE,-1*(((BR56-$G56)-(BV56-$K56))/SQRT(((BS56^2*(BT56-1))+(BW56^2*(BX56-1)))/(BT56+BX56-2))),((BR56-$G56)-(BV56-$K56))/SQRT(((BS56^2*(BT56-1))+(BW56^2*(BX56-1)))/(BT56+BX56-2)))","v":{"$error":"#DIV/0!"}},{"$f":"IF(BR56=\"\",\"\",BY56)","v":""},""]
[null,null,"Outcome 4:",null,null,null,null,null,null,null,null,null,null,null,null,null,null,null,null,null,null,{"$f":"IF(Sheet2!$A$72=TRUE,-1*(((O57-$G57)-(S57-$K57))/SQRT(((P57^2*(Q57-1))+(T57^2*(U57-1)))/(Q57+U57-2))),((O57-$G57)-(S57-$K57))/SQRT(((P57^2*(Q57-1))+(T57^2*(U57-1)))/(Q57+U57-2)))","v":{"$error":"#DIV/0!"}},{"$f":"IF(O57=\"\",\"\",V57)","v":""},{"$f":"IF(Q57=\"\",\"\",SQRT((Q57+U57)/(Q57*U57)+(W57^2/(2*(Q57+U57)))))","v":""},null,null,null,null,null,null,null,null,{"$f":"IF(Sheet2!$A$72=TRUE,-1*(((Z57-$G57)-(AD57-$K57))/SQRT(((AA57^2*(AB57-1))+(AE57^2*(AF57-1)))/(AB57+AF57-2))),((Z57-$G57)-(AD57-$K57))/SQRT(((AA57^2*(AB57-1))+(AE57^2*(AF57-1)))/(AB57+AF57-2)))","v":{"$error":"#DIV/0!"}},{"$f":"IF(Z57=\"\",\"\",AG57)","v":""},{"$f":"IF(AB57=\"\",\"\",SQRT((AB57+AF57)/(AB57*AF57)+(AH57^2/(2*(AB57+AF57)))))","v":""},null,null,null,null,null,null,null,null,{"$f":"IF(Sheet2!$A$72=TRUE,-1*(((AK57-$G57)-(AO57-$K57))/SQRT(((AL57^2*(AM57-1))+(AP57^2*(AQ57-1)))/(AM57+AQ57-2))),((AK57-$G57)-(AO57-$K57))/SQRT(((AL57^2*(AM57-1))+(AP57^2*(AQ57-1)))/(AM57+AQ57-2)))","v":{"$error":"#DIV/0!"}},{"$f":"IF(AK57=\"\",\"\",AR57)","v":""},{"$f":"IF(AM57=\"\",\"\",SQRT((AM57+AQ57)/(AM57*AQ57)+(AS57^2/(2*(AM57+AQ57)))))","v":""},null,null,null,null,null,null,null,null,{"$f":"IF(Sheet2!$A$72=TRUE,-1*(((AV57-$G57)-(AZ57-$K57))/SQRT(((AW57^2*(AX57-1))+(BA57^2*(BB57-1)))/(AX57+BB57-2))),((AV57-$G57)-(AZ57-$K57))/SQRT(((AW57^2*(AX57-1))+(BA57^2*(BB57-1)))/(AX57+BB57-2)))","v":{"$error":"#DIV/0!"}},{"$f":"IF(AV57=\"\",\"\",BC57)","v":""},{"$f":"IF(AX57=\"\",\"\",SQRT((AX57+BB57)/(AX57*BB57)+(BD57^2/(2*(AX57+BB57)))))","v":""},null,null,null,null,null,null,null,null,{"$f":"IF(Sheet2!$A$72=TRUE,-1*(((BG57-$G57)-(BK57-$K57))/SQRT(((BH57^2*(BI57-1))+(BL57^2*(BM57-1)))/(BI57+BM57-2))),((BG57-$G57)-(BK57-$K57))/SQRT(((BH57^2*(BI57-1))+(BL57^2*(BM57-1)))/(BI57+BM57-2)))","v":{"$error":"#DIV/0!"}},{"$f":"IF(BG57=\"\",\"\",BN57)","v":""},{"$f":"IF(BI57=\"\",\"\",SQRT((BI57+BM57)/(BI57*BM57)+(BO57^2/(2*(BI57+BM57)))))","v":""},null,null,null,null,null,null,null,null,{"$f":"IF(Sheet2!$A$72=TRUE,-1*(((BR57-$G57)-(BV57-$K57))/SQRT(((BS57^2*(BT57-1))+(BW57^2*(BX57-1)))/(BT57+BX57-2))),((BR57-$G57)-(BV57-$K57))/SQRT(((BS57^2*(BT57-1))+(BW57^2*(BX57-1)))/(BT57+BX57-2)))","v":{"$error":"#DIV/0!"}},{"$f":"IF(BR57=\"\",\"\",BY57)","v":""},{"$f":"IF(BT57=\"\",\"\",SQRT((BT57+BX57)/(BT57*BX57)+(BZ57^2/(2*(BT57+BX57)))))","v":""}]
[null,null,"Outcome 5:",null,null,null,null,null,null,null,null,null,null,null,null,null,null,null,null,null,null,{"$f":"IF(Sheet2!$A$73=TRUE,-1*(((O58-$G58)-(S58-$K58))/SQRT(((P58^2*(Q58-1))+(T58^2*(U58-1)))/(Q58+U58-2))),((O58-$G58)-(S58-$K58))/SQRT(((P58^2*(Q58-1))+(T58^2*(U58-1)))/(Q58+U58-2)))","v":{"$error":"#DIV/0!"}},"","",null,null,null,null,null,null,null,null,{"$f":"IF(Sheet2!$A$73=TRUE,-1*(((Z58-$G58)-(AD58-$K58))/SQRT(((AA58^2*(AB58-1))+(AE58^2*(AF58-1)))/(AB58+AF58-2))),((Z58-$G58)-(AD58-$K58))/SQRT(((AA58^2*(AB58-1))+(AE58^2*(AF58-1)))/(AB58+AF58-2)))","v":{"$error":"#DIV/0!"}},"",{"$f":"IF(AB58=\"\",\"\",SQRT((AB58+AF58)/(AB58*AF58)+(AH58^2/(2*(AB58+AF58)))))","v":""},null,null,null,null,null,null,null,null,{"$f":"IF(Sheet2!$A$73=TRUE,-1*(((AK58-$G58)-(AO58-$K58))/SQRT(((AL58^2*(AM58-1))+(AP58^2*(AQ58-1)))/(AM58+AQ58-2))),((AK58-$G58)-(AO58-$K58))/SQRT(((AL58^2*(AM58-1))+(AP58^2*(AQ58-1)))/(AM58+AQ58-2)))","v":{"$error":"#DIV/0!"}},"",{"$f":"IF(AM58=\"\",\"\",SQRT((AM58+AQ58)/(AM58*AQ58)+(AS58^2/(2*(AM58+AQ58)))))","v":""},null,null,null,null,null,null,null,null,{"$f":"IF(Sheet2!$A$73=TRUE,-1*(((AV58-$G58)-(AZ58-$K58))/SQRT(((AW58^2*(AX58-1))+(BA58^2*(BB58-1)))/(AX58+BB58-2))),((AV58-$G58)-(AZ58-$K58))/SQRT(((AW58^2*(AX58-1))+(BA58^2*(BB58-1)))/(AX58+BB58-2)))","v":{"$error":"#DIV/0!"}},"",{"$f":"IF(AX58=\"\",\"\",SQRT((AX58+BB58)/(AX58*BB58)+(BD58^2/(2*(AX58+BB58)))))","v":""},null,null,null,null,null,null,null,null,{"$f":"IF(Sheet2!$A$73=TRUE,-1*(((BG58-$G58)-(BK58-$K58))/SQRT(((BH58^2*(BI58-1))+(BL58^2*(BM58-1)))/(BI58+BM58-2))),((BG58-$G58)-(BK58-$K58))/SQRT(((BH58^2*(BI58-1))+(BL58^2*(BM58-1)))/(BI58+BM58-2)))","v":{"$error":"#DIV/0!"}},"",{"$f":"IF(BI58=\"\",\"\",SQRT((BI58+BM58)/(BI58*BM58)+(BO58^2/(2*(BI58+BM58)))))","v":""},null,null,null,null,null,null,null,null,{"$f":"IF(Sheet2!$A$73=TRUE,-1*(((BR58-$G58)-(BV58-$K58))/SQRT(((BS58^2*(BT58-1))+(BW58^2*(BX58-1)))/(BT58+BX58-2))),((BR58-$G58)-(BV58-$K58))/SQRT(((BS58^2*(BT58-1))+(BW58^2*(BX58-1)))/(BT58+BX58-2)))","v":{"$error":"#DIV/0!"}},"",{"$f":"IF(BT58=\"\",\"\",SQRT((BT58+BX58)/(BT58*BX58)+(BZ58^2/(2*(BT58+BX58)))))","v":""}]
[null,null,"Immediate Memory d",null,null,null,null,null,null,null,null,null,null,null,null,null,null,null,null,null,null,null,{"$f":"IF(W54=\"\",\"\",AVERAGE(W54:W58))","v":""},{"$f":"IF(X54=\"\",\"\",AVERAGE(X54:X58))","v":""},null,null,null,null,null,null,null,null,null,{"$f":"IF(AH54=\"\",\"\",AVERAGE(AH54:AH58))","v":""},{"$f":"IF(AI54=\"\",\"\",AVERAGE(AI54:AI58))","v":""},null,null,null,null,null,null,null,null,null,{"$f":"IF(AS54=\"\",\"\",AVERAGE(AS54:AS58))","v":""},{"$f":"IF(AT54=\"\",\"\",AVERAGE(AT54:AT58))","v":""},null,null,null,null,null,null,null,null,null,{"$f":"IF(BD54=\"\",\"\",AVERAGE(BD54:BD58))","v":""},{"$f":"IF(BE54=\"\",\"\",AVERAGE(BE54:BE58))","v":""},null,null,null,null,null,null,null,null,null,{"$f":"IF(BO54=\"\",\"\",AVERAGE(BO54:BO58))","v":""},{"$f":"IF(BP54=\"\",\"\",AVERAGE(BP54:BP58))","v":""},null,null,null,null,null,null,null,null,null,{"$f":"IF(BZ54=\"\",\"\",AVERAGE(BZ54:BZ58))","v":""},{"$f":"IF(CA54=\"\",\"\",AVERAGE(CA54:CA58))","v":""}]
[]
[null,null,"Delayed Memory","Test Name"]
[null,null,"Outcome 1:",null,null,null,null,null,null,null,null,null,null,null,null,null,null,null,null,null,null,{"$f":"IF(Sheet2!$A$77=TRUE,-1*(((O62-$G62)-(S62-$K62))/SQRT(((P62^2*(Q62-1))+(T62^2*(U62-1)))/(Q62+U62-2))),((O62-$G62)-(S62-$K62))/SQRT(((P62^2*(Q62-1))+(T62^2*(U62-1)))/(Q62+U62-2)))","v":{"$error":"#DIV/0!"}},{"$f":"IF(O62=\"\",\"\",V62)","v":""},{"$f":"IF(Q62=\"\",\"\",SQRT((Q62+U62)/(Q62*U62)+(W62^2/(2*(Q62+U62)))))","v":""},null,null,null,null,null,null,null,null,{"$f":"IF(Sheet2!$A$77=TRUE,-1*(((Z62-$G62)-(AD62-$K62))/SQRT(((AA62^2*(AB62-1))+(AE62^2*(AF62-1)))/(AB62+AF62-2))),((Z62-$G62)-(AD62-$K62))/SQRT(((AA62^2*(AB62-1))+(AE62^2*(AF62-1)))/(AB62+AF62-2)))","v":{"$error":"#DIV/0!"}},{"$f":"IF(Z62=\"\",\"\",AG62)","v":""},{"$f":"IF(AB62=\"\",\"\",SQRT((AB62+AF62)/(AB62*AF62)+(AH62^2/(2*(AB62+AF62)))))","v":""},null,null,null,null,null,null,null,null,{"$f":"IF(Sheet2!$A$77=TRUE,-1*(((AK62-$G62)-(AO62-$K62))/SQRT(((AL62^2*(AM62-1))+(AP62^2*(AQ62-1)))/(AM62+AQ62-2))),((AK62-$G62)-(AO62-$K62))/SQRT(((AL62^2*(AM62-1))+(AP62^2*(AQ62-1)))/(AM62+AQ62-2)))","v":{"$error":"#DIV/0!"}},{"$f":"IF(AK62=\"\",\"\",AR62)","v":""},{"$f":"IF(AM62=\"\",\"\",SQRT((AM62+AQ62)/(AM62*AQ62)+(AS62^2/(2*(AM62+AQ62)))))","v":""},null,null,null,null,null,null,null,null,{"$f":"IF(Sheet2!$A$77=TRUE,-1*(((AV62-$G62)-(AZ62-$K62))/SQRT(((AW62^2*(AX62-1))+(BA62^2*(BB62-1)))/(AX62+BB62-2))),((AV62-$G62)-(AZ62-$K62))/SQRT(((AW62^2*(AX62-1))+(BA62^2*(BB62-1)))/(AX62+BB62-2)))","v":{"$error":"#DIV/0!"}},{"$f":"IF(AV62=\"\",\"\",BC62)","v":""},{"$f":"IF(AX62=\"\",\"\",SQRT((AX62+BB62)/(AX62*BB62)+(BD62^2/(2*(AX62+BB62)))))","v":""},null,null,null,null,null,null,null,null,{"$f":"IF(Sheet2!$A$77=TRUE,-1*(((BG62-$G62)-(BK62-$K62))/SQRT(((BH62^2*(BI62-1))+(BL62^2*(BM62-1)))/(BI62+BM62-2))),((BG62-$G62)-(BK62-$K62))/SQRT(((BH62^2*(BI62-1))+(BL62^2*(BM62-1)))/(BI62+BM62-2)))","v":{"$error":"#DIV/0!"}},{"$f":"IF(BG62=\"\",\"\",BN62)","v":""},{"$f":"IF(BI62=\"\",\"\",SQRT((BI62+BM62)/(BI62*BM62)+(BO62^2/(2*(BI62+BM62)))))","v":""},null,null,null,null,null,null,null,null,{"$f":"IF(Sheet2!$A$77=TRUE,-1*(((BR62-$G62)-(BV62-$K62))/SQRT(((BS62^2*(BT62-1))+(BW62^2*(BX62-1)))/(BT62+BX62-2))),((BR62-$G62)-(BV62-$K62))/SQRT(((BS62^2*(BT62-1))+(BW62^2*(BX62-1)))/(BT62+BX62-2)))","v":{"$error":"#DIV/0!"}},{"$f":"IF(BR62=\"\",\"\",BY62)","v":""},{"$f":"IF(BT62=\"\",\"\",SQRT((BT62+BX62)/(BT62*BX62)+(BZ62^2/(2*(BT62+BX62)))))","v":""}]
[null,null,"Outcome 2:",null,null,null,null,null,null,null,null,null,null,null,null,null,null,null,null,null,null,{"$f":"IF(Sheet2!$A$78=TRUE,-1*(((O63-$G63)-(S63-$K63))/SQRT(((P63^2*(Q63-1))+(T63^2*(U63-1)))/(Q63+U63-2))),((O63-$G63)-(S63-$K63))/SQRT(((P63^2*(Q63-1))+(T63^2*(U63-1)))/(Q63+U63-2)))","v":{"$error":"#DIV/0!"}},{"$f":"IF(O63=\"\",\"\",V63)","v":""},{"$f":"IF(Q63=\"\",\"\",SQRT((Q63+U63)/(Q63*U63)+(W63^2/(2*(Q63+U63)))))","v":""},null,null,null,null,null,null,null,null,{"$f":"IF(Sheet2!$A$78=TRUE,-1*(((Z63-$G63)-(AD63-$K63))/SQRT(((AA63^2*(AB63-1))+(AE63^2*(AF63-1)))/(AB63+AF63-2))),((Z63-$G63)-(AD63-$K63))/SQRT(((AA63^2*(AB63-1))+(AE63^2*(AF63-1)))/(AB63+AF63-2)))","v":{"$error":"#DIV/0!"}},{"$f":"IF(Z63=\"\",\"\",AG63)","v":""},{"$f":"IF(AB63=\"\",\"\",SQRT((AB63+AF63)/(AB63*AF63)+(AH63^2/(2*(AB63+AF63)))))","v":""},null,null,null,null,null,null,null,null,{"$f":"IF(Sheet2!$A$78=TRUE,-1*(((AK63-$G63)-(AO63-$K63))/SQRT(((AL63^2*(AM63-1))+(AP63^2*(AQ63-1)))/(AM63+AQ63-2))),((AK63-$G63)-(AO63-$K63))/SQRT(((AL63^2*(AM63-1))+(AP63^2*(AQ63-1)))/(AM63+AQ63-2)))","v":{"$error":"#DIV/0!"}},{"$f":"IF(AK63=\"\",\"\",AR63)","v":""},{"$f":"IF(AM63=\"\",\"\",SQRT((AM63+AQ63)/(AM63*AQ63)+(AS63^2/(2*(AM63+AQ63)))))","v":""},null,null,null,null,null,null,null,null,{"$f":"IF(Sheet2!$A$78=TRUE,-1*(((AV63-$G63)-(AZ63-$K63))/SQRT(((AW63^2*(AX63-1))+(BA63^2*(BB63-1)))/(AX63+BB63-2))),((AV63-$G63)-(AZ63-$K63))/SQRT(((AW63^2*(AX63-1))+(BA63^2*(BB63-1)))/(AX63+BB63-2)))","v":{"$error":"#DIV/0!"}},{"$f":"IF(AV63=\"\",\"\",BC63)","v":""},{"$f":"IF(AX63=\"\",\"\",SQRT((AX63+BB63)/(AX63*BB63)+(BD63^2/(2*(AX63+BB63)))))","v":""},null,null,null,null,null,null,null,null,{"$f":"IF(Sheet2!$A$78=TRUE,-1*(((BG63-$G63)-(BK63-$K63))/SQRT(((BH63^2*(BI63-1))+(BL63^2*(BM63-1)))/(BI63+BM63-2))),((BG63-$G63)-(BK63-$K63))/SQRT(((BH63^2*(BI63-1))+(BL63^2*(BM63-1)))/(BI63+BM63-2)))","v":{"$error":"#DIV/0!"}},{"$f":"IF(BG63=\"\",\"\",BN63)","v":""},{"$f":"IF(BI63=\"\",\"\",SQRT((BI63+BM63)/(BI63*BM63)+(BO63^2/(2*(BI63+BM63)))))","v":""},null,null,null,null,null,null,null,null,{"$f":"IF(Sheet2!$A$78=TRUE,-1*(((BR63-$G63)-(BV63-$K63))/SQRT(((BS63^2*(BT63-1))+(BW63^2*(BX63-1)))/(BT63+BX63-2))),((BR63-$G63)-(BV63-$K63))/SQRT(((BS63^2*(BT63-1))+(BW63^2*(BX63-1)))/(BT63+BX63-2)))","v":{"$error":"#DIV/0!"}},{"$f":"IF(BR63=\"\",\"\",BY63)","v":""},{"$f":"IF(BT63=\"\",\"\",SQRT((BT63+BX63)/(BT63*BX63)+(BZ63^2/(2*(BT63+BX63)))))","v":""}]
[null,null,"Outcome 3:",null,null,null,null,null,null,null,null,null,null,null,null,null,null,null,null,null,null,{"$f":"IF(Sheet2!$A$79=TRUE,-1*(((O64-$G64)-(S64-$K64))/SQRT(((P64^2*(Q64-1))+(T64^2*(U64-1)))/(Q64+U64-2))),((O64-$G64)-(S64-$K64))/SQRT(((P64^2*(Q64-1))+(T64^2*(U64-1)))/(Q64+U64-2)))","v":{"$error":"#DIV/0!"}},{"$f":"IF(O64=\"\",\"\",V64)","v":""},"",null,null,null,null,null,null,null,null,{"$f":"IF(Sheet2!$A$79=TRUE,-1*(((Z64-$G64)-(AD64-$K64))/SQRT(((AA64^2*(AB64-1))+(AE64^2*(AF64-1)))/(AB64+AF64-2))),((Z64-$G64)-(AD64-$K64))/SQRT(((AA64^2*(AB64-1))+(AE64^2*(AF64-1)))/(AB64+AF64-2)))","v":{"$error":"#DIV/0!"}},{"$f":"IF(Z64=\"\",\"\",AG64)","v":""},"",null,null,null,null,null,null,null,null,{"$f":"IF(Sheet2!$A$79=TRUE,-1*(((AK64-$G64)-(AO64-$K64))/SQRT(((AL64^2*(AM64-1))+(AP64^2*(AQ64-1)))/(AM64+AQ64-2))),((AK64-$G64)-(AO64-$K64))/SQRT(((AL64^2*(AM64-1))+(AP64^2*(AQ64-1)))/(AM64+AQ64-2)))","v":{"$error":"#DIV/0!"}},{"$f":"IF(AK64=\"\",\"\",AR64)","v":""},"",null,null,null,null,null,null,null,null,{"$f":"IF(Sheet2!$A$79=TRUE,-1*(((AV64-$G64)-(AZ64-$K64))/SQRT(((AW64^2*(AX64-1))+(BA64^2*(BB64-1)))/(AX64+BB64-2))),((AV64-$G64)-(AZ64-$K64))/SQRT(((AW64^2*(AX64-1))+(BA64^2*(BB64-1)))/(AX64+BB64-2)))","v":{"$error":"#DIV/0!"}},{"$f":"IF(AV64=\"\",\"\",BC64)","v":""},"",null,null,null,null,null,null,null,null,{"$f":"IF(Sheet2!$A$79=TRUE,-1*(((BG64-$G64)-(BK64-$K64))/SQRT(((BH64^2*(BI64-1))+(BL64^2*(BM64-1)))/(BI64+BM64-2))),((BG64-$G64)-(BK64-$K64))/SQRT(((BH64^2*(BI64-1))+(BL64^2*(BM64-1)))/(BI64+BM64-2)))","v":{"$error":"#DIV/0!"}},{"$f":"IF(BG64=\"\",\"\",BN64)","v":""},"",null,null,null,null,null,null,null,null,{"$f":"IF(Sheet2!$A$79=TRUE,-1*(((BR64-$G64)-(BV64-$K64))/SQRT(((BS64^2*(BT64-1))+(BW64^2*(BX64-1)))/(BT64+BX64-2))),((BR64-$G64)-(BV64-$K64))/SQRT(((BS64^2*(BT64-1))+(BW64^2*(BX64-1)))/(BT64+BX64-2)))","v":{"$error":"#DIV/0!"}},{"$f":"IF(BR64=\"\",\"\",BY64)","v":""},""]
[null,null,"Outcome 4:",null,null,null,null,null,null,null,null,null,null,null,null,null,null,null,null,null,null,{"$f":"IF(Sheet2!$A$80=TRUE,-1*(((O65-$G65)-(S65-$K65))/SQRT(((P65^2*(Q65-1))+(T65^2*(U65-1)))/(Q65+U65-2))),((O65-$G65)-(S65-$K65))/SQRT(((P65^2*(Q65-1))+(T65^2*(U65-1)))/(Q65+U65-2)))","v":{"$error":"#DIV/0!"}},{"$f":"IF(O65=\"\",\"\",V65)","v":""},{"$f":"IF(Q65=\"\",\"\",SQRT((Q65+U65)/(Q65*U65)+(W65^2/(2*(Q65+U65)))))","v":""},null,null,null,null,null,null,null,null,{"$f":"IF(Sheet2!$A$80=TRUE,-1*(((Z65-$G65)-(AD65-$K65))/SQRT(((AA65^2*(AB65-1))+(AE65^2*(AF65-1)))/(AB65+AF65-2))),((Z65-$G65)-(AD65-$K65))/SQRT(((AA65^2*(AB65-1))+(AE65^2*(AF65-1)))/(AB65+AF65-2)))","v":{"$error":"#DIV/0!"}},{"$f":"IF(Z65=\"\",\"\",AG65)","v":""},{"$f":"IF(AB65=\"\",\"\",SQRT((AB65+AF65)/(AB65*AF65)+(AH65^2/(2*(AB65+AF65)))))","v":""},null,null,null,null,null,null,null,null,{"$f":"IF(Sheet2!$A$80=TRUE,-1*(((AK65-$G65)-(AO65-$K65))/SQRT(((AL65^2*(AM65-1))+(AP65^2*(AQ65-1)))/(AM65+AQ65-2))),((AK65-$G65)-(AO65-$K65))/SQRT(((AL65^2*(AM65-1))+(AP65^2*(AQ65-1)))/(AM65+AQ65-2)))","v":{"$error":"#DIV/0!"}},{"$f":"IF(AK65=\"\",\"\",AR65)","v":""},{"$f":"IF(AM65=\"\",\"\",SQRT((AM65+AQ65)/(AM65*AQ65)+(AS65^2/(2*(AM65+AQ65)))))","v":""},null,null,null,null,null,null,null,null,{"$f":"IF(Sheet2!$A$80=TRUE,-1*(((AV65-$G65)-(AZ65-$K65))/SQRT(((AW65^2*(AX65-1))+(BA65^2*(BB65-1)))/(AX65+BB65-2))),((AV65-$G65)-(AZ65-$K65))/SQRT(((AW65^2*(AX65-1))+(BA65^2*(BB65-1)))/(AX65+BB65-2)))","v":{"$error":"#DIV/0!"}},{"$f":"IF(AV65=\"\",\"\",BC65)","v":""},{"$f":"IF(AX65=\"\",\"\",SQRT((AX65+BB65)/(AX65*BB65)+(BD65^2/(2*(AX65+BB65)))))","v":""},null,null,null,null,null,null,null,null,{"$f":"IF(Sheet2!$A$80=TRUE,-1*(((BG65-$G65)-(BK65-$K65))/SQRT(((BH65^2*(BI65-1))+(BL65^2*(BM65-1)))/(BI65+BM65-2))),((BG65-$G65)-(BK65-$K65))/SQRT(((BH65^2*(BI65-1))+(BL65^2*(BM65-1)))/(BI65+BM65-2)))","v":{"$error":"#DIV/0!"}},{"$f":"IF(BG65=\"\",\"\",BN65)","v":""},{"$f":"IF(BI65=\"\",\"\",SQRT((BI65+BM65)/(BI65*BM65)+(BO65^2/(2*(BI65+BM65)))))","v":""},null,null,null,null,null,null,null,null,{"$f":"IF(Sheet2!$A$80=TRUE,-1*(((BR65-$G65)-(BV65-$K65))/SQRT(((BS65^2*(BT65-1))+(BW65^2*(BX65-1)))/(BT65+BX65-2))),((BR65-$G65)-(BV65-$K65))/SQRT(((BS65^2*(BT65-1))+(BW65^2*(BX65-1)))/(BT65+BX65-2)))","v":{"$error":"#DIV/0!"}},{"$f":"IF(BR65=\"\",\"\",BY65)","v":""},{"$f":"IF(BT65=\"\",\"\",SQRT((BT65+BX65)/(BT65*BX65)+(BZ65^2/(2*(BT65+BX65)))))","v":""}]
[null,null,"Outcome 5:",null,null,null,null,null,null,null,null,null,null,null,null,null,null,null,null,null,null,{"$f":"IF(Sheet2!A81=TRUE,-1*(((O66-$G66)-(S66-$K66))/SQRT(((P66^2*(Q66-1))+(T66^2*(U66-1)))/(Q66+U66-2))),((O66-$G66)-(S66-$K66))/SQRT(((P66^2*(Q66-1))+(T66^2*(U66-1)))/(Q66+U66-2)))","v":{"$error":"#DIV/0!"}},"","",null,null,null,null,null,null,null,null,{"$f":"IF(Sheet2!L81=TRUE,-1*(((Z66-$G66)-(AD66-$K66))/SQRT(((AA66^2*(AB66-1))+(AE66^2*(AF66-1)))/(AB66+AF66-2))),((Z66-$G66)-(AD66-$K66))/SQRT(((AA66^2*(AB66-1))+(AE66^2*(AF66-1)))/(AB66+AF66-2)))","v":{"$error":"#DIV/0!"}},"",{"$f":"IF(AB66=\"\",\"\",SQRT((AB66+AF66)/(AB66*AF66)+(AH66^2/(2*(AB66+AF66)))))","v":""},null,null,null,null,null,null,null,null,{"$f":"IF(Sheet2!W81=TRUE,-1*(((AK66-$G66)-(AO66-$K66))/SQRT(((AL66^2*(AM66-1))+(AP66^2*(AQ66-1)))/(AM66+AQ66-2))),((AK66-$G66)-(AO66-$K66))/SQRT(((AL66^2*(AM66-1))+(AP66^2*(AQ66-1)))/(AM66+AQ66-2)))","v":{"$error":"#DIV/0!"}},"",{"$f":"IF(AM66=\"\",\"\",SQRT((AM66+AQ66)/(AM66*AQ66)+(AS66^2/(2*(AM66+AQ66)))))","v":""},null,null,null,null,null,null,null,null,{"$f":"IF(Sheet2!AH81=TRUE,-1*(((AV66-$G66)-(AZ66-$K66))/SQRT(((AW66^2*(AX66-1))+(BA66^2*(BB66-1)))/(AX66+BB66-2))),((AV66-$G66)-(AZ66-$K66))/SQRT(((AW66^2*(AX66-1))+(BA66^2*(BB66-1)))/(AX66+BB66-2)))","v":{"$error":"#DIV/0!"}},"",{"$f":"IF(AX66=\"\",\"\",SQRT((AX66+BB66)/(AX66*BB66)+(BD66^2/(2*(AX66+BB66)))))","v":""},null,null,null,null,null,null,null,null,{"$f":"IF(Sheet2!AS81=TRUE,-1*(((BG66-$G66)-(BK66-$K66))/SQRT(((BH66^2*(BI66-1))+(BL66^2*(BM66-1)))/(BI66+BM66-2))),((BG66-$G66)-(BK66-$K66))/SQRT(((BH66^2*(BI66-1))+(BL66^2*(BM66-1)))/(BI66+BM66-2)))","v":{"$error":"#DIV/0!"}},"",{"$f":"IF(BI66=\"\",\"\",SQRT((BI66+BM66)/(BI66*BM66)+(BO66^2/(2*(BI66+BM66)))))","v":""},null,null,null,null,null,null,null,null,{"$f":"IF(Sheet2!BD81=TRUE,-1*(((BR66-$G66)-(BV66-$K66))/SQRT(((BS66^2*(BT66-1))+(BW66^2*(BX66-1)))/(BT66+BX66-2))),((BR66-$G66)-(BV66-$K66))/SQRT(((BS66^2*(BT66-1))+(BW66^2*(BX66-1)))/(BT66+BX66-2)))","v":{"$error":"#DIV/0!"}},"",{"$f":"IF(BT66=\"\",\"\",SQRT((BT66+BX66)/(BT66*BX66)+(BZ66^2/(2*(BT66+BX66)))))","v":""}]
[null,null,"Delayed Memory d",null,null,null,null,null,null,null,null,null,null,null,null,null,null,null,null,null,null,null,{"$f":"IF(W62=\"\",\"\",AVERAGE(W62:W66))","v":""},{"$f":"IF(X62=\"\",\"\",AVERAGE(X62:X66))","v":""},null,null,null,null,null,null,null,null,null,{"$f":"IF(AH62=\"\",\"\",AVERAGE(AH62:AH66))","v":""},{"$f":"IF(AI62=\"\",\"\",AVERAGE(AI62:AI66))","v":""},null,null,null,null,null,null,null,null,null,{"$f":"IF(AS62=\"\",\"\",AVERAGE(AS62:AS66))","v":""},{"$f":"IF(AT62=\"\",\"\",AVERAGE(AT62:AT66))","v":""},null,null,null,null,null,null,null,null,null,{"$f":"IF(BD62=\"\",\"\",AVERAGE(BD62:BD66))","v":""},{"$f":"IF(BE62=\"\",\"\",AVERAGE(BE62:BE66))","v":""},null,null,null,null,null,null,null,null,null,{"$f":"IF(BO62=\"\",\"\",AVERAGE(BO62:BO66))","v":""},{"$f":"IF(BP62=\"\",\"\",AVERAGE(BP62:BP66))","v":""},null,null,null,null,null,null,null,null,null,{"$f":"IF(BZ62=\"\",\"\",AVERAGE(BZ62:BZ66))","v":""},{"$f":"IF(CA62=\"\",\"\",AVERAGE(CA62:CA66))","v":""}]
[]
[null,null,"Visuospatial Skills","Test Name"]
[null,null,"Outcome 1:",null,null,null,null,null,null,null,null,null,null,null,null,null,null,null,null,null,null,{"$f":"IF(Sheet2!$A$85=TRUE,-1*(((O70-$G70)-(S70-$K70))/SQRT(((P70^2*(Q70-1))+(T70^2*(U70-1)))/(Q70+U70-2))),((O70-$G70)-(S70-$K70))/SQRT(((P70^2*(Q70-1))+(T70^2*(U70-1)))/(Q70+U70-2)))","v":{"$error":"#DIV/0!"}},{"$f":"IF(O70=\"\",\"\",V70)","v":""},{"$f":"IF(Q70=\"\",\"\",SQRT((Q70+U70)/(Q70*U70)+(W70^2/(2*(Q70+U70)))))","v":""},null,null,null,null,null,null,null,null,{"$f":"IF(Sheet2!$A$85=TRUE,-1*(((Z70-$G70)-(AD70-$K70))/SQRT(((AA70^2*(AB70-1))+(AE70^2*(AF70-1)))/(AB70+AF70-2))),((Z70-$G70)-(AD70-$K70))/SQRT(((AA70^2*(AB70-1))+(AE70^2*(AF70-1)))/(AB70+AF70-2)))","v":{"$error":"#DIV/0!"}},{"$f":"IF(Z70=\"\",\"\",AG70)","v":""},{"$f":"IF(AB70=\"\",\"\",SQRT((AB70+AF70)/(AB70*AF70)+(AH70^2/(2*(AB70+AF70)))))","v":""},null,null,null,null,null,null,null,null,{"$f":"IF(Sheet2!$A$85=TRUE,-1*(((AK70-$G70)-(AO70-$K70))/SQRT(((AL70^2*(AM70-1))+(AP70^2*(AQ70-1)))/(AM70+AQ70-2))),((AK70-$G70)-(AO70-$K70))/SQRT(((AL70^2*(AM70-1))+(AP70^2*(AQ70-1)))/(AM70+AQ70-2)))","v":{"$error":"#DIV/0!"}},{"$f":"IF(AK70=\"\",\"\",AR70)","v":""},{"$f":"IF(AM70=\"\",\"\",SQRT((AM70+AQ70)/(AM70*AQ70)+(AS70^2/(2*(AM70+AQ70)))))","v":""},null,null,null,null,null,null,null,null,{"$f":"IF(Sheet2!$A$85=TRUE,-1*(((AV70-$G70)-(AZ70-$K70))/SQRT(((AW70^2*(AX70-1))+(BA70^2*(BB70-1)))/(AX70+BB70-2))),((AV70-$G70)-(AZ70-$K70))/SQRT(((AW70^2*(AX70-1))+(BA70^2*(BB70-1)))/(AX70+BB70-2)))","v":{"$error":"#DIV/0!"}},{"$f":"IF(AV70=\"\",\"\",BC70)","v":""},{"$f":"IF(AX70=\"\",\"\",SQRT((AX70+BB70)/(AX70*BB70)+(BD70^2/(2*(AX70+BB70)))))","v":""},null,null,null,null,null,null,null,null,{"$f":"IF(Sheet2!$A$85=TRUE,-1*(((BG70-$G70)-(BK70-$K70))/SQRT(((BH70^2*(BI70-1))+(BL70^2*(BM70-1)))/(BI70+BM70-2))),((BG70-$G70)-(BK70-$K70))/SQRT(((BH70^2*(BI70-1))+(BL70^2*(BM70-1)))/(BI70+BM70-2)))","v":{"$error":"#DIV/0!"}},{"$f":"IF(BG70=\"\",\"\",BN70)","v":""},{"$f":"IF(BI70=\"\",\"\",SQRT((BI70+BM70)/(BI70*BM70)+(BO70^2/(2*(BI70+BM70)))))","v":""},null,null,null,null,null,null,null,null,{"$f":"IF(Sheet2!$A$85=TRUE,-1*(((BR70-$G70)-(BV70-$K70))/SQRT(((BS70^2*(BT70-1))+(BW70^2*(BX70-1)))/(BT70+BX70-2))),((BR70-$G70)-(BV70-$K70))/SQRT(((BS70^2*(BT70-1))+(BW70^2*(BX70-1)))/(BT70+BX70-2)))","v":{"$error":"#DIV/0!"}},{"$f":"IF(BR70=\"\",\"\",BY70)","v":""},{"$f":"IF(BT70=\"\",\"\",SQRT((BT70+BX70)/(BT70*BX70)+(BZ70^2/(2*(BT70+BX70)))))","v":""}]
[null,null,"Outcome 2:",null,null,null,null,null,null,null,null,null,null,null,null,null,null,null,null,null,null,{"$f":"IF(Sheet2!$A$86=TRUE,-1*(((O71-$G71)-(S71-$K71))/SQRT(((P71^2*(Q71-1))+(T71^2*(U71-1)))/(Q71+U71-2))),((O71-$G71)-(S71-$K71))/SQRT(((P71^2*(Q71-1))+(T71^2*(U71-1)))/(Q71+U71-2)))","v":{"$error":"#DIV/0!"}},{"$f":"IF(O71=\"\",\"\",V71)","v":""},{"$f":"IF(Q71=\"\",\"\",SQRT((Q71+U71)/(Q71*U71)+(W71^2/(2*(Q71+U71)))))","v":""},null,null,null,null,null,null,null,null,{"$f":"IF(Sheet2!$A$86=TRUE,-1*(((Z71-$G71)-(AD71-$K71))/SQRT(((AA71^2*(AB71-1))+(AE71^2*(AF71-1)))/(AB71+AF71-2))),((Z71-$G71)-(AD71-$K71))/SQRT(((AA71^2*(AB71-1))+(AE71^2*(AF71-1)))/(AB71+AF71-2)))","v":{"$error":"#DIV/0!"}},{"$f":"IF(Z71=\"\",\"\",AG71)","v":""},{"$f":"IF(AB71=\"\",\"\",SQRT((AB71+AF71)/(AB71*AF71)+(AH71^2/(2*(AB71+AF71)))))","v":""},null,null,null,null,null,null,null,null,{"$f":"IF(Sheet2!$A$86=TRUE,-1*(((AK71-$G71)-(AO71-$K71))/SQRT(((AL71^2*(AM71-1))+(AP71^2*(AQ71-1)))/(AM71+AQ71-2))),((AK71-$G71)-(AO71-$K71))/SQRT(((AL71^2*(AM71-1))+(AP71^2*(AQ71-1)))/(AM71+AQ71-2)))","v":{"$error":"#DIV/0!"}},{"$f":"IF(AK71=\"\",\"\",AR71)","v":""},{"$f":"IF(AM71=\"\",\"\",SQRT((AM71+AQ71)/(AM71*AQ71)+(AS71^2/(2*(AM71+AQ71)))))","v":""},null,null,null,null,null,null,null,null,{"$f":"IF(Sheet2!$A$86=TRUE,-1*(((AV71-$G71)-(AZ71-$K71))/SQRT(((AW71^2*(AX71-1))+(BA71^2*(BB71-1)))/(AX71+BB71-2))),((AV71-$G71)-(AZ71-$K71))/SQRT(((AW71^2*(AX71-1))+(BA71^2*(BB71-1)))/(AX71+BB71-2)))","v":{"$error":"#DIV/0!"}},{"$f":"IF(AV71=\"\",\"\",BC71)","v":""},{"$f":"IF(AX71=\"\",\"\",SQRT((AX71+BB71)/(AX71*BB71)+(BD71^2/(2*(AX71+BB71)))))","v":""},null,null,null,null,null,null,null,null,{"$f":"IF(Sheet2!$A$86=TRUE,-1*(((BG71-$G71)-(BK71-$K71))/SQRT(((BH71^2*(BI71-1))+(BL71^2*(BM71-1)))/(BI71+BM71-2))),((BG71-$G71)-(BK71-$K71))/SQRT(((BH71^2*(BI71-1))+(BL71^2*(BM71-1)))/(BI71+BM71-2)))","v":{"$error":"#DIV/0!"}},{"$f":"IF(BG71=\"\",\"\",BN71)","v":""},{"$f":"IF(BI71=\"\",\"\",SQRT((BI71+BM71)/(BI71*BM71)+(BO71^2/(2*(BI71+BM71)))))","v":""},null,null,null,null,null,null,null,null,{"$f":"IF(Sheet2!$A$86=TRUE,-1*(((BR71-$G71)-(BV71-$K71))/SQRT(((BS71^2*(BT71-1))+(BW71^2*(BX71-1)))/(BT71+BX71-2))),((BR71-$G71)-(BV71-$K71))/SQRT(((BS71^2*(BT71-1))+(BW71^2*(BX71-1)))/(BT71+BX71-2)))","v":{"$error":"#DIV/0!"}},{"$f":"IF(BR71=\"\",\"\",BY71)","v":""},{"$f":"IF(BT71=\"\",\"\",SQRT((BT71+BX71)/(BT71*BX71)+(BZ71^2/(2*(BT71+BX71)))))","v":""}]
[null,null,"Outcome 3:",null,null,null,null,null,null,null,null,null,null,null,null,null,null,null,null,null,null,{"$f":"IF(Sheet2!$A$87=TRUE,-1*(((O72-$G72)-(S72-$K72))/SQRT(((P72^2*(Q72-1))+(T72^2*(U72-1)))/(Q72+U72-2))),((O72-$G72)-(S72-$K72))/SQRT(((P72^2*(Q72-1))+(T72^2*(U72-1)))/(Q72+U72-2)))","v":{"$error":"#DIV/0!"}},{"$f":"IF(O72=\"\",\"\",V72)","v":""},"",null,null,null,null,null,null,null,null,{"$f":"IF(Sheet2!$A$87=TRUE,-1*(((Z72-$G72)-(AD72-$K72))/SQRT(((AA72^2*(AB72-1))+(AE72^2*(AF72-1)))/(AB72+AF72-2))),((Z72-$G72)-(AD72-$K72))/SQRT(((AA72^2*(AB72-1))+(AE72^2*(AF72-1)))/(AB72+AF72-2)))","v":{"$error":"#DIV/0!"}},{"$f":"IF(Z72=\"\",\"\",AG72)","v":""},"",null,null,null,null,null,null,null,null,{"$f":"IF(Sheet2!$A$87=TRUE,-1*(((AK72-$G72)-(AO72-$K72))/SQRT(((AL72^2*(AM72-1))+(AP72^2*(AQ72-1)))/(AM72+AQ72-2))),((AK72-$G72)-(AO72-$K72))/SQRT(((AL72^2*(AM72-1))+(AP72^2*(AQ72-1)))/(AM72+AQ72-2)))","v":{"$error":"#DIV/0!"}},{"$f":"IF(AK72=\"\",\"\",AR72)","v":""},"",null,null,null,null,null,null,null,null,{"$f":"IF(Sheet2!$A$87=TRUE,-1*(((AV72-$G72)-(AZ72-$K72))/SQRT(((AW72^2*(AX72-1))+(BA72^2*(BB72-1)))/(AX72+BB72-2))),((AV72-$G72)-(AZ72-$K72))/SQRT(((AW72^2*(AX72-1))+(BA72^2*(BB72-1)))/(AX72+BB72-2)))","v":{"$error":"#DIV/0!"}},{"$f":"IF(AV72=\"\",\"\",BC72)","v":""},"",null,null,null,null,null,null,null,null,{"$f":"IF(Sheet2!$A$87=TRUE,-1*(((BG72-$G72)-(BK72-$K72))/SQRT(((BH72^2*(BI72-1))+(BL72^2*(BM72-1)))/(BI72+BM72-2))),((BG72-$G72)-(BK72-$K72))/SQRT(((BH72^2*(BI72-1))+(BL72^2*(BM72-1)))/(BI72+BM72-2)))","v":{"$error":"#DIV/0!"}},{"$f":"IF(BG72=\"\",\"\",BN72)","v":""},"",null,null,null,null,null,null,null,null,{"$f":"IF(Sheet2!$A$87=TRUE,-1*(((BR72-$G72)-(BV72-$K72))/SQRT(((BS72^2*(BT72-1))+(BW72^2*(BX72-1)))/(BT72+BX72-2))),((BR72-$G72)-(BV72-$K72))/SQRT(((BS72^2*(BT72-1))+(BW72^2*(BX72-1)))/(BT72+BX72-2)))","v":{"$error":"#DIV/0!"}},{"$f":"IF(BR72=\"\",\"\",BY72)","v":""},""]
[null,null,"Outcome 4:",null,null,null,null,null,null,null,null,null,null,null,null,null,null,null,null,null,null,{"$f":"IF(Sheet2!$A$88=TRUE,-1*(((O73-$G73)-(S73-$K73))/SQRT(((P73^2*(Q73-1))+(T73^2*(U73-1)))/(Q73+U73-2))),((O73-$G73)-(S73-$K73))/SQRT(((P73^2*(Q73-1))+(T73^2*(U73-1)))/(Q73+U73-2)))","v":{"$error":"#DIV/0!"}},{"$f":"IF(O73=\"\",\"\",V73)","v":""},{"$f":"IF(Q73=\"\",\"\",SQRT((Q73+U73)/(Q73*U73)+(W73^2/(2*(Q73+U73)))))","v":""},null,null,null,null,null,null,null,null,{"$f":"IF(Sheet2!$A$88=TRUE,-1*(((Z73-$G73)-(AD73-$K73))/SQRT(((AA73^2*(AB73-1))+(AE73^2*(AF73-1)))/(AB73+AF73-2))),((Z73-$G73)-(AD73-$K73))/SQRT(((AA73^2*(AB73-1))+(AE73^2*(AF73-1)))/(AB73+AF73-2)))","v":{"$error":"#DIV/0!"}},{"$f":"IF(Z73=\"\",\"\",AG73)","v":""},{"$f":"IF(AB73=\"\",\"\",SQRT((AB73+AF73)/(AB73*AF73)+(AH73^2/(2*(AB73+AF73)))))","v":""},null,null,null,null,null,null,null,null,{"$f":"IF(Sheet2!$A$88=TRUE,-1*(((AK73-$G73)-(AO73-$K73))/SQRT(((AL73^2*(AM73-1))+(AP73^2*(AQ73-1)))/(AM73+AQ73-2))),((AK73-$G73)-(AO73-$K73))/SQRT(((AL73^2*(AM73-1))+(AP73^2*(AQ73-1)))/(AM73+AQ73-2)))","v":{"$error":"#DIV/0!"}},{"$f":"IF(AK73=\"\",\"\",AR73)","v":""},{"$f":"IF(AM73=\"\",\"\",SQRT((AM73+AQ73)/(AM73*AQ73)+(AS73^2/(2*(AM73+AQ73)))))","v":""},null,null,null,null,null,null,null,null,{"$f":"IF(Sheet2!$A$88=TRUE,-1*(((AV73-$G73)-(AZ73-$K73))/SQRT(((AW73^2*(AX73-1))+(BA73^2*(BB73-1)))/(AX73+BB73-2))),((AV73-$G73)-(AZ73-$K73))/SQRT(((AW73^2*(AX73-1))+(BA73^2*(BB73-1)))/(AX73+BB73-2)))","v":{"$error":"#DIV/0!"}},{"$f":"IF(AV73=\"\",\"\",BC73)","v":""},{"$f":"IF(AX73=\"\",\"\",SQRT((AX73+BB73)/(AX73*BB73)+(BD73^2/(2*(AX73+BB73)))))","v":""},null,null,null,null,null,null,null,null,{"$f":"IF(Sheet2!$A$88=TRUE,-1*(((BG73-$G73)-(BK73-$K73))/SQRT(((BH73^2*(BI73-1))+(BL73^2*(BM73-1)))/(BI73+BM73-2))),((BG73-$G73)-(BK73-$K73))/SQRT(((BH73^2*(BI73-1))+(BL73^2*(BM73-1)))/(BI73+BM73-2)))","v":{"$error":"#DIV/0!"}},{"$f":"IF(BG73=\"\",\"\",BN73)","v":""},{"$f":"IF(BI73=\"\",\"\",SQRT((BI73+BM73)/(BI73*BM73)+(BO73^2/(2*(BI73+BM73)))))","v":""},null,null,null,null,null,null,null,null,{"$f":"IF(Sheet2!$A$88=TRUE,-1*(((BR73-$G73)-(BV73-$K73))/SQRT(((BS73^2*(BT73-1))+(BW73^2*(BX73-1)))/(BT73+BX73-2))),((BR73-$G73)-(BV73-$K73))/SQRT(((BS73^2*(BT73-1))+(BW73^2*(BX73-1)))/(BT73+BX73-2)))","v":{"$error":"#DIV/0!"}},{"$f":"IF(BR73=\"\",\"\",BY73)","v":""},{"$f":"IF(BT73=\"\",\"\",SQRT((BT73+BX73)/(BT73*BX73)+(BZ73^2/(2*(BT73+BX73)))))","v":""}]
[null,null,"Outcome 5:",null,null,null,null,null,null,null,null,null,null,null,null,null,null,null,null,null,null,{"$f":"IF(Sheet2!$A$89=TRUE,-1*(((O74-$G74)-(S74-$K74))/SQRT(((P74^2*(Q74-1))+(T74^2*(U74-1)))/(Q74+U74-2))),((O74-$G74)-(S74-$K74))/SQRT(((P74^2*(Q74-1))+(T74^2*(U74-1)))/(Q74+U74-2)))","v":{"$error":"#DIV/0!"}},"","",null,null,null,null,null,null,null,null,{"$f":"IF(Sheet2!$A$89=TRUE,-1*(((Z74-$G74)-(AD74-$K74))/SQRT(((AA74^2*(AB74-1))+(AE74^2*(AF74-1)))/(AB74+AF74-2))),((Z74-$G74)-(AD74-$K74))/SQRT(((AA74^2*(AB74-1))+(AE74^2*(AF74-1)))/(AB74+AF74-2)))","v":{"$error":"#DIV/0!"}},"",{"$f":"IF(AB74=\"\",\"\",SQRT((AB74+AF74)/(AB74*AF74)+(AH74^2/(2*(AB74+AF74)))))","v":""},null,null,null,null,null,null,null,null,{"$f":"IF(Sheet2!$A$89=TRUE,-1*(((AK74-$G74)-(AO74-$K74))/SQRT(((AL74^2*(AM74-1))+(AP74^2*(AQ74-1)))/(AM74+AQ74-2))),((AK74-$G74)-(AO74-$K74))/SQRT(((AL74^2*(AM74-1))+(AP74^2*(AQ74-1)))/(AM74+AQ74-2)))","v":{"$error":"#DIV/0!"}},"",{"$f":"IF(AM74=\"\",\"\",SQRT((AM74+AQ74)/(AM74*AQ74)+(AS74^2/(2*(AM74+AQ74)))))","v":""},null,null,null,null,null,null,null,null,{"$f":"IF(Sheet2!$A$89=TRUE,-1*(((AV74-$G74)-(AZ74-$K74))/SQRT(((AW74^2*(AX74-1))+(BA74^2*(BB74-1)))/(AX74+BB74-2))),((AV74-$G74)-(AZ74-$K74))/SQRT(((AW74^2*(AX74-1))+(BA74^2*(BB74-1)))/(AX74+BB74-2)))","v":{"$error":"#DIV/0!"}},"",{"$f":"IF(AX74=\"\",\"\",SQRT((AX74+BB74)/(AX74*BB74)+(BD74^2/(2*(AX74+BB74)))))","v":""},null,null,null,null,null,null,null,null,{"$f":"IF(Sheet2!$A$89=TRUE,-1*(((BG74-$G74)-(BK74-$K74))/SQRT(((BH74^2*(BI74-1))+(BL74^2*(BM74-1)))/(BI74+BM74-2))),((BG74-$G74)-(BK74-$K74))/SQRT(((BH74^2*(BI74-1))+(BL74^2*(BM74-1)))/(BI74+BM74-2)))","v":{"$error":"#DIV/0!"}},"",{"$f":"IF(BI74=\"\",\"\",SQRT((BI74+BM74)/(BI74*BM74)+(BO74^2/(2*(BI74+BM74)))))","v":""},null,null,null,null,null,null,null,null,{"$f":"IF(Sheet2!$A$89=TRUE,-1*(((BR74-$G74)-(BV74-$K74))/SQRT(((BS74^2*(BT74-1))+(BW74^2*(BX74-1)))/(BT74+BX74-2))),((BR74-$G74)-(BV74-$K74))/SQRT(((BS74^2*(BT74-1))+(BW74^2*(BX74-1)))/(BT74+BX74-2)))","v":{"$error":"#DIV/0!"}},"",{"$f":"IF(BT74=\"\",\"\",SQRT((BT74+BX74)/(BT74*BX74)+(BZ74^2/(2*(BT74+BX74)))))","v":""}]
[null,null,"Visuospatial Skills d",null,null,null,null,null,null,null,null,null,null,null,null,null,null,null,null,null,null,null,{"$f":"IF(W70=\"\",\"\",AVERAGE(W70:W74))","v":""},{"$f":"IF(X70=\"\",\"\",AVERAGE(X70:X74))","v":""},null,null,null,null,null,null,null,null,null,{"$f":"IF(AH70=\"\",\"\",AVERAGE(AH70:AH74))","v":""},{"$f":"IF(AI70=\"\",\"\",AVERAGE(AI70:AI74))","v":""},null,null,null,null,null,null,null,null,null,{"$f":"IF(AS70=\"\",\"\",AVERAGE(AS70:AS74))","v":""},{"$f":"IF(AT70=\"\",\"\",AVERAGE(AT70:AT74))","v":""},null,null,null,null,null,null,null,null,null,{"$f":"IF(BD70=\"\",\"\",AVERAGE(BD70:BD74))","v":""},{"$f":"IF(BE70=\"\",\"\",AVERAGE(BE70:BE74))","v":""},null,null,null,null,null,null,null,null,null,{"$f":"IF(BO70=\"\",\"\",AVERAGE(BO70:BO74))","v":""},{"$f":"IF(BP70=\"\",\"\",AVERAGE(BP70:BP74))","v":""},null,null,null,null,null,null,null,null,null,{"$f":"IF(BZ70=\"\",\"\",AVERAGE(BZ70:BZ74))","v":""},{"$f":"IF(CA70=\"\",\"\",AVERAGE(CA70:CA74))","v":""}]
[]
[null,null,"Fine Motor Mvmt","Test Name"]
[null,null,"Outcome 1:",null,null,null,null,null,null,null,null,null,null,null,null,null,null,null,null,null,null,{"$f":"IF(Sheet2!$A$93=TRUE,-1*(((O78-$G78)-(S78-$K78))/SQRT(((P78^2*(Q78-1))+(T78^2*(U78-1)))/(Q78+U78-2))),((O78-$G78)-(S78-$K78))/SQRT(((P78^2*(Q78-1))+(T78^2*(U78-1)))/(Q78+U78-2)))","v":{"$error":"#DIV/0!"}},{"$f":"IF(O78=\"\",\"\",V78)","v":""},{"$f":"IF(Q78=\"\",\"\",SQRT((Q78+U78)/(Q78*U78)+(W78^2/(2*(Q78+U78)))))","v":""},null,null,null,null,null,null,null,null,{"$f":"IF(Sheet2!$A$93=TRUE,-1*(((Z78-$G78)-(AD78-$K78))/SQRT(((AA78^2*(AB78-1))+(AE78^2*(AF78-1)))/(AB78+AF78-2))),((Z78-$G78)-(AD78-$K78))/SQRT(((AA78^2*(AB78-1))+(AE78^2*(AF78-1)))/(AB78+AF78-2)))","v":{"$error":"#DIV/0!"}},{"$f":"IF(Z78=\"\",\"\",AG78)","v":""},{"$f":"IF(AB78=\"\",\"\",SQRT((AB78+AF78)/(AB78*AF78)+(AH78^2/(2*(AB78+AF78)))))","v":""},null,null,null,null,null,null,null,null,{"$f":"IF(Sheet2!$A$93=TRUE,-1*(((AK78-$G78)-(AO78-$K78))/SQRT(((AL78^2*(AM78-1))+(AP78^2*(AQ78-1)))/(AM78+AQ78-2))),((AK78-$G78)-(AO78-$K78))/SQRT(((AL78^2*(AM78-1))+(AP78^2*(AQ78-1)))/(AM78+AQ78-2)))","v":{"$error":"#DIV/0!"}},{"$f":"IF(AK78=\"\",\"\",AR78)","v":""},{"$f":"IF(AM78=\"\",\"\",SQRT((AM78+AQ78)/(AM78*AQ78)+(AS78^2/(2*(AM78+AQ78)))))","v":""},null,null,null,null,null,null,null,null,{"$f":"IF(Sheet2!$A$93=TRUE,-1*(((AV78-$G78)-(AZ78-$K78))/SQRT(((AW78^2*(AX78-1))+(BA78^2*(BB78-1)))/(AX78+BB78-2))),((AV78-$G78)-(AZ78-$K78))/SQRT(((AW78^2*(AX78-1))+(BA78^2*(BB78-1)))/(AX78+BB78-2)))","v":{"$error":"#DIV/0!"}},{"$f":"IF(AV78=\"\",\"\",BC78)","v":""},{"$f":"IF(AX78=\"\",\"\",SQRT((AX78+BB78)/(AX78*BB78)+(BD78^2/(2*(AX78+BB78)))))","v":""},null,null,null,null,null,null,null,null,{"$f":"IF(Sheet2!$A$93=TRUE,-1*(((BG78-$G78)-(BK78-$K78))/SQRT(((BH78^2*(BI78-1))+(BL78^2*(BM78-1)))/(BI78+BM78-2))),((BG78-$G78)-(BK78-$K78))/SQRT(((BH78^2*(BI78-1))+(BL78^2*(BM78-1)))/(BI78+BM78-2)))","v":{"$error":"#DIV/0!"}},{"$f":"IF(BG78=\"\",\"\",BN78)","v":""},{"$f":"IF(BI78=\"\",\"\",SQRT((BI78+BM78)/(BI78*BM78)+(BO78^2/(2*(BI78+BM78)))))","v":""},null,null,null,null,null,null,null,null,{"$f":"IF(Sheet2!$A$93=TRUE,-1*(((BR78-$G78)-(BV78-$K78))/SQRT(((BS78^2*(BT78-1))+(BW78^2*(BX78-1)))/(BT78+BX78-2))),((BR78-$G78)-(BV78-$K78))/SQRT(((BS78^2*(BT78-1))+(BW78^2*(BX78-1)))/(BT78+BX78-2)))","v":{"$error":"#DIV/0!"}},{"$f":"IF(BR78=\"\",\"\",BY78)","v":""},{"$f":"IF(BT78=\"\",\"\",SQRT((BT78+BX78)/(BT78*BX78)+(BZ78^2/(2*(BT78+BX78)))))","v":""}]
[null,null,"Outcome 2:",null,null,null,null,null,null,null,null,null,null,null,null,null,null,null,null,null,null,{"$f":"IF(Sheet2!$A$94=TRUE,-1*(((O79-$G79)-(S79-$K79))/SQRT(((P79^2*(Q79-1))+(T79^2*(U79-1)))/(Q79+U79-2))),((O79-$G79)-(S79-$K79))/SQRT(((P79^2*(Q79-1))+(T79^2*(U79-1)))/(Q79+U79-2)))","v":{"$error":"#DIV/0!"}},{"$f":"IF(O79=\"\",\"\",V79)","v":""},{"$f":"IF(Q79=\"\",\"\",SQRT((Q79+U79)/(Q79*U79)+(W79^2/(2*(Q79+U79)))))","v":""},null,null,null,null,null,null,null,null,{"$f":"IF(Sheet2!$A$94=TRUE,-1*(((Z79-$G79)-(AD79-$K79))/SQRT(((AA79^2*(AB79-1))+(AE79^2*(AF79-1)))/(AB79+AF79-2))),((Z79-$G79)-(AD79-$K79))/SQRT(((AA79^2*(AB79-1))+(AE79^2*(AF79-1)))/(AB79+AF79-2)))","v":{"$error":"#DIV/0!"}},{"$f":"IF(Z79=\"\",\"\",AG79)","v":""},{"$f":"IF(AB79=\"\",\"\",SQRT((AB79+AF79)/(AB79*AF79)+(AH79^2/(2*(AB79+AF79)))))","v":""},null,null,null,null,null,null,null,null,{"$f":"IF(Sheet2!$A$94=TRUE,-1*(((AK79-$G79)-(AO79-$K79))/SQRT(((AL79^2*(AM79-1))+(AP79^2*(AQ79-1)))/(AM79+AQ79-2))),((AK79-$G79)-(AO79-$K79))/SQRT(((AL79^2*(AM79-1))+(AP79^2*(AQ79-1)))/(AM79+AQ79-2)))","v":{"$error":"#DIV/0!"}},{"$f":"IF(AK79=\"\",\"\",AR79)","v":""},{"$f":"IF(AM79=\"\",\"\",SQRT((AM79+AQ79)/(AM79*AQ79)+(AS79^2/(2*(AM79+AQ79)))))","v":""},null,null,null,null,null,null,null,null,{"$f":"IF(Sheet2!$A$94=TRUE,-1*(((AV79-$G79)-(AZ79-$K79))/SQRT(((AW79^2*(AX79-1))+(BA79^2*(BB79-1)))/(AX79+BB79-2))),((AV79-$G79)-(AZ79-$K79))/SQRT(((AW79^2*(AX79-1))+(BA79^2*(BB79-1)))/(AX79+BB79-2)))","v":{"$error":"#DIV/0!"}},{"$f":"IF(AV79=\"\",\"\",BC79)","v":""},{"$f":"IF(AX79=\"\",\"\",SQRT((AX79+BB79)/(AX79*BB79)+(BD79^2/(2*(AX79+BB79)))))","v":""},null,null,null,null,null,null,null,null,{"$f":"IF(Sheet2!$A$94=TRUE,-1*(((BG79-$G79)-(BK79-$K79))/SQRT(((BH79^2*(BI79-1))+(BL79^2*(BM79-1)))/(BI79+BM79-2))),((BG79-$G79)-(BK79-$K79))/SQRT(((BH79^2*(BI79-1))+(BL79^2*(BM79-1)))/(BI79+BM79-2)))","v":{"$error":"#DIV/0!"}},{"$f":"IF(BG79=\"\",\"\",BN79)","v":""},{"$f":"IF(BI79=\"\",\"\",SQRT((BI79+BM79)/(BI79*BM79)+(BO79^2/(2*(BI79+BM79)))))","v":""},null,null,null,null,null,null,null,null,{"$f":"IF(Sheet2!$A$94=TRUE,-1*(((BR79-$G79)-(BV79-$K79))/SQRT(((BS79^2*(BT79-1))+(BW79^2*(BX79-1)))/(BT79+BX79-2))),((BR79-$G79)-(BV79-$K79))/SQRT(((BS79^2*(BT79-1))+(BW79^2*(BX79-1)))/(BT79+BX79-2)))","v":{"$error":"#DIV/0!"}},{"$f":"IF(BR79=\"\",\"\",BY79)","v":""},{"$f":"IF(BT79=\"\",\"\",SQRT((BT79+BX79)/(BT79*BX79)+(BZ79^2/(2*(BT79+BX79)))))","v":""}]
[null,null,"Outcome 3:",null,null,null,null,null,null,null,null,null,null,null,null,null,null,null,null,null,null,{"$f":"IF(Sheet2!$A$95=TRUE,-1*(((O80-$G80)-(S80-$K80))/SQRT(((P80^2*(Q80-1))+(T80^2*(U80-1)))/(Q80+U80-2))),((O80-$G80)-(S80-$K80))/SQRT(((P80^2*(Q80-1))+(T80^2*(U80-1)))/(Q80+U80-2)))","v":{"$error":"#DIV/0!"}},{"$f":"IF(O80=\"\",\"\",V80)","v":""},"",null,null,null,null,null,null,null,null,{"$f":"IF(Sheet2!$A$95=TRUE,-1*(((Z80-$G80)-(AD80-$K80))/SQRT(((AA80^2*(AB80-1))+(AE80^2*(AF80-1)))/(AB80+AF80-2))),((Z80-$G80)-(AD80-$K80))/SQRT(((AA80^2*(AB80-1))+(AE80^2*(AF80-1)))/(AB80+AF80-2)))","v":{"$error":"#DIV/0!"}},{"$f":"IF(Z80=\"\",\"\",AG80)","v":""},"",null,null,null,null,null,null,null,null,{"$f":"IF(Sheet2!$A$95=TRUE,-1*(((AK80-$G80)-(AO80-$K80))/SQRT(((AL80^2*(AM80-1))+(AP80^2*(AQ80-1)))/(AM80+AQ80-2))),((AK80-$G80)-(AO80-$K80))/SQRT(((AL80^2*(AM80-1))+(AP80^2*(AQ80-1)))/(AM80+AQ80-2)))","v":{"$error":"#DIV/0!"}},{"$f":"IF(AK80=\"\",\"\",AR80)","v":""},"",null,null,null,null,null,null,null,null,{"$f":"IF(Sheet2!$A$95=TRUE,-1*(((AV80-$G80)-(AZ80-$K80))/SQRT(((AW80^2*(AX80-1))+(BA80^2*(BB80-1)))/(AX80+BB80-2))),((AV80-$G80)-(AZ80-$K80))/SQRT(((AW80^2*(AX80-1))+(BA80^2*(BB80-1)))/(AX80+BB80-2)))","v":{"$error":"#DIV/0!"}},{"$f":"IF(AV80=\"\",\"\",BC80)","v":""},"",null,null,null,null,null,null,null,null,{"$f":"IF(Sheet2!$A$95=TRUE,-1*(((BG80-$G80)-(BK80-$K80))/SQRT(((BH80^2*(BI80-1))+(BL80^2*(BM80-1)))/(BI80+BM80-2))),((BG80-$G80)-(BK80-$K80))/SQRT(((BH80^2*(BI80-1))+(BL80^2*(BM80-1)))/(BI80+BM80-2)))","v":{"$error":"#DIV/0!"}},{"$f":"IF(BG80=\"\",\"\",BN80)","v":""},"",null,null,null,null,null,null,null,null,{"$f":"IF(Sheet2!$A$95=TRUE,-1*(((BR80-$G80)-(BV80-$K80))/SQRT(((BS80^2*(BT80-1))+(BW80^2*(BX80-1)))/(BT80+BX80-2))),((BR80-$G80)-(BV80-$K80))/SQRT(((BS80^2*(BT80-1))+(BW80^2*(BX80-1)))/(BT80+BX80-2)))","v":{"$error":"#DIV/0!"}},{"$f":"IF(BR80=\"\",\"\",BY80)","v":""},""]
[null,null,"Outcome 4:",null,null,null,null,null,null,null,null,null,null,null,null,null,null,null,null,null,null,{"$f":"IF(Sheet2!$A$96=TRUE,-1*(((O81-$G81)-(S81-$K81))/SQRT(((P81^2*(Q81-1))+(T81^2*(U81-1)))/(Q81+U81-2))),((O81-$G81)-(S81-$K81))/SQRT(((P81^2*(Q81-1))+(T81^2*(U81-1)))/(Q81+U81-2)))","v":{"$error":"#DIV/0!"}},{"$f":"IF(O81=\"\",\"\",V81)","v":""},{"$f":"IF(Q81=\"\",\"\",SQRT((Q81+U81)/(Q81*U81)+(W81^2/(2*(Q81+U81)))))","v":""},null,null,null,null,null,null,null,null,{"$f":"IF(Sheet2!$A$96=TRUE,-1*(((Z81-$G81)-(AD81-$K81))/SQRT(((AA81^2*(AB81-1))+(AE81^2*(AF81-1)))/(AB81+AF81-2))),((Z81-$G81)-(AD81-$K81))/SQRT(((AA81^2*(AB81-1))+(AE81^2*(AF81-1)))/(AB81+AF81-2)))","v":{"$error":"#DIV/0!"}},{"$f":"IF(Z81=\"\",\"\",AG81)","v":""},{"$f":"IF(AB81=\"\",\"\",SQRT((AB81+AF81)/(AB81*AF81)+(AH81^2/(2*(AB81+AF81)))))","v":""},null,null,null,null,null,null,null,null,{"$f":"IF(Sheet2!$A$96=TRUE,-1*(((AK81-$G81)-(AO81-$K81))/SQRT(((AL81^2*(AM81-1))+(AP81^2*(AQ81-1)))/(AM81+AQ81-2))),((AK81-$G81)-(AO81-$K81))/SQRT(((AL81^2*(AM81-1))+(AP81^2*(AQ81-1)))/(AM81+AQ81-2)))","v":{"$error":"#DIV/0!"}},{"$f":"IF(AK81=\"\",\"\",AR81)","v":""},{"$f":"IF(AM81=\"\",\"\",SQRT((AM81+AQ81)/(AM81*AQ81)+(AS81^2/(2*(AM81+AQ81)))))","v":""},null,null,null,null,null,null,null,null,{"$f":"IF(Sheet2!$A$96=TRUE,-1*(((AV81-$G81)-(AZ81-$K81))/SQRT(((AW81^2*(AX81-1))+(BA81^2*(BB81-1)))/(AX81+BB81-2))),((AV81-$G81)-(AZ81-$K81))/SQRT(((AW81^2*(AX81-1))+(BA81^2*(BB81-1)))/(AX81+BB81-2)))","v":{"$error":"#DIV/0!"}},{"$f":"IF(AV81=\"\",\"\",BC81)","v":""},{"$f":"IF(AX81=\"\",\"\",SQRT((AX81+BB81)/(AX81*BB81)+(BD81^2/(2*(AX81+BB81)))))","v":""},null,null,null,null,null,null,null,null,{"$f":"IF(Sheet2!$A$96=TRUE,-1*(((BG81-$G81)-(BK81-$K81))/SQRT(((BH81^2*(BI81-1))+(BL81^2*(BM81-1)))/(BI81+BM81-2))),((BG81-$G81)-(BK81-$K81))/SQRT(((BH81^2*(BI81-1))+(BL81^2*(BM81-1)))/(BI81+BM81-2)))","v":{"$error":"#DIV/0!"}},{"$f":"IF(BG81=\"\",\"\",BN81)","v":""},{"$f":"IF(BI81=\"\",\"\",SQRT((BI81+BM81)/(BI81*BM81)+(BO81^2/(2*(BI81+BM81)))))","v":""},null,null,null,null,null,null,null,null,{"$f":"IF(Sheet2!$A$96=TRUE,-1*(((BR81-$G81)-(BV81-$K81))/SQRT(((BS81^2*(BT81-1))+(BW81^2*(BX81-1)))/(BT81+BX81-2))),((BR81-$G81)-(BV81-$K81))/SQRT(((BS81^2*(BT81-1))+(BW81^2*(BX81-1)))/(BT81+BX81-2)))","v":{"$error":"#DIV/0!"}},{"$f":"IF(BR81=\"\",\"\",BY81)","v":""},{"$f":"IF(BT81=\"\",\"\",SQRT((BT81+BX81)/(BT81*BX81)+(BZ81^2/(2*(BT81+BX81)))))","v":""}]
[null,null,"Outcome 5:",null,null,null,null,null,null,null,null,null,null,null,null,null,null,null,null,null,null,{"$f":"IF(Sheet2!$A$97=TRUE,-1*(((O82-$G82)-(S82-$K82))/SQRT(((P82^2*(Q82-1))+(T82^2*(U82-1)))/(Q82+U82-2))),((O82-$G82)-(S82-$K82))/SQRT(((P82^2*(Q82-1))+(T82^2*(U82-1)))/(Q82+U82-2)))","v":{"$error":"#DIV/0!"}},"","",null,null,null,null,null,null,null,null,{"$f":"IF(Sheet2!$A$97=TRUE,-1*(((Z82-$G82)-(AD82-$K82))/SQRT(((AA82^2*(AB82-1))+(AE82^2*(AF82-1)))/(AB82+AF82-2))),((Z82-$G82)-(AD82-$K82))/SQRT(((AA82^2*(AB82-1))+(AE82^2*(AF82-1)))/(AB82+AF82-2)))","v":{"$error":"#DIV/0!"}},"",{"$f":"IF(AB82=\"\",\"\",SQRT((AB82+AF82)/(AB82*AF82)+(AH82^2/(2*(AB82+AF82)))))","v":""},null,null,null,null,null,null,null,null,{"$f":"IF(Sheet2!$A$97=TRUE,-1*(((AK82-$G82)-(AO82-$K82))/SQRT(((AL82^2*(AM82-1))+(AP82^2*(AQ82-1)))/(AM82+AQ82-2))),((AK82-$G82)-(AO82-$K82))/SQRT(((AL82^2*(AM82-1))+(AP82^2*(AQ82-1)))/(AM82+AQ82-2)))","v":{"$error":"#DIV/0!"}},"",{"$f":"IF(AM82=\"\",\"\",SQRT((AM82+AQ82)/(AM82*AQ82)+(AS82^2/(2*(AM82+AQ82)))))","v":""},null,null,null,null,null,null,null,null,{"$f":"IF(Sheet2!$A$97=TRUE,-1*(((AV82-$G82)-(AZ82-$K82))/SQRT(((AW82^2*(AX82-1))+(BA82^2*(BB82-1)))/(AX82+BB82-2))),((AV82-$G82)-(AZ82-$K82))/SQRT(((AW82^2*(AX82-1))+(BA82^2*(BB82-1)))/(AX82+BB82-2)))","v":{"$error":"#DIV/0!"}},"",{"$f":"IF(AX82=\"\",\"\",SQRT((AX82+BB82)/(AX82*BB82)+(BD82^2/(2*(AX82+BB82)))))","v":""},null,null,null,null,null,null,null,null,{"$f":"IF(Sheet2!$A$97=TRUE,-1*(((BG82-$G82)-(BK82-$K82))/SQRT(((BH82^2*(BI82-1))+(BL82^2*(BM82-1)))/(BI82+BM82-2))),((BG82-$G82)-(BK82-$K82))/SQRT(((BH82^2*(BI82-1))+(BL82^2*(BM82-1)))/(BI82+BM82-2)))","v":{"$error":"#DIV/0!"}},"",{"$f":"IF(BI82=\"\",\"\",SQRT((BI82+BM82)/(BI82*BM82)+(BO82^2/(2*(BI82+BM82)))))","v":""},null,null,null,null,null,null,null,null,{"$f":"IF(Sheet2!$A$97=TRUE,-1*(((BR82-$G82)-(BV82-$K82))/SQRT(((BS82^2*(BT82-1))+(BW82^2*(BX82-1)))/(BT82+BX82-2))),((BR82-$G82)-(BV82-$K82))/SQRT(((BS82^2*(BT82-1))+(BW82^2*(BX82-1)))/(BT82+BX82-2)))","v":{"$error":"#DIV/0!"}},"",{"$f":"IF(BT82=\"\",\"\",SQRT((BT82+BX82)/(BT82*BX82)+(BZ82^2/(2*(BT82+BX82)))))","v":""}]
[null,null,"Fine Motor Mvmt d",null,null,null,null,null,null,null,null,null,null,null,null,null,null,null,null,null,null,null,{"$f":"IF(W78=\"\",\"\",AVERAGE(W78:W82))","v":""},{"$f":"IF(X78=\"\",\"\",AVERAGE(X78:X82))","v":""},null,null,null,null,null,null,null,null,null,{"$f":"IF(AH78=\"\",\"\",AVERAGE(AH78:AH82))","v":""},{"$f":"IF(AI78=\"\",\"\",AVERAGE(AI78:AI82))","v":""},null,null,null,null,null,null,null,null,null,{"$f":"IF(AS78=\"\",\"\",AVERAGE(AS78:AS82))","v":""},{"$f":"IF(AT78=\"\",\"\",AVERAGE(AT78:AT82))","v":""},null,null,null,null,null,null,null,null,null,{"$f":"IF(BD78=\"\",\"\",AVERAGE(BD78:BD82))","v":""},{"$f":"IF(BE78=\"\",\"\",AVERAGE(BE78:BE82))","v":""},null,null,null,null,null,null,null,null,null,{"$f":"IF(BO78=\"\",\"\",AVERAGE(BO78:BO82))","v":""},{"$f":"IF(BP78=\"\",\"\",AVERAGE(BP78:BP82))","v":""},null,null,null,null,null,null,null,null,null,{"$f":"IF(BZ78=\"\",\"\",AVERAGE(BZ78:BZ82))","v":""},{"$f":"IF(CA78=\"\",\"\",AVERAGE(CA78:CA82))","v":""}]
[]
[null,null,"Overall d",null,null,null,null,null,null,null,null,null,null,null,null,null,null,null,null,null,null,null,{"$f":"AVERAGE(W6:W10,W14:W18,W22:W26,W30:W34,W38:W42,W46:W50,W54:W58,W62:W66,W70:W74,W78:W82)","v":{"$error":"#DIV/0!"}},{"$f":"AVERAGE(X6:X10,X14:X18,X22:X26,X30:X34,X38:X42,X46:X50,X54:X58,X62:X66,X70:X74,X78:X82)","v":{"$error":"#DIV/0!"}},null,null,null,null,null,null,null,null,null,{"$f":"AVERAGE(AH6:AH10,AH14:AH18,AH22:AH26,AH30:AH34,AH38:AH42,AH46:AH50,AH54:AH58,AH62:AH66,AH70:AH74,AH78:AH82)","v":{"$error":"#DIV/0!"}},{"$f":"AVERAGE(AI6:AI10,AI14:AI18,AI22:AI26,AI30:AI34,AI38:AI42,AI46:AI50,AI54:AI58,AI62:AI66,AI70:AI74,AI78:AI82)","v":{"$error":"#DIV/0!"}},null,null,null,null,null,null,null,null,null,{"$f":"AVERAGE(AS6:AS10,AS14:AS18,AS22:AS26,AS30:AS34,AS38:AS42,AS46:AS50,AS54:AS58,AS62:AS66,AS70:AS74,AS78:AS82)","v":{"$error":"#DIV/0!"}},{"$f":"AVERAGE(AT6:AT10,AT14:AT18,AT22:AT26,AT30:AT34,AT38:AT42,AT46:AT50,AT54:AT58,AT62:AT66,AT70:AT74,AT78:AT82)","v":{"$error":"#DIV/0!"}},null,null,null,null,null,null,null,null,null,{"$f":"AVERAGE(BD6:BD10,BD14:BD18,BD22:BD26,BD30:BD34,BD38:BD42,BD46:BD50,BD54:BD58,BD62:BD66,BD70:BD74,BD78:BD82)","v":{"$error":"#DIV/0!"}},{"$f":"AVERAGE(BE6:BE10,BE14:BE18,BE22:BE26,BE30:BE34,BE38:BE42,BE46:BE50,BE54:BE58,BE62:BE66,BE70:BE74,BE78:BE82)","v":{"$error":"#DIV/0!"}},null,null,null,null,null,null,null,null,null,{"$f":"AVERAGE(BO6:BO10,BO14:BO18,BO22:BO26,BO30:BO34,BO38:BO42,BO46:BO50,BO54:BO58,BO62:BO66,BO70:BO74,BO78:BO82)","v":{"$error":"#DIV/0!"}},{"$f":"AVERAGE(BP6:BP10,BP14:BP18,BP22:BP26,BP30:BP34,BP38:BP42,BP46:BP50,BP54:BP58,BP62:BP66,BP70:BP74,BP78:BP82)","v":{"$error":"#DIV/0!"}},null,null,null,null,null,null,null,null,null,{"$f":"AVERAGE(BZ6:BZ10,BZ14:BZ18,BZ22:BZ26,BZ30:BZ34,BZ38:BZ42,BZ46:BZ50,BZ54:BZ58,BZ62:BZ66,BZ70:BZ74,BZ78:BZ82)","v":{"$error":"#DIV/0!"}},{"$f":"AVERAGE(CA6:CA10,CA14:CA18,CA22:CA26,CA30:CA34,CA38:CA42,CA46:CA50,CA54:CA58,CA62:CA66,CA70:CA74,CA78:CA82)","v":{"$error":"#DIV/0!"}}]
[]
[null,null,null,null,null,null,"Mood/Emottional Functioning ",null,null,null,null,null,null,null,"Mood/Emottional Functioning ",null,null,null,null,null,null,null,null,null,null,"Mood/Emottional Functioning ",null,null,null,null,null,null,null,null,null,null,"Mood/Emottional Functioning ",null,null,null,null,null,null,null,null,null,null,"Mood/Emottional Functioning ",null,null,null,null,null,null,null,null,null,null,"Mood/Emottional Functioning ",null,null,null,null,null,null,null,null,null,null,"Mood/Emottional Functioning "]
[]
[null,null,"Depression","Measure Name"]
[null,null,"Outcome 1:",null,null,null,null,null,null,null,null,null,null,null,null,null,null,null,null,null,null,{"$f":"IF(Sheet2!$A$105=TRUE,-1*(((O90-$G90)-(S90-$K90))/SQRT(((P90^2*(Q90-1))+(T90^2*(U90-1)))/(Q90+U90-2))),((O90-$G90)-(S90-$K90))/SQRT(((P90^2*(Q90-1))+(T90^2*(U90-1)))/(Q90+U90-2)))","v":{"$error":"#DIV/0!"}},{"$f":"IF(O90=\"\",\"\",V90)","v":""},{"$f":"IF(Q90=\"\",\"\",SQRT((Q90+U90)/(Q90*U90)+(W90^2/(2*(Q90+U90)))))","v":""},null,null,null,null,null,null,null,null,{"$f":"IF(Sheet2!$A$105=TRUE,-1*(((Z90-$G90)-(AD90-$K90))/SQRT(((AA90^2*(AB90-1))+(AE90^2*(AF90-1)))/(AB90+AF90-2))),((Z90-$G90)-(AD90-$K90))/SQRT(((AA90^2*(AB90-1))+(AE90^2*(AF90-1)))/(AB90+AF90-2)))","v":{"$error":"#DIV/0!"}},{"$f":"IF(Z90=\"\",\"\",AG90)","v":""},{"$f":"IF(AB90=\"\",\"\",SQRT((AB90+AF90)/(AB90*AF90)+(AH90^2/(2*(AB90+AF90)))))","v":""},null,null,null,null,null,null,null,null,{"$f":"IF(Sheet2!$A$105=TRUE,-1*(((AK90-$G90)-(AO90-$K90))/SQRT(((AL90^2*(AM90-1))+(AP90^2*(AQ90-1)))/(AM90+AQ90-2))),((AK90-$G90)-(AO90-$K90))/SQRT(((AL90^2*(AM90-1))+(AP90^2*(AQ90-1)))/(AM90+AQ90-2)))","v":{"$error":"#DIV/0!"}},{"$f":"IF(AK90=\"\",\"\",AR90)","v":""},{"$f":"IF(AM90=\"\",\"\",SQRT((AM90+AQ90)/(AM90*AQ90)+(AS90^2/(2*(AM90+AQ90)))))","v":""},null,null,null,null,null,null,null,null,{"$f":"IF(Sheet2!$A$105=TRUE,-1*(((AV90-$G90)-(AZ90-$K90))/SQRT(((AW90^2*(AX90-1))+(BA90^2*(BB90-1)))/(AX90+BB90-2))),((AV90-$G90)-(AZ90-$K90))/SQRT(((AW90^2*(AX90-1))+(BA90^2*(BB90-1)))/(AX90+BB90-2)))","v":{"$error":"#DIV/0!"}},{"$f":"IF(AV90=\"\",\"\",BC90)","v":""},{"$f":"IF(AX90=\"\",\"\",SQRT((AX90+BB90)/(AX90*BB90)+(BD90^2/(2*(AX90+BB90)))))","v":""},null,null,null,null,null,null,null,null,{"$f":"IF(Sheet2!$A$105=TRUE,-1*(((BG90-$G90)-(BK90-$K90))/SQRT(((BH90^2*(BI90-1))+(BL90^2*(BM90-1)))/(BI90+BM90-2))),((BG90-$G90)-(BK90-$K90))/SQRT(((BH90^2*(BI90-1))+(BL90^2*(BM90-1)))/(BI90+BM90-2)))","v":{"$error":"#DIV/0!"}},{"$f":"IF(BG90=\"\",\"\",BN90)","v":""},{"$f":"IF(BI90=\"\",\"\",SQRT((BI90+BM90)/(BI90*BM90)+(BO90^2/(2*(BI90+BM90)))))","v":""},null,null,null,null,null,null,null,null,{"$f":"IF(Sheet2!$A$105=TRUE,-1*(((BR90-$G90)-(BV90-$K90))/SQRT(((BS90^2*(BT90-1))+(BW90^2*(BX90-1)))/(BT90+BX90-2))),((BR90-$G90)-(BV90-$K90))/SQRT(((BS90^2*(BT90-1))+(BW90^2*(BX90-1)))/(BT90+BX90-2)))","v":{"$error":"#DIV/0!"}},{"$f":"IF(BR90=\"\",\"\",BY90)","v":""},{"$f":"IF(BT90=\"\",\"\",SQRT((BT90+BX90)/(BT90*BX90)+(BZ90^2/(2*(BT90+BX90)))))","v":""}]
[null,null,"Outcome 2:",null,null,null,null,null,null,null,null,null,null,null,null,null,null,null,null,null,null,{"$f":"IF(Sheet2!$A$106=TRUE,-1*(((O91-$G91)-(S91-$K91))/SQRT(((P91^2*(Q91-1))+(T91^2*(U91-1)))/(Q91+U91-2))),((O91-$G91)-(S91-$K91))/SQRT(((P91^2*(Q91-1))+(T91^2*(U91-1)))/(Q91+U91-2)))","v":{"$error":"#DIV/0!"}},{"$f":"IF(O91=\"\",\"\",V91)","v":""},{"$f":"IF(Q91=\"\",\"\",SQRT((Q91+U91)/(Q91*U91)+(W91^2/(2*(Q91+U91)))))","v":""},null,null,null,null,null,null,null,null,{"$f":"IF(Sheet2!$A$106=TRUE,-1*(((Z91-$G91)-(AD91-$K91))/SQRT(((AA91^2*(AB91-1))+(AE91^2*(AF91-1)))/(AB91+AF91-2))),((Z91-$G91)-(AD91-$K91))/SQRT(((AA91^2*(AB91-1))+(AE91^2*(AF91-1)))/(AB91+AF91-2)))","v":{"$error":"#DIV/0!"}},{"$f":"IF(Z91=\"\",\"\",AG91)","v":""},{"$f":"IF(AB91=\"\",\"\",SQRT((AB91+AF91)/(AB91*AF91)+(AH91^2/(2*(AB91+AF91)))))","v":""},null,null,null,null,null,null,null,null,{"$f":"IF(Sheet2!$A$106=TRUE,-1*(((AK91-$G91)-(AO91-$K91))/SQRT(((AL91^2*(AM91-1))+(AP91^2*(AQ91-1)))/(AM91+AQ91-2))),((AK91-$G91)-(AO91-$K91))/SQRT(((AL91^2*(AM91-1))+(AP91^2*(AQ91-1)))/(AM91+AQ91-2)))","v":{"$error":"#DIV/0!"}},{"$f":"IF(AK91=\"\",\"\",AR91)","v":""},{"$f":"IF(AM91=\"\",\"\",SQRT((AM91+AQ91)/(AM91*AQ91)+(AS91^2/(2*(AM91+AQ91)))))","v":""},null,null,null,null,null,null,null,null,{"$f":"IF(Sheet2!$A$106=TRUE,-1*(((AV91-$G91)-(AZ91-$K91))/SQRT(((AW91^2*(AX91-1))+(BA91^2*(BB91-1)))/(AX91+BB91-2))),((AV91-$G91)-(AZ91-$K91))/SQRT(((AW91^2*(AX91-1))+(BA91^2*(BB91-1)))/(AX91+BB91-2)))","v":{"$error":"#DIV/0!"}},{"$f":"IF(AV91=\"\",\"\",BC91)","v":""},{"$f":"IF(AX91=\"\",\"\",SQRT((AX91+BB91)/(AX91*BB91)+(BD91^2/(2*(AX91+BB91)))))","v":""},null,null,null,null,null,null,null,null,{"$f":"IF(Sheet2!$A$106=TRUE,-1*(((BG91-$G91)-(BK91-$K91))/SQRT(((BH91^2*(BI91-1))+(BL91^2*(BM91-1)))/(BI91+BM91-2))),((BG91-$G91)-(BK91-$K91))/SQRT(((BH91^2*(BI91-1))+(BL91^2*(BM91-1)))/(BI91+BM91-2)))","v":{"$error":"#DIV/0!"}},{"$f":"IF(BG91=\"\",\"\",BN91)","v":""},{"$f":"IF(BI91=\"\",\"\",SQRT((BI91+BM91)/(BI91*BM91)+(BO91^2/(2*(BI91+BM91)))))","v":""},null,null,null,null,null,null,null,null,{"$f":"IF(Sheet2!$A$106=TRUE,-1*(((BR91-$G91)-(BV91-$K91))/SQRT(((BS91^2*(BT91-1))+(BW91^2*(BX91-1)))/(BT91+BX91-2))),((BR91-$G91)-(BV91-$K91))/SQRT(((BS91^2*(BT91-1))+(BW91^2*(BX91-1)))/(BT91+BX91-2)))","v":{"$error":"#DIV/0!"}},{"$f":"IF(BR91=\"\",\"\",BY91)","v":""},{"$f":"IF(BT91=\"\",\"\",SQRT((BT91+BX91)/(BT91*BX91)+(BZ91^2/(2*(BT91+BX91)))))","v":""}]
[null,null,"Outcome 3:",null,null,null,null,null,null,null,null,null,null,null,null,null,null,null,null,null,null,{"$f":"IF(Sheet2!$A$107=TRUE,-1*(((O92-$G92)-(S92-$K92))/SQRT(((P92^2*(Q92-1))+(T92^2*(U92-1)))/(Q92+U92-2))),((O92-$G92)-(S92-$K92))/SQRT(((P92^2*(Q92-1))+(T92^2*(U92-1)))/(Q92+U92-2)))","v":{"$error":"#DIV/0!"}},{"$f":"IF(O92=\"\",\"\",V92)","v":""},"",null,null,null,null,null,null,null,null,{"$f":"IF(Sheet2!$A$107=TRUE,-1*(((Z92-$G92)-(AD92-$K92))/SQRT(((AA92^2*(AB92-1))+(AE92^2*(AF92-1)))/(AB92+AF92-2))),((Z92-$G92)-(AD92-$K92))/SQRT(((AA92^2*(AB92-1))+(AE92^2*(AF92-1)))/(AB92+AF92-2)))","v":{"$error":"#DIV/0!"}},{"$f":"IF(Z92=\"\",\"\",AG92)","v":""},"",null,null,null,null,null,null,null,null,{"$f":"IF(Sheet2!$A$107=TRUE,-1*(((AK92-$G92)-(AO92-$K92))/SQRT(((AL92^2*(AM92-1))+(AP92^2*(AQ92-1)))/(AM92+AQ92-2))),((AK92-$G92)-(AO92-$K92))/SQRT(((AL92^2*(AM92-1))+(AP92^2*(AQ92-1)))/(AM92+AQ92-2)))","v":{"$error":"#DIV/0!"}},{"$f":"IF(AK92=\"\",\"\",AR92)","v":""},"",null,null,null,null,null,null,null,null,{"$f":"IF(Sheet2!$A$107=TRUE,-1*(((AV92-$G92)-(AZ92-$K92))/SQRT(((AW92^2*(AX92-1))+(BA92^2*(BB92-1)))/(AX92+BB92-2))),((AV92-$G92)-(AZ92-$K92))/SQRT(((AW92^2*(AX92-1))+(BA92^2*(BB92-1)))/(AX92+BB92-2)))","v":{"$error":"#DIV/0!"}},{"$f":"IF(AV92=\"\",\"\",BC92)","v":""},"",null,null,null,null,null,null,null,null,{"$f":"IF(Sheet2!$A$107=TRUE,-1*(((BG92-$G92)-(BK92-$K92))/SQRT(((BH92^2*(BI92-1))+(BL92^2*(BM92-1)))/(BI92+BM92-2))),((BG92-$G92)-(BK92-$K92))/SQRT(((BH92^2*(BI92-1))+(BL92^2*(BM92-1)))/(BI92+BM92-2)))","v":{"$error":"#DIV/0!"}},{"$f":"IF(BG92=\"\",\"\",BN92)","v":""},"",null,null,null,null,null,null,null,null,{"$f":"IF(Sheet2!$A$107=TRUE,-1*(((BR92-$G92)-(BV92-$K92))/SQRT(((BS92^2*(BT92-1))+(BW92^2*(BX92-1)))/(BT92+BX92-2))),((BR92-$G92)-(BV92-$K92))/SQRT(((BS92^2*(BT92-1))+(BW92^2*(BX92-1)))/(BT92+BX92-2)))","v":{"$error":"#DIV/0!"}},{"$f":"IF(BR92=\"\",\"\",BY92)","v":""},""]
[null,null,"Outcome 4:",null,null,null,null,null,null,null,null,null,null,null,null,null,null,null,null,null,null,{"$f":"IF(Sheet2!$A$108=TRUE,-1*(((O93-$G93)-(S93-$K93))/SQRT(((P93^2*(Q93-1))+(T93^2*(U93-1)))/(Q93+U93-2))),((O93-$G93)-(S93-$K93))/SQRT(((P93^2*(Q93-1))+(T93^2*(U93-1)))/(Q93+U93-2)))","v":{"$error":"#DIV/0!"}},{"$f":"IF(O93=\"\",\"\",V93)","v":""},{"$f":"IF(Q93=\"\",\"\",SQRT((Q93+U93)/(Q93*U93)+(W93^2/(2*(Q93+U93)))))","v":""},null,null,null,null,null,null,null,null,{"$f":"IF(Sheet2!$A$108=TRUE,-1*(((Z93-$G93)-(AD93-$K93))/SQRT(((AA93^2*(AB93-1))+(AE93^2*(AF93-1)))/(AB93+AF93-2))),((Z93-$G93)-(AD93-$K93))/SQRT(((AA93^2*(AB93-1))+(AE93^2*(AF93-1)))/(AB93+AF93-2)))","v":{"$error":"#DIV/0!"}},{"$f":"IF(Z93=\"\",\"\",AG93)","v":""},{"$f":"IF(AB93=\"\",\"\",SQRT((AB93+AF93)/(AB93*AF93)+(AH93^2/(2*(AB93+AF93)))))","v":""},null,null,null,null,null,null,null,null,{"$f":"IF(Sheet2!$A$108=TRUE,-1*(((AK93-$G93)-(AO93-$K93))/SQRT(((AL93^2*(AM93-1))+(AP93^2*(AQ93-1)))/(AM93+AQ93-2))),((AK93-$G93)-(AO93-$K93))/SQRT(((AL93^2*(AM93-1))+(AP93^2*(AQ93-1)))/(AM93+AQ93-2)))","v":{"$error":"#DIV/0!"}},{"$f":"IF(AK93=\"\",\"\",AR93)","v":""},{"$f":"IF(AM93=\"\",\"\",SQRT((AM93+AQ93)/(AM93*AQ93)+(AS93^2/(2*(AM93+AQ93)))))","v":""},null,null,null,null,null,null,null,null,{"$f":"IF(Sheet2!$A$108=TRUE,-1*(((AV93-$G93)-(AZ93-$K93))/SQRT(((AW93^2*(AX93-1))+(BA93^2*(BB93-1)))/(AX93+BB93-2))),((AV93-$G93)-(AZ93-$K93))/SQRT(((AW93^2*(AX93-1))+(BA93^2*(BB93-1)))/(AX93+BB93-2)))","v":{"$error":"#DIV/0!"}},{"$f":"IF(AV93=\"\",\"\",BC93)","v":""},{"$f":"IF(AX93=\"\",\"\",SQRT((AX93+BB93)/(AX93*BB93)+(BD93^2/(2*(AX93+BB93)))))","v":""},null,null,null,null,null,null,null,null,{"$f":"IF(Sheet2!$A$108=TRUE,-1*(((BG93-$G93)-(BK93-$K93))/SQRT(((BH93^2*(BI93-1))+(BL93^2*(BM93-1)))/(BI93+BM93-2))),((BG93-$G93)-(BK93-$K93))/SQRT(((BH93^2*(BI93-1))+(BL93^2*(BM93-1)))/(BI93+BM93-2)))","v":{"$error":"#DIV/0!"}},{"$f":"IF(BG93=\"\",\"\",BN93)","v":""},{"$f":"IF(BI93=\"\",\"\",SQRT((BI93+BM93)/(BI93*BM93)+(BO93^2/(2*(BI93+BM93)))))","v":""},null,null,null,null,null,null,null,null,{"$f":"IF(Sheet2!$A$108=TRUE,-1*(((BR93-$G93)-(BV93-$K93))/SQRT(((BS93^2*(BT93-1))+(BW93^2*(BX93-1)))/(BT93+BX93-2))),((BR93-$G93)-(BV93-$K93))/SQRT(((BS93^2*(BT93-1))+(BW93^2*(BX93-1)))/(BT93+BX93-2)))","v":{"$error":"#DIV/0!"}},{"$f":"IF(BR93=\"\",\"\",BY93)","v":""},{"$f":"IF(BT93=\"\",\"\",SQRT((BT93+BX93)/(BT93*BX93)+(BZ93^2/(2*(BT93+BX93)))))","v":""}]
[null,null,"Outcome 5:",null,null,null,null,null,null,null,null,null,null,null,null,null,null,null,null,null,null,{"$f":"IF(Sheet2!$A$109=TRUE,-1*(((O94-$G94)-(S94-$K94))/SQRT(((P94^2*(Q94-1))+(T94^2*(U94-1)))/(Q94+U94-2))),((O94-$G94)-(S94-$K94))/SQRT(((P94^2*(Q94-1))+(T94^2*(U94-1)))/(Q94+U94-2)))","v":{"$error":"#DIV/0!"}},"","",null,null,null,null,null,null,null,null,{"$f":"IF(Sheet2!$A$109=TRUE,-1*(((Z94-$G94)-(AD94-$K94))/SQRT(((AA94^2*(AB94-1))+(AE94^2*(AF94-1)))/(AB94+AF94-2))),((Z94-$G94)-(AD94-$K94))/SQRT(((AA94^2*(AB94-1))+(AE94^2*(AF94-1)))/(AB94+AF94-2)))","v":{"$error":"#DIV/0!"}},"",{"$f":"IF(AB94=\"\",\"\",SQRT((AB94+AF94)/(AB94*AF94)+(AH94^2/(2*(AB94+AF94)))))","v":""},null,null,null,null,null,null,null,null,{"$f":"IF(Sheet2!$A$109=TRUE,-1*(((AK94-$G94)-(AO94-$K94))/SQRT(((AL94^2*(AM94-1))+(AP94^2*(AQ94-1)))/(AM94+AQ94-2))),((AK94-$G94)-(AO94-$K94))/SQRT(((AL94^2*(AM94-1))+(AP94^2*(AQ94-1)))/(AM94+AQ94-2)))","v":{"$error":"#DIV/0!"}},"",{"$f":"IF(AM94=\"\",\"\",SQRT((AM94+AQ94)/(AM94*AQ94)+(AS94^2/(2*(AM94+AQ94)))))","v":""},null,null,null,null,null,null,null,null,{"$f":"IF(Sheet2!$A$109=TRUE,-1*(((AV94-$G94)-(AZ94-$K94))/SQRT(((AW94^2*(AX94-1))+(BA94^2*(BB94-1)))/(AX94+BB94-2))),((AV94-$G94)-(AZ94-$K94))/SQRT(((AW94^2*(AX94-1))+(BA94^2*(BB94-1)))/(AX94+BB94-2)))","v":{"$error":"#DIV/0!"}},"",{"$f":"IF(AX94=\"\",\"\",SQRT((AX94+BB94)/(AX94*BB94)+(BD94^2/(2*(AX94+BB94)))))","v":""},null,null,null,null,null,null,null,null,{"$f":"IF(Sheet2!$A$109=TRUE,-1*(((BG94-$G94)-(BK94-$K94))/SQRT(((BH94^2*(BI94-1))+(BL94^2*(BM94-1)))/(BI94+BM94-2))),((BG94-$G94)-(BK94-$K94))/SQRT(((BH94^2*(BI94-1))+(BL94^2*(BM94-1)))/(BI94+BM94-2)))","v":{"$error":"#DIV/0!"}},"",{"$f":"IF(BI94=\"\",\"\",SQRT((BI94+BM94)/(BI94*BM94)+(BO94^2/(2*(BI94+BM94)))))","v":""},null,null,null,null,null,null,null,null,{"$f":"IF(Sheet2!$A$109=TRUE,-1*(((BR94-$G94)-(BV94-$K94))/SQRT(((BS94^2*(BT94-1))+(BW94^2*(BX94-1)))/(BT94+BX94-2))),((BR94-$G94)-(BV94-$K94))/SQRT(((BS94^2*(BT94-1))+(BW94^2*(BX94-1)))/(BT94+BX94-2)))","v":{"$error":"#DIV/0!"}},"",{"$f":"IF(BT94=\"\",\"\",SQRT((BT94+BX94)/(BT94*BX94)+(BZ94^2/(2*(BT94+BX94)))))","v":""}]
[null,null,"Despression d",null,null,null,null,null,null,null,null,null,null,null,null,null,null,null,null,null,null,null,{"$f":"IF(W90=\"\",\"\",AVERAGE(W90:W94))","v":""},{"$f":"IF(X90=\"\",\"\",AVERAGE(X90:X94))","v":""},null,null,null,null,null,null,null,null,null,{"$f":"IF(AH90=\"\",\"\",AVERAGE(AH90:AH94))","v":""},{"$f":"IF(AI90=\"\",\"\",AVERAGE(AI90:AI94))","v":""},null,null,null,null,null,null,null,null,null,{"$f":"IF(AS90=\"\",\"\",AVERAGE(AS90:AS94))","v":""},{"$f":"IF(AT90=\"\",\"\",AVERAGE(AT90:AT94))","v":""},null,null,null,null,null,null,null,null,null,{"$f":"IF(BD90=\"\",\"\",AVERAGE(BD90:BD94))","v":""},{"$f":"IF(BE90=\"\",\"\",AVERAGE(BE90:BE94))","v":""},null,null,null,null,null,null,null,null,null,{"$f":"IF(BO90=\"\",\"\",AVERAGE(BO90:BO94))","v":""},{"$f":"IF(BP90=\"\",\"\",AVERAGE(BP90:BP94))","v":""},null,null,null,null,null,null,null,null,null,{"$f":"IF(BZ90=\"\",\"\",AVERAGE(BZ90:BZ94))","v":""},{"$f":"IF(CA90=\"\",\"\",AVERAGE(CA90:CA94))","v":""}]
[]
[null,null,"Anxiety","Measure Name"]
[null,null,"Outcome 1:",null,null,null,null,null,null,null,null,null,null,null,null,null,null,null,null,null,null,{"$f":"IF(Sheet2!$A$113=TRUE,-1*(((O98-$G98)-(S98-$K98))/SQRT(((P98^2*(Q98-1))+(T98^2*(U98-1)))/(Q98+U98-2))),((O98-$G98)-(S98-$K98))/SQRT(((P98^2*(Q98-1))+(T98^2*(U98-1)))/(Q98+U98-2)))","v":{"$error":"#DIV/0!"}},{"$f":"IF(O98=\"\",\"\",V98)","v":""},{"$f":"IF(Q98=\"\",\"\",SQRT((Q98+U98)/(Q98*U98)+(W98^2/(2*(Q98+U98)))))","v":""},null,null,null,null,null,null,null,null,{"$f":"IF(Sheet2!$A$113=TRUE,-1*(((Z98-$G98)-(AD98-$K98))/SQRT(((AA98^2*(AB98-1))+(AE98^2*(AF98-1)))/(AB98+AF98-2))),((Z98-$G98)-(AD98-$K98))/SQRT(((AA98^2*(AB98-1))+(AE98^2*(AF98-1)))/(AB98+AF98-2)))","v":{"$error":"#DIV/0!"}},{"$f":"IF(Z98=\"\",\"\",AG98)","v":""},{"$f":"IF(AB98=\"\",\"\",SQRT((AB98+AF98)/(AB98*AF98)+(AH98^2/(2*(AB98+AF98)))))","v":""},null,null,null,null,null,null,null,null,{"$f":"IF(Sheet2!$A$113=TRUE,-1*(((AK98-$G98)-(AO98-$K98))/SQRT(((AL98^2*(AM98-1))+(AP98^2*(AQ98-1)))/(AM98+AQ98-2))),((AK98-$G98)-(AO98-$K98))/SQRT(((AL98^2*(AM98-1))+(AP98^2*(AQ98-1)))/(AM98+AQ98-2)))","v":{"$error":"#DIV/0!"}},{"$f":"IF(AK98=\"\",\"\",AR98)","v":""},{"$f":"IF(AM98=\"\",\"\",SQRT((AM98+AQ98)/(AM98*AQ98)+(AS98^2/(2*(AM98+AQ98)))))","v":""},null,null,null,null,null,null,null,null,{"$f":"IF(Sheet2!$A$113=TRUE,-1*(((AV98-$G98)-(AZ98-$K98))/SQRT(((AW98^2*(AX98-1))+(BA98^2*(BB98-1)))/(AX98+BB98-2))),((AV98-$G98)-(AZ98-$K98))/SQRT(((AW98^2*(AX98-1))+(BA98^2*(BB98-1)))/(AX98+BB98-2)))","v":{"$error":"#DIV/0!"}},{"$f":"IF(AV98=\"\",\"\",BC98)","v":""},{"$f":"IF(AX98=\"\",\"\",SQRT((AX98+BB98)/(AX98*BB98)+(BD98^2/(2*(AX98+BB98)))))","v":""},null,null,null,null,null,null,null,null,{"$f":"IF(Sheet2!$A$113=TRUE,-1*(((BG98-$G98)-(BK98-$K98))/SQRT(((BH98^2*(BI98-1))+(BL98^2*(BM98-1)))/(BI98+BM98-2))),((BG98-$G98)-(BK98-$K98))/SQRT(((BH98^2*(BI98-1))+(BL98^2*(BM98-1)))/(BI98+BM98-2)))","v":{"$error":"#DIV/0!"}},{"$f":"IF(BG98=\"\",\"\",BN98)","v":""},{"$f":"IF(BI98=\"\",\"\",SQRT((BI98+BM98)/(BI98*BM98)+(BO98^2/(2*(BI98+BM98)))))","v":""},null,null,null,null,null,null,null,null,{"$f":"IF(Sheet2!$A$113=TRUE,-1*(((BR98-$G98)-(BV98-$K98))/SQRT(((BS98^2*(BT98-1))+(BW98^2*(BX98-1)))/(BT98+BX98-2))),((BR98-$G98)-(BV98-$K98))/SQRT(((BS98^2*(BT98-1))+(BW98^2*(BX98-1)))/(BT98+BX98-2)))","v":{"$error":"#DIV/0!"}},{"$f":"IF(BR98=\"\",\"\",BY98)","v":""},{"$f":"IF(BT98=\"\",\"\",SQRT((BT98+BX98)/(BT98*BX98)+(BZ98^2/(2*(BT98+BX98)))))","v":""}]
[null,null,"Outcome 2:",null,null,null,null,null,null,null,null,null,null,null,null,null,null,null,null,null,null,{"$f":"IF(Sheet2!$A$114=TRUE,-1*(((O99-$G99)-(S99-$K99))/SQRT(((P99^2*(Q99-1))+(T99^2*(U99-1)))/(Q99+U99-2))),((O99-$G99)-(S99-$K99))/SQRT(((P99^2*(Q99-1))+(T99^2*(U99-1)))/(Q99+U99-2)))","v":{"$error":"#DIV/0!"}},{"$f":"IF(O99=\"\",\"\",V99)","v":""},{"$f":"IF(Q99=\"\",\"\",SQRT((Q99+U99)/(Q99*U99)+(W99^2/(2*(Q99+U99)))))","v":""},null,null,null,null,null,null,null,null,{"$f":"IF(Sheet2!$A$114=TRUE,-1*(((Z99-$G99)-(AD99-$K99))/SQRT(((AA99^2*(AB99-1))+(AE99^2*(AF99-1)))/(AB99+AF99-2))),((Z99-$G99)-(AD99-$K99))/SQRT(((AA99^2*(AB99-1))+(AE99^2*(AF99-1)))/(AB99+AF99-2)))","v":{"$error":"#DIV/0!"}},{"$f":"IF(Z99=\"\",\"\",AG99)","v":""},{"$f":"IF(AB99=\"\",\"\",SQRT((AB99+AF99)/(AB99*AF99)+(AH99^2/(2*(AB99+AF99)))))","v":""},null,null,null,null,null,null,null,null,{"$f":"IF(Sheet2!$A$114=TRUE,-1*(((AK99-$G99)-(AO99-$K99))/SQRT(((AL99^2*(AM99-1))+(AP99^2*(AQ99-1)))/(AM99+AQ99-2))),((AK99-$G99)-(AO99-$K99))/SQRT(((AL99^2*(AM99-1))+(AP99^2*(AQ99-1)))/(AM99+AQ99-2)))","v":{"$error":"#DIV/0!"}},{"$f":"IF(AK99=\"\",\"\",AR99)","v":""},{"$f":"IF(AM99=\"\",\"\",SQRT((AM99+AQ99)/(AM99*AQ99)+(AS99^2/(2*(AM99+AQ99)))))","v":""},null,null,null,null,null,null,null,null,{"$f":"IF(Sheet2!$A$114=TRUE,-1*(((AV99-$G99)-(AZ99-$K99))/SQRT(((AW99^2*(AX99-1))+(BA99^2*(BB99-1)))/(AX99+BB99-2))),((AV99-$G99)-(AZ99-$K99))/SQRT(((AW99^2*(AX99-1))+(BA99^2*(BB99-1)))/(AX99+BB99-2)))","v":{"$error":"#DIV/0!"}},{"$f":"IF(AV99=\"\",\"\",BC99)","v":""},{"$f":"IF(AX99=\"\",\"\",SQRT((AX99+BB99)/(AX99*BB99)+(BD99^2/(2*(AX99+BB99)))))","v":""},null,null,null,null,null,null,null,null,{"$f":"IF(Sheet2!$A$114=TRUE,-1*(((BG99-$G99)-(BK99-$K99))/SQRT(((BH99^2*(BI99-1))+(BL99^2*(BM99-1)))/(BI99+BM99-2))),((BG99-$G99)-(BK99-$K99))/SQRT(((BH99^2*(BI99-1))+(BL99^2*(BM99-1)))/(BI99+BM99-2)))","v":{"$error":"#DIV/0!"}},{"$f":"IF(BG99=\"\",\"\",BN99)","v":""},{"$f":"IF(BI99=\"\",\"\",SQRT((BI99+BM99)/(BI99*BM99)+(BO99^2/(2*(BI99+BM99)))))","v":""},null,null,null,null,null,null,null,null,{"$f":"IF(Sheet2!$A$114=TRUE,-1*(((BR99-$G99)-(BV99-$K99))/SQRT(((BS99^2*(BT99-1))+(BW99^2*(BX99-1)))/(BT99+BX99-2))),((BR99-$G99)-(BV99-$K99))/SQRT(((BS99^2*(BT99-1))+(BW99^2*(BX99-1)))/(BT99+BX99-2)))","v":{"$error":"#DIV/0!"}},{"$f":"IF(BR99=\"\",\"\",BY99)","v":""},{"$f":"IF(BT99=\"\",\"\",SQRT((BT99+BX99)/(BT99*BX99)+(BZ99^2/(2*(BT99+BX99)))))","v":""}]
[null,null,"Outcome 3:",null,null,null,null,null,null,null,null,null,null,null,null,null,null,null,null,null,null,{"$f":"IF(Sheet2!$A$115=TRUE,-1*(((O100-$G100)-(S100-$K100))/SQRT(((P100^2*(Q100-1))+(T100^2*(U100-1)))/(Q100+U100-2))),((O100-$G100)-(S100-$K100))/SQRT(((P100^2*(Q100-1))+(T100^2*(U100-1)))/(Q100+U100-2)))","v":{"$error":"#DIV/0!"}},{"$f":"IF(O100=\"\",\"\",V100)","v":""},"",null,null,null,null,null,null,null,null,{"$f":"IF(Sheet2!$A$115=TRUE,-1*(((Z100-$G100)-(AD100-$K100))/SQRT(((AA100^2*(AB100-1))+(AE100^2*(AF100-1)))/(AB100+AF100-2))),((Z100-$G100)-(AD100-$K100))/SQRT(((AA100^2*(AB100-1))+(AE100^2*(AF100-1)))/(AB100+AF100-2)))","v":{"$error":"#DIV/0!"}},{"$f":"IF(Z100=\"\",\"\",AG100)","v":""},"",null,null,null,null,null,null,null,null,{"$f":"IF(Sheet2!$A$115=TRUE,-1*(((AK100-$G100)-(AO100-$K100))/SQRT(((AL100^2*(AM100-1))+(AP100^2*(AQ100-1)))/(AM100+AQ100-2))),((AK100-$G100)-(AO100-$K100))/SQRT(((AL100^2*(AM100-1))+(AP100^2*(AQ100-1)))/(AM100+AQ100-2)))","v":{"$error":"#DIV/0!"}},{"$f":"IF(AK100=\"\",\"\",AR100)","v":""},"",null,null,null,null,null,null,null,null,{"$f":"IF(Sheet2!$A$115=TRUE,-1*(((AV100-$G100)-(AZ100-$K100))/SQRT(((AW100^2*(AX100-1))+(BA100^2*(BB100-1)))/(AX100+BB100-2))),((AV100-$G100)-(AZ100-$K100))/SQRT(((AW100^2*(AX100-1))+(BA100^2*(BB100-1)))/(AX100+BB100-2)))","v":{"$error":"#DIV/0!"}},{"$f":"IF(AV100=\"\",\"\",BC100)","v":""},"",null,null,null,null,null,null,null,null,{"$f":"IF(Sheet2!$A$115=TRUE,-1*(((BG100-$G100)-(BK100-$K100))/SQRT(((BH100^2*(BI100-1))+(BL100^2*(BM100-1)))/(BI100+BM100-2))),((BG100-$G100)-(BK100-$K100))/SQRT(((BH100^2*(BI100-1))+(BL100^2*(BM100-1)))/(BI100+BM100-2)))","v":{"$error":"#DIV/0!"}},{"$f":"IF(BG100=\"\",\"\",BN100)","v":""},"",null,null,null,null,null,null,null,null,{"$f":"IF(Sheet2!$A$115=TRUE,-1*(((BR100-$G100)-(BV100-$K100))/SQRT(((BS100^2*(BT100-1))+(BW100^2*(BX100-1)))/(BT100+BX100-2))),((BR100-$G100)-(BV100-$K100))/SQRT(((BS100^2*(BT100-1))+(BW100^2*(BX100-1)))/(BT100+BX100-2)))","v":{"$error":"#DIV/0!"}},{"$f":"IF(BR100=\"\",\"\",BY100)","v":""},""]
[null,null,"Outcome 4:",null,null,null,null,null,null,null,null,null,null,null,null,null,null,null,null,null,null,{"$f":"IF(Sheet2!$A$116=TRUE,-1*(((O101-$G101)-(S101-$K101))/SQRT(((P101^2*(Q101-1))+(T101^2*(U101-1)))/(Q101+U101-2))),((O101-$G101)-(S101-$K101))/SQRT(((P101^2*(Q101-1))+(T101^2*(U101-1)))/(Q101+U101-2)))","v":{"$error":"#DIV/0!"}},{"$f":"IF(O101=\"\",\"\",V101)","v":""},{"$f":"IF(Q101=\"\",\"\",SQRT((Q101+U101)/(Q101*U101)+(W101^2/(2*(Q101+U101)))))","v":""},null,null,null,null,null,null,null,null,{"$f":"IF(Sheet2!$A$116=TRUE,-1*(((Z101-$G101)-(AD101-$K101))/SQRT(((AA101^2*(AB101-1))+(AE101^2*(AF101-1)))/(AB101+AF101-2))),((Z101-$G101)-(AD101-$K101))/SQRT(((AA101^2*(AB101-1))+(AE101^2*(AF101-1)))/(AB101+AF101-2)))","v":{"$error":"#DIV/0!"}},{"$f":"IF(Z101=\"\",\"\",AG101)","v":""},{"$f":"IF(AB101=\"\",\"\",SQRT((AB101+AF101)/(AB101*AF101)+(AH101^2/(2*(AB101+AF101)))))","v":""},null,null,null,null,null,null,null,null,{"$f":"IF(Sheet2!$A$116=TRUE,-1*(((AK101-$G101)-(AO101-$K101))/SQRT(((AL101^2*(AM101-1))+(AP101^2*(AQ101-1)))/(AM101+AQ101-2))),((AK101-$G101)-(AO101-$K101))/SQRT(((AL101^2*(AM101-1))+(AP101^2*(AQ101-1)))/(AM101+AQ101-2)))","v":{"$error":"#DIV/0!"}},{"$f":"IF(AK101=\"\",\"\",AR101)","v":""},{"$f":"IF(AM101=\"\",\"\",SQRT((AM101+AQ101)/(AM101*AQ101)+(AS101^2/(2*(AM101+AQ101)))))","v":""},null,null,null,null,null,null,null,null,{"$f":"IF(Sheet2!$A$116=TRUE,-1*(((AV101-$G101)-(AZ101-$K101))/SQRT(((AW101^2*(AX101-1))+(BA101^2*(BB101-1)))/(AX101+BB101-2))),((AV101-$G101)-(AZ101-$K101))/SQRT(((AW101^2*(AX101-1))+(BA101^2*(BB101-1)))/(AX101+BB101-2)))","v":{"$error":"#DIV/0!"}},{"$f":"IF(AV101=\"\",\"\",BC101)","v":""},{"$f":"IF(AX101=\"\",\"\",SQRT((AX101+BB101)/(AX101*BB101)+(BD101^2/(2*(AX101+BB101)))))","v":""},null,null,null,null,null,null,null,null,{"$f":"IF(Sheet2!$A$116=TRUE,-1*(((BG101-$G101)-(BK101-$K101))/SQRT(((BH101^2*(BI101-1))+(BL101^2*(BM101-1)))/(BI101+BM101-2))),((BG101-$G101)-(BK101-$K101))/SQRT(((BH101^2*(BI101-1))+(BL101^2*(BM101-1)))/(BI101+BM101-2)))","v":{"$error":"#DIV/0!"}},{"$f":"IF(BG101=\"\",\"\",BN101)","v":""},{"$f":"IF(BI101=\"\",\"\",SQRT((BI101+BM101)/(BI101*BM101)+(BO101^2/(2*(BI101+BM101)))))","v":""},null,null,null,null,null,null,null,null,{"$f":"IF(Sheet2!$A$116=TRUE,-1*(((BR101-$G101)-(BV101-$K101))/SQRT(((BS101^2*(BT101-1))+(BW101^2*(BX101-1)))/(BT101+BX101-2))),((BR101-$G101)-(BV101-$K101))/SQRT(((BS101^2*(BT101-1))+(BW101^2*(BX101-1)))/(BT101+BX101-2)))","v":{"$error":"#DIV/0!"}},{"$f":"IF(BR101=\"\",\"\",BY101)","v":""},{"$f":"IF(BT101=\"\",\"\",SQRT((BT101+BX101)/(BT101*BX101)+(BZ101^2/(2*(BT101+BX101)))))","v":""}]
[null,null,"Outcome 5:",null,null,null,null,null,null,null,null,null,null,null,null,null,null,null,null,null,null,{"$f":"IF(Sheet2!$A$117=TRUE,-1*(((O102-$G102)-(S102-$K102))/SQRT(((P102^2*(Q102-1))+(T102^2*(U102-1)))/(Q102+U102-2))),((O102-$G102)-(S102-$K102))/SQRT(((P102^2*(Q102-1))+(T102^2*(U102-1)))/(Q102+U102-2)))","v":{"$error":"#DIV/0!"}},"","",null,null,null,null,null,null,null,null,{"$f":"IF(Sheet2!$A$117=TRUE,-1*(((Z102-$G102)-(AD102-$K102))/SQRT(((AA102^2*(AB102-1))+(AE102^2*(AF102-1)))/(AB102+AF102-2))),((Z102-$G102)-(AD102-$K102))/SQRT(((AA102^2*(AB102-1))+(AE102^2*(AF102-1)))/(AB102+AF102-2)))","v":{"$error":"#DIV/0!"}},"",{"$f":"IF(AB102=\"\",\"\",SQRT((AB102+AF102)/(AB102*AF102)+(AH102^2/(2*(AB102+AF102)))))","v":""},null,null,null,null,null,null,null,null,{"$f":"IF(Sheet2!$A$117=TRUE,-1*(((AK102-$G102)-(AO102-$K102))/SQRT(((AL102^2*(AM102-1))+(AP102^2*(AQ102-1)))/(AM102+AQ102-2))),((AK102-$G102)-(AO102-$K102))/SQRT(((AL102^2*(AM102-1))+(AP102^2*(AQ102-1)))/(AM102+AQ102-2)))","v":{"$error":"#DIV/0!"}},"",{"$f":"IF(AM102=\"\",\"\",SQRT((AM102+AQ102)/(AM102*AQ102)+(AS102^2/(2*(AM102+AQ102)))))","v":""},null,null,null,null,null,null,null,null,{"$f":"IF(Sheet2!$A$117=TRUE,-1*(((AV102-$G102)-(AZ102-$K102))/SQRT(((AW102^2*(AX102-1))+(BA102^2*(BB102-1)))/(AX102+BB102-2))),((AV102-$G102)-(AZ102-$K102))/SQRT(((AW102^2*(AX102-1))+(BA102^2*(BB102-1)))/(AX102+BB102-2)))","v":{"$error":"#DIV/0!"}},"",{"$f":"IF(AX102=\"\",\"\",SQRT((AX102+BB102)/(AX102*BB102)+(BD102^2/(2*(AX102+BB102)))))","v":""},null,null,null,null,null,null,null,null,{"$f":"IF(Sheet2!$A$117=TRUE,-1*(((BG102-$G102)-(BK102-$K102))/SQRT(((BH102^2*(BI102-1))+(BL102^2*(BM102-1)))/(BI102+BM102-2))),((BG102-$G102)-(BK102-$K102))/SQRT(((BH102^2*(BI102-1))+(BL102^2*(BM102-1)))/(BI102+BM102-2)))","v":{"$error":"#DIV/0!"}},"",{"$f":"IF(BI102=\"\",\"\",SQRT((BI102+BM102)/(BI102*BM102)+(BO102^2/(2*(BI102+BM102)))))","v":""},null,null,null,null,null,null,null,null,{"$f":"IF(Sheet2!$A$117=TRUE,-1*(((BR102-$G102)-(BV102-$K102))/SQRT(((BS102^2*(BT102-1))+(BW102^2*(BX102-1)))/(BT102+BX102-2))),((BR102-$G102)-(BV102-$K102))/SQRT(((BS102^2*(BT102-1))+(BW102^2*(BX102-1)))/(BT102+BX102-2)))","v":{"$error":"#DIV/0!"}},"",{"$f":"IF(BT102=\"\",\"\",SQRT((BT102+BX102)/(BT102*BX102)+(BZ102^2/(2*(BT102+BX102)))))","v":""}]
[null,null,"Anxiety d",null,null,null,null,null,null,null,null,null,null,null,null,null,null,null,null,null,null,null,{"$f":"IF(W98=\"\",\"\",AVERAGE(W98:W102))","v":""},{"$f":"IF(X98=\"\",\"\",AVERAGE(X98:X102))","v":""},null,null,null,null,null,null,null,null,null,{"$f":"IF(AH98=\"\",\"\",AVERAGE(AH98:AH102))","v":""},{"$f":"IF(AI98=\"\",\"\",AVERAGE(AI98:AI102))","v":""},null,null,null,null,null,null,null,null,null,{"$f":"IF(AS98=\"\",\"\",AVERAGE(AS98:AS102))","v":""},{"$f":"IF(AT98=\"\",\"\",AVERAGE(AT98:AT102))","v":""},null,null,null,null,null,null,null,null,null,{"$f":"IF(BD98=\"\",\"\",AVERAGE(BD98:BD102))","v":""},{"$f":"IF(BE98=\"\",\"\",AVERAGE(BE98:BE102))","v":""},null,null,null,null,null,null,null,null,null,{"$f":"IF(BO98=\"\",\"\",AVERAGE(BO98:BO102))","v":""},{"$f":"IF(BP98=\"\",\"\",AVERAGE(BP98:BP102))","v":""},null,null,null,null,null,null,null,null,null,{"$f":"IF(BZ98=\"\",\"\",AVERAGE(BZ98:BZ102))","v":""},{"$f":"IF(CA98=\"\",\"\",AVERAGE(CA98:CA102))","v":""}]
[]
[null,null,"PTSD","Measure Name"]
[null,null,"Outcome 1:",null,null,null,null,null,null,null,null,null,null,null,null,null,null,null,null,null,null,{"$f":"IF(Sheet2!$A$121=TRUE,-1*(((O106-$G106)-(S106-$K106))/SQRT(((P106^2*(Q106-1))+(T106^2*(U106-1)))/(Q106+U106-2))),((O106-$G106)-(S106-$K106))/SQRT(((P106^2*(Q106-1))+(T106^2*(U106-1)))/(Q106+U106-2)))","v":{"$error":"#DIV/0!"}},{"$f":"IF(O106=\"\",\"\",V106)","v":""},{"$f":"IF(Q106=\"\",\"\",SQRT((Q106+U106)/(Q106*U106)+(W106^2/(2*(Q106+U106)))))","v":""},null,null,null,null,null,null,null,null,{"$f":"IF(Sheet2!$A$121=TRUE,-1*(((Z106-$G106)-(AD106-$K106))/SQRT(((AA106^2*(AB106-1))+(AE106^2*(AF106-1)))/(AB106+AF106-2))),((Z106-$G106)-(AD106-$K106))/SQRT(((AA106^2*(AB106-1))+(AE106^2*(AF106-1)))/(AB106+AF106-2)))","v":{"$error":"#DIV/0!"}},{"$f":"IF(Z106=\"\",\"\",AG106)","v":""},{"$f":"IF(AB106=\"\",\"\",SQRT((AB106+AF106)/(AB106*AF106)+(AH106^2/(2*(AB106+AF106)))))","v":""},null,null,null,null,null,null,null,null,{"$f":"IF(Sheet2!$A$121=TRUE,-1*(((AK106-$G106)-(AO106-$K106))/SQRT(((AL106^2*(AM106-1))+(AP106^2*(AQ106-1)))/(AM106+AQ106-2))),((AK106-$G106)-(AO106-$K106))/SQRT(((AL106^2*(AM106-1))+(AP106^2*(AQ106-1)))/(AM106+AQ106-2)))","v":{"$error":"#DIV/0!"}},{"$f":"IF(AK106=\"\",\"\",AR106)","v":""},{"$f":"IF(AM106=\"\",\"\",SQRT((AM106+AQ106)/(AM106*AQ106)+(AS106^2/(2*(AM106+AQ106)))))","v":""},null,null,null,null,null,null,null,null,{"$f":"IF(Sheet2!$A$121=TRUE,-1*(((AV106-$G106)-(AZ106-$K106))/SQRT(((AW106^2*(AX106-1))+(BA106^2*(BB106-1)))/(AX106+BB106-2))),((AV106-$G106)-(AZ106-$K106))/SQRT(((AW106^2*(AX106-1))+(BA106^2*(BB106-1)))/(AX106+BB106-2)))","v":{"$error":"#DIV/0!"}},{"$f":"IF(AV106=\"\",\"\",BC106)","v":""},{"$f":"IF(AX106=\"\",\"\",SQRT((AX106+BB106)/(AX106*BB106)+(BD106^2/(2*(AX106+BB106)))))","v":""},null,null,null,null,null,null,null,null,{"$f":"IF(Sheet2!$A$121=TRUE,-1*(((BG106-$G106)-(BK106-$K106))/SQRT(((BH106^2*(BI106-1))+(BL106^2*(BM106-1)))/(BI106+BM106-2))),((BG106-$G106)-(BK106-$K106))/SQRT(((BH106^2*(BI106-1))+(BL106^2*(BM106-1)))/(BI106+BM106-2)))","v":{"$error":"#DIV/0!"}},{"$f":"IF(BG106=\"\",\"\",BN106)","v":""},{"$f":"IF(BI106=\"\",\"\",SQRT((BI106+BM106)/(BI106*BM106)+(BO106^2/(2*(BI106+BM106)))))","v":""},null,null,null,null,null,null,null,null,{"$f":"IF(Sheet2!$A$121=TRUE,-1*(((BR106-$G106)-(BV106-$K106))/SQRT(((BS106^2*(BT106-1))+(BW106^2*(BX106-1)))/(BT106+BX106-2))),((BR106-$G106)-(BV106-$K106))/SQRT(((BS106^2*(BT106-1))+(BW106^2*(BX106-1)))/(BT106+BX106-2)))","v":{"$error":"#DIV/0!"}},{"$f":"IF(BR106=\"\",\"\",BY106)","v":""},{"$f":"IF(BT106=\"\",\"\",SQRT((BT106+BX106)/(BT106*BX106)+(BZ106^2/(2*(BT106+BX106)))))","v":""}]
[null,null,"Outcome 2:",null,null,null,null,null,null,null,null,null,null,null,null,null,null,null,null,null,null,{"$f":"IF(Sheet2!$A$122=TRUE,-1*(((O107-$G107)-(S107-$K107))/SQRT(((P107^2*(Q107-1))+(T107^2*(U107-1)))/(Q107+U107-2))),((O107-$G107)-(S107-$K107))/SQRT(((P107^2*(Q107-1))+(T107^2*(U107-1)))/(Q107+U107-2)))","v":{"$error":"#DIV/0!"}},{"$f":"IF(O107=\"\",\"\",V107)","v":""},{"$f":"IF(Q107=\"\",\"\",SQRT((Q107+U107)/(Q107*U107)+(W107^2/(2*(Q107+U107)))))","v":""},null,null,null,null,null,null,null,null,{"$f":"IF(Sheet2!$A$122=TRUE,-1*(((Z107-$G107)-(AD107-$K107))/SQRT(((AA107^2*(AB107-1))+(AE107^2*(AF107-1)))/(AB107+AF107-2))),((Z107-$G107)-(AD107-$K107))/SQRT(((AA107^2*(AB107-1))+(AE107^2*(AF107-1)))/(AB107+AF107-2)))","v":{"$error":"#DIV/0!"}},{"$f":"IF(Z107=\"\",\"\",AG107)","v":""},{"$f":"IF(AB107=\"\",\"\",SQRT((AB107+AF107)/(AB107*AF107)+(AH107^2/(2*(AB107+AF107)))))","v":""},null,null,null,null,null,null,null,null,{"$f":"IF(Sheet2!$A$122=TRUE,-1*(((AK107-$G107)-(AO107-$K107))/SQRT(((AL107^2*(AM107-1))+(AP107^2*(AQ107-1)))/(AM107+AQ107-2))),((AK107-$G107)-(AO107-$K107))/SQRT(((AL107^2*(AM107-1))+(AP107^2*(AQ107-1)))/(AM107+AQ107-2)))","v":{"$error":"#DIV/0!"}},{"$f":"IF(AK107=\"\",\"\",AR107)","v":""},{"$f":"IF(AM107=\"\",\"\",SQRT((AM107+AQ107)/(AM107*AQ107)+(AS107^2/(2*(AM107+AQ107)))))","v":""},null,null,null,null,null,null,null,null,{"$f":"IF(Sheet2!$A$122=TRUE,-1*(((AV107-$G107)-(AZ107-$K107))/SQRT(((AW107^2*(AX107-1))+(BA107^2*(BB107-1)))/(AX107+BB107-2))),((AV107-$G107)-(AZ107-$K107))/SQRT(((AW107^2*(AX107-1))+(BA107^2*(BB107-1)))/(AX107+BB107-2)))","v":{"$error":"#DIV/0!"}},{"$f":"IF(AV107=\"\",\"\",BC107)","v":""},{"$f":"IF(AX107=\"\",\"\",SQRT((AX107+BB107)/(AX107*BB107)+(BD107^2/(2*(AX107+BB107)))))","v":""},null,null,null,null,null,null,null,null,{"$f":"IF(Sheet2!$A$122=TRUE,-1*(((BG107-$G107)-(BK107-$K107))/SQRT(((BH107^2*(BI107-1))+(BL107^2*(BM107-1)))/(BI107+BM107-2))),((BG107-$G107)-(BK107-$K107))/SQRT(((BH107^2*(BI107-1))+(BL107^2*(BM107-1)))/(BI107+BM107-2)))","v":{"$error":"#DIV/0!"}},{"$f":"IF(BG107=\"\",\"\",BN107)","v":""},{"$f":"IF(BI107=\"\",\"\",SQRT((BI107+BM107)/(BI107*BM107)+(BO107^2/(2*(BI107+BM107)))))","v":""},null,null,null,null,null,null,null,null,{"$f":"IF(Sheet2!$A$122=TRUE,-1*(((BR107-$G107)-(BV107-$K107))/SQRT(((BS107^2*(BT107-1))+(BW107^2*(BX107-1)))/(BT107+BX107-2))),((BR107-$G107)-(BV107-$K107))/SQRT(((BS107^2*(BT107-1))+(BW107^2*(BX107-1)))/(BT107+BX107-2)))","v":{"$error":"#DIV/0!"}},{"$f":"IF(BR107=\"\",\"\",BY107)","v":""},{"$f":"IF(BT107=\"\",\"\",SQRT((BT107+BX107)/(BT107*BX107)+(BZ107^2/(2*(BT107+BX107)))))","v":""}]
[null,null,"Outcome 3:",null,null,null,null,null,null,null,null,null,null,null,null,null,null,null,null,null,null,{"$f":"IF(Sheet2!$A$123=TRUE,-1*(((O108-$G108)-(S108-$K108))/SQRT(((P108^2*(Q108-1))+(T108^2*(U108-1)))/(Q108+U108-2))),((O108-$G108)-(S108-$K108))/SQRT(((P108^2*(Q108-1))+(T108^2*(U108-1)))/(Q108+U108-2)))","v":{"$error":"#DIV/0!"}},{"$f":"IF(O108=\"\",\"\",V108)","v":""},"",null,null,null,null,null,null,null,null,{"$f":"IF(Sheet2!$A$123=TRUE,-1*(((Z108-$G108)-(AD108-$K108))/SQRT(((AA108^2*(AB108-1))+(AE108^2*(AF108-1)))/(AB108+AF108-2))),((Z108-$G108)-(AD108-$K108))/SQRT(((AA108^2*(AB108-1))+(AE108^2*(AF108-1)))/(AB108+AF108-2)))","v":{"$error":"#DIV/0!"}},{"$f":"IF(Z108=\"\",\"\",AG108)","v":""},"",null,null,null,null,null,null,null,null,{"$f":"IF(Sheet2!$A$123=TRUE,-1*(((AK108-$G108)-(AO108-$K108))/SQRT(((AL108^2*(AM108-1))+(AP108^2*(AQ108-1)))/(AM108+AQ108-2))),((AK108-$G108)-(AO108-$K108))/SQRT(((AL108^2*(AM108-1))+(AP108^2*(AQ108-1)))/(AM108+AQ108-2)))","v":{"$error":"#DIV/0!"}},{"$f":"IF(AK108=\"\",\"\",AR108)","v":""},"",null,null,null,null,null,null,null,null,{"$f":"IF(Sheet2!$A$123=TRUE,-1*(((AV108-$G108)-(AZ108-$K108))/SQRT(((AW108^2*(AX108-1))+(BA108^2*(BB108-1)))/(AX108+BB108-2))),((AV108-$G108)-(AZ108-$K108))/SQRT(((AW108^2*(AX108-1))+(BA108^2*(BB108-1)))/(AX108+BB108-2)))","v":{"$error":"#DIV/0!"}},{"$f":"IF(AV108=\"\",\"\",BC108)","v":""},"",null,null,null,null,null,null,null,null,{"$f":"IF(Sheet2!$A$123=TRUE,-1*(((BG108-$G108)-(BK108-$K108))/SQRT(((BH108^2*(BI108-1))+(BL108^2*(BM108-1)))/(BI108+BM108-2))),((BG108-$G108)-(BK108-$K108))/SQRT(((BH108^2*(BI108-1))+(BL108^2*(BM108-1)))/(BI108+BM108-2)))","v":{"$error":"#DIV/0!"}},{"$f":"IF(BG108=\"\",\"\",BN108)","v":""},"",null,null,null,null,null,null,null,null,{"$f":"IF(Sheet2!$A$123=TRUE,-1*(((BR108-$G108)-(BV108-$K108))/SQRT(((BS108^2*(BT108-1))+(BW108^2*(BX108-1)))/(BT108+BX108-2))),((BR108-$G108)-(BV108-$K108))/SQRT(((BS108^2*(BT108-1))+(BW108^2*(BX108-1)))/(BT108+BX108-2)))","v":{"$error":"#DIV/0!"}},{"$f":"IF(BR108=\"\",\"\",BY108)","v":""},""]
[null,null,"Outcome 4:",null,null,null,null,null,null,null,null,null,null,null,null,null,null,null,null,null,null,{"$f":"IF(Sheet2!$A$124=TRUE,-1*(((O109-$G109)-(S109-$K109))/SQRT(((P109^2*(Q109-1))+(T109^2*(U109-1)))/(Q109+U109-2))),((O109-$G109)-(S109-$K109))/SQRT(((P109^2*(Q109-1))+(T109^2*(U109-1)))/(Q109+U109-2)))","v":{"$error":"#DIV/0!"}},{"$f":"IF(O109=\"\",\"\",V109)","v":""},{"$f":"IF(Q109=\"\",\"\",SQRT((Q109+U109)/(Q109*U109)+(W109^2/(2*(Q109+U109)))))","v":""},null,null,null,null,null,null,null,null,{"$f":"IF(Sheet2!$A$124=TRUE,-1*(((Z109-$G109)-(AD109-$K109))/SQRT(((AA109^2*(AB109-1))+(AE109^2*(AF109-1)))/(AB109+AF109-2))),((Z109-$G109)-(AD109-$K109))/SQRT(((AA109^2*(AB109-1))+(AE109^2*(AF109-1)))/(AB109+AF109-2)))","v":{"$error":"#DIV/0!"}},{"$f":"IF(Z109=\"\",\"\",AG109)","v":""},{"$f":"IF(AB109=\"\",\"\",SQRT((AB109+AF109)/(AB109*AF109)+(AH109^2/(2*(AB109+AF109)))))","v":""},null,null,null,null,null,null,null,null,{"$f":"IF(Sheet2!$A$124=TRUE,-1*(((AK109-$G109)-(AO109-$K109))/SQRT(((AL109^2*(AM109-1))+(AP109^2*(AQ109-1)))/(AM109+AQ109-2))),((AK109-$G109)-(AO109-$K109))/SQRT(((AL109^2*(AM109-1))+(AP109^2*(AQ109-1)))/(AM109+AQ109-2)))","v":{"$error":"#DIV/0!"}},{"$f":"IF(AK109=\"\",\"\",AR109)","v":""},{"$f":"IF(AM109=\"\",\"\",SQRT((AM109+AQ109)/(AM109*AQ109)+(AS109^2/(2*(AM109+AQ109)))))","v":""},null,null,null,null,null,null,null,null,{"$f":"IF(Sheet2!$A$124=TRUE,-1*(((AV109-$G109)-(AZ109-$K109))/SQRT(((AW109^2*(AX109-1))+(BA109^2*(BB109-1)))/(AX109+BB109-2))),((AV109-$G109)-(AZ109-$K109))/SQRT(((AW109^2*(AX109-1))+(BA109^2*(BB109-1)))/(AX109+BB109-2)))","v":{"$error":"#DIV/0!"}},{"$f":"IF(AV109=\"\",\"\",BC109)","v":""},{"$f":"IF(AX109=\"\",\"\",SQRT((AX109+BB109)/(AX109*BB109)+(BD109^2/(2*(AX109+BB109)))))","v":""},null,null,null,null,null,null,null,null,{"$f":"IF(Sheet2!$A$124=TRUE,-1*(((BG109-$G109)-(BK109-$K109))/SQRT(((BH109^2*(BI109-1))+(BL109^2*(BM109-1)))/(BI109+BM109-2))),((BG109-$G109)-(BK109-$K109))/SQRT(((BH109^2*(BI109-1))+(BL109^2*(BM109-1)))/(BI109+BM109-2)))","v":{"$error":"#DIV/0!"}},{"$f":"IF(BG109=\"\",\"\",BN109)","v":""},{"$f":"IF(BI109=\"\",\"\",SQRT((BI109+BM109)/(BI109*BM109)+(BO109^2/(2*(BI109+BM109)))))","v":""},null,null,null,null,null,null,null,null,{"$f":"IF(Sheet2!$A$124=TRUE,-1*(((BR109-$G109)-(BV109-$K109))/SQRT(((BS109^2*(BT109-1))+(BW109^2*(BX109-1)))/(BT109+BX109-2))),((BR109-$G109)-(BV109-$K109))/SQRT(((BS109^2*(BT109-1))+(BW109^2*(BX109-1)))/(BT109+BX109-2)))","v":{"$error":"#DIV/0!"}},{"$f":"IF(BR109=\"\",\"\",BY109)","v":""},{"$f":"IF(BT109=\"\",\"\",SQRT((BT109+BX109)/(BT109*BX109)+(BZ109^2/(2*(BT109+BX109)))))","v":""}]
[null,null,"Outcome 5:",null,null,null,null,null,null,null,null,null,null,null,null,null,null,null,null,null,null,{"$f":"IF(Sheet2!$A$125=TRUE,-1*(((O110-$G110)-(S110-$K110))/SQRT(((P110^2*(Q110-1))+(T110^2*(U110-1)))/(Q110+U110-2))),((O110-$G110)-(S110-$K110))/SQRT(((P110^2*(Q110-1))+(T110^2*(U110-1)))/(Q110+U110-2)))","v":{"$error":"#DIV/0!"}},"","",null,null,null,null,null,null,null,null,{"$f":"IF(Sheet2!$A$125=TRUE,-1*(((Z110-$G110)-(AD110-$K110))/SQRT(((AA110^2*(AB110-1))+(AE110^2*(AF110-1)))/(AB110+AF110-2))),((Z110-$G110)-(AD110-$K110))/SQRT(((AA110^2*(AB110-1))+(AE110^2*(AF110-1)))/(AB110+AF110-2)))","v":{"$error":"#DIV/0!"}},"",{"$f":"IF(AB110=\"\",\"\",SQRT((AB110+AF110)/(AB110*AF110)+(AH110^2/(2*(AB110+AF110)))))","v":""},null,null,null,null,null,null,null,null,{"$f":"IF(Sheet2!$A$125=TRUE,-1*(((AK110-$G110)-(AO110-$K110))/SQRT(((AL110^2*(AM110-1))+(AP110^2*(AQ110-1)))/(AM110+AQ110-2))),((AK110-$G110)-(AO110-$K110))/SQRT(((AL110^2*(AM110-1))+(AP110^2*(AQ110-1)))/(AM110+AQ110-2)))","v":{"$error":"#DIV/0!"}},"",{"$f":"IF(AM110=\"\",\"\",SQRT((AM110+AQ110)/(AM110*AQ110)+(AS110^2/(2*(AM110+AQ110)))))","v":""},null,null,null,null,null,null,null,null,{"$f":"IF(Sheet2!$A$125=TRUE,-1*(((AV110-$G110)-(AZ110-$K110))/SQRT(((AW110^2*(AX110-1))+(BA110^2*(BB110-1)))/(AX110+BB110-2))),((AV110-$G110)-(AZ110-$K110))/SQRT(((AW110^2*(AX110-1))+(BA110^2*(BB110-1)))/(AX110+BB110-2)))","v":{"$error":"#DIV/0!"}},"",{"$f":"IF(AX110=\"\",\"\",SQRT((AX110+BB110)/(AX110*BB110)+(BD110^2/(2*(AX110+BB110)))))","v":""},null,null,null,null,null,null,null,null,{"$f":"IF(Sheet2!$A$125=TRUE,-1*(((BG110-$G110)-(BK110-$K110))/SQRT(((BH110^2*(BI110-1))+(BL110^2*(BM110-1)))/(BI110+BM110-2))),((BG110-$G110)-(BK110-$K110))/SQRT(((BH110^2*(BI110-1))+(BL110^2*(BM110-1)))/(BI110+BM110-2)))","v":{"$error":"#DIV/0!"}},"",{"$f":"IF(BI110=\"\",\"\",SQRT((BI110+BM110)/(BI110*BM110)+(BO110^2/(2*(BI110+BM110)))))","v":""},null,null,null,null,null,null,null,null,{"$f":"IF(Sheet2!$A$125=TRUE,-1*(((BR110-$G110)-(BV110-$K110))/SQRT(((BS110^2*(BT110-1))+(BW110^2*(BX110-1)))/(BT110+BX110-2))),((BR110-$G110)-(BV110-$K110))/SQRT(((BS110^2*(BT110-1))+(BW110^2*(BX110-1)))/(BT110+BX110-2)))","v":{"$error":"#DIV/0!"}},"",{"$f":"IF(BT110=\"\",\"\",SQRT((BT110+BX110)/(BT110*BX110)+(BZ110^2/(2*(BT110+BX110)))))","v":""}]
[null,null,"PTSD d",null,null,null,null,null,null,null,null,null,null,null,null,null,null,null,null,null,null,null,{"$f":"IF(W106=\"\",\"\",AVERAGE(W106:W110))","v":""},{"$f":"IF(X106=\"\",\"\",AVERAGE(X106:X110))","v":""},null,null,null,null,null,null,null,null,null,{"$f":"IF(AH106=\"\",\"\",AVERAGE(AH106:AH110))","v":""},{"$f":"IF(AI106=\"\",\"\",AVERAGE(AI106:AI110))","v":""},null,null,null,null,null,null,null,null,null,{"$f":"IF(AS106=\"\",\"\",AVERAGE(AS106:AS110))","v":""},{"$f":"IF(AT106=\"\",\"\",AVERAGE(AT106:AT110))","v":""},null,null,null,null,null,null,null,null,null,{"$f":"IF(BD106=\"\",\"\",AVERAGE(BD106:BD110))","v":""},{"$f":"IF(BE106=\"\",\"\",AVERAGE(BE106:BE110))","v":""},null,null,null,null,null,null,null,null,null,{"$f":"IF(BO106=\"\",\"\",AVERAGE(BO106:BO110))","v":""},{"$f":"IF(BP106=\"\",\"\",AVERAGE(BP106:BP110))","v":""},null,null,null,null,null,null,null,null,null,{"$f":"IF(BZ106=\"\",\"\",AVERAGE(BZ106:BZ110))","v":""},{"$f":"IF(CA106=\"\",\"\",AVERAGE(CA106:CA110))","v":""}]
[]
[null,null,"SUD","Measure Name"]
[null,null,"Outcome 1:",null,null,null,null,null,null,null,null,null,null,null,null,null,null,null,null,null,null,{"$f":"IF(Sheet2!$A$129=TRUE,-1*(((O114-G114)-(S114-K114))/SQRT(((P114^2*(Q114-1))+(T114^2*(U114-1)))/(Q114+U114-2))),((O114-G114)-(S114-K114))/SQRT(((P114^2*(Q114-1))+(T114^2*(U114-1)))/(Q114+U114-2)))","v":{"$error":"#DIV/0!"}},{"$f":"IF(O114=\"\",\"\",V114)","v":""},{"$f":"IF(Q114=\"\",\"\",SQRT((Q114+U114)/(Q114*U114)+(W114^2/(2*(Q114+U114)))))","v":""},null,null,null,null,null,null,null,null,{"$f":"IF(Sheet2!$A$129=TRUE,-1*(((Z114-R114)-(AD114-V114))/SQRT(((AA114^2*(AB114-1))+(AE114^2*(AF114-1)))/(AB114+AF114-2))),((Z114-R114)-(AD114-V114))/SQRT(((AA114^2*(AB114-1))+(AE114^2*(AF114-1)))/(AB114+AF114-2)))","v":{"$error":"#DIV/0!"}},{"$f":"IF(Z114=\"\",\"\",AG114)","v":""},{"$f":"IF(AB114=\"\",\"\",SQRT((AB114+AF114)/(AB114*AF114)+(AH114^2/(2*(AB114+AF114)))))","v":""},null,null,null,null,null,null,null,null,{"$f":"IF(Sheet2!$A$129=TRUE,-1*(((AK114-AC114)-(AO114-AG114))/SQRT(((AL114^2*(AM114-1))+(AP114^2*(AQ114-1)))/(AM114+AQ114-2))),((AK114-AC114)-(AO114-AG114))/SQRT(((AL114^2*(AM114-1))+(AP114^2*(AQ114-1)))/(AM114+AQ114-2)))","v":{"$error":"#DIV/0!"}},{"$f":"IF(AK114=\"\",\"\",AR114)","v":""},{"$f":"IF(AM114=\"\",\"\",SQRT((AM114+AQ114)/(AM114*AQ114)+(AS114^2/(2*(AM114+AQ114)))))","v":""},null,null,null,null,null,null,null,null,{"$f":"IF(Sheet2!$A$129=TRUE,-1*(((AV114-AN114)-(AZ114-AR114))/SQRT(((AW114^2*(AX114-1))+(BA114^2*(BB114-1)))/(AX114+BB114-2))),((AV114-AN114)-(AZ114-AR114))/SQRT(((AW114^2*(AX114-1))+(BA114^2*(BB114-1)))/(AX114+BB114-2)))","v":{"$error":"#DIV/0!"}},{"$f":"IF(AV114=\"\",\"\",BC114)","v":""},{"$f":"IF(AX114=\"\",\"\",SQRT((AX114+BB114)/(AX114*BB114)+(BD114^2/(2*(AX114+BB114)))))","v":""},null,null,null,null,null,null,null,null,{"$f":"IF(Sheet2!$A$129=TRUE,-1*(((BG114-AY114)-(BK114-BC114))/SQRT(((BH114^2*(BI114-1))+(BL114^2*(BM114-1)))/(BI114+BM114-2))),((BG114-AY114)-(BK114-BC114))/SQRT(((BH114^2*(BI114-1))+(BL114^2*(BM114-1)))/(BI114+BM114-2)))","v":{"$error":"#DIV/0!"}},{"$f":"IF(BG114=\"\",\"\",BN114)","v":""},{"$f":"IF(BI114=\"\",\"\",SQRT((BI114+BM114)/(BI114*BM114)+(BO114^2/(2*(BI114+BM114)))))","v":""},null,null,null,null,null,null,null,null,{"$f":"IF(Sheet2!$A$129=TRUE,-1*(((BR114-BJ114)-(BV114-BN114))/SQRT(((BS114^2*(BT114-1))+(BW114^2*(BX114-1)))/(BT114+BX114-2))),((BR114-BJ114)-(BV114-BN114))/SQRT(((BS114^2*(BT114-1))+(BW114^2*(BX114-1)))/(BT114+BX114-2)))","v":{"$error":"#DIV/0!"}},{"$f":"IF(BR114=\"\",\"\",BY114)","v":""},{"$f":"IF(BT114=\"\",\"\",SQRT((BT114+BX114)/(BT114*BX114)+(BZ114^2/(2*(BT114+BX114)))))","v":""}]
[null,null,"Outcome 2:",null,null,null,null,null,null,null,null,null,null,null,null,null,null,null,null,null,null,{"$f":"IF(Sheet2!$A$130=TRUE,-1*(((O115-G115)-(S115-K115))/SQRT(((P115^2*(Q115-1))+(T115^2*(U115-1)))/(Q115+U115-2))),((O115-G115)-(S115-K115))/SQRT(((P115^2*(Q115-1))+(T115^2*(U115-1)))/(Q115+U115-2)))","v":{"$error":"#DIV/0!"}},{"$f":"IF(O115=\"\",\"\",V115)","v":""},{"$f":"IF(Q115=\"\",\"\",SQRT((Q115+U115)/(Q115*U115)+(W115^2/(2*(Q115+U115)))))","v":""},null,null,null,null,null,null,null,null,{"$f":"IF(Sheet2!$A$130=TRUE,-1*(((Z115-R115)-(AD115-V115))/SQRT(((AA115^2*(AB115-1))+(AE115^2*(AF115-1)))/(AB115+AF115-2))),((Z115-R115)-(AD115-V115))/SQRT(((AA115^2*(AB115-1))+(AE115^2*(AF115-1)))/(AB115+AF115-2)))","v":{"$error":"#DIV/0!"}},{"$f":"IF(Z115=\"\",\"\",AG115)","v":""},{"$f":"IF(AB115=\"\",\"\",SQRT((AB115+AF115)/(AB115*AF115)+(AH115^2/(2*(AB115+AF115)))))","v":""},null,null,null,null,null,null,null,null,{"$f":"IF(Sheet2!$A$130=TRUE,-1*(((AK115-AC115)-(AO115-AG115))/SQRT(((AL115^2*(AM115-1))+(AP115^2*(AQ115-1)))/(AM115+AQ115-2))),((AK115-AC115)-(AO115-AG115))/SQRT(((AL115^2*(AM115-1))+(AP115^2*(AQ115-1)))/(AM115+AQ115-2)))","v":{"$error":"#DIV/0!"}},{"$f":"IF(AK115=\"\",\"\",AR115)","v":""},{"$f":"IF(AM115=\"\",\"\",SQRT((AM115+AQ115)/(AM115*AQ115)+(AS115^2/(2*(AM115+AQ115)))))","v":""},null,null,null,null,null,null,null,null,{"$f":"IF(Sheet2!$A$130=TRUE,-1*(((AV115-AN115)-(AZ115-AR115))/SQRT(((AW115^2*(AX115-1))+(BA115^2*(BB115-1)))/(AX115+BB115-2))),((AV115-AN115)-(AZ115-AR115))/SQRT(((AW115^2*(AX115-1))+(BA115^2*(BB115-1)))/(AX115+BB115-2)))","v":{"$error":"#DIV/0!"}},{"$f":"IF(AV115=\"\",\"\",BC115)","v":""},{"$f":"IF(AX115=\"\",\"\",SQRT((AX115+BB115)/(AX115*BB115)+(BD115^2/(2*(AX115+BB115)))))","v":""},null,null,null,null,null,null,null,null,{"$f":"IF(Sheet2!$A$130=TRUE,-1*(((BG115-AY115)-(BK115-BC115))/SQRT(((BH115^2*(BI115-1))+(BL115^2*(BM115-1)))/(BI115+BM115-2))),((BG115-AY115)-(BK115-BC115))/SQRT(((BH115^2*(BI115-1))+(BL115^2*(BM115-1)))/(BI115+BM115-2)))","v":{"$error":"#DIV/0!"}},{"$f":"IF(BG115=\"\",\"\",BN115)","v":""},{"$f":"IF(BI115=\"\",\"\",SQRT((BI115+BM115)/(BI115*BM115)+(BO115^2/(2*(BI115+BM115)))))","v":""},null,null,null,null,null,null,null,null,{"$f":"IF(Sheet2!$A$130=TRUE,-1*(((BR115-BJ115)-(BV115-BN115))/SQRT(((BS115^2*(BT115-1))+(BW115^2*(BX115-1)))/(BT115+BX115-2))),((BR115-BJ115)-(BV115-BN115))/SQRT(((BS115^2*(BT115-1))+(BW115^2*(BX115-1)))/(BT115+BX115-2)))","v":{"$error":"#DIV/0!"}},{"$f":"IF(BR115=\"\",\"\",BY115)","v":""},{"$f":"IF(BT115=\"\",\"\",SQRT((BT115+BX115)/(BT115*BX115)+(BZ115^2/(2*(BT115+BX115)))))","v":""}]
[null,null,"Outcome 3:",null,null,null,null,null,null,null,null,null,null,null,null,null,null,null,null,null,null,{"$f":"IF(Sheet2!$A$131=TRUE,-1*(((O116-G116)-(S116-K116))/SQRT(((P116^2*(Q116-1))+(T116^2*(U116-1)))/(Q116+U116-2))),((O116-G116)-(S116-K116))/SQRT(((P116^2*(Q116-1))+(T116^2*(U116-1)))/(Q116+U116-2)))","v":{"$error":"#DIV/0!"}},{"$f":"IF(O116=\"\",\"\",V116)","v":""},"",null,null,null,null,null,null,null,null,{"$f":"IF(Sheet2!$A$131=TRUE,-1*(((Z116-R116)-(AD116-V116))/SQRT(((AA116^2*(AB116-1))+(AE116^2*(AF116-1)))/(AB116+AF116-2))),((Z116-R116)-(AD116-V116))/SQRT(((AA116^2*(AB116-1))+(AE116^2*(AF116-1)))/(AB116+AF116-2)))","v":{"$error":"#DIV/0!"}},{"$f":"IF(Z116=\"\",\"\",AG116)","v":""},"",null,null,null,null,null,null,null,null,{"$f":"IF(Sheet2!$A$131=TRUE,-1*(((AK116-AC116)-(AO116-AG116))/SQRT(((AL116^2*(AM116-1))+(AP116^2*(AQ116-1)))/(AM116+AQ116-2))),((AK116-AC116)-(AO116-AG116))/SQRT(((AL116^2*(AM116-1))+(AP116^2*(AQ116-1)))/(AM116+AQ116-2)))","v":{"$error":"#DIV/0!"}},{"$f":"IF(AK116=\"\",\"\",AR116)","v":""},"",null,null,null,null,null,null,null,null,{"$f":"IF(Sheet2!$A$131=TRUE,-1*(((AV116-AN116)-(AZ116-AR116))/SQRT(((AW116^2*(AX116-1))+(BA116^2*(BB116-1)))/(AX116+BB116-2))),((AV116-AN116)-(AZ116-AR116))/SQRT(((AW116^2*(AX116-1))+(BA116^2*(BB116-1)))/(AX116+BB116-2)))","v":{"$error":"#DIV/0!"}},{"$f":"IF(AV116=\"\",\"\",BC116)","v":""},"",null,null,null,null,null,null,null,null,{"$f":"IF(Sheet2!$A$131=TRUE,-1*(((BG116-AY116)-(BK116-BC116))/SQRT(((BH116^2*(BI116-1))+(BL116^2*(BM116-1)))/(BI116+BM116-2))),((BG116-AY116)-(BK116-BC116))/SQRT(((BH116^2*(BI116-1))+(BL116^2*(BM116-1)))/(BI116+BM116-2)))","v":{"$error":"#DIV/0!"}},{"$f":"IF(BG116=\"\",\"\",BN116)","v":""},"",null,null,null,null,null,null,null,null,{"$f":"IF(Sheet2!$A$131=TRUE,-1*(((BR116-BJ116)-(BV116-BN116))/SQRT(((BS116^2*(BT116-1))+(BW116^2*(BX116-1)))/(BT116+BX116-2))),((BR116-BJ116)-(BV116-BN116))/SQRT(((BS116^2*(BT116-1))+(BW116^2*(BX116-1)))/(BT116+BX116-2)))","v":{"$error":"#DIV/0!"}},{"$f":"IF(BR116=\"\",\"\",BY116)","v":""},""]
[null,null,"Outcome 4:",null,null,null,null,null,null,null,null,null,null,null,null,null,null,null,null,null,null,{"$f":"IF(Sheet2!$A$132=TRUE,-1*(((O117-G117)-(S117-K117))/SQRT(((P117^2*(Q117-1))+(T117^2*(U117-1)))/(Q117+U117-2))),((O117-G117)-(S117-K117))/SQRT(((P117^2*(Q117-1))+(T117^2*(U117-1)))/(Q117+U117-2)))","v":{"$error":"#DIV/0!"}},{"$f":"IF(O117=\"\",\"\",V117)","v":""},{"$f":"IF(Q117=\"\",\"\",SQRT((Q117+U117)/(Q117*U117)+(W117^2/(2*(Q117+U117)))))","v":""},null,null,null,null,null,null,null,null,{"$f":"IF(Sheet2!$A$132=TRUE,-1*(((Z117-R117)-(AD117-V117))/SQRT(((AA117^2*(AB117-1))+(AE117^2*(AF117-1)))/(AB117+AF117-2))),((Z117-R117)-(AD117-V117))/SQRT(((AA117^2*(AB117-1))+(AE117^2*(AF117-1)))/(AB117+AF117-2)))","v":{"$error":"#DIV/0!"}},{"$f":"IF(Z117=\"\",\"\",AG117)","v":""},{"$f":"IF(AB117=\"\",\"\",SQRT((AB117+AF117)/(AB117*AF117)+(AH117^2/(2*(AB117+AF117)))))","v":""},null,null,null,null,null,null,null,null,{"$f":"IF(Sheet2!$A$132=TRUE,-1*(((AK117-AC117)-(AO117-AG117))/SQRT(((AL117^2*(AM117-1))+(AP117^2*(AQ117-1)))/(AM117+AQ117-2))),((AK117-AC117)-(AO117-AG117))/SQRT(((AL117^2*(AM117-1))+(AP117^2*(AQ117-1)))/(AM117+AQ117-2)))","v":{"$error":"#DIV/0!"}},{"$f":"IF(AK117=\"\",\"\",AR117)","v":""},{"$f":"IF(AM117=\"\",\"\",SQRT((AM117+AQ117)/(AM117*AQ117)+(AS117^2/(2*(AM117+AQ117)))))","v":""},null,null,null,null,null,null,null,null,{"$f":"IF(Sheet2!$A$132=TRUE,-1*(((AV117-AN117)-(AZ117-AR117))/SQRT(((AW117^2*(AX117-1))+(BA117^2*(BB117-1)))/(AX117+BB117-2))),((AV117-AN117)-(AZ117-AR117))/SQRT(((AW117^2*(AX117-1))+(BA117^2*(BB117-1)))/(AX117+BB117-2)))","v":{"$error":"#DIV/0!"}},{"$f":"IF(AV117=\"\",\"\",BC117)","v":""},{"$f":"IF(AX117=\"\",\"\",SQRT((AX117+BB117)/(AX117*BB117)+(BD117^2/(2*(AX117+BB117)))))","v":""},null,null,null,null,null,null,null,null,{"$f":"IF(Sheet2!$A$132=TRUE,-1*(((BG117-AY117)-(BK117-BC117))/SQRT(((BH117^2*(BI117-1))+(BL117^2*(BM117-1)))/(BI117+BM117-2))),((BG117-AY117)-(BK117-BC117))/SQRT(((BH117^2*(BI117-1))+(BL117^2*(BM117-1)))/(BI117+BM117-2)))","v":{"$error":"#DIV/0!"}},{"$f":"IF(BG117=\"\",\"\",BN117)","v":""},{"$f":"IF(BI117=\"\",\"\",SQRT((BI117+BM117)/(BI117*BM117)+(BO117^2/(2*(BI117+BM117)))))","v":""},null,null,null,null,null,null,null,null,{"$f":"IF(Sheet2!$A$132=TRUE,-1*(((BR117-BJ117)-(BV117-BN117))/SQRT(((BS117^2*(BT117-1))+(BW117^2*(BX117-1)))/(BT117+BX117-2))),((BR117-BJ117)-(BV117-BN117))/SQRT(((BS117^2*(BT117-1))+(BW117^2*(BX117-1)))/(BT117+BX117-2)))","v":{"$error":"#DIV/0!"}},{"$f":"IF(BR117=\"\",\"\",BY117)","v":""},{"$f":"IF(BT117=\"\",\"\",SQRT((BT117+BX117)/(BT117*BX117)+(BZ117^2/(2*(BT117+BX117)))))","v":""}]
[null,null,"Outcome 5:",null,null,null,null,null,null,null,null,null,null,null,null,null,null,null,null,null,null,{"$f":"IF(Sheet2!$A$133=TRUE,-1*(((O118-G118)-(S118-K118))/SQRT(((P118^2*(Q118-1))+(T118^2*(U118-1)))/(Q118+U118-2))),((O118-G118)-(S118-K118))/SQRT(((P118^2*(Q118-1))+(T118^2*(U118-1)))/(Q118+U118-2)))","v":{"$error":"#DIV/0!"}},"","",null,null,null,null,null,null,null,null,{"$f":"IF(Sheet2!$A$133=TRUE,-1*(((Z118-R118)-(AD118-V118))/SQRT(((AA118^2*(AB118-1))+(AE118^2*(AF118-1)))/(AB118+AF118-2))),((Z118-R118)-(AD118-V118))/SQRT(((AA118^2*(AB118-1))+(AE118^2*(AF118-1)))/(AB118+AF118-2)))","v":{"$error":"#DIV/0!"}},"",{"$f":"IF(AB118=\"\",\"\",SQRT((AB118+AF118)/(AB118*AF118)+(AH118^2/(2*(AB118+AF118)))))","v":""},null,null,null,null,null,null,null,null,{"$f":"IF(Sheet2!$A$133=TRUE,-1*(((AK118-AC118)-(AO118-AG118))/SQRT(((AL118^2*(AM118-1))+(AP118^2*(AQ118-1)))/(AM118+AQ118-2))),((AK118-AC118)-(AO118-AG118))/SQRT(((AL118^2*(AM118-1))+(AP118^2*(AQ118-1)))/(AM118+AQ118-2)))","v":{"$error":"#DIV/0!"}},"",{"$f":"IF(AM118=\"\",\"\",SQRT((AM118+AQ118)/(AM118*AQ118)+(AS118^2/(2*(AM118+AQ118)))))","v":""},null,null,null,null,null,null,null,null,{"$f":"IF(Sheet2!$A$133=TRUE,-1*(((AV118-AN118)-(AZ118-AR118))/SQRT(((AW118^2*(AX118-1))+(BA118^2*(BB118-1)))/(AX118+BB118-2))),((AV118-AN118)-(AZ118-AR118))/SQRT(((AW118^2*(AX118-1))+(BA118^2*(BB118-1)))/(AX118+BB118-2)))","v":{"$error":"#DIV/0!"}},"",{"$f":"IF(AX118=\"\",\"\",SQRT((AX118+BB118)/(AX118*BB118)+(BD118^2/(2*(AX118+BB118)))))","v":""},null,null,null,null,null,null,null,null,{"$f":"IF(Sheet2!$A$133=TRUE,-1*(((BG118-AY118)-(BK118-BC118))/SQRT(((BH118^2*(BI118-1))+(BL118^2*(BM118-1)))/(BI118+BM118-2))),((BG118-AY118)-(BK118-BC118))/SQRT(((BH118^2*(BI118-1))+(BL118^2*(BM118-1)))/(BI118+BM118-2)))","v":{"$error":"#DIV/0!"}},"",{"$f":"IF(BI118=\"\",\"\",SQRT((BI118+BM118)/(BI118*BM118)+(BO118^2/(2*(BI118+BM118)))))","v":""},null,null,null,null,null,null,null,null,{"$f":"IF(Sheet2!$A$133=TRUE,-1*(((BR118-BJ118)-(BV118-BN118))/SQRT(((BS118^2*(BT118-1))+(BW118^2*(BX118-1)))/(BT118+BX118-2))),((BR118-BJ118)-(BV118-BN118))/SQRT(((BS118^2*(BT118-1))+(BW118^2*(BX118-1)))/(BT118+BX118-2)))","v":{"$error":"#DIV/0!"}},"",{"$f":"IF(BT118=\"\",\"\",SQRT((BT118+BX118)/(BT118*BX118)+(BZ118^2/(2*(BT118+BX118)))))","v":""}]
[null,null,"SUD d",null,null,null,null,null,null,null,null,null,null,null,null,null,null,null,null,null,null,null,{"$f":"IF(W114=\"\",\"\",AVERAGE(W114:W118))","v":""},{"$f":"IF(X114=\"\",\"\",AVERAGE(X114:X118))","v":""},null,null,null,null,null,null,null,null,null,{"$f":"IF(AH114=\"\",\"\",AVERAGE(AH114:AH118))","v":""},{"$f":"IF(AI114=\"\",\"\",AVERAGE(AI114:AI118))","v":""},null,null,null,null,null,null,null,null,null,{"$f":"IF(AS114=\"\",\"\",AVERAGE(AS114:AS118))","v":""},{"$f":"IF(AT114=\"\",\"\",AVERAGE(AT114:AT118))","v":""},null,null,null,null,null,null,null,null,null,{"$f":"IF(BD114=\"\",\"\",AVERAGE(BD114:BD118))","v":""},{"$f":"IF(BE114=\"\",\"\",AVERAGE(BE114:BE118))","v":""},null,null,null,null,null,null,null,null,null,{"$f":"IF(BO114=\"\",\"\",AVERAGE(BO114:BO118))","v":""},{"$f":"IF(BP114=\"\",\"\",AVERAGE(BP114:BP118))","v":""},null,null,null,null,null,null,null,null,null,{"$f":"IF(BZ114=\"\",\"\",AVERAGE(BZ114:BZ118))","v":""},{"$f":"IF(CA114=\"\",\"\",AVERAGE(CA114:CA118))","v":""}]
[]
[null,null,"Somatization","Measure Name"]
[null,null,"Outcome 1:",null,null,null,null,null,null,null,null,null,null,null,null,null,null,null,null,null,null,{"$f":"IF(Sheet2!$A$137=TRUE,-1*(((O122-$G122)-(S122-$K122))/SQRT(((P122^2*(Q122-1))+(T122^2*(U122-1)))/(Q122+U122-2))),((O122-$G122)-(S122-$K122))/SQRT(((P122^2*(Q122-1))+(T122^2*(U122-1)))/(Q122+U122-2)))","v":{"$error":"#DIV/0!"}},{"$f":"IF(O122=\"\",\"\",V122)","v":""},{"$f":"IF(Q122=\"\",\"\",SQRT((Q122+U122)/(Q122*U122)+(W122^2/(2*(Q122+U122)))))","v":""},null,null,null,null,null,null,null,null,{"$f":"IF(Sheet2!$A$137=TRUE,-1*(((Z122-$G122)-(AD122-$K122))/SQRT(((AA122^2*(AB122-1))+(AE122^2*(AF122-1)))/(AB122+AF122-2))),((Z122-$G122)-(AD122-$K122))/SQRT(((AA122^2*(AB122-1))+(AE122^2*(AF122-1)))/(AB122+AF122-2)))","v":{"$error":"#DIV/0!"}},{"$f":"IF(Z122=\"\",\"\",AG122)","v":""},{"$f":"IF(AB122=\"\",\"\",SQRT((AB122+AF122)/(AB122*AF122)+(AH122^2/(2*(AB122+AF122)))))","v":""},null,null,null,null,null,null,null,null,{"$f":"IF(Sheet2!$A$137=TRUE,-1*(((AK122-$G122)-(AO122-$K122))/SQRT(((AL122^2*(AM122-1))+(AP122^2*(AQ122-1)))/(AM122+AQ122-2))),((AK122-$G122)-(AO122-$K122))/SQRT(((AL122^2*(AM122-1))+(AP122^2*(AQ122-1)))/(AM122+AQ122-2)))","v":{"$error":"#DIV/0!"}},{"$f":"IF(AK122=\"\",\"\",AR122)","v":""},{"$f":"IF(AM122=\"\",\"\",SQRT((AM122+AQ122)/(AM122*AQ122)+(AS122^2/(2*(AM122+AQ122)))))","v":""},null,null,null,null,null,null,null,null,{"$f":"IF(Sheet2!$A$137=TRUE,-1*(((AV122-$G122)-(AZ122-$K122))/SQRT(((AW122^2*(AX122-1))+(BA122^2*(BB122-1)))/(AX122+BB122-2))),((AV122-$G122)-(AZ122-$K122))/SQRT(((AW122^2*(AX122-1))+(BA122^2*(BB122-1)))/(AX122+BB122-2)))","v":{"$error":"#DIV/0!"}},{"$f":"IF(AV122=\"\",\"\",BC122)","v":""},{"$f":"IF(AX122=\"\",\"\",SQRT((AX122+BB122)/(AX122*BB122)+(BD122^2/(2*(AX122+BB122)))))","v":""},null,null,null,null,null,null,null,null,{"$f":"IF(Sheet2!$A$137=TRUE,-1*(((BG122-$G122)-(BK122-$K122))/SQRT(((BH122^2*(BI122-1))+(BL122^2*(BM122-1)))/(BI122+BM122-2))),((BG122-$G122)-(BK122-$K122))/SQRT(((BH122^2*(BI122-1))+(BL122^2*(BM122-1)))/(BI122+BM122-2)))","v":{"$error":"#DIV/0!"}},{"$f":"IF(BG122=\"\",\"\",BN122)","v":""},{"$f":"IF(BI122=\"\",\"\",SQRT((BI122+BM122)/(BI122*BM122)+(BO122^2/(2*(BI122+BM122)))))","v":""},null,null,null,null,null,null,null,null,{"$f":"IF(Sheet2!$A$137=TRUE,-1*(((BR122-$G122)-(BV122-$K122))/SQRT(((BS122^2*(BT122-1))+(BW122^2*(BX122-1)))/(BT122+BX122-2))),((BR122-$G122)-(BV122-$K122))/SQRT(((BS122^2*(BT122-1))+(BW122^2*(BX122-1)))/(BT122+BX122-2)))","v":{"$error":"#DIV/0!"}},{"$f":"IF(BR122=\"\",\"\",BY122)","v":""},{"$f":"IF(BT122=\"\",\"\",SQRT((BT122+BX122)/(BT122*BX122)+(BZ122^2/(2*(BT122+BX122)))))","v":""}]
[null,null,"Outcome 2:",null,null,null,null,null,null,null,null,null,null,null,null,null,null,null,null,null,null,{"$f":"IF(Sheet2!$A$138=TRUE,-1*(((O123-$G123)-(S123-$K123))/SQRT(((P123^2*(Q123-1))+(T123^2*(U123-1)))/(Q123+U123-2))),((O123-$G123)-(S123-$K123))/SQRT(((P123^2*(Q123-1))+(T123^2*(U123-1)))/(Q123+U123-2)))","v":{"$error":"#DIV/0!"}},{"$f":"IF(O123=\"\",\"\",V123)","v":""},{"$f":"IF(Q123=\"\",\"\",SQRT((Q123+U123)/(Q123*U123)+(W123^2/(2*(Q123+U123)))))","v":""},null,null,null,null,null,null,null,null,{"$f":"IF(Sheet2!$A$138=TRUE,-1*(((Z123-$G123)-(AD123-$K123))/SQRT(((AA123^2*(AB123-1))+(AE123^2*(AF123-1)))/(AB123+AF123-2))),((Z123-$G123)-(AD123-$K123))/SQRT(((AA123^2*(AB123-1))+(AE123^2*(AF123-1)))/(AB123+AF123-2)))","v":{"$error":"#DIV/0!"}},{"$f":"IF(Z123=\"\",\"\",AG123)","v":""},{"$f":"IF(AB123=\"\",\"\",SQRT((AB123+AF123)/(AB123*AF123)+(AH123^2/(2*(AB123+AF123)))))","v":""},null,null,null,null,null,null,null,null,{"$f":"IF(Sheet2!$A$138=TRUE,-1*(((AK123-$G123)-(AO123-$K123))/SQRT(((AL123^2*(AM123-1))+(AP123^2*(AQ123-1)))/(AM123+AQ123-2))),((AK123-$G123)-(AO123-$K123))/SQRT(((AL123^2*(AM123-1))+(AP123^2*(AQ123-1)))/(AM123+AQ123-2)))","v":{"$error":"#DIV/0!"}},{"$f":"IF(AK123=\"\",\"\",AR123)","v":""},{"$f":"IF(AM123=\"\",\"\",SQRT((AM123+AQ123)/(AM123*AQ123)+(AS123^2/(2*(AM123+AQ123)))))","v":""},null,null,null,null,null,null,null,null,{"$f":"IF(Sheet2!$A$138=TRUE,-1*(((AV123-$G123)-(AZ123-$K123))/SQRT(((AW123^2*(AX123-1))+(BA123^2*(BB123-1)))/(AX123+BB123-2))),((AV123-$G123)-(AZ123-$K123))/SQRT(((AW123^2*(AX123-1))+(BA123^2*(BB123-1)))/(AX123+BB123-2)))","v":{"$error":"#DIV/0!"}},{"$f":"IF(AV123=\"\",\"\",BC123)","v":""},{"$f":"IF(AX123=\"\",\"\",SQRT((AX123+BB123)/(AX123*BB123)+(BD123^2/(2*(AX123+BB123)))))","v":""},null,null,null,null,null,null,null,null,{"$f":"IF(Sheet2!$A$138=TRUE,-1*(((BG123-$G123)-(BK123-$K123))/SQRT(((BH123^2*(BI123-1))+(BL123^2*(BM123-1)))/(BI123+BM123-2))),((BG123-$G123)-(BK123-$K123))/SQRT(((BH123^2*(BI123-1))+(BL123^2*(BM123-1)))/(BI123+BM123-2)))","v":{"$error":"#DIV/0!"}},{"$f":"IF(BG123=\"\",\"\",BN123)","v":""},{"$f":"IF(BI123=\"\",\"\",SQRT((BI123+BM123)/(BI123*BM123)+(BO123^2/(2*(BI123+BM123)))))","v":""},null,null,null,null,null,null,null,null,{"$f":"IF(Sheet2!$A$138=TRUE,-1*(((BR123-$G123)-(BV123-$K123))/SQRT(((BS123^2*(BT123-1))+(BW123^2*(BX123-1)))/(BT123+BX123-2))),((BR123-$G123)-(BV123-$K123))/SQRT(((BS123^2*(BT123-1))+(BW123^2*(BX123-1)))/(BT123+BX123-2)))","v":{"$error":"#DIV/0!"}},{"$f":"IF(BR123=\"\",\"\",BY123)","v":""},{"$f":"IF(BT123=\"\",\"\",SQRT((BT123+BX123)/(BT123*BX123)+(BZ123^2/(2*(BT123+BX123)))))","v":""}]
[null,null,"Outcome 3:",null,null,null,null,null,null,null,null,null,null,null,null,null,null,null,null,null,null,{"$f":"IF(Sheet2!$A$139=TRUE,-1*(((O124-$G124)-(S124-$K124))/SQRT(((P124^2*(Q124-1))+(T124^2*(U124-1)))/(Q124+U124-2))),((O124-$G124)-(S124-$K124))/SQRT(((P124^2*(Q124-1))+(T124^2*(U124-1)))/(Q124+U124-2)))","v":{"$error":"#DIV/0!"}},{"$f":"IF(O124=\"\",\"\",V124)","v":""},"",null,null,null,null,null,null,null,null,{"$f":"IF(Sheet2!$A$139=TRUE,-1*(((Z124-$G124)-(AD124-$K124))/SQRT(((AA124^2*(AB124-1))+(AE124^2*(AF124-1)))/(AB124+AF124-2))),((Z124-$G124)-(AD124-$K124))/SQRT(((AA124^2*(AB124-1))+(AE124^2*(AF124-1)))/(AB124+AF124-2)))","v":{"$error":"#DIV/0!"}},{"$f":"IF(Z124=\"\",\"\",AG124)","v":""},"",null,null,null,null,null,null,null,null,{"$f":"IF(Sheet2!$A$139=TRUE,-1*(((AK124-$G124)-(AO124-$K124))/SQRT(((AL124^2*(AM124-1))+(AP124^2*(AQ124-1)))/(AM124+AQ124-2))),((AK124-$G124)-(AO124-$K124))/SQRT(((AL124^2*(AM124-1))+(AP124^2*(AQ124-1)))/(AM124+AQ124-2)))","v":{"$error":"#DIV/0!"}},{"$f":"IF(AK124=\"\",\"\",AR124)","v":""},"",null,null,null,null,null,null,null,null,{"$f":"IF(Sheet2!$A$139=TRUE,-1*(((AV124-$G124)-(AZ124-$K124))/SQRT(((AW124^2*(AX124-1))+(BA124^2*(BB124-1)))/(AX124+BB124-2))),((AV124-$G124)-(AZ124-$K124))/SQRT(((AW124^2*(AX124-1))+(BA124^2*(BB124-1)))/(AX124+BB124-2)))","v":{"$error":"#DIV/0!"}},{"$f":"IF(AV124=\"\",\"\",BC124)","v":""},"",null,null,null,null,null,null,null,null,{"$f":"IF(Sheet2!$A$139=TRUE,-1*(((BG124-$G124)-(BK124-$K124))/SQRT(((BH124^2*(BI124-1))+(BL124^2*(BM124-1)))/(BI124+BM124-2))),((BG124-$G124)-(BK124-$K124))/SQRT(((BH124^2*(BI124-1))+(BL124^2*(BM124-1)))/(BI124+BM124-2)))","v":{"$error":"#DIV/0!"}},{"$f":"IF(BG124=\"\",\"\",BN124)","v":""},"",null,null,null,null,null,null,null,null,{"$f":"IF(Sheet2!$A$139=TRUE,-1*(((BR124-$G124)-(BV124-$K124))/SQRT(((BS124^2*(BT124-1))+(BW124^2*(BX124-1)))/(BT124+BX124-2))),((BR124-$G124)-(BV124-$K124))/SQRT(((BS124^2*(BT124-1))+(BW124^2*(BX124-1)))/(BT124+BX124-2)))","v":{"$error":"#DIV/0!"}},{"$f":"IF(BR124=\"\",\"\",BY124)","v":""},""]
[null,null,"Outcome 4:",null,null,null,null,null,null,null,null,null,null,null,null,null,null,null,null,null,null,{"$f":"IF(Sheet2!$A$140=TRUE,-1*(((O125-$G125)-(S125-$K125))/SQRT(((P125^2*(Q125-1))+(T125^2*(U125-1)))/(Q125+U125-2))),((O125-$G125)-(S125-$K125))/SQRT(((P125^2*(Q125-1))+(T125^2*(U125-1)))/(Q125+U125-2)))","v":{"$error":"#DIV/0!"}},{"$f":"IF(O125=\"\",\"\",V125)","v":""},{"$f":"IF(Q125=\"\",\"\",SQRT((Q125+U125)/(Q125*U125)+(W125^2/(2*(Q125+U125)))))","v":""},null,null,null,null,null,null,null,null,{"$f":"IF(Sheet2!$A$140=TRUE,-1*(((Z125-$G125)-(AD125-$K125))/SQRT(((AA125^2*(AB125-1))+(AE125^2*(AF125-1)))/(AB125+AF125-2))),((Z125-$G125)-(AD125-$K125))/SQRT(((AA125^2*(AB125-1))+(AE125^2*(AF125-1)))/(AB125+AF125-2)))","v":{"$error":"#DIV/0!"}},{"$f":"IF(Z125=\"\",\"\",AG125)","v":""},{"$f":"IF(AB125=\"\",\"\",SQRT((AB125+AF125)/(AB125*AF125)+(AH125^2/(2*(AB125+AF125)))))","v":""},null,null,null,null,null,null,null,null,{"$f":"IF(Sheet2!$A$140=TRUE,-1*(((AK125-$G125)-(AO125-$K125))/SQRT(((AL125^2*(AM125-1))+(AP125^2*(AQ125-1)))/(AM125+AQ125-2))),((AK125-$G125)-(AO125-$K125))/SQRT(((AL125^2*(AM125-1))+(AP125^2*(AQ125-1)))/(AM125+AQ125-2)))","v":{"$error":"#DIV/0!"}},{"$f":"IF(AK125=\"\",\"\",AR125)","v":""},{"$f":"IF(AM125=\"\",\"\",SQRT((AM125+AQ125)/(AM125*AQ125)+(AS125^2/(2*(AM125+AQ125)))))","v":""},null,null,null,null,null,null,null,null,{"$f":"IF(Sheet2!$A$140=TRUE,-1*(((AV125-$G125)-(AZ125-$K125))/SQRT(((AW125^2*(AX125-1))+(BA125^2*(BB125-1)))/(AX125+BB125-2))),((AV125-$G125)-(AZ125-$K125))/SQRT(((AW125^2*(AX125-1))+(BA125^2*(BB125-1)))/(AX125+BB125-2)))","v":{"$error":"#DIV/0!"}},{"$f":"IF(AV125=\"\",\"\",BC125)","v":""},{"$f":"IF(AX125=\"\",\"\",SQRT((AX125+BB125)/(AX125*BB125)+(BD125^2/(2*(AX125+BB125)))))","v":""},null,null,null,null,null,null,null,null,{"$f":"IF(Sheet2!$A$140=TRUE,-1*(((BG125-$G125)-(BK125-$K125))/SQRT(((BH125^2*(BI125-1))+(BL125^2*(BM125-1)))/(BI125+BM125-2))),((BG125-$G125)-(BK125-$K125))/SQRT(((BH125^2*(BI125-1))+(BL125^2*(BM125-1)))/(BI125+BM125-2)))","v":{"$error":"#DIV/0!"}},{"$f":"IF(BG125=\"\",\"\",BN125)","v":""},{"$f":"IF(BI125=\"\",\"\",SQRT((BI125+BM125)/(BI125*BM125)+(BO125^2/(2*(BI125+BM125)))))","v":""},null,null,null,null,null,null,null,null,{"$f":"IF(Sheet2!$A$140=TRUE,-1*(((BR125-$G125)-(BV125-$K125))/SQRT(((BS125^2*(BT125-1))+(BW125^2*(BX125-1)))/(BT125+BX125-2))),((BR125-$G125)-(BV125-$K125))/SQRT(((BS125^2*(BT125-1))+(BW125^2*(BX125-1)))/(BT125+BX125-2)))","v":{"$error":"#DIV/0!"}},{"$f":"IF(BR125=\"\",\"\",BY125)","v":""},{"$f":"IF(BT125=\"\",\"\",SQRT((BT125+BX125)/(BT125*BX125)+(BZ125^2/(2*(BT125+BX125)))))","v":""}]
[null,null,"Outcome 5:",null,null,null,null,null,null,null,null,null,null,null,null,null,null,null,null,null,null,{"$f":"IF(Sheet2!$A$141=TRUE,-1*(((O126-$G126)-(S126-$K126))/SQRT(((P126^2*(Q126-1))+(T126^2*(U126-1)))/(Q126+U126-2))),((O126-$G126)-(S126-$K126))/SQRT(((P126^2*(Q126-1))+(T126^2*(U126-1)))/(Q126+U126-2)))","v":{"$error":"#DIV/0!"}},"","",null,null,null,null,null,null,null,null,{"$f":"IF(Sheet2!$A$141=TRUE,-1*(((Z126-$G126)-(AD126-$K126))/SQRT(((AA126^2*(AB126-1))+(AE126^2*(AF126-1)))/(AB126+AF126-2))),((Z126-$G126)-(AD126-$K126))/SQRT(((AA126^2*(AB126-1))+(AE126^2*(AF126-1)))/(AB126+AF126-2)))","v":{"$error":"#DIV/0!"}},"",{"$f":"IF(AB126=\"\",\"\",SQRT((AB126+AF126)/(AB126*AF126)+(AH126^2/(2*(AB126+AF126)))))","v":""},null,null,null,null,null,null,null,null,{"$f":"IF(Sheet2!$A$141=TRUE,-1*(((AK126-$G126)-(AO126-$K126))/SQRT(((AL126^2*(AM126-1))+(AP126^2*(AQ126-1)))/(AM126+AQ126-2))),((AK126-$G126)-(AO126-$K126))/SQRT(((AL126^2*(AM126-1))+(AP126^2*(AQ126-1)))/(AM126+AQ126-2)))","v":{"$error":"#DIV/0!"}},"",{"$f":"IF(AM126=\"\",\"\",SQRT((AM126+AQ126)/(AM126*AQ126)+(AS126^2/(2*(AM126+AQ126)))))","v":""},null,null,null,null,null,null,null,null,{"$f":"IF(Sheet2!$A$141=TRUE,-1*(((AV126-$G126)-(AZ126-$K126))/SQRT(((AW126^2*(AX126-1))+(BA126^2*(BB126-1)))/(AX126+BB126-2))),((AV126-$G126)-(AZ126-$K126))/SQRT(((AW126^2*(AX126-1))+(BA126^2*(BB126-1)))/(AX126+BB126-2)))","v":{"$error":"#DIV/0!"}},"",{"$f":"IF(AX126=\"\",\"\",SQRT((AX126+BB126)/(AX126*BB126)+(BD126^2/(2*(AX126+BB126)))))","v":""},null,null,null,null,null,null,null,null,{"$f":"IF(Sheet2!$A$141=TRUE,-1*(((BG126-$G126)-(BK126-$K126))/SQRT(((BH126^2*(BI126-1))+(BL126^2*(BM126-1)))/(BI126+BM126-2))),((BG126-$G126)-(BK126-$K126))/SQRT(((BH126^2*(BI126-1))+(BL126^2*(BM126-1)))/(BI126+BM126-2)))","v":{"$error":"#DIV/0!"}},"",{"$f":"IF(BI126=\"\",\"\",SQRT((BI126+BM126)/(BI126*BM126)+(BO126^2/(2*(BI126+BM126)))))","v":""},null,null,null,null,null,null,null,null,{"$f":"IF(Sheet2!$A$141=TRUE,-1*(((BR126-$G126)-(BV126-$K126))/SQRT(((BS126^2*(BT126-1))+(BW126^2*(BX126-1)))/(BT126+BX126-2))),((BR126-$G126)-(BV126-$K126))/SQRT(((BS126^2*(BT126-1))+(BW126^2*(BX126-1)))/(BT126+BX126-2)))","v":{"$error":"#DIV/0!"}},"",{"$f":"IF(BT126=\"\",\"\",SQRT((BT126+BX126)/(BT126*BX126)+(BZ126^2/(2*(BT126+BX126)))))","v":""}]
[null,null,"Somatization d",null,null,null,null,null,null,null,null,null,null,null,null,null,null,null,null,null,null,null,{"$f":"IF(W122=\"\",\"\",AVERAGE(W122:W126))","v":""},{"$f":"IF(X122=\"\",\"\",AVERAGE(X122:X126))","v":""},null,null,null,null,null,null,null,null,null,{"$f":"IF(AH122=\"\",\"\",AVERAGE(AH122:AH126))","v":""},{"$f":"IF(AI122=\"\",\"\",AVERAGE(AI122:AI126))","v":""},null,null,null,null,null,null,null,null,null,{"$f":"IF(AS122=\"\",\"\",AVERAGE(AS122:AS126))","v":""},{"$f":"IF(AT122=\"\",\"\",AVERAGE(AT122:AT126))","v":""},null,null,null,null,null,null,null,null,null,{"$f":"IF(BD122=\"\",\"\",AVERAGE(BD122:BD126))","v":""},{"$f":"IF(BE122=\"\",\"\",AVERAGE(BE122:BE126))","v":""},null,null,null,null,null,null,null,null,null,{"$f":"IF(BO122=\"\",\"\",AVERAGE(BO122:BO126))","v":""},{"$f":"IF(BP122=\"\",\"\",AVERAGE(BP122:BP126))","v":""},null,null,null,null,null,null,null,null,null,{"$f":"IF(BZ122=\"\",\"\",AVERAGE(BZ122:BZ126))","v":""},{"$f":"IF(CA122=\"\",\"\",AVERAGE(CA122:CA126))","v":""}]
[]
[null,null,"Internalizing Bx","Measure Name"]
[null,null,"Outcome 1:",null,null,null,null,null,null,null,null,null,null,null,null,null,null,null,null,null,null,{"$f":"IF(Sheet2!$A$145=TRUE,-1*(((O130-$G130)-(S130-$K130))/SQRT(((P130^2*(Q130-1))+(T130^2*(U130-1)))/(Q130+U130-2))),((O130-$G130)-(S130-$K130))/SQRT(((P130^2*(Q130-1))+(T130^2*(U130-1)))/(Q130+U130-2)))","v":{"$error":"#DIV/0!"}},{"$f":"IF(O130=\"\",\"\",V130)","v":""},{"$f":"IF(Q130=\"\",\"\",SQRT((Q130+U130)/(Q130*U130)+(W130^2/(2*(Q130+U130)))))","v":""},null,null,null,null,null,null,null,null,{"$f":"IF(Sheet2!$A$145=TRUE,-1*(((Z130-$G130)-(AD130-$K130))/SQRT(((AA130^2*(AB130-1))+(AE130^2*(AF130-1)))/(AB130+AF130-2))),((Z130-$G130)-(AD130-$K130))/SQRT(((AA130^2*(AB130-1))+(AE130^2*(AF130-1)))/(AB130+AF130-2)))","v":{"$error":"#DIV/0!"}},{"$f":"IF(Z130=\"\",\"\",AG130)","v":""},{"$f":"IF(AB130=\"\",\"\",SQRT((AB130+AF130)/(AB130*AF130)+(AH130^2/(2*(AB130+AF130)))))","v":""},null,null,null,null,null,null,null,null,{"$f":"IF(Sheet2!$A$145=TRUE,-1*(((AK130-$G130)-(AO130-$K130))/SQRT(((AL130^2*(AM130-1))+(AP130^2*(AQ130-1)))/(AM130+AQ130-2))),((AK130-$G130)-(AO130-$K130))/SQRT(((AL130^2*(AM130-1))+(AP130^2*(AQ130-1)))/(AM130+AQ130-2)))","v":{"$error":"#DIV/0!"}},{"$f":"IF(AK130=\"\",\"\",AR130)","v":""},{"$f":"IF(AM130=\"\",\"\",SQRT((AM130+AQ130)/(AM130*AQ130)+(AS130^2/(2*(AM130+AQ130)))))","v":""},null,null,null,null,null,null,null,null,{"$f":"IF(Sheet2!$A$145=TRUE,-1*(((AV130-$G130)-(AZ130-$K130))/SQRT(((AW130^2*(AX130-1))+(BA130^2*(BB130-1)))/(AX130+BB130-2))),((AV130-$G130)-(AZ130-$K130))/SQRT(((AW130^2*(AX130-1))+(BA130^2*(BB130-1)))/(AX130+BB130-2)))","v":{"$error":"#DIV/0!"}},{"$f":"IF(AV130=\"\",\"\",BC130)","v":""},{"$f":"IF(AX130=\"\",\"\",SQRT((AX130+BB130)/(AX130*BB130)+(BD130^2/(2*(AX130+BB130)))))","v":""},null,null,null,null,null,null,null,null,{"$f":"IF(Sheet2!$A$145=TRUE,-1*(((BG130-$G130)-(BK130-$K130))/SQRT(((BH130^2*(BI130-1))+(BL130^2*(BM130-1)))/(BI130+BM130-2))),((BG130-$G130)-(BK130-$K130))/SQRT(((BH130^2*(BI130-1))+(BL130^2*(BM130-1)))/(BI130+BM130-2)))","v":{"$error":"#DIV/0!"}},{"$f":"IF(BG130=\"\",\"\",BN130)","v":""},{"$f":"IF(BI130=\"\",\"\",SQRT((BI130+BM130)/(BI130*BM130)+(BO130^2/(2*(BI130+BM130)))))","v":""},null,null,null,null,null,null,null,null,{"$f":"IF(Sheet2!$A$145=TRUE,-1*(((BR130-$G130)-(BV130-$K130))/SQRT(((BS130^2*(BT130-1))+(BW130^2*(BX130-1)))/(BT130+BX130-2))),((BR130-$G130)-(BV130-$K130))/SQRT(((BS130^2*(BT130-1))+(BW130^2*(BX130-1)))/(BT130+BX130-2)))","v":{"$error":"#DIV/0!"}},{"$f":"IF(BR130=\"\",\"\",BY130)","v":""},{"$f":"IF(BT130=\"\",\"\",SQRT((BT130+BX130)/(BT130*BX130)+(BZ130^2/(2*(BT130+BX130)))))","v":""}]
[null,null,"Outcome 2:",null,null,null,null,null,null,null,null,null,null,null,null,null,null,null,null,null,null,{"$f":"IF(Sheet2!$A$146=TRUE,-1*(((O131-$G131)-(S131-$K131))/SQRT(((P131^2*(Q131-1))+(T131^2*(U131-1)))/(Q131+U131-2))),((O131-$G131)-(S131-$K131))/SQRT(((P131^2*(Q131-1))+(T131^2*(U131-1)))/(Q131+U131-2)))","v":{"$error":"#DIV/0!"}},{"$f":"IF(O131=\"\",\"\",V131)","v":""},{"$f":"IF(Q131=\"\",\"\",SQRT((Q131+U131)/(Q131*U131)+(W131^2/(2*(Q131+U131)))))","v":""},null,null,null,null,null,null,null,null,{"$f":"IF(Sheet2!$A$146=TRUE,-1*(((Z131-$G131)-(AD131-$K131))/SQRT(((AA131^2*(AB131-1))+(AE131^2*(AF131-1)))/(AB131+AF131-2))),((Z131-$G131)-(AD131-$K131))/SQRT(((AA131^2*(AB131-1))+(AE131^2*(AF131-1)))/(AB131+AF131-2)))","v":{"$error":"#DIV/0!"}},{"$f":"IF(Z131=\"\",\"\",AG131)","v":""},{"$f":"IF(AB131=\"\",\"\",SQRT((AB131+AF131)/(AB131*AF131)+(AH131^2/(2*(AB131+AF131)))))","v":""},null,null,null,null,null,null,null,null,{"$f":"IF(Sheet2!$A$146=TRUE,-1*(((AK131-$G131)-(AO131-$K131))/SQRT(((AL131^2*(AM131-1))+(AP131^2*(AQ131-1)))/(AM131+AQ131-2))),((AK131-$G131)-(AO131-$K131))/SQRT(((AL131^2*(AM131-1))+(AP131^2*(AQ131-1)))/(AM131+AQ131-2)))","v":{"$error":"#DIV/0!"}},{"$f":"IF(AK131=\"\",\"\",AR131)","v":""},{"$f":"IF(AM131=\"\",\"\",SQRT((AM131+AQ131)/(AM131*AQ131)+(AS131^2/(2*(AM131+AQ131)))))","v":""},null,null,null,null,null,null,null,null,{"$f":"IF(Sheet2!$A$146=TRUE,-1*(((AV131-$G131)-(AZ131-$K131))/SQRT(((AW131^2*(AX131-1))+(BA131^2*(BB131-1)))/(AX131+BB131-2))),((AV131-$G131)-(AZ131-$K131))/SQRT(((AW131^2*(AX131-1))+(BA131^2*(BB131-1)))/(AX131+BB131-2)))","v":{"$error":"#DIV/0!"}},{"$f":"IF(AV131=\"\",\"\",BC131)","v":""},{"$f":"IF(AX131=\"\",\"\",SQRT((AX131+BB131)/(AX131*BB131)+(BD131^2/(2*(AX131+BB131)))))","v":""},null,null,null,null,null,null,null,null,{"$f":"IF(Sheet2!$A$146=TRUE,-1*(((BG131-$G131)-(BK131-$K131))/SQRT(((BH131^2*(BI131-1))+(BL131^2*(BM131-1)))/(BI131+BM131-2))),((BG131-$G131)-(BK131-$K131))/SQRT(((BH131^2*(BI131-1))+(BL131^2*(BM131-1)))/(BI131+BM131-2)))","v":{"$error":"#DIV/0!"}},{"$f":"IF(BG131=\"\",\"\",BN131)","v":""},{"$f":"IF(BI131=\"\",\"\",SQRT((BI131+BM131)/(BI131*BM131)+(BO131^2/(2*(BI131+BM131)))))","v":""},null,null,null,null,null,null,null,null,{"$f":"IF(Sheet2!$A$146=TRUE,-1*(((BR131-$G131)-(BV131-$K131))/SQRT(((BS131^2*(BT131-1))+(BW131^2*(BX131-1)))/(BT131+BX131-2))),((BR131-$G131)-(BV131-$K131))/SQRT(((BS131^2*(BT131-1))+(BW131^2*(BX131-1)))/(BT131+BX131-2)))","v":{"$error":"#DIV/0!"}},{"$f":"IF(BR131=\"\",\"\",BY131)","v":""},{"$f":"IF(BT131=\"\",\"\",SQRT((BT131+BX131)/(BT131*BX131)+(BZ131^2/(2*(BT131+BX131)))))","v":""}]
[null,null,"Outcome 3:",null,null,null,null,null,null,null,null,null,null,null,null,null,null,null,null,null,null,{"$f":"IF(Sheet2!$A$147=TRUE,-1*(((O132-$G132)-(S132-$K132))/SQRT(((P132^2*(Q132-1))+(T132^2*(U132-1)))/(Q132+U132-2))),((O132-$G132)-(S132-$K132))/SQRT(((P132^2*(Q132-1))+(T132^2*(U132-1)))/(Q132+U132-2)))","v":{"$error":"#DIV/0!"}},{"$f":"IF(O132=\"\",\"\",V132)","v":""},"",null,null,null,null,null,null,null,null,{"$f":"IF(Sheet2!$A$147=TRUE,-1*(((Z132-$G132)-(AD132-$K132))/SQRT(((AA132^2*(AB132-1))+(AE132^2*(AF132-1)))/(AB132+AF132-2))),((Z132-$G132)-(AD132-$K132))/SQRT(((AA132^2*(AB132-1))+(AE132^2*(AF132-1)))/(AB132+AF132-2)))","v":{"$error":"#DIV/0!"}},{"$f":"IF(Z132=\"\",\"\",AG132)","v":""},"",null,null,null,null,null,null,null,null,{"$f":"IF(Sheet2!$A$147=TRUE,-1*(((AK132-$G132)-(AO132-$K132))/SQRT(((AL132^2*(AM132-1))+(AP132^2*(AQ132-1)))/(AM132+AQ132-2))),((AK132-$G132)-(AO132-$K132))/SQRT(((AL132^2*(AM132-1))+(AP132^2*(AQ132-1)))/(AM132+AQ132-2)))","v":{"$error":"#DIV/0!"}},{"$f":"IF(AK132=\"\",\"\",AR132)","v":""},"",null,null,null,null,null,null,null,null,{"$f":"IF(Sheet2!$A$147=TRUE,-1*(((AV132-$G132)-(AZ132-$K132))/SQRT(((AW132^2*(AX132-1))+(BA132^2*(BB132-1)))/(AX132+BB132-2))),((AV132-$G132)-(AZ132-$K132))/SQRT(((AW132^2*(AX132-1))+(BA132^2*(BB132-1)))/(AX132+BB132-2)))","v":{"$error":"#DIV/0!"}},{"$f":"IF(AV132=\"\",\"\",BC132)","v":""},"",null,null,null,null,null,null,null,null,{"$f":"IF(Sheet2!$A$147=TRUE,-1*(((BG132-$G132)-(BK132-$K132))/SQRT(((BH132^2*(BI132-1))+(BL132^2*(BM132-1)))/(BI132+BM132-2))),((BG132-$G132)-(BK132-$K132))/SQRT(((BH132^2*(BI132-1))+(BL132^2*(BM132-1)))/(BI132+BM132-2)))","v":{"$error":"#DIV/0!"}},{"$f":"IF(BG132=\"\",\"\",BN132)","v":""},"",null,null,null,null,null,null,null,null,{"$f":"IF(Sheet2!$A$147=TRUE,-1*(((BR132-$G132)-(BV132-$K132))/SQRT(((BS132^2*(BT132-1))+(BW132^2*(BX132-1)))/(BT132+BX132-2))),((BR132-$G132)-(BV132-$K132))/SQRT(((BS132^2*(BT132-1))+(BW132^2*(BX132-1)))/(BT132+BX132-2)))","v":{"$error":"#DIV/0!"}},{"$f":"IF(BR132=\"\",\"\",BY132)","v":""},""]
[null,null,"Outcome 4:",null,null,null,null,null,null,null,null,null,null,null,null,null,null,null,null,null,null,{"$f":"IF(Sheet2!$A$148=TRUE,-1*(((O133-$G133)-(S133-$K133))/SQRT(((P133^2*(Q133-1))+(T133^2*(U133-1)))/(Q133+U133-2))),((O133-$G133)-(S133-$K133))/SQRT(((P133^2*(Q133-1))+(T133^2*(U133-1)))/(Q133+U133-2)))","v":{"$error":"#DIV/0!"}},{"$f":"IF(O133=\"\",\"\",V133)","v":""},{"$f":"IF(Q133=\"\",\"\",SQRT((Q133+U133)/(Q133*U133)+(W133^2/(2*(Q133+U133)))))","v":""},null,null,null,null,null,null,null,null,{"$f":"IF(Sheet2!$A$148=TRUE,-1*(((Z133-$G133)-(AD133-$K133))/SQRT(((AA133^2*(AB133-1))+(AE133^2*(AF133-1)))/(AB133+AF133-2))),((Z133-$G133)-(AD133-$K133))/SQRT(((AA133^2*(AB133-1))+(AE133^2*(AF133-1)))/(AB133+AF133-2)))","v":{"$error":"#DIV/0!"}},{"$f":"IF(Z133=\"\",\"\",AG133)","v":""},{"$f":"IF(AB133=\"\",\"\",SQRT((AB133+AF133)/(AB133*AF133)+(AH133^2/(2*(AB133+AF133)))))","v":""},null,null,null,null,null,null,null,null,{"$f":"IF(Sheet2!$A$148=TRUE,-1*(((AK133-$G133)-(AO133-$K133))/SQRT(((AL133^2*(AM133-1))+(AP133^2*(AQ133-1)))/(AM133+AQ133-2))),((AK133-$G133)-(AO133-$K133))/SQRT(((AL133^2*(AM133-1))+(AP133^2*(AQ133-1)))/(AM133+AQ133-2)))","v":{"$error":"#DIV/0!"}},{"$f":"IF(AK133=\"\",\"\",AR133)","v":""},{"$f":"IF(AM133=\"\",\"\",SQRT((AM133+AQ133)/(AM133*AQ133)+(AS133^2/(2*(AM133+AQ133)))))","v":""},null,null,null,null,null,null,null,null,{"$f":"IF(Sheet2!$A$148=TRUE,-1*(((AV133-$G133)-(AZ133-$K133))/SQRT(((AW133^2*(AX133-1))+(BA133^2*(BB133-1)))/(AX133+BB133-2))),((AV133-$G133)-(AZ133-$K133))/SQRT(((AW133^2*(AX133-1))+(BA133^2*(BB133-1)))/(AX133+BB133-2)))","v":{"$error":"#DIV/0!"}},{"$f":"IF(AV133=\"\",\"\",BC133)","v":""},{"$f":"IF(AX133=\"\",\"\",SQRT((AX133+BB133)/(AX133*BB133)+(BD133^2/(2*(AX133+BB133)))))","v":""},null,null,null,null,null,null,null,null,{"$f":"IF(Sheet2!$A$148=TRUE,-1*(((BG133-$G133)-(BK133-$K133))/SQRT(((BH133^2*(BI133-1))+(BL133^2*(BM133-1)))/(BI133+BM133-2))),((BG133-$G133)-(BK133-$K133))/SQRT(((BH133^2*(BI133-1))+(BL133^2*(BM133-1)))/(BI133+BM133-2)))","v":{"$error":"#DIV/0!"}},{"$f":"IF(BG133=\"\",\"\",BN133)","v":""},{"$f":"IF(BI133=\"\",\"\",SQRT((BI133+BM133)/(BI133*BM133)+(BO133^2/(2*(BI133+BM133)))))","v":""},null,null,null,null,null,null,null,null,{"$f":"IF(Sheet2!$A$148=TRUE,-1*(((BR133-$G133)-(BV133-$K133))/SQRT(((BS133^2*(BT133-1))+(BW133^2*(BX133-1)))/(BT133+BX133-2))),((BR133-$G133)-(BV133-$K133))/SQRT(((BS133^2*(BT133-1))+(BW133^2*(BX133-1)))/(BT133+BX133-2)))","v":{"$error":"#DIV/0!"}},{"$f":"IF(BR133=\"\",\"\",BY133)","v":""},{"$f":"IF(BT133=\"\",\"\",SQRT((BT133+BX133)/(BT133*BX133)+(BZ133^2/(2*(BT133+BX133)))))","v":""}]
[null,null,"Outcome 5:",null,null,null,null,null,null,null,null,null,null,null,null,null,null,null,null,null,null,{"$f":"IF(Sheet2!$A$149=TRUE,-1*(((O134-$G134)-(S134-$K134))/SQRT(((P134^2*(Q134-1))+(T134^2*(U134-1)))/(Q134+U134-2))),((O134-$G134)-(S134-$K134))/SQRT(((P134^2*(Q134-1))+(T134^2*(U134-1)))/(Q134+U134-2)))","v":{"$error":"#DIV/0!"}},"","",null,null,null,null,null,null,null,null,{"$f":"IF(Sheet2!$A$149=TRUE,-1*(((Z134-$G134)-(AD134-$K134))/SQRT(((AA134^2*(AB134-1))+(AE134^2*(AF134-1)))/(AB134+AF134-2))),((Z134-$G134)-(AD134-$K134))/SQRT(((AA134^2*(AB134-1))+(AE134^2*(AF134-1)))/(AB134+AF134-2)))","v":{"$error":"#DIV/0!"}},"",{"$f":"IF(AB134=\"\",\"\",SQRT((AB134+AF134)/(AB134*AF134)+(AH134^2/(2*(AB134+AF134)))))","v":""},null,null,null,null,null,null,null,null,{"$f":"IF(Sheet2!$A$149=TRUE,-1*(((AK134-$G134)-(AO134-$K134))/SQRT(((AL134^2*(AM134-1))+(AP134^2*(AQ134-1)))/(AM134+AQ134-2))),((AK134-$G134)-(AO134-$K134))/SQRT(((AL134^2*(AM134-1))+(AP134^2*(AQ134-1)))/(AM134+AQ134-2)))","v":{"$error":"#DIV/0!"}},"",{"$f":"IF(AM134=\"\",\"\",SQRT((AM134+AQ134)/(AM134*AQ134)+(AS134^2/(2*(AM134+AQ134)))))","v":""},null,null,null,null,null,null,null,null,{"$f":"IF(Sheet2!$A$149=TRUE,-1*(((AV134-$G134)-(AZ134-$K134))/SQRT(((AW134^2*(AX134-1))+(BA134^2*(BB134-1)))/(AX134+BB134-2))),((AV134-$G134)-(AZ134-$K134))/SQRT(((AW134^2*(AX134-1))+(BA134^2*(BB134-1)))/(AX134+BB134-2)))","v":{"$error":"#DIV/0!"}},"",{"$f":"IF(AX134=\"\",\"\",SQRT((AX134+BB134)/(AX134*BB134)+(BD134^2/(2*(AX134+BB134)))))","v":""},null,null,null,null,null,null,null,null,{"$f":"IF(Sheet2!$A$149=TRUE,-1*(((BG134-$G134)-(BK134-$K134))/SQRT(((BH134^2*(BI134-1))+(BL134^2*(BM134-1)))/(BI134+BM134-2))),((BG134-$G134)-(BK134-$K134))/SQRT(((BH134^2*(BI134-1))+(BL134^2*(BM134-1)))/(BI134+BM134-2)))","v":{"$error":"#DIV/0!"}},"",{"$f":"IF(BI134=\"\",\"\",SQRT((BI134+BM134)/(BI134*BM134)+(BO134^2/(2*(BI134+BM134)))))","v":""},null,null,null,null,null,null,null,null,{"$f":"IF(Sheet2!$A$149=TRUE,-1*(((BR134-$G134)-(BV134-$K134))/SQRT(((BS134^2*(BT134-1))+(BW134^2*(BX134-1)))/(BT134+BX134-2))),((BR134-$G134)-(BV134-$K134))/SQRT(((BS134^2*(BT134-1))+(BW134^2*(BX134-1)))/(BT134+BX134-2)))","v":{"$error":"#DIV/0!"}},"",{"$f":"IF(BT134=\"\",\"\",SQRT((BT134+BX134)/(BT134*BX134)+(BZ134^2/(2*(BT134+BX134)))))","v":""}]
[null,null,"Internalizing Bx d",null,null,null,null,null,null,null,null,null,null,null,null,null,null,null,null,null,null,null,{"$f":"IF(W130=\"\",\"\",AVERAGE(W130:W134))","v":""},{"$f":"IF(X130=\"\",\"\",AVERAGE(X130:X134))","v":""},null,null,null,null,null,null,null,null,null,{"$f":"IF(AH130=\"\",\"\",AVERAGE(AH130:AH134))","v":""},{"$f":"IF(AI130=\"\",\"\",AVERAGE(AI130:AI134))","v":""},null,null,null,null,null,null,null,null,null,{"$f":"IF(AS130=\"\",\"\",AVERAGE(AS130:AS134))","v":""},{"$f":"IF(AT130=\"\",\"\",AVERAGE(AT130:AT134))","v":""},null,null,null,null,null,null,null,null,null,{"$f":"IF(BD130=\"\",\"\",AVERAGE(BD130:BD134))","v":""},{"$f":"IF(BE130=\"\",\"\",AVERAGE(BE130:BE134))","v":""},null,null,null,null,null,null,null,null,null,{"$f":"IF(BO130=\"\",\"\",AVERAGE(BO130:BO134))","v":""},{"$f":"IF(BP130=\"\",\"\",AVERAGE(BP130:BP134))","v":""},null,null,null,null,null,null,null,null,null,{"$f":"IF(BZ130=\"\",\"\",AVERAGE(BZ130:BZ134))","v":""},{"$f":"IF(CA130=\"\",\"\",AVERAGE(CA130:CA134))","v":""}]
[]
[null,null,"Externalizing Bx","Measure Name"]
[null,null,"Outcome 1:",null,null,null,null,null,null,null,null,null,null,null,null,null,null,null,null,null,null,{"$f":"IF(Sheet2!$A$153=TRUE,-1*(((O138-$G138)-(S138-$K138))/SQRT(((P138^2*(Q138-1))+(T138^2*(U138-1)))/(Q138+U138-2))),((O138-$G138)-(S138-$K138))/SQRT(((P138^2*(Q138-1))+(T138^2*(U138-1)))/(Q138+U138-2)))","v":{"$error":"#DIV/0!"}},{"$f":"IF(O138=\"\",\"\",V138)","v":""},{"$f":"IF(Q138=\"\",\"\",SQRT((Q138+U138)/(Q138*U138)+(W138^2/(2*(Q138+U138)))))","v":""},null,null,null,null,null,null,null,null,{"$f":"IF(Sheet2!$A$153=TRUE,-1*(((Z138-$G138)-(AD138-$K138))/SQRT(((AA138^2*(AB138-1))+(AE138^2*(AF138-1)))/(AB138+AF138-2))),((Z138-$G138)-(AD138-$K138))/SQRT(((AA138^2*(AB138-1))+(AE138^2*(AF138-1)))/(AB138+AF138-2)))","v":{"$error":"#DIV/0!"}},{"$f":"IF(Z138=\"\",\"\",AG138)","v":""},{"$f":"IF(AB138=\"\",\"\",SQRT((AB138+AF138)/(AB138*AF138)+(AH138^2/(2*(AB138+AF138)))))","v":""},null,null,null,null,null,null,null,null,{"$f":"IF(Sheet2!$A$153=TRUE,-1*(((AK138-$G138)-(AO138-$K138))/SQRT(((AL138^2*(AM138-1))+(AP138^2*(AQ138-1)))/(AM138+AQ138-2))),((AK138-$G138)-(AO138-$K138))/SQRT(((AL138^2*(AM138-1))+(AP138^2*(AQ138-1)))/(AM138+AQ138-2)))","v":{"$error":"#DIV/0!"}},{"$f":"IF(AK138=\"\",\"\",AR138)","v":""},{"$f":"IF(AM138=\"\",\"\",SQRT((AM138+AQ138)/(AM138*AQ138)+(AS138^2/(2*(AM138+AQ138)))))","v":""},null,null,null,null,null,null,null,null,{"$f":"IF(Sheet2!$A$153=TRUE,-1*(((AV138-$G138)-(AZ138-$K138))/SQRT(((AW138^2*(AX138-1))+(BA138^2*(BB138-1)))/(AX138+BB138-2))),((AV138-$G138)-(AZ138-$K138))/SQRT(((AW138^2*(AX138-1))+(BA138^2*(BB138-1)))/(AX138+BB138-2)))","v":{"$error":"#DIV/0!"}},{"$f":"IF(AV138=\"\",\"\",BC138)","v":""},{"$f":"IF(AX138=\"\",\"\",SQRT((AX138+BB138)/(AX138*BB138)+(BD138^2/(2*(AX138+BB138)))))","v":""},null,null,null,null,null,null,null,null,{"$f":"IF(Sheet2!$A$153=TRUE,-1*(((BG138-$G138)-(BK138-$K138))/SQRT(((BH138^2*(BI138-1))+(BL138^2*(BM138-1)))/(BI138+BM138-2))),((BG138-$G138)-(BK138-$K138))/SQRT(((BH138^2*(BI138-1))+(BL138^2*(BM138-1)))/(BI138+BM138-2)))","v":{"$error":"#DIV/0!"}},{"$f":"IF(BG138=\"\",\"\",BN138)","v":""},{"$f":"IF(BI138=\"\",\"\",SQRT((BI138+BM138)/(BI138*BM138)+(BO138^2/(2*(BI138+BM138)))))","v":""},null,null,null,null,null,null,null,null,{"$f":"IF(Sheet2!$A$153=TRUE,-1*(((BR138-$G138)-(BV138-$K138))/SQRT(((BS138^2*(BT138-1))+(BW138^2*(BX138-1)))/(BT138+BX138-2))),((BR138-$G138)-(BV138-$K138))/SQRT(((BS138^2*(BT138-1))+(BW138^2*(BX138-1)))/(BT138+BX138-2)))","v":{"$error":"#DIV/0!"}},{"$f":"IF(BR138=\"\",\"\",BY138)","v":""},{"$f":"IF(BT138=\"\",\"\",SQRT((BT138+BX138)/(BT138*BX138)+(BZ138^2/(2*(BT138+BX138)))))","v":""}]
[null,null,"Outcome 2:",null,null,null,null,null,null,null,null,null,null,null,null,null,null,null,null,null,null,{"$f":"IF(Sheet2!$A$154=TRUE,-1*(((O139-$G139)-(S139-$K139))/SQRT(((P139^2*(Q139-1))+(T139^2*(U139-1)))/(Q139+U139-2))),((O139-$G139)-(S139-$K139))/SQRT(((P139^2*(Q139-1))+(T139^2*(U139-1)))/(Q139+U139-2)))","v":{"$error":"#DIV/0!"}},{"$f":"IF(O139=\"\",\"\",V139)","v":""},{"$f":"IF(Q139=\"\",\"\",SQRT((Q139+U139)/(Q139*U139)+(W139^2/(2*(Q139+U139)))))","v":""},null,null,null,null,null,null,null,null,{"$f":"IF(Sheet2!$A$154=TRUE,-1*(((Z139-$G139)-(AD139-$K139))/SQRT(((AA139^2*(AB139-1))+(AE139^2*(AF139-1)))/(AB139+AF139-2))),((Z139-$G139)-(AD139-$K139))/SQRT(((AA139^2*(AB139-1))+(AE139^2*(AF139-1)))/(AB139+AF139-2)))","v":{"$error":"#DIV/0!"}},{"$f":"IF(Z139=\"\",\"\",AG139)","v":""},{"$f":"IF(AB139=\"\",\"\",SQRT((AB139+AF139)/(AB139*AF139)+(AH139^2/(2*(AB139+AF139)))))","v":""},null,null,null,null,null,null,null,null,{"$f":"IF(Sheet2!$A$154=TRUE,-1*(((AK139-$G139)-(AO139-$K139))/SQRT(((AL139^2*(AM139-1))+(AP139^2*(AQ139-1)))/(AM139+AQ139-2))),((AK139-$G139)-(AO139-$K139))/SQRT(((AL139^2*(AM139-1))+(AP139^2*(AQ139-1)))/(AM139+AQ139-2)))","v":{"$error":"#DIV/0!"}},{"$f":"IF(AK139=\"\",\"\",AR139)","v":""},{"$f":"IF(AM139=\"\",\"\",SQRT((AM139+AQ139)/(AM139*AQ139)+(AS139^2/(2*(AM139+AQ139)))))","v":""},null,null,null,null,null,null,null,null,{"$f":"IF(Sheet2!$A$154=TRUE,-1*(((AV139-$G139)-(AZ139-$K139))/SQRT(((AW139^2*(AX139-1))+(BA139^2*(BB139-1)))/(AX139+BB139-2))),((AV139-$G139)-(AZ139-$K139))/SQRT(((AW139^2*(AX139-1))+(BA139^2*(BB139-1)))/(AX139+BB139-2)))","v":{"$error":"#DIV/0!"}},{"$f":"IF(AV139=\"\",\"\",BC139)","v":""},{"$f":"IF(AX139=\"\",\"\",SQRT((AX139+BB139)/(AX139*BB139)+(BD139^2/(2*(AX139+BB139)))))","v":""},null,null,null,null,null,null,null,null,{"$f":"IF(Sheet2!$A$154=TRUE,-1*(((BG139-$G139)-(BK139-$K139))/SQRT(((BH139^2*(BI139-1))+(BL139^2*(BM139-1)))/(BI139+BM139-2))),((BG139-$G139)-(BK139-$K139))/SQRT(((BH139^2*(BI139-1))+(BL139^2*(BM139-1)))/(BI139+BM139-2)))","v":{"$error":"#DIV/0!"}},{"$f":"IF(BG139=\"\",\"\",BN139)","v":""},{"$f":"IF(BI139=\"\",\"\",SQRT((BI139+BM139)/(BI139*BM139)+(BO139^2/(2*(BI139+BM139)))))","v":""},null,null,null,null,null,null,null,null,{"$f":"IF(Sheet2!$A$154=TRUE,-1*(((BR139-$G139)-(BV139-$K139))/SQRT(((BS139^2*(BT139-1))+(BW139^2*(BX139-1)))/(BT139+BX139-2))),((BR139-$G139)-(BV139-$K139))/SQRT(((BS139^2*(BT139-1))+(BW139^2*(BX139-1)))/(BT139+BX139-2)))","v":{"$error":"#DIV/0!"}},{"$f":"IF(BR139=\"\",\"\",BY139)","v":""},{"$f":"IF(BT139=\"\",\"\",SQRT((BT139+BX139)/(BT139*BX139)+(BZ139^2/(2*(BT139+BX139)))))","v":""}]
[null,null,"Outcome 3:",null,null,null,null,null,null,null,null,null,null,null,null,null,null,null,null,null,null,{"$f":"IF(Sheet2!$A$155=TRUE,-1*(((O140-$G140)-(S140-$K140))/SQRT(((P140^2*(Q140-1))+(T140^2*(U140-1)))/(Q140+U140-2))),((O140-$G140)-(S140-$K140))/SQRT(((P140^2*(Q140-1))+(T140^2*(U140-1)))/(Q140+U140-2)))","v":{"$error":"#DIV/0!"}},{"$f":"IF(O140=\"\",\"\",V140)","v":""},"",null,null,null,null,null,null,null,null,{"$f":"IF(Sheet2!$A$155=TRUE,-1*(((Z140-$G140)-(AD140-$K140))/SQRT(((AA140^2*(AB140-1))+(AE140^2*(AF140-1)))/(AB140+AF140-2))),((Z140-$G140)-(AD140-$K140))/SQRT(((AA140^2*(AB140-1))+(AE140^2*(AF140-1)))/(AB140+AF140-2)))","v":{"$error":"#DIV/0!"}},{"$f":"IF(Z140=\"\",\"\",AG140)","v":""},"",null,null,null,null,null,null,null,null,{"$f":"IF(Sheet2!$A$155=TRUE,-1*(((AK140-$G140)-(AO140-$K140))/SQRT(((AL140^2*(AM140-1))+(AP140^2*(AQ140-1)))/(AM140+AQ140-2))),((AK140-$G140)-(AO140-$K140))/SQRT(((AL140^2*(AM140-1))+(AP140^2*(AQ140-1)))/(AM140+AQ140-2)))","v":{"$error":"#DIV/0!"}},{"$f":"IF(AK140=\"\",\"\",AR140)","v":""},"",null,null,null,null,null,null,null,null,{"$f":"IF(Sheet2!$A$155=TRUE,-1*(((AV140-$G140)-(AZ140-$K140))/SQRT(((AW140^2*(AX140-1))+(BA140^2*(BB140-1)))/(AX140+BB140-2))),((AV140-$G140)-(AZ140-$K140))/SQRT(((AW140^2*(AX140-1))+(BA140^2*(BB140-1)))/(AX140+BB140-2)))","v":{"$error":"#DIV/0!"}},{"$f":"IF(AV140=\"\",\"\",BC140)","v":""},"",null,null,null,null,null,null,null,null,{"$f":"IF(Sheet2!$A$155=TRUE,-1*(((BG140-$G140)-(BK140-$K140))/SQRT(((BH140^2*(BI140-1))+(BL140^2*(BM140-1)))/(BI140+BM140-2))),((BG140-$G140)-(BK140-$K140))/SQRT(((BH140^2*(BI140-1))+(BL140^2*(BM140-1)))/(BI140+BM140-2)))","v":{"$error":"#DIV/0!"}},{"$f":"IF(BG140=\"\",\"\",BN140)","v":""},"",null,null,null,null,null,null,null,null,{"$f":"IF(Sheet2!$A$155=TRUE,-1*(((BR140-$G140)-(BV140-$K140))/SQRT(((BS140^2*(BT140-1))+(BW140^2*(BX140-1)))/(BT140+BX140-2))),((BR140-$G140)-(BV140-$K140))/SQRT(((BS140^2*(BT140-1))+(BW140^2*(BX140-1)))/(BT140+BX140-2)))","v":{"$error":"#DIV/0!"}},{"$f":"IF(BR140=\"\",\"\",BY140)","v":""},""]
[null,null,"Outcome 4:",null,null,null,null,null,null,null,null,null,null,null,null,null,null,null,null,null,null,{"$f":"IF(Sheet2!$A$156=TRUE,-1*(((O141-$G141)-(S141-$K141))/SQRT(((P141^2*(Q141-1))+(T141^2*(U141-1)))/(Q141+U141-2))),((O141-$G141)-(S141-$K141))/SQRT(((P141^2*(Q141-1))+(T141^2*(U141-1)))/(Q141+U141-2)))","v":{"$error":"#DIV/0!"}},{"$f":"IF(O141=\"\",\"\",V141)","v":""},{"$f":"IF(Q141=\"\",\"\",SQRT((Q141+U141)/(Q141*U141)+(W141^2/(2*(Q141+U141)))))","v":""},null,null,null,null,null,null,null,null,{"$f":"IF(Sheet2!$A$156=TRUE,-1*(((Z141-$G141)-(AD141-$K141))/SQRT(((AA141^2*(AB141-1))+(AE141^2*(AF141-1)))/(AB141+AF141-2))),((Z141-$G141)-(AD141-$K141))/SQRT(((AA141^2*(AB141-1))+(AE141^2*(AF141-1)))/(AB141+AF141-2)))","v":{"$error":"#DIV/0!"}},{"$f":"IF(Z141=\"\",\"\",AG141)","v":""},{"$f":"IF(AB141=\"\",\"\",SQRT((AB141+AF141)/(AB141*AF141)+(AH141^2/(2*(AB141+AF141)))))","v":""},null,null,null,null,null,null,null,null,{"$f":"IF(Sheet2!$A$156=TRUE,-1*(((AK141-$G141)-(AO141-$K141))/SQRT(((AL141^2*(AM141-1))+(AP141^2*(AQ141-1)))/(AM141+AQ141-2))),((AK141-$G141)-(AO141-$K141))/SQRT(((AL141^2*(AM141-1))+(AP141^2*(AQ141-1)))/(AM141+AQ141-2)))","v":{"$error":"#DIV/0!"}},{"$f":"IF(AK141=\"\",\"\",AR141)","v":""},{"$f":"IF(AM141=\"\",\"\",SQRT((AM141+AQ141)/(AM141*AQ141)+(AS141^2/(2*(AM141+AQ141)))))","v":""},null,null,null,null,null,null,null,null,{"$f":"IF(Sheet2!$A$156=TRUE,-1*(((AV141-$G141)-(AZ141-$K141))/SQRT(((AW141^2*(AX141-1))+(BA141^2*(BB141-1)))/(AX141+BB141-2))),((AV141-$G141)-(AZ141-$K141))/SQRT(((AW141^2*(AX141-1))+(BA141^2*(BB141-1)))/(AX141+BB141-2)))","v":{"$error":"#DIV/0!"}},{"$f":"IF(AV141=\"\",\"\",BC141)","v":""},{"$f":"IF(AX141=\"\",\"\",SQRT((AX141+BB141)/(AX141*BB141)+(BD141^2/(2*(AX141+BB141)))))","v":""},null,null,null,null,null,null,null,null,{"$f":"IF(Sheet2!$A$156=TRUE,-1*(((BG141-$G141)-(BK141-$K141))/SQRT(((BH141^2*(BI141-1))+(BL141^2*(BM141-1)))/(BI141+BM141-2))),((BG141-$G141)-(BK141-$K141))/SQRT(((BH141^2*(BI141-1))+(BL141^2*(BM141-1)))/(BI141+BM141-2)))","v":{"$error":"#DIV/0!"}},{"$f":"IF(BG141=\"\",\"\",BN141)","v":""},{"$f":"IF(BI141=\"\",\"\",SQRT((BI141+BM141)/(BI141*BM141)+(BO141^2/(2*(BI141+BM141)))))","v":""},null,null,null,null,null,null,null,null,{"$f":"IF(Sheet2!$A$156=TRUE,-1*(((BR141-$G141)-(BV141-$K141))/SQRT(((BS141^2*(BT141-1))+(BW141^2*(BX141-1)))/(BT141+BX141-2))),((BR141-$G141)-(BV141-$K141))/SQRT(((BS141^2*(BT141-1))+(BW141^2*(BX141-1)))/(BT141+BX141-2)))","v":{"$error":"#DIV/0!"}},{"$f":"IF(BR141=\"\",\"\",BY141)","v":""},{"$f":"IF(BT141=\"\",\"\",SQRT((BT141+BX141)/(BT141*BX141)+(BZ141^2/(2*(BT141+BX141)))))","v":""}]
[null,null,"Outcome 5:",null,null,null,null,null,null,null,null,null,null,null,null,null,null,null,null,null,null,{"$f":"IF(Sheet2!$A$157=TRUE,-1*(((O142-$G142)-(S142-$K142))/SQRT(((P142^2*(Q142-1))+(T142^2*(U142-1)))/(Q142+U142-2))),((O142-$G142)-(S142-$K142))/SQRT(((P142^2*(Q142-1))+(T142^2*(U142-1)))/(Q142+U142-2)))","v":{"$error":"#DIV/0!"}},"","",null,null,null,null,null,null,null,null,{"$f":"IF(Sheet2!$A$157=TRUE,-1*(((Z142-$G142)-(AD142-$K142))/SQRT(((AA142^2*(AB142-1))+(AE142^2*(AF142-1)))/(AB142+AF142-2))),((Z142-$G142)-(AD142-$K142))/SQRT(((AA142^2*(AB142-1))+(AE142^2*(AF142-1)))/(AB142+AF142-2)))","v":{"$error":"#DIV/0!"}},"",{"$f":"IF(AB142=\"\",\"\",SQRT((AB142+AF142)/(AB142*AF142)+(AH142^2/(2*(AB142+AF142)))))","v":""},null,null,null,null,null,null,null,null,{"$f":"IF(Sheet2!$A$157=TRUE,-1*(((AK142-$G142)-(AO142-$K142))/SQRT(((AL142^2*(AM142-1))+(AP142^2*(AQ142-1)))/(AM142+AQ142-2))),((AK142-$G142)-(AO142-$K142))/SQRT(((AL142^2*(AM142-1))+(AP142^2*(AQ142-1)))/(AM142+AQ142-2)))","v":{"$error":"#DIV/0!"}},"",{"$f":"IF(AM142=\"\",\"\",SQRT((AM142+AQ142)/(AM142*AQ142)+(AS142^2/(2*(AM142+AQ142)))))","v":""},null,null,null,null,null,null,null,null,{"$f":"IF(Sheet2!$A$157=TRUE,-1*(((AV142-$G142)-(AZ142-$K142))/SQRT(((AW142^2*(AX142-1))+(BA142^2*(BB142-1)))/(AX142+BB142-2))),((AV142-$G142)-(AZ142-$K142))/SQRT(((AW142^2*(AX142-1))+(BA142^2*(BB142-1)))/(AX142+BB142-2)))","v":{"$error":"#DIV/0!"}},"",{"$f":"IF(AX142=\"\",\"\",SQRT((AX142+BB142)/(AX142*BB142)+(BD142^2/(2*(AX142+BB142)))))","v":""},null,null,null,null,null,null,null,null,{"$f":"IF(Sheet2!$A$157=TRUE,-1*(((BG142-$G142)-(BK142-$K142))/SQRT(((BH142^2*(BI142-1))+(BL142^2*(BM142-1)))/(BI142+BM142-2))),((BG142-$G142)-(BK142-$K142))/SQRT(((BH142^2*(BI142-1))+(BL142^2*(BM142-1)))/(BI142+BM142-2)))","v":{"$error":"#DIV/0!"}},"",{"$f":"IF(BI142=\"\",\"\",SQRT((BI142+BM142)/(BI142*BM142)+(BO142^2/(2*(BI142+BM142)))))","v":""},null,null,null,null,null,null,null,null,{"$f":"IF(Sheet2!$A$157=TRUE,-1*(((BR142-$G142)-(BV142-$K142))/SQRT(((BS142^2*(BT142-1))+(BW142^2*(BX142-1)))/(BT142+BX142-2))),((BR142-$G142)-(BV142-$K142))/SQRT(((BS142^2*(BT142-1))+(BW142^2*(BX142-1)))/(BT142+BX142-2)))","v":{"$error":"#DIV/0!"}},"",{"$f":"IF(BT142=\"\",\"\",SQRT((BT142+BX142)/(BT142*BX142)+(BZ142^2/(2*(BT142+BX142)))))","v":""}]
[null,null,"Externalizing Bx d",null,null,null,null,null,null,null,null,null,null,null,null,null,null,null,null,null,null,null,{"$f":"IF(W138=\"\",\"\",AVERAGE(W138:W142))","v":""},{"$f":"IF(X138=\"\",\"\",AVERAGE(X138:X142))","v":""},null,null,null,null,null,null,null,null,null,{"$f":"IF(AH138=\"\",\"\",AVERAGE(AH138:AH142))","v":""},{"$f":"IF(AI138=\"\",\"\",AVERAGE(AI138:AI142))","v":""},null,null,null,null,null,null,null,null,null,{"$f":"IF(AS138=\"\",\"\",AVERAGE(AS138:AS142))","v":""},{"$f":"IF(AT138=\"\",\"\",AVERAGE(AT138:AT142))","v":""},null,null,null,null,null,null,null,null,null,{"$f":"IF(BD138=\"\",\"\",AVERAGE(BD138:BD142))","v":""},{"$f":"IF(BE138=\"\",\"\",AVERAGE(BE138:BE142))","v":""},null,null,null,null,null,null,null,null,null,{"$f":"IF(BO138=\"\",\"\",AVERAGE(BO138:BO142))","v":""},{"$f":"IF(BP138=\"\",\"\",AVERAGE(BP138:BP142))","v":""},null,null,null,null,null,null,null,null,null,{"$f":"IF(BZ138=\"\",\"\",AVERAGE(BZ138:BZ142))","v":""},{"$f":"IF(CA138=\"\",\"\",AVERAGE(CA138:CA142))","v":""}]
[]
[null,null,"Overall Mood d",null,null,null,null,null,null,null,null,null,null,null,null,null,null,null,null,null,null,null,{"$f":"AVERAGE(W90:W94,W98:W102,W106:W110,W114:W118,W122:W126,W130:W134,W138:W142)","v":{"$error":"#DIV/0!"}},{"$f":"AVERAGE(X90:X94,X98:X102,X106:X110,X114:X118,X122:X126,X130:X134,X138:X142)","v":{"$error":"#DIV/0!"}},null,null,null,null,null,null,null,null,null,{"$f":"AVERAGE(AH90:AH94,AH98:AH102,AH106:AH110,AH114:AH118,AH122:AH126,AH130:AH134,AH138:AH142)","v":{"$error":"#DIV/0!"}},{"$f":"AVERAGE(AI90:AI94,AI98:AI102,AI106:AI110,AI114:AI118,AI122:AI126,AI130:AI134,AI138:AI142)","v":{"$error":"#DIV/0!"}},null,null,null,null,null,null,null,null,null,{"$f":"AVERAGE(AS90:AS94,AS98:AS102,AS106:AS110,AS114:AS118,AS122:AS126,AS130:AS134,AS138:AS142)","v":{"$error":"#DIV/0!"}},{"$f":"AVERAGE(AT90:AT94,AT98:AT102,AT106:AT110,AT114:AT118,AT122:AT126,AT130:AT134,AT138:AT142)","v":{"$error":"#DIV/0!"}},null,null,null,null,null,null,null,null,null,{"$f":"AVERAGE(BD90:BD94,BD98:BD102,BD106:BD110,BD114:BD118,BD122:BD126,BD130:BD134,BD138:BD142)","v":{"$error":"#DIV/0!"}},{"$f":"AVERAGE(BE90:BE94,BE98:BE102,BE106:BE110,BE114:BE118,BE122:BE126,BE130:BE134,BE138:BE142)","v":{"$error":"#DIV/0!"}},null,null,null,null,null,null,null,null,null,{"$f":"AVERAGE(BO90:BO94,BO98:BO102,BO106:BO110,BO114:BO118,BO122:BO126,BO130:BO134,BO138:BO142)","v":{"$error":"#DIV/0!"}},{"$f":"AVERAGE(BP90:BP94,BP98:BP102,BP106:BP110,BP114:BP118,BP122:BP126,BP130:BP134,BP138:BP142)","v":{"$error":"#DIV/0!"}},null,null,null,null,null,null,null,null,null,{"$f":"AVERAGE(BZ90:BZ94,BZ98:BZ102,BZ106:BZ110,BZ114:BZ118,BZ122:BZ126,BZ130:BZ134,BZ138:BZ142)","v":{"$error":"#DIV/0!"}},{"$f":"AVERAGE(CA90:CA94,CA98:CA102,CA106:CA110,CA114:CA118,CA122:CA126,CA130:CA134,CA138:CA142)","v":{"$error":"#DIV/0!"}}]
[]
[]
[]
[null,null,"PCS","Measure Name"]
[null,null,"Outcome 1:",null,null,null,null,null,null,null,null,null,null,null,null,null,null,null,null,null,null,{"$f":"IF(Sheet2!$A$165=TRUE,-1*(((O150-$G150)-(S150-$K150))/SQRT(((P150^2*(Q150-1))+(T150^2*(U150-1)))/(Q150+U150-2))),((O150-$G150)-(S150-$K150))/SQRT(((P150^2*(Q150-1))+(T150^2*(U150-1)))/(Q150+U150-2)))","v":{"$error":"#DIV/0!"}},{"$f":"IF(O150=\"\",\"\",V150)","v":""},{"$f":"IF(Q150=\"\",\"\",SQRT((Q150+U150)/(Q150*U150)+(W150^2/(2*(Q150+U150)))))","v":""},null,null,null,null,null,null,null,null,{"$f":"IF(Sheet2!$A$165=TRUE,-1*(((Z150-$G150)-(AD150-$K150))/SQRT(((AA150^2*(AB150-1))+(AE150^2*(AF150-1)))/(AB150+AF150-2))),((Z150-$G150)-(AD150-$K150))/SQRT(((AA150^2*(AB150-1))+(AE150^2*(AF150-1)))/(AB150+AF150-2)))","v":{"$error":"#DIV/0!"}},{"$f":"IF(Z150=\"\",\"\",AG150)","v":""},{"$f":"IF(AB150=\"\",\"\",SQRT((AB150+AF150)/(AB150*AF150)+(AH150^2/(2*(AB150+AF150)))))","v":""},null,null,null,null,null,null,null,null,{"$f":"IF(Sheet2!$A$165=TRUE,-1*(((AK150-$G150)-(AO150-$K150))/SQRT(((AL150^2*(AM150-1))+(AP150^2*(AQ150-1)))/(AM150+AQ150-2))),((AK150-$G150)-(AO150-$K150))/SQRT(((AL150^2*(AM150-1))+(AP150^2*(AQ150-1)))/(AM150+AQ150-2)))","v":{"$error":"#DIV/0!"}},{"$f":"IF(AK150=\"\",\"\",AR150)","v":""},{"$f":"IF(AM150=\"\",\"\",SQRT((AM150+AQ150)/(AM150*AQ150)+(AS150^2/(2*(AM150+AQ150)))))","v":""},null,null,null,null,null,null,null,null,{"$f":"IF(Sheet2!$A$165=TRUE,-1*(((AV150-$G150)-(AZ150-$K150))/SQRT(((AW150^2*(AX150-1))+(BA150^2*(BB150-1)))/(AX150+BB150-2))),((AV150-$G150)-(AZ150-$K150))/SQRT(((AW150^2*(AX150-1))+(BA150^2*(BB150-1)))/(AX150+BB150-2)))","v":{"$error":"#DIV/0!"}},{"$f":"IF(AV150=\"\",\"\",BC150)","v":""},{"$f":"IF(AX150=\"\",\"\",SQRT((AX150+BB150)/(AX150*BB150)+(BD150^2/(2*(AX150+BB150)))))","v":""},null,null,null,null,null,null,null,null,{"$f":"IF(Sheet2!$A$165=TRUE,-1*(((BG150-$G150)-(BK150-$K150))/SQRT(((BH150^2*(BI150-1))+(BL150^2*(BM150-1)))/(BI150+BM150-2))),((BG150-$G150)-(BK150-$K150))/SQRT(((BH150^2*(BI150-1))+(BL150^2*(BM150-1)))/(BI150+BM150-2)))","v":{"$error":"#DIV/0!"}},{"$f":"IF(BG150=\"\",\"\",BN150)","v":""},{"$f":"IF(BI150=\"\",\"\",SQRT((BI150+BM150)/(BI150*BM150)+(BO150^2/(2*(BI150+BM150)))))","v":""},null,null,null,null,null,null,null,null,{"$f":"IF(Sheet2!$A$165=TRUE,-1*(((BR150-$G150)-(BV150-$K150))/SQRT(((BS150^2*(BT150-1))+(BW150^2*(BX150-1)))/(BT150+BX150-2))),((BR150-$G150)-(BV150-$K150))/SQRT(((BS150^2*(BT150-1))+(BW150^2*(BX150-1)))/(BT150+BX150-2)))","v":{"$error":"#DIV/0!"}},{"$f":"IF(BR150=\"\",\"\",BY150)","v":""},{"$f":"IF(BT150=\"\",\"\",SQRT((BT150+BX150)/(BT150*BX150)+(BZ150^2/(2*(BT150+BX150)))))","v":""}]
[null,null,"Outcome 2:",null,null,null,null,null,null,null,null,null,null,null,null,null,null,null,null,null,null,{"$f":"IF(Sheet2!$A$166=TRUE,-1*(((O151-$G151)-(S151-$K151))/SQRT(((P151^2*(Q151-1))+(T151^2*(U151-1)))/(Q151+U151-2))),((O151-$G151)-(S151-$K151))/SQRT(((P151^2*(Q151-1))+(T151^2*(U151-1)))/(Q151+U151-2)))","v":{"$error":"#DIV/0!"}},{"$f":"IF(O151=\"\",\"\",V151)","v":""},{"$f":"IF(Q151=\"\",\"\",SQRT((Q151+U151)/(Q151*U151)+(W151^2/(2*(Q151+U151)))))","v":""},null,null,null,null,null,null,null,null,{"$f":"IF(Sheet2!$A$166=TRUE,-1*(((Z151-$G151)-(AD151-$K151))/SQRT(((AA151^2*(AB151-1))+(AE151^2*(AF151-1)))/(AB151+AF151-2))),((Z151-$G151)-(AD151-$K151))/SQRT(((AA151^2*(AB151-1))+(AE151^2*(AF151-1)))/(AB151+AF151-2)))","v":{"$error":"#DIV/0!"}},{"$f":"IF(Z151=\"\",\"\",AG151)","v":""},{"$f":"IF(AB151=\"\",\"\",SQRT((AB151+AF151)/(AB151*AF151)+(AH151^2/(2*(AB151+AF151)))))","v":""},null,null,null,null,null,null,null,null,{"$f":"IF(Sheet2!$A$166=TRUE,-1*(((AK151-$G151)-(AO151-$K151))/SQRT(((AL151^2*(AM151-1))+(AP151^2*(AQ151-1)))/(AM151+AQ151-2))),((AK151-$G151)-(AO151-$K151))/SQRT(((AL151^2*(AM151-1))+(AP151^2*(AQ151-1)))/(AM151+AQ151-2)))","v":{"$error":"#DIV/0!"}},{"$f":"IF(AK151=\"\",\"\",AR151)","v":""},{"$f":"IF(AM151=\"\",\"\",SQRT((AM151+AQ151)/(AM151*AQ151)+(AS151^2/(2*(AM151+AQ151)))))","v":""},null,null,null,null,null,null,null,null,{"$f":"IF(Sheet2!$A$166=TRUE,-1*(((AV151-$G151)-(AZ151-$K151))/SQRT(((AW151^2*(AX151-1))+(BA151^2*(BB151-1)))/(AX151+BB151-2))),((AV151-$G151)-(AZ151-$K151))/SQRT(((AW151^2*(AX151-1))+(BA151^2*(BB151-1)))/(AX151+BB151-2)))","v":{"$error":"#DIV/0!"}},{"$f":"IF(AV151=\"\",\"\",BC151)","v":""},{"$f":"IF(AX151=\"\",\"\",SQRT((AX151+BB151)/(AX151*BB151)+(BD151^2/(2*(AX151+BB151)))))","v":""},null,null,null,null,null,null,null,null,{"$f":"IF(Sheet2!$A$166=TRUE,-1*(((BG151-$G151)-(BK151-$K151))/SQRT(((BH151^2*(BI151-1))+(BL151^2*(BM151-1)))/(BI151+BM151-2))),((BG151-$G151)-(BK151-$K151))/SQRT(((BH151^2*(BI151-1))+(BL151^2*(BM151-1)))/(BI151+BM151-2)))","v":{"$error":"#DIV/0!"}},{"$f":"IF(BG151=\"\",\"\",BN151)","v":""},{"$f":"IF(BI151=\"\",\"\",SQRT((BI151+BM151)/(BI151*BM151)+(BO151^2/(2*(BI151+BM151)))))","v":""},null,null,null,null,null,null,null,null,{"$f":"IF(Sheet2!$A$166=TRUE,-1*(((BR151-$G151)-(BV151-$K151))/SQRT(((BS151^2*(BT151-1))+(BW151^2*(BX151-1)))/(BT151+BX151-2))),((BR151-$G151)-(BV151-$K151))/SQRT(((BS151^2*(BT151-1))+(BW151^2*(BX151-1)))/(BT151+BX151-2)))","v":{"$error":"#DIV/0!"}},{"$f":"IF(BR151=\"\",\"\",BY151)","v":""},{"$f":"IF(BT151=\"\",\"\",SQRT((BT151+BX151)/(BT151*BX151)+(BZ151^2/(2*(BT151+BX151)))))","v":""}]
[null,null,"Outcome 3:",null,null,null,null,null,null,null,null,null,null,null,null,null,null,null,null,null,null,{"$f":"IF(Sheet2!$A$167=TRUE,-1*(((O152-$G152)-(S152-$K152))/SQRT(((P152^2*(Q152-1))+(T152^2*(U152-1)))/(Q152+U152-2))),((O152-$G152)-(S152-$K152))/SQRT(((P152^2*(Q152-1))+(T152^2*(U152-1)))/(Q152+U152-2)))","v":{"$error":"#DIV/0!"}},{"$f":"IF(O152=\"\",\"\",V152)","v":""},"",null,null,null,null,null,null,null,null,{"$f":"IF(Sheet2!$A$167=TRUE,-1*(((Z152-$G152)-(AD152-$K152))/SQRT(((AA152^2*(AB152-1))+(AE152^2*(AF152-1)))/(AB152+AF152-2))),((Z152-$G152)-(AD152-$K152))/SQRT(((AA152^2*(AB152-1))+(AE152^2*(AF152-1)))/(AB152+AF152-2)))","v":{"$error":"#DIV/0!"}},{"$f":"IF(Z152=\"\",\"\",AG152)","v":""},"",null,null,null,null,null,null,null,null,{"$f":"IF(Sheet2!$A$167=TRUE,-1*(((AK152-$G152)-(AO152-$K152))/SQRT(((AL152^2*(AM152-1))+(AP152^2*(AQ152-1)))/(AM152+AQ152-2))),((AK152-$G152)-(AO152-$K152))/SQRT(((AL152^2*(AM152-1))+(AP152^2*(AQ152-1)))/(AM152+AQ152-2)))","v":{"$error":"#DIV/0!"}},{"$f":"IF(AK152=\"\",\"\",AR152)","v":""},"",null,null,null,null,null,null,null,null,{"$f":"IF(Sheet2!$A$167=TRUE,-1*(((AV152-$G152)-(AZ152-$K152))/SQRT(((AW152^2*(AX152-1))+(BA152^2*(BB152-1)))/(AX152+BB152-2))),((AV152-$G152)-(AZ152-$K152))/SQRT(((AW152^2*(AX152-1))+(BA152^2*(BB152-1)))/(AX152+BB152-2)))","v":{"$error":"#DIV/0!"}},{"$f":"IF(AV152=\"\",\"\",BC152)","v":""},"",null,null,null,null,null,null,null,null,{"$f":"IF(Sheet2!$A$167=TRUE,-1*(((BG152-$G152)-(BK152-$K152))/SQRT(((BH152^2*(BI152-1))+(BL152^2*(BM152-1)))/(BI152+BM152-2))),((BG152-$G152)-(BK152-$K152))/SQRT(((BH152^2*(BI152-1))+(BL152^2*(BM152-1)))/(BI152+BM152-2)))","v":{"$error":"#DIV/0!"}},{"$f":"IF(BG152=\"\",\"\",BN152)","v":""},"",null,null,null,null,null,null,null,null,{"$f":"IF(Sheet2!$A$167=TRUE,-1*(((BR152-$G152)-(BV152-$K152))/SQRT(((BS152^2*(BT152-1))+(BW152^2*(BX152-1)))/(BT152+BX152-2))),((BR152-$G152)-(BV152-$K152))/SQRT(((BS152^2*(BT152-1))+(BW152^2*(BX152-1)))/(BT152+BX152-2)))","v":{"$error":"#DIV/0!"}},{"$f":"IF(BR152=\"\",\"\",BY152)","v":""},""]
[null,null,"Outcome 4:",null,null,null,null,null,null,null,null,null,null,null,null,null,null,null,null,null,null,{"$f":"IF(Sheet2!$A$168=TRUE,-1*(((O153-$G153)-(S153-$K153))/SQRT(((P153^2*(Q153-1))+(T153^2*(U153-1)))/(Q153+U153-2))),((O153-$G153)-(S153-$K153))/SQRT(((P153^2*(Q153-1))+(T153^2*(U153-1)))/(Q153+U153-2)))","v":{"$error":"#DIV/0!"}},{"$f":"IF(O153=\"\",\"\",V153)","v":""},{"$f":"IF(Q153=\"\",\"\",SQRT((Q153+U153)/(Q153*U153)+(W153^2/(2*(Q153+U153)))))","v":""},null,null,null,null,null,null,null,null,{"$f":"IF(Sheet2!$A$168=TRUE,-1*(((Z153-$G153)-(AD153-$K153))/SQRT(((AA153^2*(AB153-1))+(AE153^2*(AF153-1)))/(AB153+AF153-2))),((Z153-$G153)-(AD153-$K153))/SQRT(((AA153^2*(AB153-1))+(AE153^2*(AF153-1)))/(AB153+AF153-2)))","v":{"$error":"#DIV/0!"}},{"$f":"IF(Z153=\"\",\"\",AG153)","v":""},{"$f":"IF(AB153=\"\",\"\",SQRT((AB153+AF153)/(AB153*AF153)+(AH153^2/(2*(AB153+AF153)))))","v":""},null,null,null,null,null,null,null,null,{"$f":"IF(Sheet2!$A$168=TRUE,-1*(((AK153-$G153)-(AO153-$K153))/SQRT(((AL153^2*(AM153-1))+(AP153^2*(AQ153-1)))/(AM153+AQ153-2))),((AK153-$G153)-(AO153-$K153))/SQRT(((AL153^2*(AM153-1))+(AP153^2*(AQ153-1)))/(AM153+AQ153-2)))","v":{"$error":"#DIV/0!"}},{"$f":"IF(AK153=\"\",\"\",AR153)","v":""},{"$f":"IF(AM153=\"\",\"\",SQRT((AM153+AQ153)/(AM153*AQ153)+(AS153^2/(2*(AM153+AQ153)))))","v":""},null,null,null,null,null,null,null,null,{"$f":"IF(Sheet2!$A$168=TRUE,-1*(((AV153-$G153)-(AZ153-$K153))/SQRT(((AW153^2*(AX153-1))+(BA153^2*(BB153-1)))/(AX153+BB153-2))),((AV153-$G153)-(AZ153-$K153))/SQRT(((AW153^2*(AX153-1))+(BA153^2*(BB153-1)))/(AX153+BB153-2)))","v":{"$error":"#DIV/0!"}},{"$f":"IF(AV153=\"\",\"\",BC153)","v":""},{"$f":"IF(AX153=\"\",\"\",SQRT((AX153+BB153)/(AX153*BB153)+(BD153^2/(2*(AX153+BB153)))))","v":""},null,null,null,null,null,null,null,null,{"$f":"IF(Sheet2!$A$168=TRUE,-1*(((BG153-$G153)-(BK153-$K153))/SQRT(((BH153^2*(BI153-1))+(BL153^2*(BM153-1)))/(BI153+BM153-2))),((BG153-$G153)-(BK153-$K153))/SQRT(((BH153^2*(BI153-1))+(BL153^2*(BM153-1)))/(BI153+BM153-2)))","v":{"$error":"#DIV/0!"}},{"$f":"IF(BG153=\"\",\"\",BN153)","v":""},{"$f":"IF(BI153=\"\",\"\",SQRT((BI153+BM153)/(BI153*BM153)+(BO153^2/(2*(BI153+BM153)))))","v":""},null,null,null,null,null,null,null,null,{"$f":"IF(Sheet2!$A$168=TRUE,-1*(((BR153-$G153)-(BV153-$K153))/SQRT(((BS153^2*(BT153-1))+(BW153^2*(BX153-1)))/(BT153+BX153-2))),((BR153-$G153)-(BV153-$K153))/SQRT(((BS153^2*(BT153-1))+(BW153^2*(BX153-1)))/(BT153+BX153-2)))","v":{"$error":"#DIV/0!"}},{"$f":"IF(BR153=\"\",\"\",BY153)","v":""},{"$f":"IF(BT153=\"\",\"\",SQRT((BT153+BX153)/(BT153*BX153)+(BZ153^2/(2*(BT153+BX153)))))","v":""}]
[null,null,"Outcome 5:",null,null,null,null,null,null,null,null,null,null,null,null,null,null,null,null,null,null,{"$f":"IF(Sheet2!$A$169=TRUE,-1*(((O154-$G154)-(S154-$K154))/SQRT(((P154^2*(Q154-1))+(T154^2*(U154-1)))/(Q154+U154-2))),((O154-$G154)-(S154-$K154))/SQRT(((P154^2*(Q154-1))+(T154^2*(U154-1)))/(Q154+U154-2)))","v":{"$error":"#DIV/0!"}},"","",null,null,null,null,null,null,null,null,{"$f":"IF(Sheet2!$A$169=TRUE,-1*(((Z154-$G154)-(AD154-$K154))/SQRT(((AA154^2*(AB154-1))+(AE154^2*(AF154-1)))/(AB154+AF154-2))),((Z154-$G154)-(AD154-$K154))/SQRT(((AA154^2*(AB154-1))+(AE154^2*(AF154-1)))/(AB154+AF154-2)))","v":{"$error":"#DIV/0!"}},"",{"$f":"IF(AB154=\"\",\"\",SQRT((AB154+AF154)/(AB154*AF154)+(AH154^2/(2*(AB154+AF154)))))","v":""},null,null,null,null,null,null,null,null,{"$f":"IF(Sheet2!$A$169=TRUE,-1*(((AK154-$G154)-(AO154-$K154))/SQRT(((AL154^2*(AM154-1))+(AP154^2*(AQ154-1)))/(AM154+AQ154-2))),((AK154-$G154)-(AO154-$K154))/SQRT(((AL154^2*(AM154-1))+(AP154^2*(AQ154-1)))/(AM154+AQ154-2)))","v":{"$error":"#DIV/0!"}},"",{"$f":"IF(AM154=\"\",\"\",SQRT((AM154+AQ154)/(AM154*AQ154)+(AS154^2/(2*(AM154+AQ154)))))","v":""},null,null,null,null,null,null,null,null,{"$f":"IF(Sheet2!$A$169=TRUE,-1*(((AV154-$G154)-(AZ154-$K154))/SQRT(((AW154^2*(AX154-1))+(BA154^2*(BB154-1)))/(AX154+BB154-2))),((AV154-$G154)-(AZ154-$K154))/SQRT(((AW154^2*(AX154-1))+(BA154^2*(BB154-1)))/(AX154+BB154-2)))","v":{"$error":"#DIV/0!"}},"",{"$f":"IF(AX154=\"\",\"\",SQRT((AX154+BB154)/(AX154*BB154)+(BD154^2/(2*(AX154+BB154)))))","v":""},null,null,null,null,null,null,null,null,{"$f":"IF(Sheet2!$A$169=TRUE,-1*(((BG154-$G154)-(BK154-$K154))/SQRT(((BH154^2*(BI154-1))+(BL154^2*(BM154-1)))/(BI154+BM154-2))),((BG154-$G154)-(BK154-$K154))/SQRT(((BH154^2*(BI154-1))+(BL154^2*(BM154-1)))/(BI154+BM154-2)))","v":{"$error":"#DIV/0!"}},"",{"$f":"IF(BI154=\"\",\"\",SQRT((BI154+BM154)/(BI154*BM154)+(BO154^2/(2*(BI154+BM154)))))","v":""},null,null,null,null,null,null,null,null,{"$f":"IF(Sheet2!$A$169=TRUE,-1*(((BR154-$G154)-(BV154-$K154))/SQRT(((BS154^2*(BT154-1))+(BW154^2*(BX154-1)))/(BT154+BX154-2))),((BR154-$G154)-(BV154-$K154))/SQRT(((BS154^2*(BT154-1))+(BW154^2*(BX154-1)))/(BT154+BX154-2)))","v":{"$error":"#DIV/0!"}},"",{"$f":"IF(BT154=\"\",\"\",SQRT((BT154+BX154)/(BT154*BX154)+(BZ154^2/(2*(BT154+BX154)))))","v":""}]
[null,null,"PCS d",null,null,null,null,null,null,null,null,null,null,null,null,null,null,null,null,null,null,null,{"$f":"IF(W150=\"\",\"\",AVERAGE(W150:W154))","v":""},{"$f":"IF(X150=\"\",\"\",AVERAGE(X150:X154))","v":""},null,null,null,null,null,null,null,null,null,{"$f":"IF(AH150=\"\",\"\",AVERAGE(AH150:AH154))","v":""},{"$f":"IF(AI150=\"\",\"\",AVERAGE(AI150:AI154))","v":""},null,null,null,null,null,null,null,null,null,{"$f":"IF(AS150=\"\",\"\",AVERAGE(AS150:AS154))","v":""},{"$f":"IF(AT150=\"\",\"\",AVERAGE(AT150:AT154))","v":""},null,null,null,null,null,null,null,null,null,{"$f":"IF(BD150=\"\",\"\",AVERAGE(BD150:BD154))","v":""},{"$f":"IF(BE150=\"\",\"\",AVERAGE(BE150:BE154))","v":""},null,null,null,null,null,null,null,null,null,{"$f":"IF(BO150=\"\",\"\",AVERAGE(BO150:BO154))","v":""},{"$f":"IF(BP150=\"\",\"\",AVERAGE(BP150:BP154))","v":""},null,null,null,null,null,null,null,null,null,{"$f":"IF(BZ150=\"\",\"\",AVERAGE(BZ150:BZ154))","v":""},{"$f":"IF(CA150=\"\",\"\",AVERAGE(CA150:CA154))","v":""}]
[]
[null,null,"Overall PCS d",null,null,null,null,null,null,null,null,null,null,null,null,null,null,null,null,null,null,null,{"$f":"AVERAGE(W150:W154)","v":{"$error":"#DIV/0!"}},{"$f":"AVERAGE(X150:X154)","v":{"$error":"#DIV/0!"}},null,null,null,null,null,null,null,null,null,{"$f":"AVERAGE(AH150:AH154)","v":{"$error":"#DIV/0!"}},{"$f":"AVERAGE(AI150:AI154)","v":{"$error":"#DIV/0!"}},null,null,null,null,null,null,null,null,null,{"$f":"AVERAGE(AS150:AS154)","v":{"$error":"#DIV/0!"}},{"$f":"AVERAGE(AT150:AT154)","v":{"$error":"#DIV/0!"}},null,null,null,null,null,null,null,null,null,{"$f":"AVERAGE(BD150:BD154)","v":{"$error":"#DIV/0!"}},{"$f":"AVERAGE(BE150:BE154)","v":{"$error":"#DIV/0!"}},null,null,null,null,null,null,null,null,null,{"$f":"AVERAGE(BO150:BO154)","v":{"$error":"#DIV/0!"}},{"$f":"AVERAGE(BP150:BP154)","v":{"$error":"#DIV/0!"}},null,null,null,null,null,null,null,null,null,{"$f":"AVERAGE(BZ150:BZ154)","v":{"$error":"#DIV/0!"}},{"$f":"AVERAGE(CA150:CA154)","v":{"$error":"#DIV/0!"}}]

{"sheet":"All Data Merged","index":5,"n_rows":9,"n_cols":302,"rows_kept":9,"cut":false,"hidden":false,"merged":[]}
["Study_Code","Author","Year","Country","Appropriate_Method_of_Defining_MTBI","Method_of_Defining_MTBI","Quality_of_MTBI_Diagnosis","Imaging_Study","PVTs_Used_To_Exclude","Type_of_PVT","Control_Group","Part_of_Another_Sample","Description_of_Other_Sample","Multiple_MTBI_Subgroups","Number_MTBI_Subgroups","Notes_on_Study_Characteristics","Population","Age_Category","Mean_Age","Mean_Education","Percentage_Female","Percentage_Caucasian","Percentage_Non-White","Percentage_Black","Percentage_Latino","Percentage_Other_Race","Notes_on_Sample_Demographics","Percent_Impact_Sport","Percent_Other_Sport","Percent_MVA","Percent_Fall","Percent_Blast_Injury","Percent_Veteran_Blunt_Trauma","Percent_Civilian_Assualt","Percent_Other_Mechanisms","Percent_Previous_MTBI","Percent_LOC","Percent_PTA","Composition_Psych_Comorbidities","Percent_Depression","Percent_Anxiety","Percent_PTSD","Percent_SUD","Percent_ADHD","Percent_LD","Percent_Total_Psych_Comorbidity","Percent_PCS","Time1_Depression_d","Time1_Anxiety_d","Time1_PTSD_d","Time1_SUD_d","Time1_Somatization_d","Time1_InternalizingBehaviors_d","Time1_ExternalizingBehaviors_d","Time1_Overall_Psych_d","Time1_PCS_d","Time1_Depression_SE","Time1_Anxiety_SE","Time1_PTSD_SE","Time1_SUD_SE","Time1_Somatization_SE","Time1_InternalizingBehaviors_SE","Time1_ExternalizingBehaviors_SE","Time1_Overall_Psych_SE","Time1_PCS_SE","Time2_Depression_d","Time2_Anxiety_d","Time2_PTSD_d","Time2_SUD_d","Time2_Somatization_d","Time2_InternalizingBehaviors_d","Time2_ExternalizingBehaviors_d","Time2_Overall_Psych_d","Time2_PCS_d","Time2_Depression_SE","Time2_Anxiety_SE","Time2_PTSD_SE","Time2_SUD_SE","Time2_Somatization_SE","Time2_InternalizingBehaviors_SE","Time2_ExternalizingBehaviors_SE","Time2_Overall_Psych_SE","Time2_PCS_SE","Time3_Depression_d","Time3_Anxiety_d","Time3_PTSD_d","Time3_SUD_d","Time3_Somatization_d","Time3_InternalizingBehaviors_d","Time3_ExternalizingBehaviors_d","Time3_Overall_Psych_d","Time3_PCS_d","Time3_Depression_SE","Time3_Anxiety_SE","Time3_PTSD_SE","Time3_SUD_SE","Time3_Somatization_SE","Time3_InternalizingBehaviors_SE","Time3_ExternalizingBehaviors_SE","Time3_Overall_Psych_SE","Time3_PCS_SE","Time4_Depression_d","Time4_Anxiety_d","Time4_PTSD_d","Time4_SUD_d","Time4_Somatization_d","Time4_InternalizingBehaviors_d","Time4_ExternalizingBehaviors_d","Time4_Overall_Psych_d","Time4_PCS_d","Time4_Depression_SE","Time4_Anxiety_SE","Time4_PTSD_SE","Time4_SUD_SE","Time4_Somatization_SE","Time4_InternalizingBehaviors_SE","Time4_ExternalizingBehaviors_SE","Time4_Overall_Psych_SE","Time4_PCS_SE","Time5_Depression_d","Time5_Anxiety_d","Time5_PTSD_d","Time5_SUD_d","Time5_Somatization_d","Time5_InternalizingBehaviors_d","Time5_ExternalizingBehaviors_d","Time5_Overall_Psych_d","Time5_PCS_d","Time5_Depression_SE","Time5_Anxiety_SE","Time5_PTSD_SE","Time5_SUD_SE","Time5_Somatization_SE","Time5_InternalizingBehaviors_SE","Time5_ExternalizingBehaviors_SE","Time5_Overall_Psych_SE","Time5_PCS_SE","Time6_Depression_d","Time6_Anxiety_d","Time6_PTSD_d","Time6_SUD_d","Time6_Somatization_d","Time6_InternalizingBehaviors_d","Time6_ExternalizingBehaviors_d","Time6_Overall_Psych_d","Time6_PCS_d","Time6_Depression_SE","Time6_Anxiety_SE","Time6_PTSD_SE","Time6_SUD_SE","Time6_Somatization_SE","Time6_InternalizingBehaviors_SE","Time6_ExternalizingBehaviors_SE","Time6_Overall_Psych_SE","Time6_PCS_SE","Notes_On_Psych_Comorbidity","Experimntal_Design","Method_of_Assessing_Performance","Time1_Mean_Time_Since_Injury","Time1_SD_Time_Since_Injury","Time1_Orientation_d","Time1_GeneralAbility_d","Time1_Achievement_d","Time1_Attn_WorkingMemory_d","Time1_Processing_Speed_d","Time1_Executive_Functioning_d","Time1_Immediate_Memory_d","Time1_Delayed_Memory_d","Time1_Visuospatial_d","Time1_Fine_Motor_d","Time1_Overall_d","Time1_Orientation_SE","Time1_GeneralAbility_SE","Time1_Achievement_SE","Time1_Attn_WorkingMemory_SE","Time1_Processing_Speed_SE","Time1_Executive_Functioning_SE","Time1_Immediate_Memory_SE","Time1_Delayed_Memory_SE","Time1_Visuospatial_SE","Time1_Fine_Motor_SE","Time1_Overall_SE","Time2_Mean_Time_Since_Injury","Time2_SD_Time_Since_Injury","Time2_Orientation_d","Time2_GeneralAbility_d","Time2_Achievement_d","Time2_Attn_WorkingMemory_d","Time2_Processing_Speed_d","Time2_Executive_Functioning_d","Time2_Immediate_Memory_d","Time2_Delayed_Memory_d","Time2_Visuospatial_d","Time2_Fine_Motor_d","Time2_Overall_d","Time2_Orientation_SE","Time2_GeneralAbility_SE","Time2_Achievement_SE","Time2_Attn_WorkingMemory_SE","Time2_Processing_Speed_SE","Time2_Executive_Functioning_SE","Time2_Immediate_Memory_SE","Time2_Delayed_Memory_SE","Time2_Visuospatial_SE","Time2_Fine_Motor_SE","Time2_Overall_SE","Time3_Mean_Time_Since_Injury","Time3_SD_Time_Since_Injury","Time3_Orientation_d","Time3_GeneralAbility_d","Time3_Achievement_d","Time3_Attn_WorkingMemory_d","Time3_Processing_Speed_d","Time3_Executive_Functioning_d","Time3_Immediate_Memory_d","Time3_Delayed_Memory_d","Time3_Visuospatial_d","Time3_Fine_Motor_d","Time3_Overall_d","Time3_Orientation_SE","Time3_GeneralAbility_SE","Time3_Achievement_SE","Time3_Attn_WorkingMemory_SE","Time3_Processing_Speed_SE","Time3_Executive_Functioning_SE","Time3_Immediate_Memory_SE","Time3_Delayed_Memory_SE","Time3_Visuospatial_SE","Time3_Fine_Motor_SE","Time3_Overall_SE","Time4_Mean_Time_Since_Injury","Time4_SD_Time_Since_Injury","Time4_Orientation_d","Time4_GeneralAbility_d","Time4_Achievement_d","Time4_Attn_WorkingMemory_d","Time4_Processing_Speed_d","Time4_Executive_Functioning_d","Time4_Immediate_Memory_d","Time4_Delayed_Memory_d","Time4_Visuospatial_d","Time4_Fine_Motor_d","Time4_Overall_d","Time4_Orientation_SE","Time4_GeneralAbility_SE","Time4_Achievement_SE","Time4_Attn_WorkingMemory_SE","Time4_Processing_Speed_SE","Time4_Executive_Functioning_SE","Time4_Immediate_Memory_SE","Time4_Delayed_Memory_SE","Time4_Visuospatial_SE","Time4_Fine_Motor_SE","Time4_Overall_SE","Time5_Mean_Time_Since_Injury","Time5_SD_Time_Since_Injury","Time5_Orientation_d","Time5_GeneralAbility_d","Time5_Achievement_d","Time5_Attn_WorkingMemory_d","Time5_Processing_Speed_d","Time5_Executive_Functioning_d","Time5_Immediate_Memory_d","Time5_Delayed_Memory_d","Time5_Visuospatial_d","Time5_Fine_Motor_d","Time5_Overall_d","Time5_Orientation_SE","Time5_GeneralAbility_SE","Time5_Achievement_SE","Time5_Attn_WorkingMemory_SE","Time5_Processing_Speed_SE","Time5_Executive_Functioning_SE","Time5_Immediate_Memory_SE","Time5_Delayed_Memory_SE","Time5_Visuospatial_SE","Time5_Fine_Motor_SE","Time5_Overall_SE","Time6_Mean_Time_Since_Injury","Time6_SD_Time_Since_Injury","Time6_Orientation_d","Time6_GeneralAbility_d","Time6_Achievement_d","Time6_Attn_WorkingMemory_d","Time6_Processing_Speed_d","Time6_Executive_Functioning_d","Time6_Immediate_Memory_d","Time6_Delayed_Memory_d","Time6_Visuospatial_d","Time6_Fine_Motor_d","Time6_Overall_d","Time6_Orientation_SE","Time6_GeneralAbility_SE","Time6_Achievement_SE","Time6_Attn_WorkingMemory_SE","Time6_Processing_Speed_SE","Time6_Executive_Functioning_SE","Time6_Immediate_Memory_SE","Time6_Delayed_Memory_SE","Time6_Visuospatial_SE","Time6_Fine_Motor_SE","Time6_Overall_SE"]
[{"$f":"FaceSheet!F2","v":0},{"$f":"FaceSheet!F3","v":0},{"$f":"FaceSheet!J3","v":0},{"$f":"FaceSheet!M3","v":0},{"$f":"FaceSheet!G6","v":0},{"$f":"FaceSheet!I6","v":0},{"$f":"FaceSheet!G7","v":0},{"$f":"FaceSheet!G9","v":0},{"$f":"FaceSheet!J9","v":0},{"$f":"FaceSheet!L9","v":0},{"$f":"FaceSheet!G11","v":0},{"$f":"FaceSheet!H13","v":0},{"$f":"FaceSheet!M13","v":0},{"$f":"FaceSheet!I15","v":0},{"$f":"FaceSheet!M15","v":0},{"$f":"FaceSheet!G16","v":0},{"$f":"FaceSheet!F19","v":0},{"$f":"FaceSheet!F20","v":0},{"$f":"FaceSheet!F21","v":0},{"$f":"FaceSheet!F22","v":0},{"$f":"FaceSheet!F23","v":0},{"$f":"FaceSheet!F24","v":0},{"$f":"FaceSheet!F25","v":0},{"$f":"FaceSheet!F26","v":0},{"$f":"FaceSheet!F27","v":0},{"$f":"FaceSheet!F28","v":0},{"$f":"FaceSheet!F29","v":0},{"$f":"FaceSheet!M19","v":0},{"$f":"FaceSheet!M20","v":0},{"$f":"FaceSheet!M21","v":0},{"$f":"FaceSheet!M22","v":0},{"$f":"FaceSheet!M23","v":0},{"$f":"FaceSheet!M24","v":0},{"$f":"FaceSheet!M25","v":0},{"$f":"FaceSheet!M26","v":0},{"$f":"FaceSheet!M27","v":0},{"$f":"FaceSheet!M28","v":0},{"$f":"FaceSheet!M29","v":0},{"$f":"FaceSheet!I32","v":0},{"$f":"FaceSheet!F33","v":0},{"$f":"FaceSheet!I33","v":0},{"$f":"FaceSheet!M33","v":0},{"$f":"FaceSheet!F34","v":0},{"$f":"FaceSheet!I34","v":0},{"$f":"FaceSheet!M34","v":0},{"$f":"FaceSheet!G35","v":0},{"$f":"FaceSheet!J35","v":0},{"$f":"FaceSheet!G39","v":""},{"$f":"FaceSheet!G41","v":""},{"$f":"FaceSheet!G43","v":""},{"$f":"FaceSheet!G45","v":""},{"$f":"FaceSheet!G47","v":""},{"$f":"FaceSheet!G49","v":""},{"$f":"FaceSheet!G51","v":""},{"$f":"FaceSheet!G53","v":""},{"$f":"FaceSheet!G55","v":""},{"$f":"FaceSheet!H39","v":""},{"$f":"FaceSheet!H41","v":""},{"$f":"FaceSheet!H43","v":""},{"$f":"FaceSheet!H45","v":""},{"$f":"FaceSheet!H47","v":""},{"$f":"FaceSheet!H49","v":""},{"$f":"FaceSheet!H51","v":""},{"$f":"FaceSheet!H53","v":""},{"$f":"FaceSheet!H55","v":""},{"$f":"FaceSheet!J39","v":""},{"$f":"FaceSheet!J41","v":""},{"$f":"FaceSheet!J43","v":""},{"$f":"FaceSheet!J45","v":""},{"$f":"FaceSheet!J47","v":""},{"$f":"FaceSheet!J49","v":""},{"$f":"FaceSheet!J51","v":""},{"$f":"FaceSheet!J53","v":""},{"$f":"FaceSheet!J55","v":""},{"$f":"FaceSheet!K39","v":""},{"$f":"FaceSheet!K41","v":""},{"$f":"FaceSheet!K43","v":""},{"$f":"FaceSheet!K45","v":""},{"$f":"FaceSheet!K47","v":""},{"$f":"FaceSheet!K49","v":""},{"$f":"FaceSheet!K51","v":""},{"$f":"FaceSheet!K53","v":""},{"$f":"FaceSheet!K55","v":""},{"$f":"FaceSheet!M39","v":""},{"$f":"FaceSheet!M41","v":""},{"$f":"FaceSheet!M43","v":""},{"$f":"FaceSheet!M45","v":""},{"$f":"FaceSheet!M47","v":""},{"$f":"FaceSheet!M49","v":""},{"$f":"FaceSheet!M51","v":""},{"$f":"FaceSheet!M53","v":""},{"$f":"FaceSheet!M55","v":""},{"$f":"FaceSheet!N39","v":""},{"$f":"FaceSheet!N41","v":""},{"$f":"FaceSheet!N43","v":""},{"$f":"FaceSheet!N45","v":""},{"$f":"FaceSheet!N47","v":""},{"$f":"FaceSheet!N49","v":""},{"$f":"FaceSheet!N51","v":""},{"$f":"FaceSheet!N53","v":""},{"$f":"FaceSheet!N55","v":""},{"$f":"FaceSheet!G59","v":""},{"$f":"FaceSheet!G61","v":""},{"$f":"FaceSheet!G63","v":""},{"$f":"FaceSheet!G65","v":""},{"$f":"FaceSheet!G67","v":""},{"$f":"FaceSheet!G69","v":""},{"$f":"FaceSheet!G71","v":""},{"$f":"FaceSheet!G73","v":""},{"$f":"FaceSheet!G75","v":""},{"$f":"FaceSheet!H59","v":""},{"$f":"FaceSheet!H61","v":""},{"$f":"FaceSheet!H63","v":""},{"$f":"FaceSheet!H65","v":""},{"$f":"FaceSheet!H67","v":""},{"$f":"FaceSheet!H69","v":""},{"$f":"FaceSheet!H71","v":""},{"$f":"FaceSheet!H73","v":""},{"$f":"FaceSheet!H75","v":""},{"$f":"FaceSheet!J59","v":""},{"$f":"FaceSheet!J61","v":""},{"$f":"FaceSheet!J63","v":""},{"$f":"FaceSheet!J65","v":""},{"$f":"FaceSheet!J67","v":""},{"$f":"FaceSheet!J69","v":""},{"$f":"FaceSheet!J71","v":""},{"$f":"FaceSheet!J73","v":""},{"$f":"FaceSheet!J75","v":""},{"$f":"FaceSheet!K59","v":""},{"$f":"FaceSheet!K61","v":""},{"$f":"FaceSheet!K63","v":""},{"$f":"FaceSheet!K65","v":""},{"$f":"FaceSheet!K67","v":""},{"$f":"FaceSheet!K69","v":""},{"$f":"FaceSheet!K71","v":""},{"$f":"FaceSheet!K73","v":""},{"$f":"FaceSheet!K75","v":""},{"$f":"FaceSheet!M59","v":""},{"$f":"FaceSheet!M61","v":""},{"$f":"FaceSheet!M63","v":""},{"$f":"FaceSheet!M65","v":""},{"$f":"FaceSheet!M67","v":""},{"$f":"FaceSheet!M69","v":""},{"$f":"FaceSheet!M71","v":""},{"$f":"FaceSheet!M73","v":""},{"$f":"FaceSheet!M75","v":""},{"$f":"FaceSheet!N59","v":""},{"$f":"FaceSheet!N61","v":""},{"$f":"FaceSheet!N63","v":""},{"$f":"FaceSheet!N65","v":""},{"$f":"FaceSheet!N67","v":""},{"$f":"FaceSheet!N69","v":""},{"$f":"FaceSheet!N71","v":""},{"$f":"FaceSheet!N73","v":""},{"$f":"FaceSheet!N75","v":""},{"$f":"FaceSheet!H77","v":0},{"$f":"FaceSheet!H84","v":0},{"$f":"FaceSheet!H85","v":0},{"$f":"FaceSheet!G88","v":0},{"$f":"FaceSheet!G89","v":0},{"$f":"FaceSheet!G91","v":""},{"$f":"FaceSheet!G93","v":""},{"$f":"FaceSheet!G95","v":""},{"$f":"FaceSheet!G97","v":""},{"$f":"FaceSheet!G99","v":""},{"$f":"FaceSheet!G101","v":""},{"$f":"FaceSheet!G103","v":""},{"$f":"FaceSheet!G105","v":""},{"$f":"FaceSheet!G107","v":""},{"$f":"FaceSheet!G109","v":""},{"$f":"FaceSheet!G111","v":""},{"$f":"FaceSheet!H91","v":""},{"$f":"FaceSheet!H93","v":""},{"$f":"FaceSheet!H95","v":""},{"$f":"FaceSheet!H97","v":""},{"$f":"FaceSheet!H99","v":""},{"$f":"FaceSheet!H101","v":""},{"$f":"FaceSheet!H103","v":""},{"$f":"FaceSheet!H105","v":""},{"$f":"FaceSheet!H107","v":""},{"$f":"FaceSheet!H109","v":""},{"$f":"FaceSheet!H111","v":""},{"$f":"FaceSheet!J88","v":0},{"$f":"FaceSheet!J89","v":0},{"$f":"FaceSheet!J91","v":""},{"$f":"FaceSheet!J93","v":""},{"$f":"FaceSheet!J95","v":""},{"$f":"FaceSheet!J97","v":""},{"$f":"FaceSheet!J99","v":""},{"$f":"FaceSheet!J101","v":""},{"$f":"FaceSheet!J103","v":""},{"$f":"FaceSheet!J105","v":""},{"$f":"FaceSheet!J107","v":""},{"$f":"FaceSheet!J109","v":""},{"$f":"FaceSheet!J111","v":""},{"$f":"FaceSheet!K91","v":""},{"$f":"FaceSheet!K93","v":""},{"$f":"FaceSheet!K95","v":""},{"$f":"FaceSheet!K97","v":""},{"$f":"FaceSheet!K99","v":""},{"$f":"FaceSheet!K101","v":""},{"$f":"FaceSheet!K103","v":""},{"$f":"FaceSheet!K105","v":""},{"$f":"FaceSheet!K107","v":""},{"$f":"FaceSheet!K109","v":""},{"$f":"FaceSheet!K111","v":""},{"$f":"FaceSheet!M88","v":0},{"$f":"FaceSheet!M89","v":0},{"$f":"FaceSheet!M91","v":""},{"$f":"FaceSheet!M93","v":""},{"$f":"FaceSheet!M95","v":""},{"$f":"FaceSheet!M97","v":""},{"$f":"FaceSheet!M99","v":""},{"$f":"FaceSheet!M101","v":""},{"$f":"FaceSheet!M103","v":""},{"$f":"FaceSheet!M105","v":""},{"$f":"FaceSheet!M107","v":""},{"$f":"FaceSheet!M109","v":""},{"$f":"FaceSheet!M111","v":""},{"$f":"FaceSheet!N91","v":""},{"$f":"FaceSheet!N93","v":""},{"$f":"FaceSheet!N95","v":""},{"$f":"FaceSheet!N97","v":""},{"$f":"FaceSheet!N99","v":""},{"$f":"FaceSheet!N101","v":""},{"$f":"FaceSheet!N103","v":""},{"$f":"FaceSheet!N105","v":""},{"$f":"FaceSheet!N107","v":""},{"$f":"FaceSheet!N109","v":""},{"$f":"FaceSheet!N111","v":""},{"$f":"FaceSheet!G116","v":0},{"$f":"FaceSheet!G117","v":0},{"$f":"FaceSheet!G120","v":""},{"$f":"FaceSheet!G122","v":""},{"$f":"FaceSheet!G124","v":""},{"$f":"FaceSheet!G126","v":""},{"$f":"FaceSheet!G128","v":""},{"$f":"FaceSheet!G130","v":""},{"$f":"FaceSheet!G132","v":""},{"$f":"FaceSheet!G134","v":""},{"$f":"FaceSheet!G136","v":""},{"$f":"FaceSheet!G138","v":""},{"$f":"FaceSheet!G140","v":""},{"$f":"FaceSheet!H120","v":""},{"$f":"FaceSheet!H122","v":""},{"$f":"FaceSheet!H124","v":""},{"$f":"FaceSheet!H126","v":""},{"$f":"FaceSheet!H128","v":""},{"$f":"FaceSheet!H130","v":""},{"$f":"FaceSheet!H132","v":""},{"$f":"FaceSheet!H132","v":""},{"$f":"FaceSheet!H136","v":""},{"$f":"FaceSheet!H138","v":""},{"$f":"FaceSheet!H140","v":""},{"$f":"FaceSheet!J116","v":0},{"$f":"FaceSheet!J117","v":0},{"$f":"FaceSheet!J120","v":""},{"$f":"FaceSheet!J122","v":""},{"$f":"FaceSheet!J124","v":""},{"$f":"FaceSheet!J126","v":""},{"$f":"FaceSheet!J128","v":""},{"$f":"FaceSheet!J130","v":""},{"$f":"FaceSheet!J132","v":""},{"$f":"FaceSheet!J134","v":""},{"$f":"FaceSheet!J136","v":""},{"$f":"FaceSheet!J138","v":""},{"$f":"FaceSheet!J140","v":""},{"$f":"FaceSheet!K120","v":""},{"$f":"FaceSheet!K122","v":""},{"$f":"FaceSheet!K124","v":""},{"$f":"FaceSheet!K126","v":""},{"$f":"FaceSheet!K128","v":""},{"$f":"FaceSheet!K130","v":""},{"$f":"FaceSheet!K132","v":""},{"$f":"FaceSheet!K134","v":""},{"$f":"FaceSheet!K136","v":""},{"$f":"FaceSheet!K138","v":""},{"$f":"FaceSheet!K140","v":""},{"$f":"FaceSheet!M116","v":0},{"$f":"FaceSheet!M117","v":0},{"$f":"FaceSheet!M120","v":""},{"$f":"FaceSheet!M122","v":""},{"$f":"FaceSheet!M124","v":""},{"$f":"FaceSheet!M126","v":""},{"$f":"FaceSheet!M128","v":""},{"$f":"FaceSheet!M130","v":""},{"$f":"FaceSheet!M132","v":""},{"$f":"FaceSheet!M134","v":""},{"$f":"FaceSheet!M136","v":""},{"$f":"FaceSheet!M138","v":""},{"$f":"FaceSheet!M140","v":""},{"$f":"FaceSheet!N120","v":""},{"$f":"FaceSheet!N122","v":""},{"$f":"FaceSheet!N124","v":""},{"$f":"FaceSheet!N126","v":""},{"$f":"FaceSheet!N128","v":""},{"$f":"FaceSheet!N130","v":""},{"$f":"FaceSheet!N132","v":""},{"$f":"FaceSheet!N134","v":""},{"$f":"FaceSheet!N136","v":""},{"$f":"FaceSheet!N138","v":""},{"$f":"FaceSheet!N140","v":""}]
[]
[]
[]
[]
[]
[]
[null,null,null,null,null,null,null,null,null,null,null,null,null,null,null,null,null,null,null,null,null,null,null,null,null,null,null,null,null,null,null,null,null,null,null,null,null,null,null,null,null,null,null,null,null,null,null,null,null,null,null,null,null,null,null,null,null,null,null,null,null,null,null,null,null,null,null,null,null,null,null,null,null,null,null,null,null,null,null,null,null,null,null,null,null,null,null,null,null,null,null,null,null,null,null,null,null,null,null,null,null,null,null,null,null,null,null,null,null,null,null,null,null,null,null,null,null,null,null,null,null,null,null,null,null,null,null,null,null,null,null,null,null,null,null,null,null,null,null,null,null,null,null,null,null,null,null,null,null,null,null,null,null,null,null,null,null,null,null,null,null,"`"]

{"sheet":"Data Entry Code Book","index":6,"n_rows":51,"n_cols":3,"rows_kept":51,"cut":false,"hidden":false,"merged":[]}
[]
[null,null,"MTBI Data Entry Code Sheet"]
["Identifying Information:"]
[]
["Study Code"]
["Author",null,"Surname of the first author"]
["Year",null,"The year the article was first published. If article was published in print first, then online (i.e., re-print), enter the year that the article first appeared in print. ***Note: If there are multiple articles included in the study with the same first author published the same year, differentiate the articles by placing letters (in alphabetical order) after the year. Example: Belanger 2005a; Belanger 2005b; Belanger 2005c"]
["Country",null,"The country that data collection took place. If it took place in multiple countries, enter the country that the first author is from."]
[]
["Study Characteristics:"]
[]
["Appropriate Method of Defining MTBI",null,"Enter either “Yes” or “No.” MTBIs must be generally aligned with the ACRM or WHO guidelines (i.e., acute mental alterations, GCS 13-15, LOC < 30 minutes, PTA < 24 hours). If unsure, ask David Marra"]
["Method Used",null,"Briefly described how MTBI was defined (e.g., “Blunt head trauma; LOC < 30 minutes). If a standard definition used (e.g., ACRM or DOD), place name of standard definition (e.g., ACRM, AAN)"]
["Imaging Study",null,"Enter either “Yes” or “No.” If the study included neuroimaging (i.e., MRI, CT, MEG) or EEG, enter “Yes.” If no neuroimaging is reported as part of the study, enter “No.” "]
["PVTs Used to Exclude Invalid Performance",null,"Enter either “Yes” or “No.” If the study specifically states that subjects were removed due to invalid performance, then enter “Yes.” If not, enter “No.” "]
["Types of PVTs Used",null,"If “Yes” to “PVTs Used to Exclude Invalid Performance,” then enter the types of PVTs used. Enter either, “Stand-alone” (e.g., VSVT, TOMM, WMT), “Embedded” (e.g., Reliable Digit Span, CVLT-FC), “Both” (e.g., used both embedded and stand-alone), or “Unspecified” if the article did not directly state how they assessed effort."]
["Control Group",null,"Enter the appropriate control group used in the study. Either “Non-Injured Controls,” “Pre-Injury Baseline,” “Non-Injured Controls & Pre-Injury Baseline,” or “Orthopedic Injury.”"]
["Is this sample part of another study? ",null,"Enter \"Yes\" or \"No.\" If the manuscript cites or indicates that the sample is part of another study, enter \"Yes.\" "]
["If yes, author and year of study: ",null,"If Yes to the question above, please cite the author and year of the study that this sample is derived from (copy and paste from reference section)"]
["Does this study contain multiple mTBI subgroups? ",null,"Enter either \"Yes\" or \"No\" if there are multiple subgroups. A MTBI subgroup is a subset of the sample that is independent from the other MTBI group (e.g., Male vs. Female; Symptomatic vs. Asymptomatic; LOC vs. No LOC)"]
["If yes, how many? ",null,"If yes to the question above, indicate the number of MTBI subgroups"]
["If yes, please describe: ",null,"If yes to the MTBI subgroup question, please describe the types of subgroups. Examples are: Sex (male vs. female); Symptom Presentaiton (symptomatic vs. asymptomatic); Injury parameters (LOC vs. No LOC)"]
["Notes on Study Characteristics: ",null,"Any notes or specific information regarding study characteristics "]
[]
["MTBI Sample Demographics:"]
[]
["Population",null,"Enter either: Athlete, Veteran, General Medical Referral, Litigant, or Mixed: General Medical/Litigant"]
["Age Category",null,"Based on the mean age of the MTBI sample, select: Children (Ages 0-13), High School/College (Ages 14-22), Adults (Ages 23-64), Older Adults (Ages 65+)"]
["Mean Age",null,"Enter the mean age of the MTBI sample"]
["Mean Education",null,"Enter mean educational attainment of the MTBI sample"]
["% Female",null,"Percentage of MTBI sample that is female. If multiple subgroups, calculate average across all MTBI samples "]
["% Caucasian ",null,"Percent of MTBI group that is Caucasian (White)"]
["% Non-White",null,"Percent of all non-white individuals across all MTBI subsamples (i.e., 1-percentage Caucasians) "]
["% (Race)",null,"Based on the MTBI sample, enter the percentage of females, percentage of Caucasians, percentage of Blacks, percentage of Latinos, and percentage of individuals of other races"]
[]
["Mecanisms of Injury:"]
[]
["Mechanism of Injury",null,"based on the MTBI sample, calculate the percentage of individuals who suffered an MTBI due to play an Impact Sport (i.e., Football, Lacrosse, Boxing, Hockey, Rugby, MMA), Other Sport (e.g., Soccer, Basketball, Baseball, Wrestling), Motor Vehicle Accident (MVA), Falls, Blast Injury, Veteran Blunt Trauma (Veterans who suffered an MTBI due to blunt force trauma – but not due to a blast), Civilian Assault (i.e., victims of a crime/mugging), Other Mechanisms (i.e., any other mechanism of injury not covered above)"]
[]
["Psychological Comorbidity & Post-Concussion Symptomology:"]
[]
["Composition of Psych Comorbidity ",null,"The study specifically states that subjects were excluded due to a psychological comorbidity (e.g., depression, PTSD, anxiety), then select “0%.” If the sample or subsample of individuals have a diagnosed psychological comorbidity, then select “100%.” If the article does not specify, or some individuals (but not all) have a mental health disorder, then select “Mixed.”"]
["% (Psych Disorder)",null,"Based on the MTBI sample, enter the percentage of the MTBI sample with a diagnosis of Depression, Anxiety, PTSD, and Substance Use Disorder (SUD)."]
["Effect Size (Psych Disorder)",null,"Enter the effect size of the questionnaires assessing each psychologicla domain/disorder"]
[]
["Neuropsychology Outcomes:"]
[]
["Domains Assessed",null,"Click the box for each cognitive domain assessed in the study"]
["Experimental Design",null,"Enter either \"Independent Group Post-Test Only,\" \"Pre-Post Design,\" or \"Independent Groups, Pre-Post Design\" based on the study sample. ***This is required to transfer the effect sizes to the code sheet***."]
["Method of Assessing Performance",null,"Based on method of assessing cognitive performance, enter either \"Brief Cognitive Screener,\" \"Paper-and-Pencil\" or \"Mixed\" if both brief cognitive screener and traditional paper-pencil measures"]
["Mean Time Since Injury",null,"Enter the mean time since MTBI occurred (in months) from the MTBI sample. If multiple measurements occurred during the course of the study, average the time points together. Example: if measurements an evaluation took place at 1 month and 6 months, then enter “3.5 months.” \n***Note: if the evaluation took place days (rather than months) after the initial evaluation, then convert the number of days into months by dividing by 30. If the evaluation took place hours after the evaluation, first convert the number of hours post-TBI into days, then into months by dividing by 30. \nExample: \n7 days = .233 months (7/30)\n 6 hours = .0083 Months (6 / 24 / 30)"]

{"sheet":"MTBI Definitions","index":7,"n_rows":35,"n_cols":4,"rows_kept":35,"cut":false,"hidden":false,"merged":[[12,1,17,2],[27,1,27,2],[30,1,34,2]]}
[]
[]
[]
[null,"ACRM (1993)",null,"A patient with mild traumatic brain injury is a person who has had a traumatically induced physiological disruption of brain function, as manifested by at least one of the following:"]
[null,null,null,"1.     Any period of loss of consciousness; "]
[null,null,null,"2.     Any loss of memory for events immediately before or after the accident; "]
[null,null,null,"3.     Any alteration in mental state at the time of the accident (e.g., feeling dazed, disoriented or confused); and"]
[null,null,null,"4.     Focal deficits that may or may not be transient; but where the severity of the injury does not exceed the following: "]
[null,null,null,"·       Loss of consciousness for approximately thirty minutes or less; "]
[null,null,null,"·       After 30 minutes an initial GCS of 13-15"]
[null,null,null,"·       Past-traumatic amnesia not greater than 24 hours"]
[]
[null,"VA/DOD Clinical Practice Guideline For Management of Concussion/Mild Traumatic Brain Injury (2009)",null,"A traumatic brain injury is a A traumatically induced structural injury and/or physiological disruption of brain function as a result of an external force that is indicated by new onset or worsening of at least one of the following clinical signs, immediately following the event:"]
[null,null,null,"Any period of loss of or a decreased level of consciousness (LOC)"]
[null,null,null,"Any loss of memory for events immediately before or after the injury (post-traumatic amnesia6)"]
[null,null,null,"Any alteration in mental state at the time of the injury (confusion, disorientation, slowed thinking, etc.) (Alteration of consciousness/mental state5)"]
[null,null,null,"Neurological deficits (weakness, loss of balance, change in vision, praxis, paresis/plegia, sensory loss, aphasia, etc.) that may or may not be transient"]
[null,null,null,"Intracranial lesion"]
[]
[null,null,null,"A TBI is considered “mild” if: "]
[null,null,null,"·       Structural imaging is normal"]
[null,null,null,"·       Loss of consciousness is 0-30 min"]
[null,null,null,"·       Alteration of consciousness/mental state lasts a moment up to 24 hours"]
[null,null,null,"·       Post-traumatic amnesia lasts 0-1 day"]
[null,null,null,"·       Glasgow Coma Scale (best available score in first 24 hours) is 13-15"]
[]
[]
[null,"WHO Task Force (2004)",null,"MTBI is an acute brain injury resulting from mechanical energy to the head from external physical forces. Operational criteria for clinical identification include: (i) 1 or more of the following: confusion or disorientation, loss of consciousness for 30 minutes or less, post-traumatic amnesia for less than 24 hours, and/or other transient neurological abnormalities such as focal signs, seizure, and intracranial lesion not requiring surgery; (ii) GCS score of 13-15 after 30 minutes post-injury or later upon presentation for healthcare. These manifestations of MTBI must not be due to drugs, alcohol, medications, caused by other injuries or treatment for other injuries (e.g., systemic injuries, facial injuries or intubation), caused by other problems (e.g., physiological trauma, language barrier or coexisting medical conditions) or caused by penetrating craniocerebral injury"]
[]
[]
[null,"International Conference of Concussion in Sport (2013)",null,"Concussion is a brain injury and is defined as a complex pathophysiological process affecting the brain, induced by biomechanical forces. Several common features that incorporate clinical, pathologic, and biomechanical injury constructs that may be utilized in defining the nature of a concussive head injury include:"]
[null,null,null,"1.     Concussion may be caused by a direct blow to the head, face, neck, or elsewhere on the body with an “impulsive” force transmitted to the head."]
[null,null,null,"2.     Concussion typically results in the rapid onset of short-lived impairment of neurological function that resolves spontaneously. However, in some cases, symptoms and signs may evolve over a number of minutes to hours"]
[null,null,null,"3.     Concussion may result in neuropathologic changes, but the acute clinical symptoms largely reflect a functional disturbance rather than a structural injury, and as such, no abnormality is seen on standard structural neuroimaging studies. "]
[null,null,null,"4.     Concussion results in a graded set of clinical symptoms that may or may not involve loss of consciousness. Resolution of the clinical and cognitive symptoms typically follows a sequential course. However, it is important to note that in some cases, symptoms may be prolonged. "]

{"sheet":"Exclusion Criteria","index":8,"n_rows":13,"n_cols":5,"rows_kept":13,"cut":false,"hidden":false,"merged":[]}
[]
[]
[null,"Inclusionary Criteria:",null,null,"Exclusionary Criteria: "]
[null,"·       Published in English",null,null,"·       Sufficient information is not reported to calculate effect sizes"]
[null,"·       Involve human research subjects",null,null,"·       Average age of participants is not provided"]
[null,"·       MTBI or concussion must be clearly defined and consistent with the ACRM, WHO Task Force, or International conference on Concussion in Sports criteria",null,null,"·       Sample size of each group is less than 10"]
[null,"·       Included if the neuropsychological performance of mTBI group compared to pre-injury self, non-concussed control group, or orthopedic injury or pain control group",null,null,"·       Case studies"]
[null,"·       Included if the study utilized standardized and validated neurocognitive measures (e.g., Lezak, 1995; Strauss, Sherman, & Spreen, 2006) to assess cognitive functioning ",null,null,"·       Non-empirical studies (i.e., reviews, book chapters without data)"]
[null,null,null,null,"·       Meta-analysis and Systematic Reviews"]
[null,null,null,null,"·       Intervention study"]
[null,null,null,null,"·       Participant recruitment based on neuropsychological normality or impairment"]
[null,null,null,null,"·       If average time since injury is not reported or if average time since injury of the study participants is greater than three years "]
[null,null,null,null,"·       If sample includes subjects with complicated (e.g., intracranial hemorrhage, skull fracture) TBI"]

{"sheet":"Formulas","index":9,"n_rows":0,"n_cols":0,"rows_kept":0,"cut":false,"hidden":false,"merged":[]}

{"sheet":"Sheet2","index":10,"n_rows":1413,"n_cols":14,"rows_kept":1413,"cut":false,"hidden":true,"merged":[]}
["Population:","Control Group:","Yes/NO","PVTs Used","Age Subgroup",null,"Time Category:","Composition of  Subgroup Psych Comorbidity:","Method of Assessing NP Performance",null,"Quality of MTBI Diagnosis",null,null,"Experimental Design"]
["Athlete ","Non-Injured Control","Yes","Stand-Alone","Children",null,"< 24 hours",0,"Brief Cognitive Screener",null,"1) Witness and diagnoses by medical professional",null,null,"Independent Groups, Post-Test only"]
["Veteran","Pre-Injury Baseline","No","Embedded","High School/College",null,"< 7 days","Mixed","Paper-Pencil",null,"2) Witnessed event, diagnosed by medical professional later",null,null,"Pre-Post Design"]
["General Medical Referral ","Non-Injured Control & Pre-Injured Baseline",null,"Both Stand-Alone and Embedded","Adults",null,"< 3 months",1,"Mixed",null,"3) Non-witnessed event, meets standard definition, diagnosed later by medical professional",null,null,"Independent Groups, Pre-Post Design"]
["Litigant ","Orthopedic Injury",null,"Unspecified ","Older Adults",null,"≥ 3 months",null,null,null,"4) Self-reported history based on standard definition "]
["Mixed: General Medical/Litigant","Trauma Control",null,null,null,null,"Multiple Timepoints",null,null,null,"5) Self-reported history based on non-standard definition"]
[null,"Chronic Pain"]
[]
[]
[]
[]
[]
[]
[]
[]
[]
[null,null,null,{"$f":"IF(F17=\"\",\"\",F17)","v":""}]
[]
["Checkboxes "]
[null,"Orientation "]
[false,"Outcome 1:"]
[false,"Outcome 2:"]
[false,"Outcome 3:"]
[false,"Outcome 4:"]
[false,"Outcome 5:"]
[null,"Orientation d"]
[]
[null,"General Ability/IQ"]
[false,"Outcome 1:"]
[false,"Outcome 2:"]
[false,"Outcome 3:"]
[false,"Outcome 4:"]
[false,"Outcome 5:"]
[null,"General Ability/IQ d"]
[]
[null,"Achievement "]
[false,"Outcome 1:"]
[false,"Outcome 2:"]
[false,"Outcome 3:"]
[false,"Outcome 4:"]
[false,"Outcome 5:"]
[null,"Achievement d"]
[]
[null,"Attn/Wrk Memory"]
[false,"Outcome 1:"]
[false,"Outcome 2:"]
[false,"Outcome 3:"]
[false,"Outcome 4:"]
[false,"Outcome 5:"]
[null,"Attn/Wrk Mem d"]
[]
[null,"Processing Speed"]
[false,"Outcome 1:"]
[false,"Outcome 2:"]
[false,"Outcome 3:"]
[false,"Outcome 4:"]
[false,"Outcome 5:"]
[null,"Processing Speed d"]
[]
[null,"Executive Function"]
[false,"Outcome 1:"]
[false,"Outcome 2:"]
[false,"Outcome 3:"]
[false,"Outcome 4:"]
[false,"Outcome 5:"]
[null,"Executive Function d"]
[]
[null,"Immediate Memory"]
[false,"Outcome 1:"]
[false,"Outcome 2:"]
[false,"Outcome 3:"]
[false,"Outcome 4:"]
[false,"Outcome 5:"]
[null,"Immediate Memory d"]
[]
[null,"Delayed Memory"]
[false,"Outcome 1:"]
[false,"Outcome 2:"]
[false,"Outcome 3:"]
[false,"Outcome 4:"]
[false,"Outcome 5:"]
[null,"Delayed Memory d"]
[]
[null,"Visuospatial Skills"]
[false,"Outcome 1:"]
[false,"Outcome 2:"]
[false,"Outcome 3:"]
[false,"Outcome 4:"]
[false,"Outcome 5:"]
[null,"Visuospatial Skills d"]
[]
[null,"Fine Motor Mvmt"]
[false,"Outcome 1:"]
[false,"Outcome 2:"]
[false,"Outcome 3:"]
[false,"Outcome 4:"]
[false,"Outcome 5:"]
[null,"Fine Motor Mvmt d"]
[]
[]
[]
[]
[]
[null,"Depression"]
[false,"Outcome 1:"]
[false,"Outcome 2:"]
[false,"Outcome 3:"]
[false,"Outcome 4:"]
[false,"Outcome 5:"]
[null,"Despression d"]
[]
[null,"Anxiety"]
[false,"Outcome 1:"]
[false,"Outcome 2:"]
[false,"Outcome 3:"]
[false,"Outcome 4:"]
[false,"Outcome 5:"]
[null,"Anxiety d"]
[]
[null,"PTSD"]
[false,"Outcome 1:"]
[false,"Outcome 2:"]
[false,"Outcome 3:"]
[false,"Outcome 4:"]
[false,"Outcome 5:"]
[null,"PTSD d"]
[]
[null,"SUD"]
[false,"Outcome 1:"]
[false,"Outcome 2:"]
[false,"Outcome 3:"]
[false,"Outcome 4:"]
[false,"Outcome 5:"]
[null,"SUD d"]
[]
[null,"Somatization"]
[false,"Outcome 1:"]
[false,"Outcome 2:"]
[false,"Outcome 3:"]
[false,"Outcome 4:"]
[false,"Outcome 5:"]
[null,"Somatization d"]
[]
[null,"Internalizing Bx"]
[false,"Outcome 1:"]
[false,"Outcome 2:"]
[false,"Outcome 3:"]
[false,"Outcome 4:"]
[false,"Outcome 5:"]
[null,"Internalizing Bx d"]
[]
[null,"Externalizing Bx"]
[false,"Outcome 1:"]
[false,"Outcome 2:"]
[false,"Outcome 3:"]
[false,"Outcome 4:"]
[false,"Outcome 5:"]
[null,"Externalizing Bx d"]
[]
[]
[]
[]
[]
[null,"PCS"]
[false,"Outcome 1:"]
[false,"Outcome 2:"]
[false,"Outcome 3:"]
[false,"Outcome 4:"]
[false,"Outcome 5:"]
[null,"PCS d"]
[]
[null,"Overall PCS d"]
[]
[]
[]
[]
[]
[]
[]
[]
[]
[]
[]
[]
[]
[]
[]
[]
[]
[]
[]
[]
[]
[]
[]
[]
[]
[]
[]
[]
[]
[]
[]
[]
[]
[]
[]
[]
[]
[]
[]
[]
[]
[]
[]
[]
[]
[]
[]
[]
[]
[]
[]
[]
[]
[]
[]
[]
[]
[]
[]
[]
[]
[]
[]
[]
[]
[]
[]
[]
[]
[]
[]
[]
[]
[]
[]
[]
[]
[]
[]
[]
[]
[]
[]
[]
[]
[]
[]
[]
[]
[]
[]
[]
[]
[]
[]
[]
[]
[]
[]
[]
[]
[]
[]
[]
[]
[]
[]
[]
[]
[]
[]
[]
[]
[]
[]
[]
[]
[]
[]
[]
[]
[]
[]
[]
[]
[]
[]
[]
[]
[]
[]
[]
[]
[]
[]
[]
[]
[]
[]
[]
[]
[]
[]
[]
[]
[]
[]
[]
[]
[]
[]
[]
[]
[]
[]
[]
[]
[]
[]
[]
[]
[]
[]
[]
[]
[]
[]
[]
[]
[]
[]
[]
[]
[]
[]
[]
[]
[]
[]
[]
[]
[]
[]
[]
[]
[]
[]
[]
[]
[]
[]
[]
[]
[]
[]
[]
[]
[]
[]
[]
[]
[]
[]
[]
[]
[]
[]
[]
[]
[]
[]
[]
[]
[]
[]
[]
[]
[]
[]
[]
[]
[]
[]
[]
[]
[]
[]
[]
[]
[]
[]
[]
[]
[]
[]
[]
[]
[]
[]
[]
[]
[]
[]
[]
[]
[]
[]
[]
[]
[]
[]
[]
[]
[]
[]
[]
[]
[]
[]
[]
[]
[]
[]
[]
[]
[]
[]
[]
[]
[]
[]
[]
[]
[]
[]
[]
[]
[]
[]
[]
[]
[]
[]
[]
[]
[]
[]
[]
[]
[]
[]
[]
[]
[]
[]
[]
[]
[]
[]
[]
[]
[]
[]
[]
[]
[]
[]
[]
[]
[]
[]
[]
[]
[]
[]
[]
[]
[]
[]
[]
[]
[]
[]
[]
[]
[]
[]
[]
[]
[]
[]
[]
[]
[]
[]
[]
[]
[]
[]
[]
[]
[]
[]
[]
[]
[]
[]
[]
[]
[]
[]
[]
[]
[]
[]
[]
[]
[]
[]
[]
[]
[]
[]
[]
[]
[]
[]
[]
[]
[]
[]
[]
[]
[]
[]
[]
[]
[]
[]
[]
[]
[]
[]
[]
[]
[]
[]
[]
[]
[]
[]
[]
[]
[]
[]
[]
[]
[]
[]
[]
[]
[]
[]
[]
[]
[]
[]
[]
[]
[]
[]
[]
[]
[]
[]
[]
[]
[]
[]
[]
[]
[]
[]
[]
[]
[]
[]
[]
[]
[]
[]
[]
[]
[]
[]
[]
[]
[]
[]
[]
[]
[]
[]
[]
[]
[]
[]
[]
[]
[]
[]
[]
[]
[]
[]
[]
[]
[]
[]
[]
[]
[]
[]
[]
[]
[]
[]
[]
[]
[]
[]
[]
[]
[]
[]
[]
[]
[]
[]
[]
[]
[]
[]
[]
[]
[]
[]
[]
[]
[]
[]
[]
[]
[]
[]
[]
[]
[]
[]
[]
[]
[]
[]
[]
[]
[]
[]
[]
[]
[]
[]
[]
[]
[]
[]
[]
[]
[]
[]
[]
[]
[]
[]
[]
[]
[]
[]
[]
[]
[]
[]
[]
[]
[]
[]
[]
[]
[]
[]
[]
[]
[]
[]
[]
[]
[]
[]
[]
[]
[]
[]
[]
[]
[]
[]
[]
[]
[]
[]
[]
[]
[]
[]
[]
[]
[]
[]
[]
[]
[]
[]
[]
[]
[]
[]
[]
[]
[]
[]
[]
[]
[]
[]
[]
[]
[]
[]
[]
[]
[]
[]
[]
[]
[]
[]
[]
[]
[]
[]
[]
[]
[]
[]
[]
[]
[]
[]
[]
[]
[]
[]
[]
[]
[]
[]
[]
[]
[]
[]
[]
[]
[]
[]
[]
[]
[]
[]
[]
[]
[]
[]
[]
[]
[]
[]
[]
[]
[]
[]
[]
[]
[]
[]
[]
[]
[]
[]
[]
[]
[]
[]
[]
[]
[]
[]
[]
[]
[]
[]
[]
[]
[]
[]
[]
[]
[]
[]
[]
[]
[]
[]
[]
[]
[]
[]
[]
[]
[]
[]
[]
[]
[]
[]
[]
[]
[]
[]
[]
[]
[]
[]
[]
[]
[]
[]
[]
[]
[]
[]
[]
[]
[]
[]
[]
[]
[]
[]
[]
[]
[]
[]
[]
[]
[]
[]
[]
[]
[]
[]
[]
[]
[]
[]
[]
[]
[]
[]
[]
[]
[]
[]
[]
[]
[]
[]
[]
[]
[]
[]
[]
[]
[]
[]
[]
[]
[]
[]
[]
[]
[]
[]
[]
[]
[]
[]
[]
[]
[]
[]
[]
[]
[]
[]
[]
[]
[]
[]
[]
[]
[]
[]
[]
[]
[]
[]
[]
[]
[]
[]
[]
[]
[]
[]
[]
[]
[]
[]
[]
[]
[]
[]
[]
[]
[]
[]
[]
[]
[]
[]
[]
[]
[]
[]
[]
[]
[]
[]
[]
[]
[]
[]
[]
[]
[]
[]
[]
[]
[]
[]
[]
[]
[]
[]
[]
[]
[]
[]
[]
[]
[]
[]
[]
[]
[]
[]
[]
[]
[]
[]
[]
[]
[]
[]
[]
[]
[]
[]
[]
[]
[]
[]
[]
[]
[]
[]
[]
[]
[]
[]
[]
[]
[]
[]
[]
[]
[]
[]
[]
[]
[]
[]
[]
[]
[]
[]
[]
[]
[]
[]
[]
[]
[]
[]
[]
[]
[]
[]
[]
[]
[]
[]
[]
[]
[]
[]
[]
[]
[]
[]
[]
[]
[]
[]
[]
[]
[]
[]
[]
[]
[]
[]
[]
[]
[]
[]
[]
[]
[]
[]
[]
[]
[]
[]
[]
[]
[]
[]
[]
[]
[]
[]
[]
[]
[]
[]
[]
[]
[]
[]
[]
[]
[]
[]
[]
[]
[]
[]
[]
[]
[]
[]
[]
[]
[]
[]
[]
[]
[]
[]
[]
[]
[]
[]
[]
[]
[]
[]
[]
[]
[]
[]
[]
[]
[]
[]
[]
[]
[]
[]
[]
[]
[]
[]
[]
[]
[]
[]
[]
[]
[]
[]
[]
[]
[]
[]
[]
[]
[]
[]
[]
[]
[]
[]
[]
[]
[]
[]
[]
[]
[]
[]
[]
[]
[]
[]
[]
[]
[]
[]
[]
[]
[]
[]
[]
[]
[]
[]
[]
[]
[]
[]
[]
[]
[]
[]
[]
[]
[]
[]
[]
[]
[]
[]
[]
[]
[]
[]
[]
[]
[]
[]
[]
[]
[]
[]
[]
[]
[]
[]
[]
[]
[]
[]
[]
[]
[]
[]
[]
[]
[]
[]
[]
[]
[]
[]
[]
[]
[]
[]
[]
[]
[]
[]
[]
[]
[]
[]
[]
[]
[]
[]
[]
[]
[]
[]
[]
[]
[]
[]
[]
[]
[]
[]
[]
[]
[]
[]
[]
[]
[]
[]
[]
[]
[]
[]
[]
[]
[]
[]
[]
[]
[]
[]
[]
[]
[]
[]
[]
[]
[]
[]
[]
[]
[]
[]
[]
[]
[]
[]
[]
[]
[]
[]
[]
[]
[]
[]
[]
[]
[]
[]
[]
[]
[]
[]
[]
[]
[]
[]
[]
[]
[]
[]
[]
[]
[]
[]
[]
[]
[]
[]
[]
[]
[]
[]
[]
[]
[]
[]
[]
[]
[]
[]
[]
[]
[]
[]
[]
[]
[]
[]
[]
[]
[]
[]
[]
[]
[]
[]
[]
[]
[]
[]
[]
[]
[]
[]
[]
[]
[]
[]
[]
[]
[]
[]
[]
[]
[]
[]
[]
[]
[]
[]
[]
[]
[]
[]
[]
[]
[]
[]
[]
[]
[]
[]
[]
[]
[]
[]
[]
[false]