{"text_format":"1","workbook":"xlsx","n_sheets":6,"sheets":["Home Sheet","Indep Group Post-Test Only","Pre-Post Design","Independent Groups, Pre-Post","Formulas","Sheet2"],"not_rendered":{"charts":0,"images":0,"macros":1,"external_links":0,"defined_names":0,"comments":0,"pivot_tables":0},"unopened":[],"bounds":{"document_bytes":16777216,"sheet_cells":100000,"rows_first":2000,"rows_last":500,"rows_between":2000,"halvings":0,"cell_chars":16384,"cell_head_chars":4096},"cells_cut":0,"cells_raw":0,"read":"whole","date_system":"1900"}

{"sheet":"Home Sheet","index":0,"n_rows":0,"n_cols":0,"rows_kept":0,"cut":false,"hidden":false,"merged":[]}

{"sheet":"Indep Group Post-Test Only","index":1,"n_rows":95,"n_cols":71,"rows_kept":95,"cut":false,"hidden":false,"merged":[[2,61,2,67],[2,0,3,0],[2,50,2,56],[2,2,3,3],[2,6,2,12],[2,17,2,23],[2,28,2,34],[2,39,2,45]]}
[]
[]
["Check Box if Higher Score is Worse",null,"Cognitive/Emotional Outcomes:",null,null,null,"Time Point 1",null,null,null,null,null,null,null,null,null,null,"Time Point 2",null,null,null,null,null,null,null,null,null,null,"Time Point 3",null,null,null,null,null,null,null,null,null,null,"Time Point 4",null,null,null,null,null,null,null,null,null,null,"Time Point 5",null,null,null,null,null,null,null,null,null,null,"Time Point 6"]
[null,null,null,null,null,null,"Mcontrol","SDcontrol","Ncontrol",null,"MTBI","SDTBI","NTBI","d","d","SEd",null,"Mcontrol","SDcontrol","Ncontrol",null,"MTBI","SDTBI","NTBI","d","d","SEd",null,"Mcontrol","SDcontrol","Ncontrol",null,"MTBI","SDTBI","NTBI","d","d","SEd",null,"Mcontrol","SDcontrol","Ncontrol",null,"MTBI","SDTBI","NTBI","d","d","SEd",null,"Mcontrol","SDcontrol","Ncontrol",null,"MTBI","SDTBI","NTBI","d","d","SEd",null,"Mcontrol","SDcontrol","Ncontrol",null,"MTBI","SDTBI","NTBI","d","d","SEd"]
[null,null,null,"Test Name"]
[null,null,"Outcome 1",null,null,null,null,null,null,null,null,null,null,{"$f":"IF(Sheet2!$A$21=TRUE,-1*((G6-K6)/SQRT(((H6^2*(I6-1))+(L6^2*(M6-1)))/(I6+M6-2))),(G6-K6)/SQRT(((H6^2*(I6-1))+(L6^2*(M6-1)))/(I6+M6-2)))","v":{"$error":"#DIV/0!"}},{"$f":"IF(G6=\"\",\"\",N6)","v":""},{"$f":"IF(I6=\"\",\"\",SQRT((I6+M6)/(I6*M6)+(O6^2/(2*(I6+M6)))))","v":""},null,null,null,null,null,null,null,null,{"$f":"IF(Sheet2!$A$21=TRUE,-1*((R6-V6)/SQRT(((S6^2*(T6-1))+(W6^2*(X6-1)))/(T6+X6-2))),(R6-V6)/SQRT(((S6^2*(T6-1))+(W6^2*(X6-1)))/(T6+X6-2)))","v":{"$error":"#DIV/0!"}},{"$f":"IF(R6=\"\",\"\",Y6)","v":""},{"$f":"IF(T6=\"\",\"\",SQRT((T6+X6)/(T6*X6)+(Z6^2/(2*(T6+X6)))))","v":""},null,null,null,null,null,null,null,null,{"$f":"IF(Sheet2!$A$21=TRUE,-1*((AC6-AG6)/SQRT(((AD6^2*(AE6-1))+(AH6^2*(AI6-1)))/(AE6+AI6-2))),(AC6-AG6)/SQRT(((AD6^2*(AE6-1))+(AH6^2*(AI6-1)))/(AE6+AI6-2)))","v":{"$error":"#DIV/0!"}},{"$f":"IF(AC6=\"\",\"\",AJ6)","v":""},{"$f":"IF(AE6=\"\",\"\",SQRT((AE6+AI6)/(AE6*AI6)+(AK6^2/(2*(AE6+AI6)))))","v":""},null,null,null,null,null,null,null,null,{"$f":"IF(Sheet2!$A$21=TRUE,-1*((AN6-AR6)/SQRT(((AO6^2*(AP6-1))+(AS6^2*(AT6-1)))/(AP6+AT6-2))),(AN6-AR6)/SQRT(((AO6^2*(AP6-1))+(AS6^2*(AT6-1)))/(AP6+AT6-2)))","v":{"$error":"#DIV/0!"}},{"$f":"IF(AN6=\"\",\"\",AU6)","v":""},{"$f":"IF(AP6=\"\",\"\",SQRT((AP6+AT6)/(AP6*AT6)+(AV6^2/(2*(AP6+AT6)))))","v":""},null,null,null,null,null,null,null,null,{"$f":"IF(Sheet2!$A$21=TRUE,-1*((AY6-BC6)/SQRT(((AZ6^2*(BA6-1))+(BD6^2*(BE6-1)))/(BA6+BE6-2))),(AY6-BC6)/SQRT(((AZ6^2*(BA6-1))+(BD6^2*(BE6-1)))/(BA6+BE6-2)))","v":{"$error":"#DIV/0!"}},{"$f":"IF(AY6=\"\",\"\",BF6)","v":""},{"$f":"IF(BA6=\"\",\"\",SQRT((BA6+BE6)/(BA6*BE6)+(BG6^2/(2*(BA6+BE6)))))","v":""},null,null,null,null,null,null,null,null,{"$f":"IF(Sheet2!$A$21=TRUE,-1*((BJ6-BN6)/SQRT(((BK6^2*(BL6-1))+(BO6^2*(BP6-1)))/(BL6+BP6-2))),(BJ6-BN6)/SQRT(((BK6^2*(BL6-1))+(BO6^2*(BP6-1)))/(BL6+BP6-2)))","v":{"$error":"#DIV/0!"}},{"$f":"IF(BJ6=\"\",\"\",BQ6)","v":""},{"$f":"IF(BL6=\"\",\"\",SQRT((BL6+BP6)/(BL6*BP6)+(BR6^2/(2*(BL6+BP6)))))","v":""}]
[null,null,"Outcome 2",null,null,null,null,null,null,null,null,null,null,{"$f":"IF(Sheet2!$A$22=TRUE,-1*((G7-K7)/SQRT(((H7^2*(I7-1))+(L7^2*(M7-1)))/(I7+M7-2))),(G7-K7)/SQRT(((H7^2*(I7-1))+(L7^2*(M7-1)))/(I7+M7-2)))","v":{"$error":"#DIV/0!"}},"",{"$f":"IF(I7=\"\",\"\",SQRT((I7+M7)/(I7*M7)+(O7^2/(2*(I7+M7)))))","v":""},null,null,null,null,null,null,null,null,{"$f":"IF(Sheet2!$A$22=TRUE,-1*((R7-V7)/SQRT(((S7^2*(T7-1))+(W7^2*(X7-1)))/(T7+X7-2))),(R7-V7)/SQRT(((S7^2*(T7-1))+(W7^2*(X7-1)))/(T7+X7-2)))","v":{"$error":"#DIV/0!"}},"",{"$f":"IF(T7=\"\",\"\",SQRT((T7+X7)/(T7*X7)+(Z7^2/(2*(T7+X7)))))","v":""},null,null,null,null,null,null,null,null,{"$f":"IF(Sheet2!$A$22=TRUE,-1*((AC7-AG7)/SQRT(((AD7^2*(AE7-1))+(AH7^2*(AI7-1)))/(AE7+AI7-2))),(AC7-AG7)/SQRT(((AD7^2*(AE7-1))+(AH7^2*(AI7-1)))/(AE7+AI7-2)))","v":{"$error":"#DIV/0!"}},{"$f":"IF(AC7=\"\",\"\",AJ7)","v":""},{"$f":"IF(AE7=\"\",\"\",SQRT((AE7+AI7)/(AE7*AI7)+(AK7^2/(2*(AE7+AI7)))))","v":""},null,null,null,null,null,null,null,null,{"$f":"IF(Sheet2!$A$22=TRUE,-1*((AN7-AR7)/SQRT(((AO7^2*(AP7-1))+(AS7^2*(AT7-1)))/(AP7+AT7-2))),(AN7-AR7)/SQRT(((AO7^2*(AP7-1))+(AS7^2*(AT7-1)))/(AP7+AT7-2)))","v":{"$error":"#DIV/0!"}},{"$f":"IF(AN7=\"\",\"\",AU7)","v":""},{"$f":"IF(AP7=\"\",\"\",SQRT((AP7+AT7)/(AP7*AT7)+(AV7^2/(2*(AP7+AT7)))))","v":""},null,null,null,null,null,null,null,null,{"$f":"IF(Sheet2!$A$22=TRUE,-1*((AY7-BC7)/SQRT(((AZ7^2*(BA7-1))+(BD7^2*(BE7-1)))/(BA7+BE7-2))),(AY7-BC7)/SQRT(((AZ7^2*(BA7-1))+(BD7^2*(BE7-1)))/(BA7+BE7-2)))","v":{"$error":"#DIV/0!"}},{"$f":"IF(AY7=\"\",\"\",BF7)","v":""},{"$f":"IF(BA7=\"\",\"\",SQRT((BA7+BE7)/(BA7*BE7)+(BG7^2/(2*(BA7+BE7)))))","v":""},null,null,null,null,null,null,null,null,{"$f":"IF(Sheet2!$A$22=TRUE,-1*((BJ7-BN7)/SQRT(((BK7^2*(BL7-1))+(BO7^2*(BP7-1)))/(BL7+BP7-2))),(BJ7-BN7)/SQRT(((BK7^2*(BL7-1))+(BO7^2*(BP7-1)))/(BL7+BP7-2)))","v":{"$error":"#DIV/0!"}},{"$f":"IF(BJ7=\"\",\"\",BQ7)","v":""},{"$f":"IF(BL7=\"\",\"\",SQRT((BL7+BP7)/(BL7*BP7)+(BR7^2/(2*(BL7+BP7)))))","v":""}]
[null,null,"Outcome 3",null,null,null,null,null,null,null,null,null,null,{"$f":"IF(Sheet2!$A$23=TRUE,-1*((G8-K8)/SQRT(((H8^2*(I8-1))+(L8^2*(M8-1)))/(I8+M8-2))),(G8-K8)/SQRT(((H8^2*(I8-1))+(L8^2*(M8-1)))/(I8+M8-2)))","v":{"$error":"#DIV/0!"}},"","",null,null,null,null,null,null,null,null,{"$f":"IF(Sheet2!$A$23=TRUE,-1*((R8-V8)/SQRT(((S8^2*(T8-1))+(W8^2*(X8-1)))/(T8+X8-2))),(R8-V8)/SQRT(((S8^2*(T8-1))+(W8^2*(X8-1)))/(T8+X8-2)))","v":{"$error":"#DIV/0!"}},"","",null,null,null,null,null,null,null,null,{"$f":"IF(Sheet2!$A$23=TRUE,-1*((AC8-AG8)/SQRT(((AD8^2*(AE8-1))+(AH8^2*(AI8-1)))/(AE8+AI8-2))),(AC8-AG8)/SQRT(((AD8^2*(AE8-1))+(AH8^2*(AI8-1)))/(AE8+AI8-2)))","v":{"$error":"#DIV/0!"}},{"$f":"IF(AC8=\"\",\"\",AJ8)","v":""},"",null,null,null,null,null,null,null,null,{"$f":"IF(Sheet2!$A$23=TRUE,-1*((AN8-AR8)/SQRT(((AO8^2*(AP8-1))+(AS8^2*(AT8-1)))/(AP8+AT8-2))),(AN8-AR8)/SQRT(((AO8^2*(AP8-1))+(AS8^2*(AT8-1)))/(AP8+AT8-2)))","v":{"$error":"#DIV/0!"}},{"$f":"IF(AN8=\"\",\"\",AU8)","v":""},"",null,null,null,null,null,null,null,null,{"$f":"IF(Sheet2!$A$23=TRUE,-1*((AY8-BC8)/SQRT(((AZ8^2*(BA8-1))+(BD8^2*(BE8-1)))/(BA8+BE8-2))),(AY8-BC8)/SQRT(((AZ8^2*(BA8-1))+(BD8^2*(BE8-1)))/(BA8+BE8-2)))","v":{"$error":"#DIV/0!"}},{"$f":"IF(AY8=\"\",\"\",BF8)","v":""},"",null,null,null,null,null,null,null,null,{"$f":"IF(Sheet2!$A$23=TRUE,-1*((BJ8-BN8)/SQRT(((BK8^2*(BL8-1))+(BO8^2*(BP8-1)))/(BL8+BP8-2))),(BJ8-BN8)/SQRT(((BK8^2*(BL8-1))+(BO8^2*(BP8-1)))/(BL8+BP8-2)))","v":{"$error":"#DIV/0!"}},{"$f":"IF(BJ8=\"\",\"\",BQ8)","v":""},""]
[null,null,"Outcome 4",null,null,null,null,null,null,null,null,null,null,{"$f":"IF(Sheet2!$A$24=TRUE,-1*((G9-K9)/SQRT(((H9^2*(I9-1))+(L9^2*(M9-1)))/(I9+M9-2))),(G9-K9)/SQRT(((H9^2*(I9-1))+(L9^2*(M9-1)))/(I9+M9-2)))","v":{"$error":"#DIV/0!"}},"","",null,null,null,null,null,null,null,null,{"$f":"IF(Sheet2!$A$24=TRUE,-1*((R9-V9)/SQRT(((S9^2*(T9-1))+(W9^2*(X9-1)))/(T9+X9-2))),(R9-V9)/SQRT(((S9^2*(T9-1))+(W9^2*(X9-1)))/(T9+X9-2)))","v":{"$error":"#DIV/0!"}},"","",null,null,null,null,null,null,null,null,{"$f":"IF(Sheet2!$A$24=TRUE,-1*((AC9-AG9)/SQRT(((AD9^2*(AE9-1))+(AH9^2*(AI9-1)))/(AE9+AI9-2))),(AC9-AG9)/SQRT(((AD9^2*(AE9-1))+(AH9^2*(AI9-1)))/(AE9+AI9-2)))","v":{"$error":"#DIV/0!"}},{"$f":"IF(AC9=\"\",\"\",AJ9)","v":""},"",null,null,null,null,null,null,null,null,{"$f":"IF(Sheet2!$A$24=TRUE,-1*((AN9-AR9)/SQRT(((AO9^2*(AP9-1))+(AS9^2*(AT9-1)))/(AP9+AT9-2))),(AN9-AR9)/SQRT(((AO9^2*(AP9-1))+(AS9^2*(AT9-1)))/(AP9+AT9-2)))","v":{"$error":"#DIV/0!"}},{"$f":"IF(AN9=\"\",\"\",AU9)","v":""},"",null,null,null,null,null,null,null,null,{"$f":"IF(Sheet2!$A$24=TRUE,-1*((AY9-BC9)/SQRT(((AZ9^2*(BA9-1))+(BD9^2*(BE9-1)))/(BA9+BE9-2))),(AY9-BC9)/SQRT(((AZ9^2*(BA9-1))+(BD9^2*(BE9-1)))/(BA9+BE9-2)))","v":{"$error":"#DIV/0!"}},{"$f":"IF(AY9=\"\",\"\",BF9)","v":""},"",null,null,null,null,null,null,null,null,{"$f":"IF(Sheet2!$A$24=TRUE,-1*((BJ9-BN9)/SQRT(((BK9^2*(BL9-1))+(BO9^2*(BP9-1)))/(BL9+BP9-2))),(BJ9-BN9)/SQRT(((BK9^2*(BL9-1))+(BO9^2*(BP9-1)))/(BL9+BP9-2)))","v":{"$error":"#DIV/0!"}},{"$f":"IF(BJ9=\"\",\"\",BQ9)","v":""},""]
[null,null,"Outcome 5",null,null,null,null,null,null,null,null,null,null,{"$f":"IF(Sheet2!$A$25=TRUE,-1*((G10-K10)/SQRT(((H10^2*(I10-1))+(L10^2*(M10-1)))/(I10+M10-2))),(G10-K10)/SQRT(((H10^2*(I10-1))+(L10^2*(M10-1)))/(I10+M10-2)))","v":{"$error":"#DIV/0!"}},"","",null,null,null,null,null,null,null,null,{"$f":"IF(Sheet2!$A$25=TRUE,-1*((R10-V10)/SQRT(((S10^2*(T10-1))+(W10^2*(X10-1)))/(T10+X10-2))),(R10-V10)/SQRT(((S10^2*(T10-1))+(W10^2*(X10-1)))/(T10+X10-2)))","v":{"$error":"#DIV/0!"}},"","",null,null,null,null,null,null,null,null,{"$f":"IF(Sheet2!$A$25=TRUE,-1*((AC10-AG10)/SQRT(((AD10^2*(AE10-1))+(AH10^2*(AI10-1)))/(AE10+AI10-2))),(AC10-AG10)/SQRT(((AD10^2*(AE10-1))+(AH10^2*(AI10-1)))/(AE10+AI10-2)))","v":{"$error":"#DIV/0!"}},"","",null,null,null,null,null,null,null,null,{"$f":"IF(Sheet2!$A$25=TRUE,-1*((AN10-AR10)/SQRT(((AO10^2*(AP10-1))+(AS10^2*(AT10-1)))/(AP10+AT10-2))),(AN10-AR10)/SQRT(((AO10^2*(AP10-1))+(AS10^2*(AT10-1)))/(AP10+AT10-2)))","v":{"$error":"#DIV/0!"}},"","",null,null,null,null,null,null,null,null,{"$f":"IF(Sheet2!$A$25=TRUE,-1*((AY10-BC10)/SQRT(((AZ10^2*(BA10-1))+(BD10^2*(BE10-1)))/(BA10+BE10-2))),(AY10-BC10)/SQRT(((AZ10^2*(BA10-1))+(BD10^2*(BE10-1)))/(BA10+BE10-2)))","v":{"$error":"#DIV/0!"}},"","",null,null,null,null,null,null,null,null,{"$f":"IF(Sheet2!$A$25=TRUE,-1*((BJ10-BN10)/SQRT(((BK10^2*(BL10-1))+(BO10^2*(BP10-1)))/(BL10+BP10-2))),(BJ10-BN10)/SQRT(((BK10^2*(BL10-1))+(BO10^2*(BP10-1)))/(BL10+BP10-2)))","v":{"$error":"#DIV/0!"}},{"$f":"IF(BJ10=\"\",\"\",BQ10)","v":""},""]
[null,null,"Outcome 6",null,null,null,null,null,null,null,null,null,null,{"$f":"IF(Sheet2!$A$29=TRUE,-1*((G11-K11)/SQRT(((H11^2*(I11-1))+(L11^2*(M11-1)))/(I11+M11-2))),(G11-K11)/SQRT(((H11^2*(I11-1))+(L11^2*(M11-1)))/(I11+M11-2)))","v":{"$error":"#DIV/0!"}},"",{"$f":"IF(I11=\"\",\"\",SQRT((I11+M11)/(I11*M11)+(O11^2/(2*(I11+M11)))))","v":""},null,null,null,null,null,null,null,null,{"$f":"IF(Sheet2!$A$29=TRUE,-1*((R11-V11)/SQRT(((S11^2*(T11-1))+(W11^2*(X11-1)))/(T11+X11-2))),(R11-V11)/SQRT(((S11^2*(T11-1))+(W11^2*(X11-1)))/(T11+X11-2)))","v":{"$error":"#DIV/0!"}},"",{"$f":"IF(T11=\"\",\"\",SQRT((T11+X11)/(T11*X11)+(Z11^2/(2*(T11+X11)))))","v":""},null,null,null,null,null,null,null,null,{"$f":"IF(Sheet2!$A$29=TRUE,-1*((AC11-AG11)/SQRT(((AD11^2*(AE11-1))+(AH11^2*(AI11-1)))/(AE11+AI11-2))),(AC11-AG11)/SQRT(((AD11^2*(AE11-1))+(AH11^2*(AI11-1)))/(AE11+AI11-2)))","v":{"$error":"#DIV/0!"}},{"$f":"IF(AC11=\"\",\"\",AJ11)","v":""},"",null,null,null,null,null,null,null,null,{"$f":"IF(Sheet2!$A$29=TRUE,-1*((AN11-AR11)/SQRT(((AO11^2*(AP11-1))+(AS11^2*(AT11-1)))/(AP11+AT11-2))),(AN11-AR11)/SQRT(((AO11^2*(AP11-1))+(AS11^2*(AT11-1)))/(AP11+AT11-2)))","v":{"$error":"#DIV/0!"}},{"$f":"IF(AN11=\"\",\"\",AU11)","v":""},{"$f":"IF(AP11=\"\",\"\",SQRT((AP11+AT11)/(AP11*AT11)+(AV11^2/(2*(AP11+AT11)))))","v":""},null,null,null,null,null,null,null,null,{"$f":"IF(Sheet2!$A$29=TRUE,-1*((AY11-BC11)/SQRT(((AZ11^2*(BA11-1))+(BD11^2*(BE11-1)))/(BA11+BE11-2))),(AY11-BC11)/SQRT(((AZ11^2*(BA11-1))+(BD11^2*(BE11-1)))/(BA11+BE11-2)))","v":{"$error":"#DIV/0!"}},{"$f":"IF(AY11=\"\",\"\",BF11)","v":""},{"$f":"IF(BA11=\"\",\"\",SQRT((BA11+BE11)/(BA11*BE11)+(BG11^2/(2*(BA11+BE11)))))","v":""},null,null,null,null,null,null,null,null,{"$f":"IF(Sheet2!$A$29=TRUE,-1*((BJ11-BN11)/SQRT(((BK11^2*(BL11-1))+(BO11^2*(BP11-1)))/(BL11+BP11-2))),(BJ11-BN11)/SQRT(((BK11^2*(BL11-1))+(BO11^2*(BP11-1)))/(BL11+BP11-2)))","v":{"$error":"#DIV/0!"}},{"$f":"IF(BJ11=\"\",\"\",BQ11)","v":""},{"$f":"IF(BL11=\"\",\"\",SQRT((BL11+BP11)/(BL11*BP11)+(BR11^2/(2*(BL11+BP11)))))","v":""}]
[null,null,"Outcome 7",null,null,null,null,null,null,null,null,null,null,{"$f":"IF(Sheet2!$A$30=TRUE,-1*((G12-K12)/SQRT(((H12^2*(I12-1))+(L12^2*(M12-1)))/(I12+M12-2))),(G12-K12)/SQRT(((H12^2*(I12-1))+(L12^2*(M12-1)))/(I12+M12-2)))","v":{"$error":"#DIV/0!"}},"","",null,null,null,null,null,null,null,null,{"$f":"IF(Sheet2!$A$30=TRUE,-1*((R12-V12)/SQRT(((S12^2*(T12-1))+(W12^2*(X12-1)))/(T12+X12-2))),(R12-V12)/SQRT(((S12^2*(T12-1))+(W12^2*(X12-1)))/(T12+X12-2)))","v":{"$error":"#DIV/0!"}},"","",null,null,null,null,null,null,null,null,{"$f":"IF(Sheet2!$A$30=TRUE,-1*((AC12-AG12)/SQRT(((AD12^2*(AE12-1))+(AH12^2*(AI12-1)))/(AE12+AI12-2))),(AC12-AG12)/SQRT(((AD12^2*(AE12-1))+(AH12^2*(AI12-1)))/(AE12+AI12-2)))","v":{"$error":"#DIV/0!"}},{"$f":"IF(AC12=\"\",\"\",AJ12)","v":""},"",null,null,null,null,null,null,null,null,{"$f":"IF(Sheet2!$A$30=TRUE,-1*((AN12-AR12)/SQRT(((AO12^2*(AP12-1))+(AS12^2*(AT12-1)))/(AP12+AT12-2))),(AN12-AR12)/SQRT(((AO12^2*(AP12-1))+(AS12^2*(AT12-1)))/(AP12+AT12-2)))","v":{"$error":"#DIV/0!"}},{"$f":"IF(AN12=\"\",\"\",AU12)","v":""},"",null,null,null,null,null,null,null,null,{"$f":"IF(Sheet2!$A$30=TRUE,-1*((AY12-BC12)/SQRT(((AZ12^2*(BA12-1))+(BD12^2*(BE12-1)))/(BA12+BE12-2))),(AY12-BC12)/SQRT(((AZ12^2*(BA12-1))+(BD12^2*(BE12-1)))/(BA12+BE12-2)))","v":{"$error":"#DIV/0!"}},{"$f":"IF(AY12=\"\",\"\",BF12)","v":""},"",null,null,null,null,null,null,null,null,{"$f":"IF(Sheet2!$A$30=TRUE,-1*((BJ12-BN12)/SQRT(((BK12^2*(BL12-1))+(BO12^2*(BP12-1)))/(BL12+BP12-2))),(BJ12-BN12)/SQRT(((BK12^2*(BL12-1))+(BO12^2*(BP12-1)))/(BL12+BP12-2)))","v":{"$error":"#DIV/0!"}},{"$f":"IF(BJ12=\"\",\"\",BQ12)","v":""},""]
[null,null,"Outcome 8",null,null,null,null,null,null,null,null,null,null,{"$f":"IF(Sheet2!$A$31=TRUE,-1*((G13-K13)/SQRT(((H13^2*(I13-1))+(L13^2*(M13-1)))/(I13+M13-2))),(G13-K13)/SQRT(((H13^2*(I13-1))+(L13^2*(M13-1)))/(I13+M13-2)))","v":{"$error":"#DIV/0!"}},"","",null,null,null,null,null,null,null,null,{"$f":"IF(Sheet2!$A$31=TRUE,-1*((R13-V13)/SQRT(((S13^2*(T13-1))+(W13^2*(X13-1)))/(T13+X13-2))),(R13-V13)/SQRT(((S13^2*(T13-1))+(W13^2*(X13-1)))/(T13+X13-2)))","v":{"$error":"#DIV/0!"}},"","",null,null,null,null,null,null,null,null,{"$f":"IF(Sheet2!$A$31=TRUE,-1*((AC13-AG13)/SQRT(((AD13^2*(AE13-1))+(AH13^2*(AI13-1)))/(AE13+AI13-2))),(AC13-AG13)/SQRT(((AD13^2*(AE13-1))+(AH13^2*(AI13-1)))/(AE13+AI13-2)))","v":{"$error":"#DIV/0!"}},{"$f":"IF(AC13=\"\",\"\",AJ13)","v":""},"",null,null,null,null,null,null,null,null,{"$f":"IF(Sheet2!$A$31=TRUE,-1*((AN13-AR13)/SQRT(((AO13^2*(AP13-1))+(AS13^2*(AT13-1)))/(AP13+AT13-2))),(AN13-AR13)/SQRT(((AO13^2*(AP13-1))+(AS13^2*(AT13-1)))/(AP13+AT13-2)))","v":{"$error":"#DIV/0!"}},{"$f":"IF(AN13=\"\",\"\",AU13)","v":""},"",null,null,null,null,null,null,null,null,{"$f":"IF(Sheet2!$A$31=TRUE,-1*((AY13-BC13)/SQRT(((AZ13^2*(BA13-1))+(BD13^2*(BE13-1)))/(BA13+BE13-2))),(AY13-BC13)/SQRT(((AZ13^2*(BA13-1))+(BD13^2*(BE13-1)))/(BA13+BE13-2)))","v":{"$error":"#DIV/0!"}},{"$f":"IF(AY13=\"\",\"\",BF13)","v":""},"",null,null,null,null,null,null,null,null,{"$f":"IF(Sheet2!$A$31=TRUE,-1*((BJ13-BN13)/SQRT(((BK13^2*(BL13-1))+(BO13^2*(BP13-1)))/(BL13+BP13-2))),(BJ13-BN13)/SQRT(((BK13^2*(BL13-1))+(BO13^2*(BP13-1)))/(BL13+BP13-2)))","v":{"$error":"#DIV/0!"}},{"$f":"IF(BJ13=\"\",\"\",BQ13)","v":""},""]
[null,null,"Outcome 9",null,null,null,null,null,null,null,null,null,null,{"$f":"IF(Sheet2!$A$32=TRUE,-1*((G14-K14)/SQRT(((H14^2*(I14-1))+(L14^2*(M14-1)))/(I14+M14-2))),(G14-K14)/SQRT(((H14^2*(I14-1))+(L14^2*(M14-1)))/(I14+M14-2)))","v":{"$error":"#DIV/0!"}},"","",null,null,null,null,null,null,null,null,{"$f":"IF(Sheet2!$A$32=TRUE,-1*((R14-V14)/SQRT(((S14^2*(T14-1))+(W14^2*(X14-1)))/(T14+X14-2))),(R14-V14)/SQRT(((S14^2*(T14-1))+(W14^2*(X14-1)))/(T14+X14-2)))","v":{"$error":"#DIV/0!"}},"","",null,null,null,null,null,null,null,null,{"$f":"IF(Sheet2!$A$32=TRUE,-1*((AC14-AG14)/SQRT(((AD14^2*(AE14-1))+(AH14^2*(AI14-1)))/(AE14+AI14-2))),(AC14-AG14)/SQRT(((AD14^2*(AE14-1))+(AH14^2*(AI14-1)))/(AE14+AI14-2)))","v":{"$error":"#DIV/0!"}},{"$f":"IF(AC14=\"\",\"\",AJ14)","v":""},"",null,null,null,null,null,null,null,null,{"$f":"IF(Sheet2!$A$32=TRUE,-1*((AN14-AR14)/SQRT(((AO14^2*(AP14-1))+(AS14^2*(AT14-1)))/(AP14+AT14-2))),(AN14-AR14)/SQRT(((AO14^2*(AP14-1))+(AS14^2*(AT14-1)))/(AP14+AT14-2)))","v":{"$error":"#DIV/0!"}},{"$f":"IF(AN14=\"\",\"\",AU14)","v":""},"",null,null,null,null,null,null,null,null,{"$f":"IF(Sheet2!$A$32=TRUE,-1*((AY14-BC14)/SQRT(((AZ14^2*(BA14-1))+(BD14^2*(BE14-1)))/(BA14+BE14-2))),(AY14-BC14)/SQRT(((AZ14^2*(BA14-1))+(BD14^2*(BE14-1)))/(BA14+BE14-2)))","v":{"$error":"#DIV/0!"}},{"$f":"IF(AY14=\"\",\"\",BF14)","v":""},"",null,null,null,null,null,null,null,null,{"$f":"IF(Sheet2!$A$32=TRUE,-1*((BJ14-BN14)/SQRT(((BK14^2*(BL14-1))+(BO14^2*(BP14-1)))/(BL14+BP14-2))),(BJ14-BN14)/SQRT(((BK14^2*(BL14-1))+(BO14^2*(BP14-1)))/(BL14+BP14-2)))","v":{"$error":"#DIV/0!"}},{"$f":"IF(BJ14=\"\",\"\",BQ14)","v":""},""]
[null,null,"Outcome 10",null,null,null,null,null,null,null,null,null,null,{"$f":"IF(Sheet2!$A$33=TRUE,-1*((G15-K15)/SQRT(((H15^2*(I15-1))+(L15^2*(M15-1)))/(I15+M15-2))),(G15-K15)/SQRT(((H15^2*(I15-1))+(L15^2*(M15-1)))/(I15+M15-2)))","v":{"$error":"#DIV/0!"}},"","",null,null,null,null,null,null,null,null,{"$f":"IF(Sheet2!$A$33=TRUE,-1*((R15-V15)/SQRT(((S15^2*(T15-1))+(W15^2*(X15-1)))/(T15+X15-2))),(R15-V15)/SQRT(((S15^2*(T15-1))+(W15^2*(X15-1)))/(T15+X15-2)))","v":{"$error":"#DIV/0!"}},"","",null,null,null,null,null,null,null,null,{"$f":"IF(Sheet2!$A$33=TRUE,-1*((AC15-AG15)/SQRT(((AD15^2*(AE15-1))+(AH15^2*(AI15-1)))/(AE15+AI15-2))),(AC15-AG15)/SQRT(((AD15^2*(AE15-1))+(AH15^2*(AI15-1)))/(AE15+AI15-2)))","v":{"$error":"#DIV/0!"}},"","",null,null,null,null,null,null,null,null,{"$f":"IF(Sheet2!$A$33=TRUE,-1*((AN15-AR15)/SQRT(((AO15^2*(AP15-1))+(AS15^2*(AT15-1)))/(AP15+AT15-2))),(AN15-AR15)/SQRT(((AO15^2*(AP15-1))+(AS15^2*(AT15-1)))/(AP15+AT15-2)))","v":{"$error":"#DIV/0!"}},"","",null,null,null,null,null,null,null,null,{"$f":"IF(Sheet2!$A$33=TRUE,-1*((AY15-BC15)/SQRT(((AZ15^2*(BA15-1))+(BD15^2*(BE15-1)))/(BA15+BE15-2))),(AY15-BC15)/SQRT(((AZ15^2*(BA15-1))+(BD15^2*(BE15-1)))/(BA15+BE15-2)))","v":{"$error":"#DIV/0!"}},"","",null,null,null,null,null,null,null,null,{"$f":"IF(Sheet2!$A$33=TRUE,-1*((BJ15-BN15)/SQRT(((BK15^2*(BL15-1))+(BO15^2*(BP15-1)))/(BL15+BP15-2))),(BJ15-BN15)/SQRT(((BK15^2*(BL15-1))+(BO15^2*(BP15-1)))/(BL15+BP15-2)))","v":{"$error":"#DIV/0!"}},"",""]
[null,null,"Outcome 11",null,null,null,null,null,null,null,null,null,null,{"$f":"IF(Sheet2!$A$37=TRUE,-1*((G16-K16)/SQRT(((H16^2*(I16-1))+(L16^2*(M16-1)))/(I16+M16-2))),(G16-K16)/SQRT(((H16^2*(I16-1))+(L16^2*(M16-1)))/(I16+M16-2)))","v":{"$error":"#DIV/0!"}},"",{"$f":"IF(I16=\"\",\"\",SQRT((I16+M16)/(I16*M16)+(O16^2/(2*(I16+M16)))))","v":""},null,null,null,null,null,null,null,null,{"$f":"IF(Sheet2!$A$37=TRUE,-1*((R16-V16)/SQRT(((S16^2*(T16-1))+(W16^2*(X16-1)))/(T16+X16-2))),(R16-V16)/SQRT(((S16^2*(T16-1))+(W16^2*(X16-1)))/(T16+X16-2)))","v":{"$error":"#DIV/0!"}},"",{"$f":"IF(T16=\"\",\"\",SQRT((T16+X16)/(T16*X16)+(Z16^2/(2*(T16+X16)))))","v":""},null,null,null,null,null,null,null,null,{"$f":"IF(Sheet2!$A$37=TRUE,-1*((AC16-AG16)/SQRT(((AD16^2*(AE16-1))+(AH16^2*(AI16-1)))/(AE16+AI16-2))),(AC16-AG16)/SQRT(((AD16^2*(AE16-1))+(AH16^2*(AI16-1)))/(AE16+AI16-2)))","v":{"$error":"#DIV/0!"}},{"$f":"IF(AC16=\"\",\"\",AJ16)","v":""},"",null,null,null,null,null,null,null,null,{"$f":"IF(Sheet2!$A$37=TRUE,-1*((AN16-AR16)/SQRT(((AO16^2*(AP16-1))+(AS16^2*(AT16-1)))/(AP16+AT16-2))),(AN16-AR16)/SQRT(((AO16^2*(AP16-1))+(AS16^2*(AT16-1)))/(AP16+AT16-2)))","v":{"$error":"#DIV/0!"}},{"$f":"IF(AN16=\"\",\"\",AU16)","v":""},{"$f":"IF(AP16=\"\",\"\",SQRT((AP16+AT16)/(AP16*AT16)+(AV16^2/(2*(AP16+AT16)))))","v":""},null,null,null,null,null,null,null,null,{"$f":"IF(Sheet2!$A$37=TRUE,-1*((AY16-BC16)/SQRT(((AZ16^2*(BA16-1))+(BD16^2*(BE16-1)))/(BA16+BE16-2))),(AY16-BC16)/SQRT(((AZ16^2*(BA16-1))+(BD16^2*(BE16-1)))/(BA16+BE16-2)))","v":{"$error":"#DIV/0!"}},{"$f":"IF(AY16=\"\",\"\",BF16)","v":""},{"$f":"IF(BA16=\"\",\"\",SQRT((BA16+BE16)/(BA16*BE16)+(BG16^2/(2*(BA16+BE16)))))","v":""},null,null,null,null,null,null,null,null,{"$f":"IF(Sheet2!$A$37=TRUE,-1*((BJ16-BN16)/SQRT(((BK16^2*(BL16-1))+(BO16^2*(BP16-1)))/(BL16+BP16-2))),(BJ16-BN16)/SQRT(((BK16^2*(BL16-1))+(BO16^2*(BP16-1)))/(BL16+BP16-2)))","v":{"$error":"#DIV/0!"}},{"$f":"IF(BJ16=\"\",\"\",BQ16)","v":""},{"$f":"IF(BL16=\"\",\"\",SQRT((BL16+BP16)/(BL16*BP16)+(BR16^2/(2*(BL16+BP16)))))","v":""}]
[null,null,"Outcome 12",null,null,null,null,null,null,null,null,null,null,{"$f":"IF(Sheet2!$A$38=TRUE,-1*((G17-K17)/SQRT(((H17^2*(I17-1))+(L17^2*(M17-1)))/(I17+M17-2))),(G17-K17)/SQRT(((H17^2*(I17-1))+(L17^2*(M17-1)))/(I17+M17-2)))","v":{"$error":"#DIV/0!"}},"","",null,null,null,null,null,null,null,null,{"$f":"IF(Sheet2!$A$38=TRUE,-1*((R17-V17)/SQRT(((S17^2*(T17-1))+(W17^2*(X17-1)))/(T17+X17-2))),(R17-V17)/SQRT(((S17^2*(T17-1))+(W17^2*(X17-1)))/(T17+X17-2)))","v":{"$error":"#DIV/0!"}},"","",null,null,null,null,null,null,null,null,{"$f":"IF(Sheet2!$A$38=TRUE,-1*((AC17-AG17)/SQRT(((AD17^2*(AE17-1))+(AH17^2*(AI17-1)))/(AE17+AI17-2))),(AC17-AG17)/SQRT(((AD17^2*(AE17-1))+(AH17^2*(AI17-1)))/(AE17+AI17-2)))","v":{"$error":"#DIV/0!"}},"","",null,null,null,null,null,null,null,null,{"$f":"IF(Sheet2!$A$38=TRUE,-1*((AN17-AR17)/SQRT(((AO17^2*(AP17-1))+(AS17^2*(AT17-1)))/(AP17+AT17-2))),(AN17-AR17)/SQRT(((AO17^2*(AP17-1))+(AS17^2*(AT17-1)))/(AP17+AT17-2)))","v":{"$error":"#DIV/0!"}},"","",null,null,null,null,null,null,null,null,{"$f":"IF(Sheet2!$A$38=TRUE,-1*((AY17-BC17)/SQRT(((AZ17^2*(BA17-1))+(BD17^2*(BE17-1)))/(BA17+BE17-2))),(AY17-BC17)/SQRT(((AZ17^2*(BA17-1))+(BD17^2*(BE17-1)))/(BA17+BE17-2)))","v":{"$error":"#DIV/0!"}},"","",null,null,null,null,null,null,null,null,{"$f":"IF(Sheet2!$A$38=TRUE,-1*((BJ17-BN17)/SQRT(((BK17^2*(BL17-1))+(BO17^2*(BP17-1)))/(BL17+BP17-2))),(BJ17-BN17)/SQRT(((BK17^2*(BL17-1))+(BO17^2*(BP17-1)))/(BL17+BP17-2)))","v":{"$error":"#DIV/0!"}},"",""]
[null,null,"Outcome 13",null,null,null,null,null,null,null,null,null,null,{"$f":"IF(Sheet2!$A$39=TRUE,-1*((G18-K18)/SQRT(((H18^2*(I18-1))+(L18^2*(M18-1)))/(I18+M18-2))),(G18-K18)/SQRT(((H18^2*(I18-1))+(L18^2*(M18-1)))/(I18+M18-2)))","v":{"$error":"#DIV/0!"}},"","",null,null,null,null,null,null,null,null,{"$f":"IF(Sheet2!$A$39=TRUE,-1*((R18-V18)/SQRT(((S18^2*(T18-1))+(W18^2*(X18-1)))/(T18+X18-2))),(R18-V18)/SQRT(((S18^2*(T18-1))+(W18^2*(X18-1)))/(T18+X18-2)))","v":{"$error":"#DIV/0!"}},"","",null,null,null,null,null,null,null,null,{"$f":"IF(Sheet2!$A$39=TRUE,-1*((AC18-AG18)/SQRT(((AD18^2*(AE18-1))+(AH18^2*(AI18-1)))/(AE18+AI18-2))),(AC18-AG18)/SQRT(((AD18^2*(AE18-1))+(AH18^2*(AI18-1)))/(AE18+AI18-2)))","v":{"$error":"#DIV/0!"}},"","",null,null,null,null,null,null,null,null,{"$f":"IF(Sheet2!$A$39=TRUE,-1*((AN18-AR18)/SQRT(((AO18^2*(AP18-1))+(AS18^2*(AT18-1)))/(AP18+AT18-2))),(AN18-AR18)/SQRT(((AO18^2*(AP18-1))+(AS18^2*(AT18-1)))/(AP18+AT18-2)))","v":{"$error":"#DIV/0!"}},"","",null,null,null,null,null,null,null,null,{"$f":"IF(Sheet2!$A$39=TRUE,-1*((AY18-BC18)/SQRT(((AZ18^2*(BA18-1))+(BD18^2*(BE18-1)))/(BA18+BE18-2))),(AY18-BC18)/SQRT(((AZ18^2*(BA18-1))+(BD18^2*(BE18-1)))/(BA18+BE18-2)))","v":{"$error":"#DIV/0!"}},"","",null,null,null,null,null,null,null,null,{"$f":"IF(Sheet2!$A$39=TRUE,-1*((BJ18-BN18)/SQRT(((BK18^2*(BL18-1))+(BO18^2*(BP18-1)))/(BL18+BP18-2))),(BJ18-BN18)/SQRT(((BK18^2*(BL18-1))+(BO18^2*(BP18-1)))/(BL18+BP18-2)))","v":{"$error":"#DIV/0!"}},"",""]
[null,null,"Outcome 14",null,null,null,null,null,null,null,null,null,null,{"$f":"IF(Sheet2!$A$40=TRUE,-1*((G19-K19)/SQRT(((H19^2*(I19-1))+(L19^2*(M19-1)))/(I19+M19-2))),(G19-K19)/SQRT(((H19^2*(I19-1))+(L19^2*(M19-1)))/(I19+M19-2)))","v":{"$error":"#DIV/0!"}},"","",null,null,null,null,null,null,null,null,{"$f":"IF(Sheet2!$A$40=TRUE,-1*((R19-V19)/SQRT(((S19^2*(T19-1))+(W19^2*(X19-1)))/(T19+X19-2))),(R19-V19)/SQRT(((S19^2*(T19-1))+(W19^2*(X19-1)))/(T19+X19-2)))","v":{"$error":"#DIV/0!"}},"","",null,null,null,null,null,null,null,null,{"$f":"IF(Sheet2!$A$40=TRUE,-1*((AC19-AG19)/SQRT(((AD19^2*(AE19-1))+(AH19^2*(AI19-1)))/(AE19+AI19-2))),(AC19-AG19)/SQRT(((AD19^2*(AE19-1))+(AH19^2*(AI19-1)))/(AE19+AI19-2)))","v":{"$error":"#DIV/0!"}},"","",null,null,null,null,null,null,null,null,{"$f":"IF(Sheet2!$A$40=TRUE,-1*((AN19-AR19)/SQRT(((AO19^2*(AP19-1))+(AS19^2*(AT19-1)))/(AP19+AT19-2))),(AN19-AR19)/SQRT(((AO19^2*(AP19-1))+(AS19^2*(AT19-1)))/(AP19+AT19-2)))","v":{"$error":"#DIV/0!"}},"","",null,null,null,null,null,null,null,null,{"$f":"IF(Sheet2!$A$40=TRUE,-1*((AY19-BC19)/SQRT(((AZ19^2*(BA19-1))+(BD19^2*(BE19-1)))/(BA19+BE19-2))),(AY19-BC19)/SQRT(((AZ19^2*(BA19-1))+(BD19^2*(BE19-1)))/(BA19+BE19-2)))","v":{"$error":"#DIV/0!"}},"","",null,null,null,null,null,null,null,null,{"$f":"IF(Sheet2!$A$40=TRUE,-1*((BJ19-BN19)/SQRT(((BK19^2*(BL19-1))+(BO19^2*(BP19-1)))/(BL19+BP19-2))),(BJ19-BN19)/SQRT(((BK19^2*(BL19-1))+(BO19^2*(BP19-1)))/(BL19+BP19-2)))","v":{"$error":"#DIV/0!"}},"",""]
[null,null,"Outcome 15",null,null,null,null,null,null,null,null,null,null,{"$f":"IF(Sheet2!$A$41=TRUE,-1*((G20-K20)/SQRT(((H20^2*(I20-1))+(L20^2*(M20-1)))/(I20+M20-2))),(G20-K20)/SQRT(((H20^2*(I20-1))+(L20^2*(M20-1)))/(I20+M20-2)))","v":{"$error":"#DIV/0!"}},"","",null,null,null,null,null,null,null,null,{"$f":"IF(Sheet2!$A$41=TRUE,-1*((R20-V20)/SQRT(((S20^2*(T20-1))+(W20^2*(X20-1)))/(T20+X20-2))),(R20-V20)/SQRT(((S20^2*(T20-1))+(W20^2*(X20-1)))/(T20+X20-2)))","v":{"$error":"#DIV/0!"}},"","",null,null,null,null,null,null,null,null,{"$f":"IF(Sheet2!$A$41=TRUE,-1*((AC20-AG20)/SQRT(((AD20^2*(AE20-1))+(AH20^2*(AI20-1)))/(AE20+AI20-2))),(AC20-AG20)/SQRT(((AD20^2*(AE20-1))+(AH20^2*(AI20-1)))/(AE20+AI20-2)))","v":{"$error":"#DIV/0!"}},"","",null,null,null,null,null,null,null,null,{"$f":"IF(Sheet2!$A$41=TRUE,-1*((AN20-AR20)/SQRT(((AO20^2*(AP20-1))+(AS20^2*(AT20-1)))/(AP20+AT20-2))),(AN20-AR20)/SQRT(((AO20^2*(AP20-1))+(AS20^2*(AT20-1)))/(AP20+AT20-2)))","v":{"$error":"#DIV/0!"}},"","",null,null,null,null,null,null,null,null,{"$f":"IF(Sheet2!$A$41=TRUE,-1*((AY20-BC20)/SQRT(((AZ20^2*(BA20-1))+(BD20^2*(BE20-1)))/(BA20+BE20-2))),(AY20-BC20)/SQRT(((AZ20^2*(BA20-1))+(BD20^2*(BE20-1)))/(BA20+BE20-2)))","v":{"$error":"#DIV/0!"}},"","",null,null,null,null,null,null,null,null,{"$f":"IF(Sheet2!$A$41=TRUE,-1*((BJ20-BN20)/SQRT(((BK20^2*(BL20-1))+(BO20^2*(BP20-1)))/(BL20+BP20-2))),(BJ20-BN20)/SQRT(((BK20^2*(BL20-1))+(BO20^2*(BP20-1)))/(BL20+BP20-2)))","v":{"$error":"#DIV/0!"}},"",""]
[null,null,"Outcome 16",null,null,null,null,null,null,null,null,null,null,{"$f":"IF(Sheet2!$A$45=TRUE,-1*((G21-K21)/SQRT(((H21^2*(I21-1))+(L21^2*(M21-1)))/(I21+M21-2))),(G21-K21)/SQRT(((H21^2*(I21-1))+(L21^2*(M21-1)))/(I21+M21-2)))","v":{"$error":"#DIV/0!"}},"",{"$f":"IF(I21=\"\",\"\",SQRT((I21+M21)/(I21*M21)+(O21^2/(2*(I21+M21)))))","v":""},null,null,null,null,null,null,null,null,{"$f":"IF(Sheet2!$A$45=TRUE,-1*((R21-V21)/SQRT(((S21^2*(T21-1))+(W21^2*(X21-1)))/(T21+X21-2))),(R21-V21)/SQRT(((S21^2*(T21-1))+(W21^2*(X21-1)))/(T21+X21-2)))","v":{"$error":"#DIV/0!"}},{"$f":"IF(R21=\"\",\"\",Y21)","v":""},{"$f":"IF(T21=\"\",\"\",SQRT((T21+X21)/(T21*X21)+(Z21^2/(2*(T21+X21)))))","v":""},null,null,null,null,null,null,null,null,{"$f":"IF(Sheet2!$A$45=TRUE,-1*((AC21-AG21)/SQRT(((AD21^2*(AE21-1))+(AH21^2*(AI21-1)))/(AE21+AI21-2))),(AC21-AG21)/SQRT(((AD21^2*(AE21-1))+(AH21^2*(AI21-1)))/(AE21+AI21-2)))","v":{"$error":"#DIV/0!"}},{"$f":"IF(AC21=\"\",\"\",AJ21)","v":""},"",null,null,null,null,null,null,null,null,{"$f":"IF(Sheet2!$A$45=TRUE,-1*((AN21-AR21)/SQRT(((AO21^2*(AP21-1))+(AS21^2*(AT21-1)))/(AP21+AT21-2))),(AN21-AR21)/SQRT(((AO21^2*(AP21-1))+(AS21^2*(AT21-1)))/(AP21+AT21-2)))","v":{"$error":"#DIV/0!"}},{"$f":"IF(AN21=\"\",\"\",AU21)","v":""},{"$f":"IF(AP21=\"\",\"\",SQRT((AP21+AT21)/(AP21*AT21)+(AV21^2/(2*(AP21+AT21)))))","v":""},null,null,null,null,null,null,null,null,{"$f":"IF(Sheet2!$A$45=TRUE,-1*((AY21-BC21)/SQRT(((AZ21^2*(BA21-1))+(BD21^2*(BE21-1)))/(BA21+BE21-2))),(AY21-BC21)/SQRT(((AZ21^2*(BA21-1))+(BD21^2*(BE21-1)))/(BA21+BE21-2)))","v":{"$error":"#DIV/0!"}},{"$f":"IF(AY21=\"\",\"\",BF21)","v":""},{"$f":"IF(BA21=\"\",\"\",SQRT((BA21+BE21)/(BA21*BE21)+(BG21^2/(2*(BA21+BE21)))))","v":""},null,null,null,null,null,null,null,null,{"$f":"IF(Sheet2!$A$45=TRUE,-1*((BJ21-BN21)/SQRT(((BK21^2*(BL21-1))+(BO21^2*(BP21-1)))/(BL21+BP21-2))),(BJ21-BN21)/SQRT(((BK21^2*(BL21-1))+(BO21^2*(BP21-1)))/(BL21+BP21-2)))","v":{"$error":"#DIV/0!"}},{"$f":"IF(BJ21=\"\",\"\",BQ21)","v":""},{"$f":"IF(BL21=\"\",\"\",SQRT((BL21+BP21)/(BL21*BP21)+(BR21^2/(2*(BL21+BP21)))))","v":""}]
[null,null,"Outcome 17",null,null,null,null,null,null,null,null,null,null,{"$f":"IF(Sheet2!$A$46=TRUE,-1*((G22-K22)/SQRT(((H22^2*(I22-1))+(L22^2*(M22-1)))/(I22+M22-2))),(G22-K22)/SQRT(((H22^2*(I22-1))+(L22^2*(M22-1)))/(I22+M22-2)))","v":{"$error":"#DIV/0!"}},"","",null,null,null,null,null,null,null,null,{"$f":"IF(Sheet2!$A$46=TRUE,-1*((R22-V22)/SQRT(((S22^2*(T22-1))+(W22^2*(X22-1)))/(T22+X22-2))),(R22-V22)/SQRT(((S22^2*(T22-1))+(W22^2*(X22-1)))/(T22+X22-2)))","v":{"$error":"#DIV/0!"}},{"$f":"IF(R22=\"\",\"\",Y22)","v":""},"",null,null,null,null,null,null,null,null,{"$f":"IF(Sheet2!$A$46=TRUE,-1*((AC22-AG22)/SQRT(((AD22^2*(AE22-1))+(AH22^2*(AI22-1)))/(AE22+AI22-2))),(AC22-AG22)/SQRT(((AD22^2*(AE22-1))+(AH22^2*(AI22-1)))/(AE22+AI22-2)))","v":{"$error":"#DIV/0!"}},{"$f":"IF(AC22=\"\",\"\",AJ22)","v":""},"",null,null,null,null,null,null,null,null,{"$f":"IF(Sheet2!$A$46=TRUE,-1*((AN22-AR22)/SQRT(((AO22^2*(AP22-1))+(AS22^2*(AT22-1)))/(AP22+AT22-2))),(AN22-AR22)/SQRT(((AO22^2*(AP22-1))+(AS22^2*(AT22-1)))/(AP22+AT22-2)))","v":{"$error":"#DIV/0!"}},{"$f":"IF(AN22=\"\",\"\",AU22)","v":""},"",null,null,null,null,null,null,null,null,{"$f":"IF(Sheet2!$A$46=TRUE,-1*((AY22-BC22)/SQRT(((AZ22^2*(BA22-1))+(BD22^2*(BE22-1)))/(BA22+BE22-2))),(AY22-BC22)/SQRT(((AZ22^2*(BA22-1))+(BD22^2*(BE22-1)))/(BA22+BE22-2)))","v":{"$error":"#DIV/0!"}},{"$f":"IF(AY22=\"\",\"\",BF22)","v":""},"",null,null,null,null,null,null,null,null,{"$f":"IF(Sheet2!$A$46=TRUE,-1*((BJ22-BN22)/SQRT(((BK22^2*(BL22-1))+(BO22^2*(BP22-1)))/(BL22+BP22-2))),(BJ22-BN22)/SQRT(((BK22^2*(BL22-1))+(BO22^2*(BP22-1)))/(BL22+BP22-2)))","v":{"$error":"#DIV/0!"}},{"$f":"IF(BJ22=\"\",\"\",BQ22)","v":""},""]
[null,null,"Outcome 18",null,null,null,null,null,null,null,null,null,null,{"$f":"IF(Sheet2!$A$47=TRUE,-1*((G23-K23)/SQRT(((H23^2*(I23-1))+(L23^2*(M23-1)))/(I23+M23-2))),(G23-K23)/SQRT(((H23^2*(I23-1))+(L23^2*(M23-1)))/(I23+M23-2)))","v":{"$error":"#DIV/0!"}},{"$f":"IF(G23=\"\",\"\",N23)","v":""},"",null,null,null,null,null,null,null,null,{"$f":"IF(Sheet2!$A$47=TRUE,-1*((R23-V23)/SQRT(((S23^2*(T23-1))+(W23^2*(X23-1)))/(T23+X23-2))),(R23-V23)/SQRT(((S23^2*(T23-1))+(W23^2*(X23-1)))/(T23+X23-2)))","v":{"$error":"#DIV/0!"}},"","",null,null,null,null,null,null,null,null,{"$f":"IF(Sheet2!$A$47=TRUE,-1*((AC23-AG23)/SQRT(((AD23^2*(AE23-1))+(AH23^2*(AI23-1)))/(AE23+AI23-2))),(AC23-AG23)/SQRT(((AD23^2*(AE23-1))+(AH23^2*(AI23-1)))/(AE23+AI23-2)))","v":{"$error":"#DIV/0!"}},"","",null,null,null,null,null,null,null,null,{"$f":"IF(Sheet2!$A$47=TRUE,-1*((AN23-AR23)/SQRT(((AO23^2*(AP23-1))+(AS23^2*(AT23-1)))/(AP23+AT23-2))),(AN23-AR23)/SQRT(((AO23^2*(AP23-1))+(AS23^2*(AT23-1)))/(AP23+AT23-2)))","v":{"$error":"#DIV/0!"}},"","",null,null,null,null,null,null,null,null,{"$f":"IF(Sheet2!$A$47=TRUE,-1*((AY23-BC23)/SQRT(((AZ23^2*(BA23-1))+(BD23^2*(BE23-1)))/(BA23+BE23-2))),(AY23-BC23)/SQRT(((AZ23^2*(BA23-1))+(BD23^2*(BE23-1)))/(BA23+BE23-2)))","v":{"$error":"#DIV/0!"}},"","",null,null,null,null,null,null,null,null,{"$f":"IF(Sheet2!$A$47=TRUE,-1*((BJ23-BN23)/SQRT(((BK23^2*(BL23-1))+(BO23^2*(BP23-1)))/(BL23+BP23-2))),(BJ23-BN23)/SQRT(((BK23^2*(BL23-1))+(BO23^2*(BP23-1)))/(BL23+BP23-2)))","v":{"$error":"#DIV/0!"}},"",""]
[null,null,"Outcome 19",null,null,null,null,null,null,null,null,null,null,{"$f":"IF(Sheet2!$A$48=TRUE,-1*((G24-K24)/SQRT(((H24^2*(I24-1))+(L24^2*(M24-1)))/(I24+M24-2))),(G24-K24)/SQRT(((H24^2*(I24-1))+(L24^2*(M24-1)))/(I24+M24-2)))","v":{"$error":"#DIV/0!"}},"","",null,null,null,null,null,null,null,null,{"$f":"IF(Sheet2!$A$48=TRUE,-1*((R24-V24)/SQRT(((S24^2*(T24-1))+(W24^2*(X24-1)))/(T24+X24-2))),(R24-V24)/SQRT(((S24^2*(T24-1))+(W24^2*(X24-1)))/(T24+X24-2)))","v":{"$error":"#DIV/0!"}},"","",null,null,null,null,null,null,null,null,{"$f":"IF(Sheet2!$A$48=TRUE,-1*((AC24-AG24)/SQRT(((AD24^2*(AE24-1))+(AH24^2*(AI24-1)))/(AE24+AI24-2))),(AC24-AG24)/SQRT(((AD24^2*(AE24-1))+(AH24^2*(AI24-1)))/(AE24+AI24-2)))","v":{"$error":"#DIV/0!"}},"","",null,null,null,null,null,null,null,null,{"$f":"IF(Sheet2!$A$48=TRUE,-1*((AN24-AR24)/SQRT(((AO24^2*(AP24-1))+(AS24^2*(AT24-1)))/(AP24+AT24-2))),(AN24-AR24)/SQRT(((AO24^2*(AP24-1))+(AS24^2*(AT24-1)))/(AP24+AT24-2)))","v":{"$error":"#DIV/0!"}},"","",null,null,null,null,null,null,null,null,{"$f":"IF(Sheet2!$A$48=TRUE,-1*((AY24-BC24)/SQRT(((AZ24^2*(BA24-1))+(BD24^2*(BE24-1)))/(BA24+BE24-2))),(AY24-BC24)/SQRT(((AZ24^2*(BA24-1))+(BD24^2*(BE24-1)))/(BA24+BE24-2)))","v":{"$error":"#DIV/0!"}},"","",null,null,null,null,null,null,null,null,{"$f":"IF(Sheet2!$A$48=TRUE,-1*((BJ24-BN24)/SQRT(((BK24^2*(BL24-1))+(BO24^2*(BP24-1)))/(BL24+BP24-2))),(BJ24-BN24)/SQRT(((BK24^2*(BL24-1))+(BO24^2*(BP24-1)))/(BL24+BP24-2)))","v":{"$error":"#DIV/0!"}},"",""]
[null,null,"Outcome 20",null,null,null,null,null,null,null,null,null,null,{"$f":"IF(Sheet2!$A$49=TRUE,-1*((G25-K25)/SQRT(((H25^2*(I25-1))+(L25^2*(M25-1)))/(I25+M25-2))),(G25-K25)/SQRT(((H25^2*(I25-1))+(L25^2*(M25-1)))/(I25+M25-2)))","v":{"$error":"#DIV/0!"}},"","",null,null,null,null,null,null,null,null,{"$f":"IF(Sheet2!$A$49=TRUE,-1*((R25-V25)/SQRT(((S25^2*(T25-1))+(W25^2*(X25-1)))/(T25+X25-2))),(R25-V25)/SQRT(((S25^2*(T25-1))+(W25^2*(X25-1)))/(T25+X25-2)))","v":{"$error":"#DIV/0!"}},"","",null,null,null,null,null,null,null,null,{"$f":"IF(Sheet2!$A$49=TRUE,-1*((AC25-AG25)/SQRT(((AD25^2*(AE25-1))+(AH25^2*(AI25-1)))/(AE25+AI25-2))),(AC25-AG25)/SQRT(((AD25^2*(AE25-1))+(AH25^2*(AI25-1)))/(AE25+AI25-2)))","v":{"$error":"#DIV/0!"}},"","",null,null,null,null,null,null,null,null,{"$f":"IF(Sheet2!$A$49=TRUE,-1*((AN25-AR25)/SQRT(((AO25^2*(AP25-1))+(AS25^2*(AT25-1)))/(AP25+AT25-2))),(AN25-AR25)/SQRT(((AO25^2*(AP25-1))+(AS25^2*(AT25-1)))/(AP25+AT25-2)))","v":{"$error":"#DIV/0!"}},"","",null,null,null,null,null,null,null,null,{"$f":"IF(Sheet2!$A$49=TRUE,-1*((AY25-BC25)/SQRT(((AZ25^2*(BA25-1))+(BD25^2*(BE25-1)))/(BA25+BE25-2))),(AY25-BC25)/SQRT(((AZ25^2*(BA25-1))+(BD25^2*(BE25-1)))/(BA25+BE25-2)))","v":{"$error":"#DIV/0!"}},"","",null,null,null,null,null,null,null,null,{"$f":"IF(Sheet2!$A$49=TRUE,-1*((BJ25-BN25)/SQRT(((BK25^2*(BL25-1))+(BO25^2*(BP25-1)))/(BL25+BP25-2))),(BJ25-BN25)/SQRT(((BK25^2*(BL25-1))+(BO25^2*(BP25-1)))/(BL25+BP25-2)))","v":{"$error":"#DIV/0!"}},"",""]
[null,null,"Outcome 21",null,null,null,null,null,null,null,null,null,null,{"$f":"IF(Sheet2!$A$53=TRUE,-1*((G26-K26)/SQRT(((H26^2*(I26-1))+(L26^2*(M26-1)))/(I26+M26-2))),(G26-K26)/SQRT(((H26^2*(I26-1))+(L26^2*(M26-1)))/(I26+M26-2)))","v":{"$error":"#DIV/0!"}},{"$f":"IF(G26=\"\",\"\",N26)","v":""},{"$f":"IF(I26=\"\",\"\",SQRT((I26+M26)/(I26*M26)+(O26^2/(2*(I26+M26)))))","v":""},null,null,null,null,null,null,null,null,{"$f":"IF(Sheet2!$A$53=TRUE,-1*((R26-V26)/SQRT(((S26^2*(T26-1))+(W26^2*(X26-1)))/(T26+X26-2))),(R26-V26)/SQRT(((S26^2*(T26-1))+(W26^2*(X26-1)))/(T26+X26-2)))","v":{"$error":"#DIV/0!"}},{"$f":"IF(R26=\"\",\"\",Y26)","v":""},{"$f":"IF(T26=\"\",\"\",SQRT((T26+X26)/(T26*X26)+(Z26^2/(2*(T26+X26)))))","v":""},null,null,null,null,null,null,null,null,{"$f":"IF(Sheet2!$A$53=TRUE,-1*((AC26-AG26)/SQRT(((AD26^2*(AE26-1))+(AH26^2*(AI26-1)))/(AE26+AI26-2))),(AC26-AG26)/SQRT(((AD26^2*(AE26-1))+(AH26^2*(AI26-1)))/(AE26+AI26-2)))","v":{"$error":"#DIV/0!"}},{"$f":"IF(AC26=\"\",\"\",AJ26)","v":""},"",null,null,null,null,null,null,null,null,{"$f":"IF(Sheet2!$A$53=TRUE,-1*((AN26-AR26)/SQRT(((AO26^2*(AP26-1))+(AS26^2*(AT26-1)))/(AP26+AT26-2))),(AN26-AR26)/SQRT(((AO26^2*(AP26-1))+(AS26^2*(AT26-1)))/(AP26+AT26-2)))","v":{"$error":"#DIV/0!"}},{"$f":"IF(AN26=\"\",\"\",AU26)","v":""},{"$f":"IF(AP26=\"\",\"\",SQRT((AP26+AT26)/(AP26*AT26)+(AV26^2/(2*(AP26+AT26)))))","v":""},null,null,null,null,null,null,null,null,{"$f":"IF(Sheet2!$A$53=TRUE,-1*((AY26-BC26)/SQRT(((AZ26^2*(BA26-1))+(BD26^2*(BE26-1)))/(BA26+BE26-2))),(AY26-BC26)/SQRT(((AZ26^2*(BA26-1))+(BD26^2*(BE26-1)))/(BA26+BE26-2)))","v":{"$error":"#DIV/0!"}},{"$f":"IF(AY26=\"\",\"\",BF26)","v":""},{"$f":"IF(BA26=\"\",\"\",SQRT((BA26+BE26)/(BA26*BE26)+(BG26^2/(2*(BA26+BE26)))))","v":""},null,null,null,null,null,null,null,null,{"$f":"IF(Sheet2!$A$53=TRUE,-1*((BJ26-BN26)/SQRT(((BK26^2*(BL26-1))+(BO26^2*(BP26-1)))/(BL26+BP26-2))),(BJ26-BN26)/SQRT(((BK26^2*(BL26-1))+(BO26^2*(BP26-1)))/(BL26+BP26-2)))","v":{"$error":"#DIV/0!"}},{"$f":"IF(BJ26=\"\",\"\",BQ26)","v":""},{"$f":"IF(BL26=\"\",\"\",SQRT((BL26+BP26)/(BL26*BP26)+(BR26^2/(2*(BL26+BP26)))))","v":""}]
[null,null,"Outcome 22",null,null,null,null,null,null,null,null,null,null,{"$f":"IF(Sheet2!$A$54=TRUE,-1*((G27-K27)/SQRT(((H27^2*(I27-1))+(L27^2*(M27-1)))/(I27+M27-2))),(G27-K27)/SQRT(((H27^2*(I27-1))+(L27^2*(M27-1)))/(I27+M27-2)))","v":{"$error":"#DIV/0!"}},"","",null,null,null,null,null,null,null,null,{"$f":"IF(Sheet2!$A$54=TRUE,-1*((R27-V27)/SQRT(((S27^2*(T27-1))+(W27^2*(X27-1)))/(T27+X27-2))),(R27-V27)/SQRT(((S27^2*(T27-1))+(W27^2*(X27-1)))/(T27+X27-2)))","v":{"$error":"#DIV/0!"}},"","",null,null,null,null,null,null,null,null,{"$f":"IF(Sheet2!$A$54=TRUE,-1*((AC27-AG27)/SQRT(((AD27^2*(AE27-1))+(AH27^2*(AI27-1)))/(AE27+AI27-2))),(AC27-AG27)/SQRT(((AD27^2*(AE27-1))+(AH27^2*(AI27-1)))/(AE27+AI27-2)))","v":{"$error":"#DIV/0!"}},"","",null,null,null,null,null,null,null,null,{"$f":"IF(Sheet2!$A$54=TRUE,-1*((AN27-AR27)/SQRT(((AO27^2*(AP27-1))+(AS27^2*(AT27-1)))/(AP27+AT27-2))),(AN27-AR27)/SQRT(((AO27^2*(AP27-1))+(AS27^2*(AT27-1)))/(AP27+AT27-2)))","v":{"$error":"#DIV/0!"}},"","",null,null,null,null,null,null,null,null,{"$f":"IF(Sheet2!$A$54=TRUE,-1*((AY27-BC27)/SQRT(((AZ27^2*(BA27-1))+(BD27^2*(BE27-1)))/(BA27+BE27-2))),(AY27-BC27)/SQRT(((AZ27^2*(BA27-1))+(BD27^2*(BE27-1)))/(BA27+BE27-2)))","v":{"$error":"#DIV/0!"}},"","",null,null,null,null,null,null,null,null,{"$f":"IF(Sheet2!$A$54=TRUE,-1*((BJ27-BN27)/SQRT(((BK27^2*(BL27-1))+(BO27^2*(BP27-1)))/(BL27+BP27-2))),(BJ27-BN27)/SQRT(((BK27^2*(BL27-1))+(BO27^2*(BP27-1)))/(BL27+BP27-2)))","v":{"$error":"#DIV/0!"}},"",""]
[null,null,"Outcome 23",null,null,null,null,null,null,null,null,null,null,{"$f":"IF(Sheet2!$A$55=TRUE,-1*((G28-K28)/SQRT(((H28^2*(I28-1))+(L28^2*(M28-1)))/(I28+M28-2))),(G28-K28)/SQRT(((H28^2*(I28-1))+(L28^2*(M28-1)))/(I28+M28-2)))","v":{"$error":"#DIV/0!"}},"","",null,null,null,null,null,null,null,null,{"$f":"IF(Sheet2!$A$55=TRUE,-1*((R28-V28)/SQRT(((S28^2*(T28-1))+(W28^2*(X28-1)))/(T28+X28-2))),(R28-V28)/SQRT(((S28^2*(T28-1))+(W28^2*(X28-1)))/(T28+X28-2)))","v":{"$error":"#DIV/0!"}},"","",null,null,null,null,null,null,null,null,{"$f":"IF(Sheet2!$A$55=TRUE,-1*((AC28-AG28)/SQRT(((AD28^2*(AE28-1))+(AH28^2*(AI28-1)))/(AE28+AI28-2))),(AC28-AG28)/SQRT(((AD28^2*(AE28-1))+(AH28^2*(AI28-1)))/(AE28+AI28-2)))","v":{"$error":"#DIV/0!"}},"","",null,null,null,null,null,null,null,null,{"$f":"IF(Sheet2!$A$55=TRUE,-1*((AN28-AR28)/SQRT(((AO28^2*(AP28-1))+(AS28^2*(AT28-1)))/(AP28+AT28-2))),(AN28-AR28)/SQRT(((AO28^2*(AP28-1))+(AS28^2*(AT28-1)))/(AP28+AT28-2)))","v":{"$error":"#DIV/0!"}},"","",null,null,null,null,null,null,null,null,{"$f":"IF(Sheet2!$A$55=TRUE,-1*((AY28-BC28)/SQRT(((AZ28^2*(BA28-1))+(BD28^2*(BE28-1)))/(BA28+BE28-2))),(AY28-BC28)/SQRT(((AZ28^2*(BA28-1))+(BD28^2*(BE28-1)))/(BA28+BE28-2)))","v":{"$error":"#DIV/0!"}},"","",null,null,null,null,null,null,null,null,{"$f":"IF(Sheet2!$A$55=TRUE,-1*((BJ28-BN28)/SQRT(((BK28^2*(BL28-1))+(BO28^2*(BP28-1)))/(BL28+BP28-2))),(BJ28-BN28)/SQRT(((BK28^2*(BL28-1))+(BO28^2*(BP28-1)))/(BL28+BP28-2)))","v":{"$error":"#DIV/0!"}},"",""]
[null,null,"Outcome 24",null,null,null,null,null,null,null,null,null,null,{"$f":"IF(Sheet2!$A$56=TRUE,-1*((G29-K29)/SQRT(((H29^2*(I29-1))+(L29^2*(M29-1)))/(I29+M29-2))),(G29-K29)/SQRT(((H29^2*(I29-1))+(L29^2*(M29-1)))/(I29+M29-2)))","v":{"$error":"#DIV/0!"}},"","",null,null,null,null,null,null,null,null,{"$f":"IF(Sheet2!$A$56=TRUE,-1*((R29-V29)/SQRT(((S29^2*(T29-1))+(W29^2*(X29-1)))/(T29+X29-2))),(R29-V29)/SQRT(((S29^2*(T29-1))+(W29^2*(X29-1)))/(T29+X29-2)))","v":{"$error":"#DIV/0!"}},"","",null,null,null,null,null,null,null,null,{"$f":"IF(Sheet2!$A$56=TRUE,-1*((AC29-AG29)/SQRT(((AD29^2*(AE29-1))+(AH29^2*(AI29-1)))/(AE29+AI29-2))),(AC29-AG29)/SQRT(((AD29^2*(AE29-1))+(AH29^2*(AI29-1)))/(AE29+AI29-2)))","v":{"$error":"#DIV/0!"}},"","",null,null,null,null,null,null,null,null,{"$f":"IF(Sheet2!$A$56=TRUE,-1*((AN29-AR29)/SQRT(((AO29^2*(AP29-1))+(AS29^2*(AT29-1)))/(AP29+AT29-2))),(AN29-AR29)/SQRT(((AO29^2*(AP29-1))+(AS29^2*(AT29-1)))/(AP29+AT29-2)))","v":{"$error":"#DIV/0!"}},"","",null,null,null,null,null,null,null,null,{"$f":"IF(Sheet2!$A$56=TRUE,-1*((AY29-BC29)/SQRT(((AZ29^2*(BA29-1))+(BD29^2*(BE29-1)))/(BA29+BE29-2))),(AY29-BC29)/SQRT(((AZ29^2*(BA29-1))+(BD29^2*(BE29-1)))/(BA29+BE29-2)))","v":{"$error":"#DIV/0!"}},"","",null,null,null,null,null,null,null,null,{"$f":"IF(Sheet2!$A$56=TRUE,-1*((BJ29-BN29)/SQRT(((BK29^2*(BL29-1))+(BO29^2*(BP29-1)))/(BL29+BP29-2))),(BJ29-BN29)/SQRT(((BK29^2*(BL29-1))+(BO29^2*(BP29-1)))/(BL29+BP29-2)))","v":{"$error":"#DIV/0!"}},"",""]
[null,null,"Outcome 25",null,null,null,null,null,null,null,null,null,null,{"$f":"IF(Sheet2!$A$57=TRUE,-1*((G30-K30)/SQRT(((H30^2*(I30-1))+(L30^2*(M30-1)))/(I30+M30-2))),(G30-K30)/SQRT(((H30^2*(I30-1))+(L30^2*(M30-1)))/(I30+M30-2)))","v":{"$error":"#DIV/0!"}},"","",null,null,null,null,null,null,null,null,{"$f":"IF(Sheet2!$A$57=TRUE,-1*((R30-V30)/SQRT(((S30^2*(T30-1))+(W30^2*(X30-1)))/(T30+X30-2))),(R30-V30)/SQRT(((S30^2*(T30-1))+(W30^2*(X30-1)))/(T30+X30-2)))","v":{"$error":"#DIV/0!"}},"","",null,null,null,null,null,null,null,null,{"$f":"IF(Sheet2!$A$57=TRUE,-1*((AC30-AG30)/SQRT(((AD30^2*(AE30-1))+(AH30^2*(AI30-1)))/(AE30+AI30-2))),(AC30-AG30)/SQRT(((AD30^2*(AE30-1))+(AH30^2*(AI30-1)))/(AE30+AI30-2)))","v":{"$error":"#DIV/0!"}},"","",null,null,null,null,null,null,null,null,{"$f":"IF(Sheet2!$A$57=TRUE,-1*((AN30-AR30)/SQRT(((AO30^2*(AP30-1))+(AS30^2*(AT30-1)))/(AP30+AT30-2))),(AN30-AR30)/SQRT(((AO30^2*(AP30-1))+(AS30^2*(AT30-1)))/(AP30+AT30-2)))","v":{"$error":"#DIV/0!"}},"","",null,null,null,null,null,null,null,null,{"$f":"IF(Sheet2!$A$57=TRUE,-1*((AY30-BC30)/SQRT(((AZ30^2*(BA30-1))+(BD30^2*(BE30-1)))/(BA30+BE30-2))),(AY30-BC30)/SQRT(((AZ30^2*(BA30-1))+(BD30^2*(BE30-1)))/(BA30+BE30-2)))","v":{"$error":"#DIV/0!"}},"","",null,null,null,null,null,null,null,null,{"$f":"IF(Sheet2!$A$57=TRUE,-1*((BJ30-BN30)/SQRT(((BK30^2*(BL30-1))+(BO30^2*(BP30-1)))/(BL30+BP30-2))),(BJ30-BN30)/SQRT(((BK30^2*(BL30-1))+(BO30^2*(BP30-1)))/(BL30+BP30-2)))","v":{"$error":"#DIV/0!"}},"",""]
[null,null,"Outcome 26",null,null,null,null,null,null,null,null,null,null,{"$f":"IF(Sheet2!$A$61=TRUE,-1*((G31-K31)/SQRT(((H31^2*(I31-1))+(L31^2*(M31-1)))/(I31+M31-2))),(G31-K31)/SQRT(((H31^2*(I31-1))+(L31^2*(M31-1)))/(I31+M31-2)))","v":{"$error":"#DIV/0!"}},{"$f":"IF(G31=\"\",\"\",N31)","v":""},{"$f":"IF(I31=\"\",\"\",SQRT((I31+M31)/(I31*M31)+(O31^2/(2*(I31+M31)))))","v":""},null,null,null,null,null,null,null,null,{"$f":"IF(Sheet2!$A$61=TRUE,-1*((R31-V31)/SQRT(((S31^2*(T31-1))+(W31^2*(X31-1)))/(T31+X31-2))),(R31-V31)/SQRT(((S31^2*(T31-1))+(W31^2*(X31-1)))/(T31+X31-2)))","v":{"$error":"#DIV/0!"}},{"$f":"IF(R31=\"\",\"\",Y31)","v":""},{"$f":"IF(T31=\"\",\"\",SQRT((T31+X31)/(T31*X31)+(Z31^2/(2*(T31+X31)))))","v":""},null,null,null,null,null,null,null,null,{"$f":"IF(Sheet2!$A$61=TRUE,-1*((AC31-AG31)/SQRT(((AD31^2*(AE31-1))+(AH31^2*(AI31-1)))/(AE31+AI31-2))),(AC31-AG31)/SQRT(((AD31^2*(AE31-1))+(AH31^2*(AI31-1)))/(AE31+AI31-2)))","v":{"$error":"#DIV/0!"}},{"$f":"IF(AC31=\"\",\"\",AJ31)","v":""},"",null,null,null,null,null,null,null,null,{"$f":"IF(Sheet2!$A$61=TRUE,-1*((AN31-AR31)/SQRT(((AO31^2*(AP31-1))+(AS31^2*(AT31-1)))/(AP31+AT31-2))),(AN31-AR31)/SQRT(((AO31^2*(AP31-1))+(AS31^2*(AT31-1)))/(AP31+AT31-2)))","v":{"$error":"#DIV/0!"}},{"$f":"IF(AN31=\"\",\"\",AU31)","v":""},{"$f":"IF(AP31=\"\",\"\",SQRT((AP31+AT31)/(AP31*AT31)+(AV31^2/(2*(AP31+AT31)))))","v":""},null,null,null,null,null,null,null,null,{"$f":"IF(Sheet2!$A$61=TRUE,-1*((AY31-BC31)/SQRT(((AZ31^2*(BA31-1))+(BD31^2*(BE31-1)))/(BA31+BE31-2))),(AY31-BC31)/SQRT(((AZ31^2*(BA31-1))+(BD31^2*(BE31-1)))/(BA31+BE31-2)))","v":{"$error":"#DIV/0!"}},{"$f":"IF(AY31=\"\",\"\",BF31)","v":""},{"$f":"IF(BA31=\"\",\"\",SQRT((BA31+BE31)/(BA31*BE31)+(BG31^2/(2*(BA31+BE31)))))","v":""},null,null,null,null,null,null,null,null,{"$f":"IF(Sheet2!$A$61=TRUE,-1*((BJ31-BN31)/SQRT(((BK31^2*(BL31-1))+(BO31^2*(BP31-1)))/(BL31+BP31-2))),(BJ31-BN31)/SQRT(((BK31^2*(BL31-1))+(BO31^2*(BP31-1)))/(BL31+BP31-2)))","v":{"$error":"#DIV/0!"}},{"$f":"IF(BJ31=\"\",\"\",BQ31)","v":""},{"$f":"IF(BL31=\"\",\"\",SQRT((BL31+BP31)/(BL31*BP31)+(BR31^2/(2*(BL31+BP31)))))","v":""}]
[null,null,"Outcome 27",null,null,null,null,null,null,null,null,null,null,{"$f":"IF(Sheet2!$A$62=TRUE,-1*((G32-K32)/SQRT(((H32^2*(I32-1))+(L32^2*(M32-1)))/(I32+M32-2))),(G32-K32)/SQRT(((H32^2*(I32-1))+(L32^2*(M32-1)))/(I32+M32-2)))","v":{"$error":"#DIV/0!"}},{"$f":"IF(G32=\"\",\"\",N32)","v":""},"",null,null,null,null,null,null,null,null,{"$f":"IF(Sheet2!$A$62=TRUE,-1*((R32-V32)/SQRT(((S32^2*(T32-1))+(W32^2*(X32-1)))/(T32+X32-2))),(R32-V32)/SQRT(((S32^2*(T32-1))+(W32^2*(X32-1)))/(T32+X32-2)))","v":{"$error":"#DIV/0!"}},{"$f":"IF(R32=\"\",\"\",Y32)","v":""},"",null,null,null,null,null,null,null,null,{"$f":"IF(Sheet2!$A$62=TRUE,-1*((AC32-AG32)/SQRT(((AD32^2*(AE32-1))+(AH32^2*(AI32-1)))/(AE32+AI32-2))),(AC32-AG32)/SQRT(((AD32^2*(AE32-1))+(AH32^2*(AI32-1)))/(AE32+AI32-2)))","v":{"$error":"#DIV/0!"}},{"$f":"IF(AC32=\"\",\"\",AJ32)","v":""},"",null,null,null,null,null,null,null,null,{"$f":"IF(Sheet2!$A$62=TRUE,-1*((AN32-AR32)/SQRT(((AO32^2*(AP32-1))+(AS32^2*(AT32-1)))/(AP32+AT32-2))),(AN32-AR32)/SQRT(((AO32^2*(AP32-1))+(AS32^2*(AT32-1)))/(AP32+AT32-2)))","v":{"$error":"#DIV/0!"}},{"$f":"IF(AN32=\"\",\"\",AU32)","v":""},"",null,null,null,null,null,null,null,null,{"$f":"IF(Sheet2!$A$62=TRUE,-1*((AY32-BC32)/SQRT(((AZ32^2*(BA32-1))+(BD32^2*(BE32-1)))/(BA32+BE32-2))),(AY32-BC32)/SQRT(((AZ32^2*(BA32-1))+(BD32^2*(BE32-1)))/(BA32+BE32-2)))","v":{"$error":"#DIV/0!"}},{"$f":"IF(AY32=\"\",\"\",BF32)","v":""},"",null,null,null,null,null,null,null,null,{"$f":"IF(Sheet2!$A$62=TRUE,-1*((BJ32-BN32)/SQRT(((BK32^2*(BL32-1))+(BO32^2*(BP32-1)))/(BL32+BP32-2))),(BJ32-BN32)/SQRT(((BK32^2*(BL32-1))+(BO32^2*(BP32-1)))/(BL32+BP32-2)))","v":{"$error":"#DIV/0!"}},{"$f":"IF(BJ32=\"\",\"\",BQ32)","v":""},""]
[null,null,"Outcome 28",null,null,null,null,null,null,null,null,null,null,{"$f":"IF(Sheet2!$A$63=TRUE,-1*((G33-K33)/SQRT(((H33^2*(I33-1))+(L33^2*(M33-1)))/(I33+M33-2))),(G33-K33)/SQRT(((H33^2*(I33-1))+(L33^2*(M33-1)))/(I33+M33-2)))","v":{"$error":"#DIV/0!"}},"","",null,null,null,null,null,null,null,null,{"$f":"IF(Sheet2!$A$63=TRUE,-1*((R33-V33)/SQRT(((S33^2*(T33-1))+(W33^2*(X33-1)))/(T33+X33-2))),(R33-V33)/SQRT(((S33^2*(T33-1))+(W33^2*(X33-1)))/(T33+X33-2)))","v":{"$error":"#DIV/0!"}},"","",null,null,null,null,null,null,null,null,{"$f":"IF(Sheet2!$A$63=TRUE,-1*((AC33-AG33)/SQRT(((AD33^2*(AE33-1))+(AH33^2*(AI33-1)))/(AE33+AI33-2))),(AC33-AG33)/SQRT(((AD33^2*(AE33-1))+(AH33^2*(AI33-1)))/(AE33+AI33-2)))","v":{"$error":"#DIV/0!"}},"","",null,null,null,null,null,null,null,null,{"$f":"IF(Sheet2!$A$63=TRUE,-1*((AN33-AR33)/SQRT(((AO33^2*(AP33-1))+(AS33^2*(AT33-1)))/(AP33+AT33-2))),(AN33-AR33)/SQRT(((AO33^2*(AP33-1))+(AS33^2*(AT33-1)))/(AP33+AT33-2)))","v":{"$error":"#DIV/0!"}},"","",null,null,null,null,null,null,null,null,{"$f":"IF(Sheet2!$A$63=TRUE,-1*((AY33-BC33)/SQRT(((AZ33^2*(BA33-1))+(BD33^2*(BE33-1)))/(BA33+BE33-2))),(AY33-BC33)/SQRT(((AZ33^2*(BA33-1))+(BD33^2*(BE33-1)))/(BA33+BE33-2)))","v":{"$error":"#DIV/0!"}},"","",null,null,null,null,null,null,null,null,{"$f":"IF(Sheet2!$A$63=TRUE,-1*((BJ33-BN33)/SQRT(((BK33^2*(BL33-1))+(BO33^2*(BP33-1)))/(BL33+BP33-2))),(BJ33-BN33)/SQRT(((BK33^2*(BL33-1))+(BO33^2*(BP33-1)))/(BL33+BP33-2)))","v":{"$error":"#DIV/0!"}},"",""]
[null,null,"Outcome 29",null,null,null,null,null,null,null,null,null,null,{"$f":"IF(Sheet2!$A$64=TRUE,-1*((G34-K34)/SQRT(((H34^2*(I34-1))+(L34^2*(M34-1)))/(I34+M34-2))),(G34-K34)/SQRT(((H34^2*(I34-1))+(L34^2*(M34-1)))/(I34+M34-2)))","v":{"$error":"#DIV/0!"}},"","",null,null,null,null,null,null,null,null,{"$f":"IF(Sheet2!$A$64=TRUE,-1*((R34-V34)/SQRT(((S34^2*(T34-1))+(W34^2*(X34-1)))/(T34+X34-2))),(R34-V34)/SQRT(((S34^2*(T34-1))+(W34^2*(X34-1)))/(T34+X34-2)))","v":{"$error":"#DIV/0!"}},"","",null,null,null,null,null,null,null,null,{"$f":"IF(Sheet2!$A$64=TRUE,-1*((AC34-AG34)/SQRT(((AD34^2*(AE34-1))+(AH34^2*(AI34-1)))/(AE34+AI34-2))),(AC34-AG34)/SQRT(((AD34^2*(AE34-1))+(AH34^2*(AI34-1)))/(AE34+AI34-2)))","v":{"$error":"#DIV/0!"}},"","",null,null,null,null,null,null,null,null,{"$f":"IF(Sheet2!$A$64=TRUE,-1*((AN34-AR34)/SQRT(((AO34^2*(AP34-1))+(AS34^2*(AT34-1)))/(AP34+AT34-2))),(AN34-AR34)/SQRT(((AO34^2*(AP34-1))+(AS34^2*(AT34-1)))/(AP34+AT34-2)))","v":{"$error":"#DIV/0!"}},"","",null,null,null,null,null,null,null,null,{"$f":"IF(Sheet2!$A$64=TRUE,-1*((AY34-BC34)/SQRT(((AZ34^2*(BA34-1))+(BD34^2*(BE34-1)))/(BA34+BE34-2))),(AY34-BC34)/SQRT(((AZ34^2*(BA34-1))+(BD34^2*(BE34-1)))/(BA34+BE34-2)))","v":{"$error":"#DIV/0!"}},"","",null,null,null,null,null,null,null,null,{"$f":"IF(Sheet2!$A$64=TRUE,-1*((BJ34-BN34)/SQRT(((BK34^2*(BL34-1))+(BO34^2*(BP34-1)))/(BL34+BP34-2))),(BJ34-BN34)/SQRT(((BK34^2*(BL34-1))+(BO34^2*(BP34-1)))/(BL34+BP34-2)))","v":{"$error":"#DIV/0!"}},"",""]
[null,null,"Outcome 30",null,null,null,null,null,null,null,null,null,null,{"$f":"IF(Sheet2!$A$65=TRUE,-1*((G35-K35)/SQRT(((H35^2*(I35-1))+(L35^2*(M35-1)))/(I35+M35-2))),(G35-K35)/SQRT(((H35^2*(I35-1))+(L35^2*(M35-1)))/(I35+M35-2)))","v":{"$error":"#DIV/0!"}},"","",null,null,null,null,null,null,null,null,{"$f":"IF(Sheet2!$A$65=TRUE,-1*((R35-V35)/SQRT(((S35^2*(T35-1))+(W35^2*(X35-1)))/(T35+X35-2))),(R35-V35)/SQRT(((S35^2*(T35-1))+(W35^2*(X35-1)))/(T35+X35-2)))","v":{"$error":"#DIV/0!"}},"","",null,null,null,null,null,null,null,null,{"$f":"IF(Sheet2!$A$65=TRUE,-1*((AC35-AG35)/SQRT(((AD35^2*(AE35-1))+(AH35^2*(AI35-1)))/(AE35+AI35-2))),(AC35-AG35)/SQRT(((AD35^2*(AE35-1))+(AH35^2*(AI35-1)))/(AE35+AI35-2)))","v":{"$error":"#DIV/0!"}},"","",null,null,null,null,null,null,null,null,{"$f":"IF(Sheet2!$A$65=TRUE,-1*((AN35-AR35)/SQRT(((AO35^2*(AP35-1))+(AS35^2*(AT35-1)))/(AP35+AT35-2))),(AN35-AR35)/SQRT(((AO35^2*(AP35-1))+(AS35^2*(AT35-1)))/(AP35+AT35-2)))","v":{"$error":"#DIV/0!"}},"","",null,null,null,null,null,null,null,null,{"$f":"IF(Sheet2!$A$65=TRUE,-1*((AY35-BC35)/SQRT(((AZ35^2*(BA35-1))+(BD35^2*(BE35-1)))/(BA35+BE35-2))),(AY35-BC35)/SQRT(((AZ35^2*(BA35-1))+(BD35^2*(BE35-1)))/(BA35+BE35-2)))","v":{"$error":"#DIV/0!"}},"","",null,null,null,null,null,null,null,null,{"$f":"IF(Sheet2!$A$65=TRUE,-1*((BJ35-BN35)/SQRT(((BK35^2*(BL35-1))+(BO35^2*(BP35-1)))/(BL35+BP35-2))),(BJ35-BN35)/SQRT(((BK35^2*(BL35-1))+(BO35^2*(BP35-1)))/(BL35+BP35-2)))","v":{"$error":"#DIV/0!"}},"",""]
[null,null,"Outcome 31",null,null,null,null,null,null,null,null,null,null,{"$f":"IF(Sheet2!$A$69=TRUE,-1*((G36-K36)/SQRT(((H36^2*(I36-1))+(L36^2*(M36-1)))/(I36+M36-2))),(G36-K36)/SQRT(((H36^2*(I36-1))+(L36^2*(M36-1)))/(I36+M36-2)))","v":{"$error":"#DIV/0!"}},{"$f":"IF(G36=\"\",\"\",N36)","v":""},{"$f":"IF(I36=\"\",\"\",SQRT((I36+M36)/(I36*M36)+(O36^2/(2*(I36+M36)))))","v":""},null,null,null,null,null,null,null,null,{"$f":"IF(Sheet2!$A$69=TRUE,-1*((R36-V36)/SQRT(((S36^2*(T36-1))+(W36^2*(X36-1)))/(T36+X36-2))),(R36-V36)/SQRT(((S36^2*(T36-1))+(W36^2*(X36-1)))/(T36+X36-2)))","v":{"$error":"#DIV/0!"}},{"$f":"IF(R36=\"\",\"\",Y36)","v":""},{"$f":"IF(T36=\"\",\"\",SQRT((T36+X36)/(T36*X36)+(Z36^2/(2*(T36+X36)))))","v":""},null,null,null,null,null,null,null,null,{"$f":"IF(Sheet2!$A$69=TRUE,-1*((AC36-AG36)/SQRT(((AD36^2*(AE36-1))+(AH36^2*(AI36-1)))/(AE36+AI36-2))),(AC36-AG36)/SQRT(((AD36^2*(AE36-1))+(AH36^2*(AI36-1)))/(AE36+AI36-2)))","v":{"$error":"#DIV/0!"}},{"$f":"IF(AC36=\"\",\"\",AJ36)","v":""},"",null,null,null,null,null,null,null,null,{"$f":"IF(Sheet2!$A$69=TRUE,-1*((AN36-AR36)/SQRT(((AO36^2*(AP36-1))+(AS36^2*(AT36-1)))/(AP36+AT36-2))),(AN36-AR36)/SQRT(((AO36^2*(AP36-1))+(AS36^2*(AT36-1)))/(AP36+AT36-2)))","v":{"$error":"#DIV/0!"}},{"$f":"IF(AN36=\"\",\"\",AU36)","v":""},{"$f":"IF(AP36=\"\",\"\",SQRT((AP36+AT36)/(AP36*AT36)+(AV36^2/(2*(AP36+AT36)))))","v":""},null,null,null,null,null,null,null,null,{"$f":"IF(Sheet2!$A$69=TRUE,-1*((AY36-BC36)/SQRT(((AZ36^2*(BA36-1))+(BD36^2*(BE36-1)))/(BA36+BE36-2))),(AY36-BC36)/SQRT(((AZ36^2*(BA36-1))+(BD36^2*(BE36-1)))/(BA36+BE36-2)))","v":{"$error":"#DIV/0!"}},{"$f":"IF(AY36=\"\",\"\",BF36)","v":""},{"$f":"IF(BA36=\"\",\"\",SQRT((BA36+BE36)/(BA36*BE36)+(BG36^2/(2*(BA36+BE36)))))","v":""},null,null,null,null,null,null,null,null,{"$f":"IF(Sheet2!$A$69=TRUE,-1*((BJ36-BN36)/SQRT(((BK36^2*(BL36-1))+(BO36^2*(BP36-1)))/(BL36+BP36-2))),(BJ36-BN36)/SQRT(((BK36^2*(BL36-1))+(BO36^2*(BP36-1)))/(BL36+BP36-2)))","v":{"$error":"#DIV/0!"}},{"$f":"IF(BJ36=\"\",\"\",BQ36)","v":""},{"$f":"IF(BL36=\"\",\"\",SQRT((BL36+BP36)/(BL36*BP36)+(BR36^2/(2*(BL36+BP36)))))","v":""}]
[null,null,"Outcome 32",null,null,null,null,null,null,null,null,null,null,{"$f":"IF(Sheet2!$A$70=TRUE,-1*((G37-K37)/SQRT(((H37^2*(I37-1))+(L37^2*(M37-1)))/(I37+M37-2))),(G37-K37)/SQRT(((H37^2*(I37-1))+(L37^2*(M37-1)))/(I37+M37-2)))","v":{"$error":"#DIV/0!"}},"","",null,null,null,null,null,null,null,null,{"$f":"IF(Sheet2!$A$70=TRUE,-1*((R37-V37)/SQRT(((S37^2*(T37-1))+(W37^2*(X37-1)))/(T37+X37-2))),(R37-V37)/SQRT(((S37^2*(T37-1))+(W37^2*(X37-1)))/(T37+X37-2)))","v":{"$error":"#DIV/0!"}},"","",null,null,null,null,null,null,null,null,{"$f":"IF(Sheet2!$A$70=TRUE,-1*((AC37-AG37)/SQRT(((AD37^2*(AE37-1))+(AH37^2*(AI37-1)))/(AE37+AI37-2))),(AC37-AG37)/SQRT(((AD37^2*(AE37-1))+(AH37^2*(AI37-1)))/(AE37+AI37-2)))","v":{"$error":"#DIV/0!"}},"","",null,null,null,null,null,null,null,null,{"$f":"IF(Sheet2!$A$70=TRUE,-1*((AN37-AR37)/SQRT(((AO37^2*(AP37-1))+(AS37^2*(AT37-1)))/(AP37+AT37-2))),(AN37-AR37)/SQRT(((AO37^2*(AP37-1))+(AS37^2*(AT37-1)))/(AP37+AT37-2)))","v":{"$error":"#DIV/0!"}},"","",null,null,null,null,null,null,null,null,{"$f":"IF(Sheet2!$A$70=TRUE,-1*((AY37-BC37)/SQRT(((AZ37^2*(BA37-1))+(BD37^2*(BE37-1)))/(BA37+BE37-2))),(AY37-BC37)/SQRT(((AZ37^2*(BA37-1))+(BD37^2*(BE37-1)))/(BA37+BE37-2)))","v":{"$error":"#DIV/0!"}},"","",null,null,null,null,null,null,null,null,{"$f":"IF(Sheet2!$A$70=TRUE,-1*((BJ37-BN37)/SQRT(((BK37^2*(BL37-1))+(BO37^2*(BP37-1)))/(BL37+BP37-2))),(BJ37-BN37)/SQRT(((BK37^2*(BL37-1))+(BO37^2*(BP37-1)))/(BL37+BP37-2)))","v":{"$error":"#DIV/0!"}},"",""]
[null,null,"Outcome 33",null,null,null,null,null,null,null,null,null,null,{"$f":"IF(Sheet2!$A$71=TRUE,-1*((G38-K38)/SQRT(((H38^2*(I38-1))+(L38^2*(M38-1)))/(I38+M38-2))),(G38-K38)/SQRT(((H38^2*(I38-1))+(L38^2*(M38-1)))/(I38+M38-2)))","v":{"$error":"#DIV/0!"}},"","",null,null,null,null,null,null,null,null,{"$f":"IF(Sheet2!$A$71=TRUE,-1*((R38-V38)/SQRT(((S38^2*(T38-1))+(W38^2*(X38-1)))/(T38+X38-2))),(R38-V38)/SQRT(((S38^2*(T38-1))+(W38^2*(X38-1)))/(T38+X38-2)))","v":{"$error":"#DIV/0!"}},"","",null,null,null,null,null,null,null,null,{"$f":"IF(Sheet2!$A$71=TRUE,-1*((AC38-AG38)/SQRT(((AD38^2*(AE38-1))+(AH38^2*(AI38-1)))/(AE38+AI38-2))),(AC38-AG38)/SQRT(((AD38^2*(AE38-1))+(AH38^2*(AI38-1)))/(AE38+AI38-2)))","v":{"$error":"#DIV/0!"}},"","",null,null,null,null,null,null,null,null,{"$f":"IF(Sheet2!$A$71=TRUE,-1*((AN38-AR38)/SQRT(((AO38^2*(AP38-1))+(AS38^2*(AT38-1)))/(AP38+AT38-2))),(AN38-AR38)/SQRT(((AO38^2*(AP38-1))+(AS38^2*(AT38-1)))/(AP38+AT38-2)))","v":{"$error":"#DIV/0!"}},"","",null,null,null,null,null,null,null,null,{"$f":"IF(Sheet2!$A$71=TRUE,-1*((AY38-BC38)/SQRT(((AZ38^2*(BA38-1))+(BD38^2*(BE38-1)))/(BA38+BE38-2))),(AY38-BC38)/SQRT(((AZ38^2*(BA38-1))+(BD38^2*(BE38-1)))/(BA38+BE38-2)))","v":{"$error":"#DIV/0!"}},"","",null,null,null,null,null,null,null,null,{"$f":"IF(Sheet2!$A$71=TRUE,-1*((BJ38-BN38)/SQRT(((BK38^2*(BL38-1))+(BO38^2*(BP38-1)))/(BL38+BP38-2))),(BJ38-BN38)/SQRT(((BK38^2*(BL38-1))+(BO38^2*(BP38-1)))/(BL38+BP38-2)))","v":{"$error":"#DIV/0!"}},"",""]
[null,null,"Outcome 34",null,null,null,null,null,null,null,null,null,null,{"$f":"IF(Sheet2!$A$72=TRUE,-1*((G39-K39)/SQRT(((H39^2*(I39-1))+(L39^2*(M39-1)))/(I39+M39-2))),(G39-K39)/SQRT(((H39^2*(I39-1))+(L39^2*(M39-1)))/(I39+M39-2)))","v":{"$error":"#DIV/0!"}},"","",null,null,null,null,null,null,null,null,{"$f":"IF(Sheet2!$A$72=TRUE,-1*((R39-V39)/SQRT(((S39^2*(T39-1))+(W39^2*(X39-1)))/(T39+X39-2))),(R39-V39)/SQRT(((S39^2*(T39-1))+(W39^2*(X39-1)))/(T39+X39-2)))","v":{"$error":"#DIV/0!"}},"","",null,null,null,null,null,null,null,null,{"$f":"IF(Sheet2!$A$72=TRUE,-1*((AC39-AG39)/SQRT(((AD39^2*(AE39-1))+(AH39^2*(AI39-1)))/(AE39+AI39-2))),(AC39-AG39)/SQRT(((AD39^2*(AE39-1))+(AH39^2*(AI39-1)))/(AE39+AI39-2)))","v":{"$error":"#DIV/0!"}},"","",null,null,null,null,null,null,null,null,{"$f":"IF(Sheet2!$A$72=TRUE,-1*((AN39-AR39)/SQRT(((AO39^2*(AP39-1))+(AS39^2*(AT39-1)))/(AP39+AT39-2))),(AN39-AR39)/SQRT(((AO39^2*(AP39-1))+(AS39^2*(AT39-1)))/(AP39+AT39-2)))","v":{"$error":"#DIV/0!"}},"","",null,null,null,null,null,null,null,null,{"$f":"IF(Sheet2!$A$72=TRUE,-1*((AY39-BC39)/SQRT(((AZ39^2*(BA39-1))+(BD39^2*(BE39-1)))/(BA39+BE39-2))),(AY39-BC39)/SQRT(((AZ39^2*(BA39-1))+(BD39^2*(BE39-1)))/(BA39+BE39-2)))","v":{"$error":"#DIV/0!"}},"","",null,null,null,null,null,null,null,null,{"$f":"IF(Sheet2!$A$72=TRUE,-1*((BJ39-BN39)/SQRT(((BK39^2*(BL39-1))+(BO39^2*(BP39-1)))/(BL39+BP39-2))),(BJ39-BN39)/SQRT(((BK39^2*(BL39-1))+(BO39^2*(BP39-1)))/(BL39+BP39-2)))","v":{"$error":"#DIV/0!"}},"",""]
[null,null,"Outcome 35",null,null,null,null,null,null,null,null,null,null,{"$f":"IF(Sheet2!$A$73=TRUE,-1*((G40-K40)/SQRT(((H40^2*(I40-1))+(L40^2*(M40-1)))/(I40+M40-2))),(G40-K40)/SQRT(((H40^2*(I40-1))+(L40^2*(M40-1)))/(I40+M40-2)))","v":{"$error":"#DIV/0!"}},"","",null,null,null,null,null,null,null,null,{"$f":"IF(Sheet2!$A$73=TRUE,-1*((R40-V40)/SQRT(((S40^2*(T40-1))+(W40^2*(X40-1)))/(T40+X40-2))),(R40-V40)/SQRT(((S40^2*(T40-1))+(W40^2*(X40-1)))/(T40+X40-2)))","v":{"$error":"#DIV/0!"}},"","",null,null,null,null,null,null,null,null,{"$f":"IF(Sheet2!$A$73=TRUE,-1*((AC40-AG40)/SQRT(((AD40^2*(AE40-1))+(AH40^2*(AI40-1)))/(AE40+AI40-2))),(AC40-AG40)/SQRT(((AD40^2*(AE40-1))+(AH40^2*(AI40-1)))/(AE40+AI40-2)))","v":{"$error":"#DIV/0!"}},"","",null,null,null,null,null,null,null,null,{"$f":"IF(Sheet2!$A$73=TRUE,-1*((AN40-AR40)/SQRT(((AO40^2*(AP40-1))+(AS40^2*(AT40-1)))/(AP40+AT40-2))),(AN40-AR40)/SQRT(((AO40^2*(AP40-1))+(AS40^2*(AT40-1)))/(AP40+AT40-2)))","v":{"$error":"#DIV/0!"}},"","",null,null,null,null,null,null,null,null,{"$f":"IF(Sheet2!$A$73=TRUE,-1*((AY40-BC40)/SQRT(((AZ40^2*(BA40-1))+(BD40^2*(BE40-1)))/(BA40+BE40-2))),(AY40-BC40)/SQRT(((AZ40^2*(BA40-1))+(BD40^2*(BE40-1)))/(BA40+BE40-2)))","v":{"$error":"#DIV/0!"}},"","",null,null,null,null,null,null,null,null,{"$f":"IF(Sheet2!$A$73=TRUE,-1*((BJ40-BN40)/SQRT(((BK40^2*(BL40-1))+(BO40^2*(BP40-1)))/(BL40+BP40-2))),(BJ40-BN40)/SQRT(((BK40^2*(BL40-1))+(BO40^2*(BP40-1)))/(BL40+BP40-2)))","v":{"$error":"#DIV/0!"}},"",""]
[null,null,"Outcome 36",null,null,null,null,null,null,null,null,null,null,{"$f":"IF(Sheet2!$A$77=TRUE,-1*((G41-K41)/SQRT(((H41^2*(I41-1))+(L41^2*(M41-1)))/(I41+M41-2))),(G41-K41)/SQRT(((H41^2*(I41-1))+(L41^2*(M41-1)))/(I41+M41-2)))","v":{"$error":"#DIV/0!"}},{"$f":"IF(G41=\"\",\"\",N41)","v":""},{"$f":"IF(I41=\"\",\"\",SQRT((I41+M41)/(I41*M41)+(O41^2/(2*(I41+M41)))))","v":""},null,null,null,null,null,null,null,null,{"$f":"IF(Sheet2!$A$77=TRUE,-1*((R41-V41)/SQRT(((S41^2*(T41-1))+(W41^2*(X41-1)))/(T41+X41-2))),(R41-V41)/SQRT(((S41^2*(T41-1))+(W41^2*(X41-1)))/(T41+X41-2)))","v":{"$error":"#DIV/0!"}},{"$f":"IF(R41=\"\",\"\",Y41)","v":""},{"$f":"IF(T41=\"\",\"\",SQRT((T41+X41)/(T41*X41)+(Z41^2/(2*(T41+X41)))))","v":""},null,null,null,null,null,null,null,null,{"$f":"IF(Sheet2!$A$77=TRUE,-1*((AC41-AG41)/SQRT(((AD41^2*(AE41-1))+(AH41^2*(AI41-1)))/(AE41+AI41-2))),(AC41-AG41)/SQRT(((AD41^2*(AE41-1))+(AH41^2*(AI41-1)))/(AE41+AI41-2)))","v":{"$error":"#DIV/0!"}},{"$f":"IF(AC41=\"\",\"\",AJ41)","v":""},"",null,null,null,null,null,null,null,null,{"$f":"IF(Sheet2!$A$77=TRUE,-1*((AN41-AR41)/SQRT(((AO41^2*(AP41-1))+(AS41^2*(AT41-1)))/(AP41+AT41-2))),(AN41-AR41)/SQRT(((AO41^2*(AP41-1))+(AS41^2*(AT41-1)))/(AP41+AT41-2)))","v":{"$error":"#DIV/0!"}},{"$f":"IF(AN41=\"\",\"\",AU41)","v":""},{"$f":"IF(AP41=\"\",\"\",SQRT((AP41+AT41)/(AP41*AT41)+(AV41^2/(2*(AP41+AT41)))))","v":""},null,null,null,null,null,null,null,null,{"$f":"IF(Sheet2!$A$77=TRUE,-1*((AY41-BC41)/SQRT(((AZ41^2*(BA41-1))+(BD41^2*(BE41-1)))/(BA41+BE41-2))),(AY41-BC41)/SQRT(((AZ41^2*(BA41-1))+(BD41^2*(BE41-1)))/(BA41+BE41-2)))","v":{"$error":"#DIV/0!"}},{"$f":"IF(AY41=\"\",\"\",BF41)","v":""},{"$f":"IF(BA41=\"\",\"\",SQRT((BA41+BE41)/(BA41*BE41)+(BG41^2/(2*(BA41+BE41)))))","v":""},null,null,null,null,null,null,null,null,{"$f":"IF(Sheet2!$A$77=TRUE,-1*((BJ41-BN41)/SQRT(((BK41^2*(BL41-1))+(BO41^2*(BP41-1)))/(BL41+BP41-2))),(BJ41-BN41)/SQRT(((BK41^2*(BL41-1))+(BO41^2*(BP41-1)))/(BL41+BP41-2)))","v":{"$error":"#DIV/0!"}},{"$f":"IF(BJ41=\"\",\"\",BQ41)","v":""},{"$f":"IF(BL41=\"\",\"\",SQRT((BL41+BP41)/(BL41*BP41)+(BR41^2/(2*(BL41+BP41)))))","v":""}]
[null,null,"Outcome 37",null,null,null,null,null,null,null,null,null,null,{"$f":"IF(Sheet2!$A$78=TRUE,-1*((G42-K42)/SQRT(((H42^2*(I42-1))+(L42^2*(M42-1)))/(I42+M42-2))),(G42-K42)/SQRT(((H42^2*(I42-1))+(L42^2*(M42-1)))/(I42+M42-2)))","v":{"$error":"#DIV/0!"}},"","",null,null,null,null,null,null,null,null,{"$f":"IF(Sheet2!$A$78=TRUE,-1*((R42-V42)/SQRT(((S42^2*(T42-1))+(W42^2*(X42-1)))/(T42+X42-2))),(R42-V42)/SQRT(((S42^2*(T42-1))+(W42^2*(X42-1)))/(T42+X42-2)))","v":{"$error":"#DIV/0!"}},"","",null,null,null,null,null,null,null,null,{"$f":"IF(Sheet2!$A$78=TRUE,-1*((AC42-AG42)/SQRT(((AD42^2*(AE42-1))+(AH42^2*(AI42-1)))/(AE42+AI42-2))),(AC42-AG42)/SQRT(((AD42^2*(AE42-1))+(AH42^2*(AI42-1)))/(AE42+AI42-2)))","v":{"$error":"#DIV/0!"}},"","",null,null,null,null,null,null,null,null,{"$f":"IF(Sheet2!$A$78=TRUE,-1*((AN42-AR42)/SQRT(((AO42^2*(AP42-1))+(AS42^2*(AT42-1)))/(AP42+AT42-2))),(AN42-AR42)/SQRT(((AO42^2*(AP42-1))+(AS42^2*(AT42-1)))/(AP42+AT42-2)))","v":{"$error":"#DIV/0!"}},"","",null,null,null,null,null,null,null,null,{"$f":"IF(Sheet2!$A$78=TRUE,-1*((AY42-BC42)/SQRT(((AZ42^2*(BA42-1))+(BD42^2*(BE42-1)))/(BA42+BE42-2))),(AY42-BC42)/SQRT(((AZ42^2*(BA42-1))+(BD42^2*(BE42-1)))/(BA42+BE42-2)))","v":{"$error":"#DIV/0!"}},"","",null,null,null,null,null,null,null,null,{"$f":"IF(Sheet2!$A$78=TRUE,-1*((BJ42-BN42)/SQRT(((BK42^2*(BL42-1))+(BO42^2*(BP42-1)))/(BL42+BP42-2))),(BJ42-BN42)/SQRT(((BK42^2*(BL42-1))+(BO42^2*(BP42-1)))/(BL42+BP42-2)))","v":{"$error":"#DIV/0!"}},"",""]
[null,null,"Outcome 38",null,null,null,null,null,null,null,null,null,null,{"$f":"IF(Sheet2!$A$79=TRUE,-1*((G43-K43)/SQRT(((H43^2*(I43-1))+(L43^2*(M43-1)))/(I43+M43-2))),(G43-K43)/SQRT(((H43^2*(I43-1))+(L43^2*(M43-1)))/(I43+M43-2)))","v":{"$error":"#DIV/0!"}},"","",null,null,null,null,null,null,null,null,{"$f":"IF(Sheet2!$A$79=TRUE,-1*((R43-V43)/SQRT(((S43^2*(T43-1))+(W43^2*(X43-1)))/(T43+X43-2))),(R43-V43)/SQRT(((S43^2*(T43-1))+(W43^2*(X43-1)))/(T43+X43-2)))","v":{"$error":"#DIV/0!"}},"","",null,null,null,null,null,null,null,null,{"$f":"IF(Sheet2!$A$79=TRUE,-1*((AC43-AG43)/SQRT(((AD43^2*(AE43-1))+(AH43^2*(AI43-1)))/(AE43+AI43-2))),(AC43-AG43)/SQRT(((AD43^2*(AE43-1))+(AH43^2*(AI43-1)))/(AE43+AI43-2)))","v":{"$error":"#DIV/0!"}},"","",null,null,null,null,null,null,null,null,{"$f":"IF(Sheet2!$A$79=TRUE,-1*((AN43-AR43)/SQRT(((AO43^2*(AP43-1))+(AS43^2*(AT43-1)))/(AP43+AT43-2))),(AN43-AR43)/SQRT(((AO43^2*(AP43-1))+(AS43^2*(AT43-1)))/(AP43+AT43-2)))","v":{"$error":"#DIV/0!"}},"","",null,null,null,null,null,null,null,null,{"$f":"IF(Sheet2!$A$79=TRUE,-1*((AY43-BC43)/SQRT(((AZ43^2*(BA43-1))+(BD43^2*(BE43-1)))/(BA43+BE43-2))),(AY43-BC43)/SQRT(((AZ43^2*(BA43-1))+(BD43^2*(BE43-1)))/(BA43+BE43-2)))","v":{"$error":"#DIV/0!"}},"","",null,null,null,null,null,null,null,null,{"$f":"IF(Sheet2!$A$79=TRUE,-1*((BJ43-BN43)/SQRT(((BK43^2*(BL43-1))+(BO43^2*(BP43-1)))/(BL43+BP43-2))),(BJ43-BN43)/SQRT(((BK43^2*(BL43-1))+(BO43^2*(BP43-1)))/(BL43+BP43-2)))","v":{"$error":"#DIV/0!"}},"",""]
[null,null,"Outcome 39",null,null,null,null,null,null,null,null,null,null,{"$f":"IF(Sheet2!$A$80=TRUE,-1*((G44-K44)/SQRT(((H44^2*(I44-1))+(L44^2*(M44-1)))/(I44+M44-2))),(G44-K44)/SQRT(((H44^2*(I44-1))+(L44^2*(M44-1)))/(I44+M44-2)))","v":{"$error":"#DIV/0!"}},"","",null,null,null,null,null,null,null,null,{"$f":"IF(Sheet2!$A$80=TRUE,-1*((R44-V44)/SQRT(((S44^2*(T44-1))+(W44^2*(X44-1)))/(T44+X44-2))),(R44-V44)/SQRT(((S44^2*(T44-1))+(W44^2*(X44-1)))/(T44+X44-2)))","v":{"$error":"#DIV/0!"}},"","",null,null,null,null,null,null,null,null,{"$f":"IF(Sheet2!$A$80=TRUE,-1*((AC44-AG44)/SQRT(((AD44^2*(AE44-1))+(AH44^2*(AI44-1)))/(AE44+AI44-2))),(AC44-AG44)/SQRT(((AD44^2*(AE44-1))+(AH44^2*(AI44-1)))/(AE44+AI44-2)))","v":{"$error":"#DIV/0!"}},"","",null,null,null,null,null,null,null,null,{"$f":"IF(Sheet2!$A$80=TRUE,-1*((AN44-AR44)/SQRT(((AO44^2*(AP44-1))+(AS44^2*(AT44-1)))/(AP44+AT44-2))),(AN44-AR44)/SQRT(((AO44^2*(AP44-1))+(AS44^2*(AT44-1)))/(AP44+AT44-2)))","v":{"$error":"#DIV/0!"}},"","",null,null,null,null,null,null,null,null,{"$f":"IF(Sheet2!$A$80=TRUE,-1*((AY44-BC44)/SQRT(((AZ44^2*(BA44-1))+(BD44^2*(BE44-1)))/(BA44+BE44-2))),(AY44-BC44)/SQRT(((AZ44^2*(BA44-1))+(BD44^2*(BE44-1)))/(BA44+BE44-2)))","v":{"$error":"#DIV/0!"}},"","",null,null,null,null,null,null,null,null,{"$f":"IF(Sheet2!$A$80=TRUE,-1*((BJ44-BN44)/SQRT(((BK44^2*(BL44-1))+(BO44^2*(BP44-1)))/(BL44+BP44-2))),(BJ44-BN44)/SQRT(((BK44^2*(BL44-1))+(BO44^2*(BP44-1)))/(BL44+BP44-2)))","v":{"$error":"#DIV/0!"}},"",""]
[null,null,"Outcome 40",null,null,null,null,null,null,null,null,null,null,{"$f":"IF(Sheet2!$A$81=TRUE,-1*((G45-K45)/SQRT(((H45^2*(I45-1))+(L45^2*(M45-1)))/(I45+M45-2))),(G45-K45)/SQRT(((H45^2*(I45-1))+(L45^2*(M45-1)))/(I45+M45-2)))","v":{"$error":"#DIV/0!"}},"","",null,null,null,null,null,null,null,null,{"$f":"IF(Sheet2!$A$81=TRUE,-1*((R45-V45)/SQRT(((S45^2*(T45-1))+(W45^2*(X45-1)))/(T45+X45-2))),(R45-V45)/SQRT(((S45^2*(T45-1))+(W45^2*(X45-1)))/(T45+X45-2)))","v":{"$error":"#DIV/0!"}},"","",null,null,null,null,null,null,null,null,{"$f":"IF(Sheet2!$A$81=TRUE,-1*((AC45-AG45)/SQRT(((AD45^2*(AE45-1))+(AH45^2*(AI45-1)))/(AE45+AI45-2))),(AC45-AG45)/SQRT(((AD45^2*(AE45-1))+(AH45^2*(AI45-1)))/(AE45+AI45-2)))","v":{"$error":"#DIV/0!"}},"","",null,null,null,null,null,null,null,null,{"$f":"IF(Sheet2!$A$81=TRUE,-1*((AN45-AR45)/SQRT(((AO45^2*(AP45-1))+(AS45^2*(AT45-1)))/(AP45+AT45-2))),(AN45-AR45)/SQRT(((AO45^2*(AP45-1))+(AS45^2*(AT45-1)))/(AP45+AT45-2)))","v":{"$error":"#DIV/0!"}},"","",null,null,null,null,null,null,null,null,{"$f":"IF(Sheet2!$A$81=TRUE,-1*((AY45-BC45)/SQRT(((AZ45^2*(BA45-1))+(BD45^2*(BE45-1)))/(BA45+BE45-2))),(AY45-BC45)/SQRT(((AZ45^2*(BA45-1))+(BD45^2*(BE45-1)))/(BA45+BE45-2)))","v":{"$error":"#DIV/0!"}},"","",null,null,null,null,null,null,null,null,{"$f":"IF(Sheet2!$A$81=TRUE,-1*((BJ45-BN45)/SQRT(((BK45^2*(BL45-1))+(BO45^2*(BP45-1)))/(BL45+BP45-2))),(BJ45-BN45)/SQRT(((BK45^2*(BL45-1))+(BO45^2*(BP45-1)))/(BL45+BP45-2)))","v":{"$error":"#DIV/0!"}},"",""]
[null,null,"Outcome 41",null,null,null,null,null,null,null,null,null,null,{"$f":"IF(Sheet2!$A$85=TRUE,-1*((G46-K46)/SQRT(((H46^2*(I46-1))+(L46^2*(M46-1)))/(I46+M46-2))),(G46-K46)/SQRT(((H46^2*(I46-1))+(L46^2*(M46-1)))/(I46+M46-2)))","v":{"$error":"#DIV/0!"}},{"$f":"IF(G46=\"\",\"\",N46)","v":""},{"$f":"IF(I46=\"\",\"\",SQRT((I46+M46)/(I46*M46)+(O46^2/(2*(I46+M46)))))","v":""},null,null,null,null,null,null,null,null,{"$f":"IF(Sheet2!$A$85=TRUE,-1*((R46-V46)/SQRT(((S46^2*(T46-1))+(W46^2*(X46-1)))/(T46+X46-2))),(R46-V46)/SQRT(((S46^2*(T46-1))+(W46^2*(X46-1)))/(T46+X46-2)))","v":{"$error":"#DIV/0!"}},{"$f":"IF(R46=\"\",\"\",Y46)","v":""},{"$f":"IF(T46=\"\",\"\",SQRT((T46+X46)/(T46*X46)+(Z46^2/(2*(T46+X46)))))","v":""},null,null,null,null,null,null,null,null,{"$f":"IF(Sheet2!$A$85=TRUE,-1*((AC46-AG46)/SQRT(((AD46^2*(AE46-1))+(AH46^2*(AI46-1)))/(AE46+AI46-2))),(AC46-AG46)/SQRT(((AD46^2*(AE46-1))+(AH46^2*(AI46-1)))/(AE46+AI46-2)))","v":{"$error":"#DIV/0!"}},{"$f":"IF(AC46=\"\",\"\",AJ46)","v":""},"",null,null,null,null,null,null,null,null,{"$f":"IF(Sheet2!$A$85=TRUE,-1*((AN46-AR46)/SQRT(((AO46^2*(AP46-1))+(AS46^2*(AT46-1)))/(AP46+AT46-2))),(AN46-AR46)/SQRT(((AO46^2*(AP46-1))+(AS46^2*(AT46-1)))/(AP46+AT46-2)))","v":{"$error":"#DIV/0!"}},{"$f":"IF(AN46=\"\",\"\",AU46)","v":""},{"$f":"IF(AP46=\"\",\"\",SQRT((AP46+AT46)/(AP46*AT46)+(AV46^2/(2*(AP46+AT46)))))","v":""},null,null,null,null,null,null,null,null,{"$f":"IF(Sheet2!$A$85=TRUE,-1*((AY46-BC46)/SQRT(((AZ46^2*(BA46-1))+(BD46^2*(BE46-1)))/(BA46+BE46-2))),(AY46-BC46)/SQRT(((AZ46^2*(BA46-1))+(BD46^2*(BE46-1)))/(BA46+BE46-2)))","v":{"$error":"#DIV/0!"}},{"$f":"IF(AY46=\"\",\"\",BF46)","v":""},{"$f":"IF(BA46=\"\",\"\",SQRT((BA46+BE46)/(BA46*BE46)+(BG46^2/(2*(BA46+BE46)))))","v":""},null,null,null,null,null,null,null,null,{"$f":"IF(Sheet2!$A$85=TRUE,-1*((BJ46-BN46)/SQRT(((BK46^2*(BL46-1))+(BO46^2*(BP46-1)))/(BL46+BP46-2))),(BJ46-BN46)/SQRT(((BK46^2*(BL46-1))+(BO46^2*(BP46-1)))/(BL46+BP46-2)))","v":{"$error":"#DIV/0!"}},{"$f":"IF(BJ46=\"\",\"\",BQ46)","v":""},{"$f":"IF(BL46=\"\",\"\",SQRT((BL46+BP46)/(BL46*BP46)+(BR46^2/(2*(BL46+BP46)))))","v":""}]
[null,null,"Outcome 42",null,null,null,null,null,null,null,null,null,null,{"$f":"IF(Sheet2!$A$86=TRUE,-1*((G47-K47)/SQRT(((H47^2*(I47-1))+(L47^2*(M47-1)))/(I47+M47-2))),(G47-K47)/SQRT(((H47^2*(I47-1))+(L47^2*(M47-1)))/(I47+M47-2)))","v":{"$error":"#DIV/0!"}},"","",null,null,null,null,null,null,null,null,{"$f":"IF(Sheet2!$A$86=TRUE,-1*((R47-V47)/SQRT(((S47^2*(T47-1))+(W47^2*(X47-1)))/(T47+X47-2))),(R47-V47)/SQRT(((S47^2*(T47-1))+(W47^2*(X47-1)))/(T47+X47-2)))","v":{"$error":"#DIV/0!"}},"","",null,null,null,null,null,null,null,null,{"$f":"IF(Sheet2!$A$86=TRUE,-1*((AC47-AG47)/SQRT(((AD47^2*(AE47-1))+(AH47^2*(AI47-1)))/(AE47+AI47-2))),(AC47-AG47)/SQRT(((AD47^2*(AE47-1))+(AH47^2*(AI47-1)))/(AE47+AI47-2)))","v":{"$error":"#DIV/0!"}},"","",null,null,null,null,null,null,null,null,{"$f":"IF(Sheet2!$A$86=TRUE,-1*((AN47-AR47)/SQRT(((AO47^2*(AP47-1))+(AS47^2*(AT47-1)))/(AP47+AT47-2))),(AN47-AR47)/SQRT(((AO47^2*(AP47-1))+(AS47^2*(AT47-1)))/(AP47+AT47-2)))","v":{"$error":"#DIV/0!"}},"","",null,null,null,null,null,null,null,null,{"$f":"IF(Sheet2!$A$86=TRUE,-1*((AY47-BC47)/SQRT(((AZ47^2*(BA47-1))+(BD47^2*(BE47-1)))/(BA47+BE47-2))),(AY47-BC47)/SQRT(((AZ47^2*(BA47-1))+(BD47^2*(BE47-1)))/(BA47+BE47-2)))","v":{"$error":"#DIV/0!"}},"","",null,null,null,null,null,null,null,null,{"$f":"IF(Sheet2!$A$86=TRUE,-1*((BJ47-BN47)/SQRT(((BK47^2*(BL47-1))+(BO47^2*(BP47-1)))/(BL47+BP47-2))),(BJ47-BN47)/SQRT(((BK47^2*(BL47-1))+(BO47^2*(BP47-1)))/(BL47+BP47-2)))","v":{"$error":"#DIV/0!"}},"",""]
[null,null,"Outcome 43",null,null,null,null,null,null,null,null,null,null,{"$f":"IF(Sheet2!$A$87=TRUE,-1*((G48-K48)/SQRT(((H48^2*(I48-1))+(L48^2*(M48-1)))/(I48+M48-2))),(G48-K48)/SQRT(((H48^2*(I48-1))+(L48^2*(M48-1)))/(I48+M48-2)))","v":{"$error":"#DIV/0!"}},"","",null,null,null,null,null,null,null,null,{"$f":"IF(Sheet2!$A$87=TRUE,-1*((R48-V48)/SQRT(((S48^2*(T48-1))+(W48^2*(X48-1)))/(T48+X48-2))),(R48-V48)/SQRT(((S48^2*(T48-1))+(W48^2*(X48-1)))/(T48+X48-2)))","v":{"$error":"#DIV/0!"}},"","",null,null,null,null,null,null,null,null,{"$f":"IF(Sheet2!$A$87=TRUE,-1*((AC48-AG48)/SQRT(((AD48^2*(AE48-1))+(AH48^2*(AI48-1)))/(AE48+AI48-2))),(AC48-AG48)/SQRT(((AD48^2*(AE48-1))+(AH48^2*(AI48-1)))/(AE48+AI48-2)))","v":{"$error":"#DIV/0!"}},"","",null,null,null,null,null,null,null,null,{"$f":"IF(Sheet2!$A$87=TRUE,-1*((AN48-AR48)/SQRT(((AO48^2*(AP48-1))+(AS48^2*(AT48-1)))/(AP48+AT48-2))),(AN48-AR48)/SQRT(((AO48^2*(AP48-1))+(AS48^2*(AT48-1)))/(AP48+AT48-2)))","v":{"$error":"#DIV/0!"}},"","",null,null,null,null,null,null,null,null,{"$f":"IF(Sheet2!$A$87=TRUE,-1*((AY48-BC48)/SQRT(((AZ48^2*(BA48-1))+(BD48^2*(BE48-1)))/(BA48+BE48-2))),(AY48-BC48)/SQRT(((AZ48^2*(BA48-1))+(BD48^2*(BE48-1)))/(BA48+BE48-2)))","v":{"$error":"#DIV/0!"}},"","",null,null,null,null,null,null,null,null,{"$f":"IF(Sheet2!$A$87=TRUE,-1*((BJ48-BN48)/SQRT(((BK48^2*(BL48-1))+(BO48^2*(BP48-1)))/(BL48+BP48-2))),(BJ48-BN48)/SQRT(((BK48^2*(BL48-1))+(BO48^2*(BP48-1)))/(BL48+BP48-2)))","v":{"$error":"#DIV/0!"}},"",""]
[null,null,"Outcome 44",null,null,null,null,null,null,null,null,null,null,{"$f":"IF(Sheet2!$A$88=TRUE,-1*((G49-K49)/SQRT(((H49^2*(I49-1))+(L49^2*(M49-1)))/(I49+M49-2))),(G49-K49)/SQRT(((H49^2*(I49-1))+(L49^2*(M49-1)))/(I49+M49-2)))","v":{"$error":"#DIV/0!"}},"","",null,null,null,null,null,null,null,null,{"$f":"IF(Sheet2!$A$88=TRUE,-1*((R49-V49)/SQRT(((S49^2*(T49-1))+(W49^2*(X49-1)))/(T49+X49-2))),(R49-V49)/SQRT(((S49^2*(T49-1))+(W49^2*(X49-1)))/(T49+X49-2)))","v":{"$error":"#DIV/0!"}},"","",null,null,null,null,null,null,null,null,{"$f":"IF(Sheet2!$A$88=TRUE,-1*((AC49-AG49)/SQRT(((AD49^2*(AE49-1))+(AH49^2*(AI49-1)))/(AE49+AI49-2))),(AC49-AG49)/SQRT(((AD49^2*(AE49-1))+(AH49^2*(AI49-1)))/(AE49+AI49-2)))","v":{"$error":"#DIV/0!"}},"","",null,null,null,null,null,null,null,null,{"$f":"IF(Sheet2!$A$88=TRUE,-1*((AN49-AR49)/SQRT(((AO49^2*(AP49-1))+(AS49^2*(AT49-1)))/(AP49+AT49-2))),(AN49-AR49)/SQRT(((AO49^2*(AP49-1))+(AS49^2*(AT49-1)))/(AP49+AT49-2)))","v":{"$error":"#DIV/0!"}},"","",null,null,null,null,null,null,null,null,{"$f":"IF(Sheet2!$A$88=TRUE,-1*((AY49-BC49)/SQRT(((AZ49^2*(BA49-1))+(BD49^2*(BE49-1)))/(BA49+BE49-2))),(AY49-BC49)/SQRT(((AZ49^2*(BA49-1))+(BD49^2*(BE49-1)))/(BA49+BE49-2)))","v":{"$error":"#DIV/0!"}},"","",null,null,null,null,null,null,null,null,{"$f":"IF(Sheet2!$A$88=TRUE,-1*((BJ49-BN49)/SQRT(((BK49^2*(BL49-1))+(BO49^2*(BP49-1)))/(BL49+BP49-2))),(BJ49-BN49)/SQRT(((BK49^2*(BL49-1))+(BO49^2*(BP49-1)))/(BL49+BP49-2)))","v":{"$error":"#DIV/0!"}},"",""]
[null,null,"Outcome 45",null,null,null,null,null,null,null,null,null,null,{"$f":"IF(Sheet2!$A$89=TRUE,-1*((G50-K50)/SQRT(((H50^2*(I50-1))+(L50^2*(M50-1)))/(I50+M50-2))),(G50-K50)/SQRT(((H50^2*(I50-1))+(L50^2*(M50-1)))/(I50+M50-2)))","v":{"$error":"#DIV/0!"}},"","",null,null,null,null,null,null,null,null,{"$f":"IF(Sheet2!$A$89=TRUE,-1*((R50-V50)/SQRT(((S50^2*(T50-1))+(W50^2*(X50-1)))/(T50+X50-2))),(R50-V50)/SQRT(((S50^2*(T50-1))+(W50^2*(X50-1)))/(T50+X50-2)))","v":{"$error":"#DIV/0!"}},"","",null,null,null,null,null,null,null,null,{"$f":"IF(Sheet2!$A$89=TRUE,-1*((AC50-AG50)/SQRT(((AD50^2*(AE50-1))+(AH50^2*(AI50-1)))/(AE50+AI50-2))),(AC50-AG50)/SQRT(((AD50^2*(AE50-1))+(AH50^2*(AI50-1)))/(AE50+AI50-2)))","v":{"$error":"#DIV/0!"}},"","",null,null,null,null,null,null,null,null,{"$f":"IF(Sheet2!$A$89=TRUE,-1*((AN50-AR50)/SQRT(((AO50^2*(AP50-1))+(AS50^2*(AT50-1)))/(AP50+AT50-2))),(AN50-AR50)/SQRT(((AO50^2*(AP50-1))+(AS50^2*(AT50-1)))/(AP50+AT50-2)))","v":{"$error":"#DIV/0!"}},"","",null,null,null,null,null,null,null,null,{"$f":"IF(Sheet2!$A$89=TRUE,-1*((AY50-BC50)/SQRT(((AZ50^2*(BA50-1))+(BD50^2*(BE50-1)))/(BA50+BE50-2))),(AY50-BC50)/SQRT(((AZ50^2*(BA50-1))+(BD50^2*(BE50-1)))/(BA50+BE50-2)))","v":{"$error":"#DIV/0!"}},"","",null,null,null,null,null,null,null,null,{"$f":"IF(Sheet2!$A$89=TRUE,-1*((BJ50-BN50)/SQRT(((BK50^2*(BL50-1))+(BO50^2*(BP50-1)))/(BL50+BP50-2))),(BJ50-BN50)/SQRT(((BK50^2*(BL50-1))+(BO50^2*(BP50-1)))/(BL50+BP50-2)))","v":{"$error":"#DIV/0!"}},"",""]
[null,null,"Outcome 46",null,null,null,null,null,null,null,null,null,null,{"$f":"IF(Sheet2!$A$93=TRUE,-1*((G51-K51)/SQRT(((H51^2*(I51-1))+(L51^2*(M51-1)))/(I51+M51-2))),(G51-K51)/SQRT(((H51^2*(I51-1))+(L51^2*(M51-1)))/(I51+M51-2)))","v":{"$error":"#DIV/0!"}},{"$f":"IF(G51=\"\",\"\",N51)","v":""},{"$f":"IF(I51=\"\",\"\",SQRT((I51+M51)/(I51*M51)+(O51^2/(2*(I51+M51)))))","v":""},null,null,null,null,null,null,null,null,{"$f":"IF(Sheet2!$A$93=TRUE,-1*((R51-V51)/SQRT(((S51^2*(T51-1))+(W51^2*(X51-1)))/(T51+X51-2))),(R51-V51)/SQRT(((S51^2*(T51-1))+(W51^2*(X51-1)))/(T51+X51-2)))","v":{"$error":"#DIV/0!"}},{"$f":"IF(R51=\"\",\"\",Y51)","v":""},{"$f":"IF(T51=\"\",\"\",SQRT((T51+X51)/(T51*X51)+(Z51^2/(2*(T51+X51)))))","v":""},null,null,null,null,null,null,null,null,{"$f":"IF(Sheet2!$A$93=TRUE,-1*((AC51-AG51)/SQRT(((AD51^2*(AE51-1))+(AH51^2*(AI51-1)))/(AE51+AI51-2))),(AC51-AG51)/SQRT(((AD51^2*(AE51-1))+(AH51^2*(AI51-1)))/(AE51+AI51-2)))","v":{"$error":"#DIV/0!"}},{"$f":"IF(AC51=\"\",\"\",AJ51)","v":""},"",null,null,null,null,null,null,null,null,{"$f":"IF(Sheet2!$A$93=TRUE,-1*((AN51-AR51)/SQRT(((AO51^2*(AP51-1))+(AS51^2*(AT51-1)))/(AP51+AT51-2))),(AN51-AR51)/SQRT(((AO51^2*(AP51-1))+(AS51^2*(AT51-1)))/(AP51+AT51-2)))","v":{"$error":"#DIV/0!"}},{"$f":"IF(AN51=\"\",\"\",AU51)","v":""},{"$f":"IF(AP51=\"\",\"\",SQRT((AP51+AT51)/(AP51*AT51)+(AV51^2/(2*(AP51+AT51)))))","v":""},null,null,null,null,null,null,null,null,{"$f":"IF(Sheet2!$A$93=TRUE,-1*((AY51-BC51)/SQRT(((AZ51^2*(BA51-1))+(BD51^2*(BE51-1)))/(BA51+BE51-2))),(AY51-BC51)/SQRT(((AZ51^2*(BA51-1))+(BD51^2*(BE51-1)))/(BA51+BE51-2)))","v":{"$error":"#DIV/0!"}},{"$f":"IF(AY51=\"\",\"\",BF51)","v":""},{"$f":"IF(BA51=\"\",\"\",SQRT((BA51+BE51)/(BA51*BE51)+(BG51^2/(2*(BA51+BE51)))))","v":""},null,null,null,null,null,null,null,null,{"$f":"IF(Sheet2!$A$93=TRUE,-1*((BJ51-BN51)/SQRT(((BK51^2*(BL51-1))+(BO51^2*(BP51-1)))/(BL51+BP51-2))),(BJ51-BN51)/SQRT(((BK51^2*(BL51-1))+(BO51^2*(BP51-1)))/(BL51+BP51-2)))","v":{"$error":"#DIV/0!"}},{"$f":"IF(BJ51=\"\",\"\",BQ51)","v":""},{"$f":"IF(BL51=\"\",\"\",SQRT((BL51+BP51)/(BL51*BP51)+(BR51^2/(2*(BL51+BP51)))))","v":""}]
[null,null,"Outcome 47",null,null,null,null,null,null,null,null,null,null,{"$f":"IF(Sheet2!$A$94=TRUE,-1*((G52-K52)/SQRT(((H52^2*(I52-1))+(L52^2*(M52-1)))/(I52+M52-2))),(G52-K52)/SQRT(((H52^2*(I52-1))+(L52^2*(M52-1)))/(I52+M52-2)))","v":{"$error":"#DIV/0!"}},"","",null,null,null,null,null,null,null,null,{"$f":"IF(Sheet2!$A$94=TRUE,-1*((R52-V52)/SQRT(((S52^2*(T52-1))+(W52^2*(X52-1)))/(T52+X52-2))),(R52-V52)/SQRT(((S52^2*(T52-1))+(W52^2*(X52-1)))/(T52+X52-2)))","v":{"$error":"#DIV/0!"}},"","",null,null,null,null,null,null,null,null,{"$f":"IF(Sheet2!$A$94=TRUE,-1*((AC52-AG52)/SQRT(((AD52^2*(AE52-1))+(AH52^2*(AI52-1)))/(AE52+AI52-2))),(AC52-AG52)/SQRT(((AD52^2*(AE52-1))+(AH52^2*(AI52-1)))/(AE52+AI52-2)))","v":{"$error":"#DIV/0!"}},"","",null,null,null,null,null,null,null,null,{"$f":"IF(Sheet2!$A$94=TRUE,-1*((AN52-AR52)/SQRT(((AO52^2*(AP52-1))+(AS52^2*(AT52-1)))/(AP52+AT52-2))),(AN52-AR52)/SQRT(((AO52^2*(AP52-1))+(AS52^2*(AT52-1)))/(AP52+AT52-2)))","v":{"$error":"#DIV/0!"}},"","",null,null,null,null,null,null,null,null,{"$f":"IF(Sheet2!$A$94=TRUE,-1*((AY52-BC52)/SQRT(((AZ52^2*(BA52-1))+(BD52^2*(BE52-1)))/(BA52+BE52-2))),(AY52-BC52)/SQRT(((AZ52^2*(BA52-1))+(BD52^2*(BE52-1)))/(BA52+BE52-2)))","v":{"$error":"#DIV/0!"}},"","",null,null,null,null,null,null,null,null,{"$f":"IF(Sheet2!$A$94=TRUE,-1*((BJ52-BN52)/SQRT(((BK52^2*(BL52-1))+(BO52^2*(BP52-1)))/(BL52+BP52-2))),(BJ52-BN52)/SQRT(((BK52^2*(BL52-1))+(BO52^2*(BP52-1)))/(BL52+BP52-2)))","v":{"$error":"#DIV/0!"}},"",""]
[null,null,"Outcome 48",null,null,null,null,null,null,null,null,null,null,{"$f":"IF(Sheet2!$A$95=TRUE,-1*((G53-K53)/SQRT(((H53^2*(I53-1))+(L53^2*(M53-1)))/(I53+M53-2))),(G53-K53)/SQRT(((H53^2*(I53-1))+(L53^2*(M53-1)))/(I53+M53-2)))","v":{"$error":"#DIV/0!"}},"","",null,null,null,null,null,null,null,null,{"$f":"IF(Sheet2!$A$95=TRUE,-1*((R53-V53)/SQRT(((S53^2*(T53-1))+(W53^2*(X53-1)))/(T53+X53-2))),(R53-V53)/SQRT(((S53^2*(T53-1))+(W53^2*(X53-1)))/(T53+X53-2)))","v":{"$error":"#DIV/0!"}},"","",null,null,null,null,null,null,null,null,{"$f":"IF(Sheet2!$A$95=TRUE,-1*((AC53-AG53)/SQRT(((AD53^2*(AE53-1))+(AH53^2*(AI53-1)))/(AE53+AI53-2))),(AC53-AG53)/SQRT(((AD53^2*(AE53-1))+(AH53^2*(AI53-1)))/(AE53+AI53-2)))","v":{"$error":"#DIV/0!"}},"","",null,null,null,null,null,null,null,null,{"$f":"IF(Sheet2!$A$95=TRUE,-1*((AN53-AR53)/SQRT(((AO53^2*(AP53-1))+(AS53^2*(AT53-1)))/(AP53+AT53-2))),(AN53-AR53)/SQRT(((AO53^2*(AP53-1))+(AS53^2*(AT53-1)))/(AP53+AT53-2)))","v":{"$error":"#DIV/0!"}},"","",null,null,null,null,null,null,null,null,{"$f":"IF(Sheet2!$A$95=TRUE,-1*((AY53-BC53)/SQRT(((AZ53^2*(BA53-1))+(BD53^2*(BE53-1)))/(BA53+BE53-2))),(AY53-BC53)/SQRT(((AZ53^2*(BA53-1))+(BD53^2*(BE53-1)))/(BA53+BE53-2)))","v":{"$error":"#DIV/0!"}},"","",null,null,null,null,null,null,null,null,{"$f":"IF(Sheet2!$A$95=TRUE,-1*((BJ53-BN53)/SQRT(((BK53^2*(BL53-1))+(BO53^2*(BP53-1)))/(BL53+BP53-2))),(BJ53-BN53)/SQRT(((BK53^2*(BL53-1))+(BO53^2*(BP53-1)))/(BL53+BP53-2)))","v":{"$error":"#DIV/0!"}},"",""]
[null,null,"Outcome 49",null,null,null,null,null,null,null,null,null,null,{"$f":"IF(Sheet2!$A$96=TRUE,-1*((G54-K54)/SQRT(((H54^2*(I54-1))+(L54^2*(M54-1)))/(I54+M54-2))),(G54-K54)/SQRT(((H54^2*(I54-1))+(L54^2*(M54-1)))/(I54+M54-2)))","v":{"$error":"#DIV/0!"}},"","",null,null,null,null,null,null,null,null,{"$f":"IF(Sheet2!$A$96=TRUE,-1*((R54-V54)/SQRT(((S54^2*(T54-1))+(W54^2*(X54-1)))/(T54+X54-2))),(R54-V54)/SQRT(((S54^2*(T54-1))+(W54^2*(X54-1)))/(T54+X54-2)))","v":{"$error":"#DIV/0!"}},"","",null,null,null,null,null,null,null,null,{"$f":"IF(Sheet2!$A$96=TRUE,-1*((AC54-AG54)/SQRT(((AD54^2*(AE54-1))+(AH54^2*(AI54-1)))/(AE54+AI54-2))),(AC54-AG54)/SQRT(((AD54^2*(AE54-1))+(AH54^2*(AI54-1)))/(AE54+AI54-2)))","v":{"$error":"#DIV/0!"}},"","",null,null,null,null,null,null,null,null,{"$f":"IF(Sheet2!$A$96=TRUE,-1*((AN54-AR54)/SQRT(((AO54^2*(AP54-1))+(AS54^2*(AT54-1)))/(AP54+AT54-2))),(AN54-AR54)/SQRT(((AO54^2*(AP54-1))+(AS54^2*(AT54-1)))/(AP54+AT54-2)))","v":{"$error":"#DIV/0!"}},"","",null,null,null,null,null,null,null,null,{"$f":"IF(Sheet2!$A$96=TRUE,-1*((AY54-BC54)/SQRT(((AZ54^2*(BA54-1))+(BD54^2*(BE54-1)))/(BA54+BE54-2))),(AY54-BC54)/SQRT(((AZ54^2*(BA54-1))+(BD54^2*(BE54-1)))/(BA54+BE54-2)))","v":{"$error":"#DIV/0!"}},"","",null,null,null,null,null,null,null,null,{"$f":"IF(Sheet2!$A$96=TRUE,-1*((BJ54-BN54)/SQRT(((BK54^2*(BL54-1))+(BO54^2*(BP54-1)))/(BL54+BP54-2))),(BJ54-BN54)/SQRT(((BK54^2*(BL54-1))+(BO54^2*(BP54-1)))/(BL54+BP54-2)))","v":{"$error":"#DIV/0!"}},"",""]
[null,null,"Outcome 50",null,null,null,null,null,null,null,null,null,null,{"$f":"IF(Sheet2!$A$97=TRUE,-1*((G55-K55)/SQRT(((H55^2*(I55-1))+(L55^2*(M55-1)))/(I55+M55-2))),(G55-K55)/SQRT(((H55^2*(I55-1))+(L55^2*(M55-1)))/(I55+M55-2)))","v":{"$error":"#DIV/0!"}},"","",null,null,null,null,null,null,null,null,{"$f":"IF(Sheet2!$A$97=TRUE,-1*((R55-V55)/SQRT(((S55^2*(T55-1))+(W55^2*(X55-1)))/(T55+X55-2))),(R55-V55)/SQRT(((S55^2*(T55-1))+(W55^2*(X55-1)))/(T55+X55-2)))","v":{"$error":"#DIV/0!"}},"","",null,null,null,null,null,null,null,null,{"$f":"IF(Sheet2!$A$97=TRUE,-1*((AC55-AG55)/SQRT(((AD55^2*(AE55-1))+(AH55^2*(AI55-1)))/(AE55+AI55-2))),(AC55-AG55)/SQRT(((AD55^2*(AE55-1))+(AH55^2*(AI55-1)))/(AE55+AI55-2)))","v":{"$error":"#DIV/0!"}},"","",null,null,null,null,null,null,null,null,{"$f":"IF(Sheet2!$A$97=TRUE,-1*((AN55-AR55)/SQRT(((AO55^2*(AP55-1))+(AS55^2*(AT55-1)))/(AP55+AT55-2))),(AN55-AR55)/SQRT(((AO55^2*(AP55-1))+(AS55^2*(AT55-1)))/(AP55+AT55-2)))","v":{"$error":"#DIV/0!"}},"","",null,null,null,null,null,null,null,null,{"$f":"IF(Sheet2!$A$97=TRUE,-1*((AY55-BC55)/SQRT(((AZ55^2*(BA55-1))+(BD55^2*(BE55-1)))/(BA55+BE55-2))),(AY55-BC55)/SQRT(((AZ55^2*(BA55-1))+(BD55^2*(BE55-1)))/(BA55+BE55-2)))","v":{"$error":"#DIV/0!"}},"","",null,null,null,null,null,null,null,null,{"$f":"IF(Sheet2!$A$97=TRUE,-1*((BJ55-BN55)/SQRT(((BK55^2*(BL55-1))+(BO55^2*(BP55-1)))/(BL55+BP55-2))),(BJ55-BN55)/SQRT(((BK55^2*(BL55-1))+(BO55^2*(BP55-1)))/(BL55+BP55-2)))","v":{"$error":"#DIV/0!"}},"",""]
[null,null,"Outcome 51",null,null,null,null,null,null,null,null,null,null,{"$f":"IF(Sheet2!$A$105=TRUE,-1*((G56-K56)/SQRT(((H56^2*(I56-1))+(L56^2*(M56-1)))/(I56+M56-2))),(G56-K56)/SQRT(((H56^2*(I56-1))+(L56^2*(M56-1)))/(I56+M56-2)))","v":{"$error":"#DIV/0!"}},{"$f":"IF(G56=\"\",\"\",N56)","v":""},{"$f":"IF(I56=\"\",\"\",SQRT((I56+M56)/(I56*M56)+(O56^2/(2*(I56+M56)))))","v":""},null,null,null,null,null,null,null,null,{"$f":"IF(Sheet2!$A$105=TRUE,-1*((R56-V56)/SQRT(((S56^2*(T56-1))+(W56^2*(X56-1)))/(T56+X56-2))),(R56-V56)/SQRT(((S56^2*(T56-1))+(W56^2*(X56-1)))/(T56+X56-2)))","v":{"$error":"#DIV/0!"}},{"$f":"IF(R56=\"\",\"\",Y56)","v":""},{"$f":"IF(T56=\"\",\"\",SQRT((T56+X56)/(T56*X56)+(Z56^2/(2*(T56+X56)))))","v":""},null,null,null,null,null,null,null,null,{"$f":"IF(Sheet2!$A$105=TRUE,-1*((AC56-AG56)/SQRT(((AD56^2*(AE56-1))+(AH56^2*(AI56-1)))/(AE56+AI56-2))),(AC56-AG56)/SQRT(((AD56^2*(AE56-1))+(AH56^2*(AI56-1)))/(AE56+AI56-2)))","v":{"$error":"#DIV/0!"}},{"$f":"IF(AC56=\"\",\"\",AJ56)","v":""},"",null,null,null,null,null,null,null,null,{"$f":"IF(Sheet2!$A$105=TRUE,-1*((AN56-AR56)/SQRT(((AO56^2*(AP56-1))+(AS56^2*(AT56-1)))/(AP56+AT56-2))),(AN56-AR56)/SQRT(((AO56^2*(AP56-1))+(AS56^2*(AT56-1)))/(AP56+AT56-2)))","v":{"$error":"#DIV/0!"}},{"$f":"IF(AN56=\"\",\"\",AU56)","v":""},{"$f":"IF(AP56=\"\",\"\",SQRT((AP56+AT56)/(AP56*AT56)+(AV56^2/(2*(AP56+AT56)))))","v":""},null,null,null,null,null,null,null,null,{"$f":"IF(Sheet2!$A$105=TRUE,-1*((AY56-BC56)/SQRT(((AZ56^2*(BA56-1))+(BD56^2*(BE56-1)))/(BA56+BE56-2))),(AY56-BC56)/SQRT(((AZ56^2*(BA56-1))+(BD56^2*(BE56-1)))/(BA56+BE56-2)))","v":{"$error":"#DIV/0!"}},{"$f":"IF(AY56=\"\",\"\",BF56)","v":""},{"$f":"IF(BA56=\"\",\"\",SQRT((BA56+BE56)/(BA56*BE56)+(BG56^2/(2*(BA56+BE56)))))","v":""},null,null,null,null,null,null,null,null,{"$f":"IF(Sheet2!$A$105=TRUE,-1*((BJ56-BN56)/SQRT(((BK56^2*(BL56-1))+(BO56^2*(BP56-1)))/(BL56+BP56-2))),(BJ56-BN56)/SQRT(((BK56^2*(BL56-1))+(BO56^2*(BP56-1)))/(BL56+BP56-2)))","v":{"$error":"#DIV/0!"}},{"$f":"IF(BJ56=\"\",\"\",BQ56)","v":""},{"$f":"IF(BL56=\"\",\"\",SQRT((BL56+BP56)/(BL56*BP56)+(BR56^2/(2*(BL56+BP56)))))","v":""}]
[null,null,"Outcome 52",null,null,null,null,null,null,null,null,null,null,{"$f":"IF(Sheet2!$A$106=TRUE,-1*((G57-K57)/SQRT(((H57^2*(I57-1))+(L57^2*(M57-1)))/(I57+M57-2))),(G57-K57)/SQRT(((H57^2*(I57-1))+(L57^2*(M57-1)))/(I57+M57-2)))","v":{"$error":"#DIV/0!"}},{"$f":"IF(G57=\"\",\"\",N57)","v":""},"",null,null,null,null,null,null,null,null,{"$f":"IF(Sheet2!$A$106=TRUE,-1*((R57-V57)/SQRT(((S57^2*(T57-1))+(W57^2*(X57-1)))/(T57+X57-2))),(R57-V57)/SQRT(((S57^2*(T57-1))+(W57^2*(X57-1)))/(T57+X57-2)))","v":{"$error":"#DIV/0!"}},{"$f":"IF(R57=\"\",\"\",Y57)","v":""},"",null,null,null,null,null,null,null,null,{"$f":"IF(Sheet2!$A$106=TRUE,-1*((AC57-AG57)/SQRT(((AD57^2*(AE57-1))+(AH57^2*(AI57-1)))/(AE57+AI57-2))),(AC57-AG57)/SQRT(((AD57^2*(AE57-1))+(AH57^2*(AI57-1)))/(AE57+AI57-2)))","v":{"$error":"#DIV/0!"}},{"$f":"IF(AC57=\"\",\"\",AJ57)","v":""},"",null,null,null,null,null,null,null,null,{"$f":"IF(Sheet2!$A$106=TRUE,-1*((AN57-AR57)/SQRT(((AO57^2*(AP57-1))+(AS57^2*(AT57-1)))/(AP57+AT57-2))),(AN57-AR57)/SQRT(((AO57^2*(AP57-1))+(AS57^2*(AT57-1)))/(AP57+AT57-2)))","v":{"$error":"#DIV/0!"}},{"$f":"IF(AN57=\"\",\"\",AU57)","v":""},"",null,null,null,null,null,null,null,null,{"$f":"IF(Sheet2!$A$106=TRUE,-1*((AY57-BC57)/SQRT(((AZ57^2*(BA57-1))+(BD57^2*(BE57-1)))/(BA57+BE57-2))),(AY57-BC57)/SQRT(((AZ57^2*(BA57-1))+(BD57^2*(BE57-1)))/(BA57+BE57-2)))","v":{"$error":"#DIV/0!"}},{"$f":"IF(AY57=\"\",\"\",BF57)","v":""},"",null,null,null,null,null,null,null,null,{"$f":"IF(Sheet2!$A$106=TRUE,-1*((BJ57-BN57)/SQRT(((BK57^2*(BL57-1))+(BO57^2*(BP57-1)))/(BL57+BP57-2))),(BJ57-BN57)/SQRT(((BK57^2*(BL57-1))+(BO57^2*(BP57-1)))/(BL57+BP57-2)))","v":{"$error":"#DIV/0!"}},{"$f":"IF(BJ57=\"\",\"\",BQ57)","v":""},""]
[null,null,"Outcome 53",null,null,null,null,null,null,null,null,null,null,{"$f":"IF(Sheet2!$A$107=TRUE,-1*((G58-K58)/SQRT(((H58^2*(I58-1))+(L58^2*(M58-1)))/(I58+M58-2))),(G58-K58)/SQRT(((H58^2*(I58-1))+(L58^2*(M58-1)))/(I58+M58-2)))","v":{"$error":"#DIV/0!"}},"","",null,null,null,null,null,null,null,null,{"$f":"IF(Sheet2!$A$107=TRUE,-1*((R58-V58)/SQRT(((S58^2*(T58-1))+(W58^2*(X58-1)))/(T58+X58-2))),(R58-V58)/SQRT(((S58^2*(T58-1))+(W58^2*(X58-1)))/(T58+X58-2)))","v":{"$error":"#DIV/0!"}},"","",null,null,null,null,null,null,null,null,{"$f":"IF(Sheet2!$A$107=TRUE,-1*((AC58-AG58)/SQRT(((AD58^2*(AE58-1))+(AH58^2*(AI58-1)))/(AE58+AI58-2))),(AC58-AG58)/SQRT(((AD58^2*(AE58-1))+(AH58^2*(AI58-1)))/(AE58+AI58-2)))","v":{"$error":"#DIV/0!"}},"","",null,null,null,null,null,null,null,null,{"$f":"IF(Sheet2!$A$107=TRUE,-1*((AN58-AR58)/SQRT(((AO58^2*(AP58-1))+(AS58^2*(AT58-1)))/(AP58+AT58-2))),(AN58-AR58)/SQRT(((AO58^2*(AP58-1))+(AS58^2*(AT58-1)))/(AP58+AT58-2)))","v":{"$error":"#DIV/0!"}},"","",null,null,null,null,null,null,null,null,{"$f":"IF(Sheet2!$A$107=TRUE,-1*((AY58-BC58)/SQRT(((AZ58^2*(BA58-1))+(BD58^2*(BE58-1)))/(BA58+BE58-2))),(AY58-BC58)/SQRT(((AZ58^2*(BA58-1))+(BD58^2*(BE58-1)))/(BA58+BE58-2)))","v":{"$error":"#DIV/0!"}},"","",null,null,null,null,null,null,null,null,{"$f":"IF(Sheet2!$A$107=TRUE,-1*((BJ58-BN58)/SQRT(((BK58^2*(BL58-1))+(BO58^2*(BP58-1)))/(BL58+BP58-2))),(BJ58-BN58)/SQRT(((BK58^2*(BL58-1))+(BO58^2*(BP58-1)))/(BL58+BP58-2)))","v":{"$error":"#DIV/0!"}},"",""]
[null,null,"Outcome 54",null,null,null,null,null,null,null,null,null,null,{"$f":"IF(Sheet2!$A$108=TRUE,-1*((G59-K59)/SQRT(((H59^2*(I59-1))+(L59^2*(M59-1)))/(I59+M59-2))),(G59-K59)/SQRT(((H59^2*(I59-1))+(L59^2*(M59-1)))/(I59+M59-2)))","v":{"$error":"#DIV/0!"}},"","",null,null,null,null,null,null,null,null,{"$f":"IF(Sheet2!$A$108=TRUE,-1*((R59-V59)/SQRT(((S59^2*(T59-1))+(W59^2*(X59-1)))/(T59+X59-2))),(R59-V59)/SQRT(((S59^2*(T59-1))+(W59^2*(X59-1)))/(T59+X59-2)))","v":{"$error":"#DIV/0!"}},"","",null,null,null,null,null,null,null,null,{"$f":"IF(Sheet2!$A$108=TRUE,-1*((AC59-AG59)/SQRT(((AD59^2*(AE59-1))+(AH59^2*(AI59-1)))/(AE59+AI59-2))),(AC59-AG59)/SQRT(((AD59^2*(AE59-1))+(AH59^2*(AI59-1)))/(AE59+AI59-2)))","v":{"$error":"#DIV/0!"}},"","",null,null,null,null,null,null,null,null,{"$f":"IF(Sheet2!$A$108=TRUE,-1*((AN59-AR59)/SQRT(((AO59^2*(AP59-1))+(AS59^2*(AT59-1)))/(AP59+AT59-2))),(AN59-AR59)/SQRT(((AO59^2*(AP59-1))+(AS59^2*(AT59-1)))/(AP59+AT59-2)))","v":{"$error":"#DIV/0!"}},"","",null,null,null,null,null,null,null,null,{"$f":"IF(Sheet2!$A$108=TRUE,-1*((AY59-BC59)/SQRT(((AZ59^2*(BA59-1))+(BD59^2*(BE59-1)))/(BA59+BE59-2))),(AY59-BC59)/SQRT(((AZ59^2*(BA59-1))+(BD59^2*(BE59-1)))/(BA59+BE59-2)))","v":{"$error":"#DIV/0!"}},"","",null,null,null,null,null,null,null,null,{"$f":"IF(Sheet2!$A$108=TRUE,-1*((BJ59-BN59)/SQRT(((BK59^2*(BL59-1))+(BO59^2*(BP59-1)))/(BL59+BP59-2))),(BJ59-BN59)/SQRT(((BK59^2*(BL59-1))+(BO59^2*(BP59-1)))/(BL59+BP59-2)))","v":{"$error":"#DIV/0!"}},"",""]
[null,null,"Outcome 55",null,null,null,null,null,null,null,null,null,null,{"$f":"IF(Sheet2!$A$109=TRUE,-1*((G60-K60)/SQRT(((H60^2*(I60-1))+(L60^2*(M60-1)))/(I60+M60-2))),(G60-K60)/SQRT(((H60^2*(I60-1))+(L60^2*(M60-1)))/(I60+M60-2)))","v":{"$error":"#DIV/0!"}},"","",null,null,null,null,null,null,null,null,{"$f":"IF(Sheet2!$A$109=TRUE,-1*((R60-V60)/SQRT(((S60^2*(T60-1))+(W60^2*(X60-1)))/(T60+X60-2))),(R60-V60)/SQRT(((S60^2*(T60-1))+(W60^2*(X60-1)))/(T60+X60-2)))","v":{"$error":"#DIV/0!"}},"","",null,null,null,null,null,null,null,null,{"$f":"IF(Sheet2!$A$109=TRUE,-1*((AC60-AG60)/SQRT(((AD60^2*(AE60-1))+(AH60^2*(AI60-1)))/(AE60+AI60-2))),(AC60-AG60)/SQRT(((AD60^2*(AE60-1))+(AH60^2*(AI60-1)))/(AE60+AI60-2)))","v":{"$error":"#DIV/0!"}},"","",null,null,null,null,null,null,null,null,{"$f":"IF(Sheet2!$A$109=TRUE,-1*((AN60-AR60)/SQRT(((AO60^2*(AP60-1))+(AS60^2*(AT60-1)))/(AP60+AT60-2))),(AN60-AR60)/SQRT(((AO60^2*(AP60-1))+(AS60^2*(AT60-1)))/(AP60+AT60-2)))","v":{"$error":"#DIV/0!"}},"","",null,null,null,null,null,null,null,null,{"$f":"IF(Sheet2!$A$109=TRUE,-1*((AY60-BC60)/SQRT(((AZ60^2*(BA60-1))+(BD60^2*(BE60-1)))/(BA60+BE60-2))),(AY60-BC60)/SQRT(((AZ60^2*(BA60-1))+(BD60^2*(BE60-1)))/(BA60+BE60-2)))","v":{"$error":"#DIV/0!"}},"","",null,null,null,null,null,null,null,null,{"$f":"IF(Sheet2!$A$109=TRUE,-1*((BJ60-BN60)/SQRT(((BK60^2*(BL60-1))+(BO60^2*(BP60-1)))/(BL60+BP60-2))),(BJ60-BN60)/SQRT(((BK60^2*(BL60-1))+(BO60^2*(BP60-1)))/(BL60+BP60-2)))","v":{"$error":"#DIV/0!"}},"",""]
[null,null,"Outcome 56",null,null,null,null,null,null,null,null,null,null,{"$f":"IF(Sheet2!$A$113=TRUE,-1*((G61-K61)/SQRT(((H61^2*(I61-1))+(L61^2*(M61-1)))/(I61+M61-2))),(G61-K61)/SQRT(((H61^2*(I61-1))+(L61^2*(M61-1)))/(I61+M61-2)))","v":{"$error":"#DIV/0!"}},{"$f":"IF(G61=\"\",\"\",N61)","v":""},{"$f":"IF(I61=\"\",\"\",SQRT((I61+M61)/(I61*M61)+(O61^2/(2*(I61+M61)))))","v":""},null,null,null,null,null,null,null,null,{"$f":"IF(Sheet2!$A$113=TRUE,-1*((R61-V61)/SQRT(((S61^2*(T61-1))+(W61^2*(X61-1)))/(T61+X61-2))),(R61-V61)/SQRT(((S61^2*(T61-1))+(W61^2*(X61-1)))/(T61+X61-2)))","v":{"$error":"#DIV/0!"}},{"$f":"IF(R61=\"\",\"\",Y61)","v":""},{"$f":"IF(T61=\"\",\"\",SQRT((T61+X61)/(T61*X61)+(Z61^2/(2*(T61+X61)))))","v":""},null,null,null,null,null,null,null,null,{"$f":"IF(Sheet2!$A$113=TRUE,-1*((AC61-AG61)/SQRT(((AD61^2*(AE61-1))+(AH61^2*(AI61-1)))/(AE61+AI61-2))),(AC61-AG61)/SQRT(((AD61^2*(AE61-1))+(AH61^2*(AI61-1)))/(AE61+AI61-2)))","v":{"$error":"#DIV/0!"}},{"$f":"IF(AC61=\"\",\"\",AJ61)","v":""},"",null,null,null,null,null,null,null,null,{"$f":"IF(Sheet2!$A$113=TRUE,-1*((AN61-AR61)/SQRT(((AO61^2*(AP61-1))+(AS61^2*(AT61-1)))/(AP61+AT61-2))),(AN61-AR61)/SQRT(((AO61^2*(AP61-1))+(AS61^2*(AT61-1)))/(AP61+AT61-2)))","v":{"$error":"#DIV/0!"}},{"$f":"IF(AN61=\"\",\"\",AU61)","v":""},{"$f":"IF(AP61=\"\",\"\",SQRT((AP61+AT61)/(AP61*AT61)+(AV61^2/(2*(AP61+AT61)))))","v":""},null,null,null,null,null,null,null,null,{"$f":"IF(Sheet2!$A$113=TRUE,-1*((AY61-BC61)/SQRT(((AZ61^2*(BA61-1))+(BD61^2*(BE61-1)))/(BA61+BE61-2))),(AY61-BC61)/SQRT(((AZ61^2*(BA61-1))+(BD61^2*(BE61-1)))/(BA61+BE61-2)))","v":{"$error":"#DIV/0!"}},{"$f":"IF(AY61=\"\",\"\",BF61)","v":""},{"$f":"IF(BA61=\"\",\"\",SQRT((BA61+BE61)/(BA61*BE61)+(BG61^2/(2*(BA61+BE61)))))","v":""},null,null,null,null,null,null,null,null,{"$f":"IF(Sheet2!$A$113=TRUE,-1*((BJ61-BN61)/SQRT(((BK61^2*(BL61-1))+(BO61^2*(BP61-1)))/(BL61+BP61-2))),(BJ61-BN61)/SQRT(((BK61^2*(BL61-1))+(BO61^2*(BP61-1)))/(BL61+BP61-2)))","v":{"$error":"#DIV/0!"}},{"$f":"IF(BJ61=\"\",\"\",BQ61)","v":""},{"$f":"IF(BL61=\"\",\"\",SQRT((BL61+BP61)/(BL61*BP61)+(BR61^2/(2*(BL61+BP61)))))","v":""}]
[null,null,"Outcome 57",null,null,null,null,null,null,null,null,null,null,{"$f":"IF(Sheet2!$A$114=TRUE,-1*((G62-K62)/SQRT(((H62^2*(I62-1))+(L62^2*(M62-1)))/(I62+M62-2))),(G62-K62)/SQRT(((H62^2*(I62-1))+(L62^2*(M62-1)))/(I62+M62-2)))","v":{"$error":"#DIV/0!"}},"","",null,null,null,null,null,null,null,null,{"$f":"IF(Sheet2!$A$114=TRUE,-1*((R62-V62)/SQRT(((S62^2*(T62-1))+(W62^2*(X62-1)))/(T62+X62-2))),(R62-V62)/SQRT(((S62^2*(T62-1))+(W62^2*(X62-1)))/(T62+X62-2)))","v":{"$error":"#DIV/0!"}},"","",null,null,null,null,null,null,null,null,{"$f":"IF(Sheet2!$A$114=TRUE,-1*((AC62-AG62)/SQRT(((AD62^2*(AE62-1))+(AH62^2*(AI62-1)))/(AE62+AI62-2))),(AC62-AG62)/SQRT(((AD62^2*(AE62-1))+(AH62^2*(AI62-1)))/(AE62+AI62-2)))","v":{"$error":"#DIV/0!"}},"","",null,null,null,null,null,null,null,null,{"$f":"IF(Sheet2!$A$114=TRUE,-1*((AN62-AR62)/SQRT(((AO62^2*(AP62-1))+(AS62^2*(AT62-1)))/(AP62+AT62-2))),(AN62-AR62)/SQRT(((AO62^2*(AP62-1))+(AS62^2*(AT62-1)))/(AP62+AT62-2)))","v":{"$error":"#DIV/0!"}},"","",null,null,null,null,null,null,null,null,{"$f":"IF(Sheet2!$A$114=TRUE,-1*((AY62-BC62)/SQRT(((AZ62^2*(BA62-1))+(BD62^2*(BE62-1)))/(BA62+BE62-2))),(AY62-BC62)/SQRT(((AZ62^2*(BA62-1))+(BD62^2*(BE62-1)))/(BA62+BE62-2)))","v":{"$error":"#DIV/0!"}},"","",null,null,null,null,null,null,null,null,{"$f":"IF(Sheet2!$A$114=TRUE,-1*((BJ62-BN62)/SQRT(((BK62^2*(BL62-1))+(BO62^2*(BP62-1)))/(BL62+BP62-2))),(BJ62-BN62)/SQRT(((BK62^2*(BL62-1))+(BO62^2*(BP62-1)))/(BL62+BP62-2)))","v":{"$error":"#DIV/0!"}},"",""]
[null,null,"Outcome 58",null,null,null,null,null,null,null,null,null,null,{"$f":"IF(Sheet2!$A$115=TRUE,-1*((G63-K63)/SQRT(((H63^2*(I63-1))+(L63^2*(M63-1)))/(I63+M63-2))),(G63-K63)/SQRT(((H63^2*(I63-1))+(L63^2*(M63-1)))/(I63+M63-2)))","v":{"$error":"#DIV/0!"}},"","",null,null,null,null,null,null,null,null,{"$f":"IF(Sheet2!$A$115=TRUE,-1*((R63-V63)/SQRT(((S63^2*(T63-1))+(W63^2*(X63-1)))/(T63+X63-2))),(R63-V63)/SQRT(((S63^2*(T63-1))+(W63^2*(X63-1)))/(T63+X63-2)))","v":{"$error":"#DIV/0!"}},"","",null,null,null,null,null,null,null,null,{"$f":"IF(Sheet2!$A$115=TRUE,-1*((AC63-AG63)/SQRT(((AD63^2*(AE63-1))+(AH63^2*(AI63-1)))/(AE63+AI63-2))),(AC63-AG63)/SQRT(((AD63^2*(AE63-1))+(AH63^2*(AI63-1)))/(AE63+AI63-2)))","v":{"$error":"#DIV/0!"}},"","",null,null,null,null,null,null,null,null,{"$f":"IF(Sheet2!$A$115=TRUE,-1*((AN63-AR63)/SQRT(((AO63^2*(AP63-1))+(AS63^2*(AT63-1)))/(AP63+AT63-2))),(AN63-AR63)/SQRT(((AO63^2*(AP63-1))+(AS63^2*(AT63-1)))/(AP63+AT63-2)))","v":{"$error":"#DIV/0!"}},"","",null,null,null,null,null,null,null,null,{"$f":"IF(Sheet2!$A$115=TRUE,-1*((AY63-BC63)/SQRT(((AZ63^2*(BA63-1))+(BD63^2*(BE63-1)))/(BA63+BE63-2))),(AY63-BC63)/SQRT(((AZ63^2*(BA63-1))+(BD63^2*(BE63-1)))/(BA63+BE63-2)))","v":{"$error":"#DIV/0!"}},"","",null,null,null,null,null,null,null,null,{"$f":"IF(Sheet2!$A$115=TRUE,-1*((BJ63-BN63)/SQRT(((BK63^2*(BL63-1))+(BO63^2*(BP63-1)))/(BL63+BP63-2))),(BJ63-BN63)/SQRT(((BK63^2*(BL63-1))+(BO63^2*(BP63-1)))/(BL63+BP63-2)))","v":{"$error":"#DIV/0!"}},"",""]
[null,null,"Outcome 59",null,null,null,null,null,null,null,null,null,null,{"$f":"IF(Sheet2!$A$116=TRUE,-1*((G64-K64)/SQRT(((H64^2*(I64-1))+(L64^2*(M64-1)))/(I64+M64-2))),(G64-K64)/SQRT(((H64^2*(I64-1))+(L64^2*(M64-1)))/(I64+M64-2)))","v":{"$error":"#DIV/0!"}},"","",null,null,null,null,null,null,null,null,{"$f":"IF(Sheet2!$A$116=TRUE,-1*((R64-V64)/SQRT(((S64^2*(T64-1))+(W64^2*(X64-1)))/(T64+X64-2))),(R64-V64)/SQRT(((S64^2*(T64-1))+(W64^2*(X64-1)))/(T64+X64-2)))","v":{"$error":"#DIV/0!"}},"","",null,null,null,null,null,null,null,null,{"$f":"IF(Sheet2!$A$116=TRUE,-1*((AC64-AG64)/SQRT(((AD64^2*(AE64-1))+(AH64^2*(AI64-1)))/(AE64+AI64-2))),(AC64-AG64)/SQRT(((AD64^2*(AE64-1))+(AH64^2*(AI64-1)))/(AE64+AI64-2)))","v":{"$error":"#DIV/0!"}},"","",null,null,null,null,null,null,null,null,{"$f":"IF(Sheet2!$A$116=TRUE,-1*((AN64-AR64)/SQRT(((AO64^2*(AP64-1))+(AS64^2*(AT64-1)))/(AP64+AT64-2))),(AN64-AR64)/SQRT(((AO64^2*(AP64-1))+(AS64^2*(AT64-1)))/(AP64+AT64-2)))","v":{"$error":"#DIV/0!"}},"","",null,null,null,null,null,null,null,null,{"$f":"IF(Sheet2!$A$116=TRUE,-1*((AY64-BC64)/SQRT(((AZ64^2*(BA64-1))+(BD64^2*(BE64-1)))/(BA64+BE64-2))),(AY64-BC64)/SQRT(((AZ64^2*(BA64-1))+(BD64^2*(BE64-1)))/(BA64+BE64-2)))","v":{"$error":"#DIV/0!"}},"","",null,null,null,null,null,null,null,null,{"$f":"IF(Sheet2!$A$116=TRUE,-1*((BJ64-BN64)/SQRT(((BK64^2*(BL64-1))+(BO64^2*(BP64-1)))/(BL64+BP64-2))),(BJ64-BN64)/SQRT(((BK64^2*(BL64-1))+(BO64^2*(BP64-1)))/(BL64+BP64-2)))","v":{"$error":"#DIV/0!"}},"",""]
[null,null,"Outcome 60",null,null,null,null,null,null,null,null,null,null,{"$f":"IF(Sheet2!$A$117=TRUE,-1*((G65-K65)/SQRT(((H65^2*(I65-1))+(L65^2*(M65-1)))/(I65+M65-2))),(G65-K65)/SQRT(((H65^2*(I65-1))+(L65^2*(M65-1)))/(I65+M65-2)))","v":{"$error":"#DIV/0!"}},"","",null,null,null,null,null,null,null,null,{"$f":"IF(Sheet2!$A$117=TRUE,-1*((R65-V65)/SQRT(((S65^2*(T65-1))+(W65^2*(X65-1)))/(T65+X65-2))),(R65-V65)/SQRT(((S65^2*(T65-1))+(W65^2*(X65-1)))/(T65+X65-2)))","v":{"$error":"#DIV/0!"}},"","",null,null,null,null,null,null,null,null,{"$f":"IF(Sheet2!$A$117=TRUE,-1*((AC65-AG65)/SQRT(((AD65^2*(AE65-1))+(AH65^2*(AI65-1)))/(AE65+AI65-2))),(AC65-AG65)/SQRT(((AD65^2*(AE65-1))+(AH65^2*(AI65-1)))/(AE65+AI65-2)))","v":{"$error":"#DIV/0!"}},"","",null,null,null,null,null,null,null,null,{"$f":"IF(Sheet2!$A$117=TRUE,-1*((AN65-AR65)/SQRT(((AO65^2*(AP65-1))+(AS65^2*(AT65-1)))/(AP65+AT65-2))),(AN65-AR65)/SQRT(((AO65^2*(AP65-1))+(AS65^2*(AT65-1)))/(AP65+AT65-2)))","v":{"$error":"#DIV/0!"}},"","",null,null,null,null,null,null,null,null,{"$f":"IF(Sheet2!$A$117=TRUE,-1*((AY65-BC65)/SQRT(((AZ65^2*(BA65-1))+(BD65^2*(BE65-1)))/(BA65+BE65-2))),(AY65-BC65)/SQRT(((AZ65^2*(BA65-1))+(BD65^2*(BE65-1)))/(BA65+BE65-2)))","v":{"$error":"#DIV/0!"}},"","",null,null,null,null,null,null,null,null,{"$f":"IF(Sheet2!$A$117=TRUE,-1*((BJ65-BN65)/SQRT(((BK65^2*(BL65-1))+(BO65^2*(BP65-1)))/(BL65+BP65-2))),(BJ65-BN65)/SQRT(((BK65^2*(BL65-1))+(BO65^2*(BP65-1)))/(BL65+BP65-2)))","v":{"$error":"#DIV/0!"}},"",""]
[null,null,"Outcome 61",null,null,null,null,null,null,null,null,null,null,{"$f":"IF(Sheet2!$A$121=TRUE,-1*((G66-K66)/SQRT(((H66^2*(I66-1))+(L66^2*(M66-1)))/(I66+M66-2))),(G66-K66)/SQRT(((H66^2*(I66-1))+(L66^2*(M66-1)))/(I66+M66-2)))","v":{"$error":"#DIV/0!"}},{"$f":"IF(G66=\"\",\"\",N66)","v":""},{"$f":"IF(I66=\"\",\"\",SQRT((I66+M66)/(I66*M66)+(O66^2/(2*(I66+M66)))))","v":""},null,null,null,null,null,null,null,null,{"$f":"IF(Sheet2!$A$121=TRUE,-1*((R66-V66)/SQRT(((S66^2*(T66-1))+(W66^2*(X66-1)))/(T66+X66-2))),(R66-V66)/SQRT(((S66^2*(T66-1))+(W66^2*(X66-1)))/(T66+X66-2)))","v":{"$error":"#DIV/0!"}},{"$f":"IF(R66=\"\",\"\",Y66)","v":""},{"$f":"IF(T66=\"\",\"\",SQRT((T66+X66)/(T66*X66)+(Z66^2/(2*(T66+X66)))))","v":""},null,null,null,null,null,null,null,null,{"$f":"IF(Sheet2!$A$121=TRUE,-1*((AC66-AG66)/SQRT(((AD66^2*(AE66-1))+(AH66^2*(AI66-1)))/(AE66+AI66-2))),(AC66-AG66)/SQRT(((AD66^2*(AE66-1))+(AH66^2*(AI66-1)))/(AE66+AI66-2)))","v":{"$error":"#DIV/0!"}},{"$f":"IF(AC66=\"\",\"\",AJ66)","v":""},"",null,null,null,null,null,null,null,null,{"$f":"IF(Sheet2!$A$121=TRUE,-1*((AN66-AR66)/SQRT(((AO66^2*(AP66-1))+(AS66^2*(AT66-1)))/(AP66+AT66-2))),(AN66-AR66)/SQRT(((AO66^2*(AP66-1))+(AS66^2*(AT66-1)))/(AP66+AT66-2)))","v":{"$error":"#DIV/0!"}},{"$f":"IF(AN66=\"\",\"\",AU66)","v":""},{"$f":"IF(AP66=\"\",\"\",SQRT((AP66+AT66)/(AP66*AT66)+(AV66^2/(2*(AP66+AT66)))))","v":""},null,null,null,null,null,null,null,null,{"$f":"IF(Sheet2!$A$121=TRUE,-1*((AY66-BC66)/SQRT(((AZ66^2*(BA66-1))+(BD66^2*(BE66-1)))/(BA66+BE66-2))),(AY66-BC66)/SQRT(((AZ66^2*(BA66-1))+(BD66^2*(BE66-1)))/(BA66+BE66-2)))","v":{"$error":"#DIV/0!"}},{"$f":"IF(AY66=\"\",\"\",BF66)","v":""},{"$f":"IF(BA66=\"\",\"\",SQRT((BA66+BE66)/(BA66*BE66)+(BG66^2/(2*(BA66+BE66)))))","v":""},null,null,null,null,null,null,null,null,{"$f":"IF(Sheet2!$A$121=TRUE,-1*((BJ66-BN66)/SQRT(((BK66^2*(BL66-1))+(BO66^2*(BP66-1)))/(BL66+BP66-2))),(BJ66-BN66)/SQRT(((BK66^2*(BL66-1))+(BO66^2*(BP66-1)))/(BL66+BP66-2)))","v":{"$error":"#DIV/0!"}},{"$f":"IF(BJ66=\"\",\"\",BQ66)","v":""},{"$f":"IF(BL66=\"\",\"\",SQRT((BL66+BP66)/(BL66*BP66)+(BR66^2/(2*(BL66+BP66)))))","v":""}]
[null,null,"Outcome 62",null,null,null,null,null,null,null,null,null,null,{"$f":"IF(Sheet2!$A$122=TRUE,-1*((G67-K67)/SQRT(((H67^2*(I67-1))+(L67^2*(M67-1)))/(I67+M67-2))),(G67-K67)/SQRT(((H67^2*(I67-1))+(L67^2*(M67-1)))/(I67+M67-2)))","v":{"$error":"#DIV/0!"}},"","",null,null,null,null,null,null,null,null,{"$f":"IF(Sheet2!$A$122=TRUE,-1*((R67-V67)/SQRT(((S67^2*(T67-1))+(W67^2*(X67-1)))/(T67+X67-2))),(R67-V67)/SQRT(((S67^2*(T67-1))+(W67^2*(X67-1)))/(T67+X67-2)))","v":{"$error":"#DIV/0!"}},"","",null,null,null,null,null,null,null,null,{"$f":"IF(Sheet2!$A$122=TRUE,-1*((AC67-AG67)/SQRT(((AD67^2*(AE67-1))+(AH67^2*(AI67-1)))/(AE67+AI67-2))),(AC67-AG67)/SQRT(((AD67^2*(AE67-1))+(AH67^2*(AI67-1)))/(AE67+AI67-2)))","v":{"$error":"#DIV/0!"}},"","",null,null,null,null,null,null,null,null,{"$f":"IF(Sheet2!$A$122=TRUE,-1*((AN67-AR67)/SQRT(((AO67^2*(AP67-1))+(AS67^2*(AT67-1)))/(AP67+AT67-2))),(AN67-AR67)/SQRT(((AO67^2*(AP67-1))+(AS67^2*(AT67-1)))/(AP67+AT67-2)))","v":{"$error":"#DIV/0!"}},"","",null,null,null,null,null,null,null,null,{"$f":"IF(Sheet2!$A$122=TRUE,-1*((AY67-BC67)/SQRT(((AZ67^2*(BA67-1))+(BD67^2*(BE67-1)))/(BA67+BE67-2))),(AY67-BC67)/SQRT(((AZ67^2*(BA67-1))+(BD67^2*(BE67-1)))/(BA67+BE67-2)))","v":{"$error":"#DIV/0!"}},"","",null,null,null,null,null,null,null,null,{"$f":"IF(Sheet2!$A$122=TRUE,-1*((BJ67-BN67)/SQRT(((BK67^2*(BL67-1))+(BO67^2*(BP67-1)))/(BL67+BP67-2))),(BJ67-BN67)/SQRT(((BK67^2*(BL67-1))+(BO67^2*(BP67-1)))/(BL67+BP67-2)))","v":{"$error":"#DIV/0!"}},"",""]
[null,null,"Outcome 63",null,null,null,null,null,null,null,null,null,null,{"$f":"IF(Sheet2!$A$123=TRUE,-1*((G68-K68)/SQRT(((H68^2*(I68-1))+(L68^2*(M68-1)))/(I68+M68-2))),(G68-K68)/SQRT(((H68^2*(I68-1))+(L68^2*(M68-1)))/(I68+M68-2)))","v":{"$error":"#DIV/0!"}},"","",null,null,null,null,null,null,null,null,{"$f":"IF(Sheet2!$A$123=TRUE,-1*((R68-V68)/SQRT(((S68^2*(T68-1))+(W68^2*(X68-1)))/(T68+X68-2))),(R68-V68)/SQRT(((S68^2*(T68-1))+(W68^2*(X68-1)))/(T68+X68-2)))","v":{"$error":"#DIV/0!"}},"","",null,null,null,null,null,null,null,null,{"$f":"IF(Sheet2!$A$123=TRUE,-1*((AC68-AG68)/SQRT(((AD68^2*(AE68-1))+(AH68^2*(AI68-1)))/(AE68+AI68-2))),(AC68-AG68)/SQRT(((AD68^2*(AE68-1))+(AH68^2*(AI68-1)))/(AE68+AI68-2)))","v":{"$error":"#DIV/0!"}},"","",null,null,null,null,null,null,null,null,{"$f":"IF(Sheet2!$A$123=TRUE,-1*((AN68-AR68)/SQRT(((AO68^2*(AP68-1))+(AS68^2*(AT68-1)))/(AP68+AT68-2))),(AN68-AR68)/SQRT(((AO68^2*(AP68-1))+(AS68^2*(AT68-1)))/(AP68+AT68-2)))","v":{"$error":"#DIV/0!"}},"","",null,null,null,null,null,null,null,null,{"$f":"IF(Sheet2!$A$123=TRUE,-1*((AY68-BC68)/SQRT(((AZ68^2*(BA68-1))+(BD68^2*(BE68-1)))/(BA68+BE68-2))),(AY68-BC68)/SQRT(((AZ68^2*(BA68-1))+(BD68^2*(BE68-1)))/(BA68+BE68-2)))","v":{"$error":"#DIV/0!"}},"","",null,null,null,null,null,null,null,null,{"$f":"IF(Sheet2!$A$123=TRUE,-1*((BJ68-BN68)/SQRT(((BK68^2*(BL68-1))+(BO68^2*(BP68-1)))/(BL68+BP68-2))),(BJ68-BN68)/SQRT(((BK68^2*(BL68-1))+(BO68^2*(BP68-1)))/(BL68+BP68-2)))","v":{"$error":"#DIV/0!"}},"",""]
[null,null,"Outcome 64",null,null,null,null,null,null,null,null,null,null,{"$f":"IF(Sheet2!$A$124=TRUE,-1*((G69-K69)/SQRT(((H69^2*(I69-1))+(L69^2*(M69-1)))/(I69+M69-2))),(G69-K69)/SQRT(((H69^2*(I69-1))+(L69^2*(M69-1)))/(I69+M69-2)))","v":{"$error":"#DIV/0!"}},"","",null,null,null,null,null,null,null,null,{"$f":"IF(Sheet2!$A$124=TRUE,-1*((R69-V69)/SQRT(((S69^2*(T69-1))+(W69^2*(X69-1)))/(T69+X69-2))),(R69-V69)/SQRT(((S69^2*(T69-1))+(W69^2*(X69-1)))/(T69+X69-2)))","v":{"$error":"#DIV/0!"}},"","",null,null,null,null,null,null,null,null,{"$f":"IF(Sheet2!$A$124=TRUE,-1*((AC69-AG69)/SQRT(((AD69^2*(AE69-1))+(AH69^2*(AI69-1)))/(AE69+AI69-2))),(AC69-AG69)/SQRT(((AD69^2*(AE69-1))+(AH69^2*(AI69-1)))/(AE69+AI69-2)))","v":{"$error":"#DIV/0!"}},"","",null,null,null,null,null,null,null,null,{"$f":"IF(Sheet2!$A$124=TRUE,-1*((AN69-AR69)/SQRT(((AO69^2*(AP69-1))+(AS69^2*(AT69-1)))/(AP69+AT69-2))),(AN69-AR69)/SQRT(((AO69^2*(AP69-1))+(AS69^2*(AT69-1)))/(AP69+AT69-2)))","v":{"$error":"#DIV/0!"}},"","",null,null,null,null,null,null,null,null,{"$f":"IF(Sheet2!$A$124=TRUE,-1*((AY69-BC69)/SQRT(((AZ69^2*(BA69-1))+(BD69^2*(BE69-1)))/(BA69+BE69-2))),(AY69-BC69)/SQRT(((AZ69^2*(BA69-1))+(BD69^2*(BE69-1)))/(BA69+BE69-2)))","v":{"$error":"#DIV/0!"}},"","",null,null,null,null,null,null,null,null,{"$f":"IF(Sheet2!$A$124=TRUE,-1*((BJ69-BN69)/SQRT(((BK69^2*(BL69-1))+(BO69^2*(BP69-1)))/(BL69+BP69-2))),(BJ69-BN69)/SQRT(((BK69^2*(BL69-1))+(BO69^2*(BP69-1)))/(BL69+BP69-2)))","v":{"$error":"#DIV/0!"}},"",""]
[null,null,"Outcome 65",null,null,null,null,null,null,null,null,null,null,{"$f":"IF(Sheet2!$A$125=TRUE,-1*((G70-K70)/SQRT(((H70^2*(I70-1))+(L70^2*(M70-1)))/(I70+M70-2))),(G70-K70)/SQRT(((H70^2*(I70-1))+(L70^2*(M70-1)))/(I70+M70-2)))","v":{"$error":"#DIV/0!"}},"","",null,null,null,null,null,null,null,null,{"$f":"IF(Sheet2!$A$125=TRUE,-1*((R70-V70)/SQRT(((S70^2*(T70-1))+(W70^2*(X70-1)))/(T70+X70-2))),(R70-V70)/SQRT(((S70^2*(T70-1))+(W70^2*(X70-1)))/(T70+X70-2)))","v":{"$error":"#DIV/0!"}},"","",null,null,null,null,null,null,null,null,{"$f":"IF(Sheet2!$A$125=TRUE,-1*((AC70-AG70)/SQRT(((AD70^2*(AE70-1))+(AH70^2*(AI70-1)))/(AE70+AI70-2))),(AC70-AG70)/SQRT(((AD70^2*(AE70-1))+(AH70^2*(AI70-1)))/(AE70+AI70-2)))","v":{"$error":"#DIV/0!"}},"","",null,null,null,null,null,null,null,null,{"$f":"IF(Sheet2!$A$125=TRUE,-1*((AN70-AR70)/SQRT(((AO70^2*(AP70-1))+(AS70^2*(AT70-1)))/(AP70+AT70-2))),(AN70-AR70)/SQRT(((AO70^2*(AP70-1))+(AS70^2*(AT70-1)))/(AP70+AT70-2)))","v":{"$error":"#DIV/0!"}},"","",null,null,null,null,null,null,null,null,{"$f":"IF(Sheet2!$A$125=TRUE,-1*((AY70-BC70)/SQRT(((AZ70^2*(BA70-1))+(BD70^2*(BE70-1)))/(BA70+BE70-2))),(AY70-BC70)/SQRT(((AZ70^2*(BA70-1))+(BD70^2*(BE70-1)))/(BA70+BE70-2)))","v":{"$error":"#DIV/0!"}},"","",null,null,null,null,null,null,null,null,{"$f":"IF(Sheet2!$A$125=TRUE,-1*((BJ70-BN70)/SQRT(((BK70^2*(BL70-1))+(BO70^2*(BP70-1)))/(BL70+BP70-2))),(BJ70-BN70)/SQRT(((BK70^2*(BL70-1))+(BO70^2*(BP70-1)))/(BL70+BP70-2)))","v":{"$error":"#DIV/0!"}},"",""]
[null,null,"Outcome 66",null,null,null,null,null,null,null,null,null,null,{"$f":"IF(Sheet2!$A$129=TRUE,-1*((G71-K71)/SQRT(((H71^2*(I71-1))+(L71^2*(M71-1)))/(I71+M71-2))),(G71-K71)/SQRT(((H71^2*(I71-1))+(L71^2*(M71-1)))/(I71+M71-2)))","v":{"$error":"#DIV/0!"}},{"$f":"IF(G71=\"\",\"\",N71)","v":""},{"$f":"IF(I71=\"\",\"\",SQRT((I71+M71)/(I71*M71)+(O71^2/(2*(I71+M71)))))","v":""},null,null,null,null,null,null,null,null,{"$f":"IF(Sheet2!$A$129=TRUE,-1*((R71-V71)/SQRT(((S71^2*(T71-1))+(W71^2*(X71-1)))/(T71+X71-2))),(R71-V71)/SQRT(((S71^2*(T71-1))+(W71^2*(X71-1)))/(T71+X71-2)))","v":{"$error":"#DIV/0!"}},{"$f":"IF(R71=\"\",\"\",Y71)","v":""},{"$f":"IF(T71=\"\",\"\",SQRT((T71+X71)/(T71*X71)+(Z71^2/(2*(T71+X71)))))","v":""},null,null,null,null,null,null,null,null,{"$f":"IF(Sheet2!$A$129=TRUE,-1*((AC71-AG71)/SQRT(((AD71^2*(AE71-1))+(AH71^2*(AI71-1)))/(AE71+AI71-2))),(AC71-AG71)/SQRT(((AD71^2*(AE71-1))+(AH71^2*(AI71-1)))/(AE71+AI71-2)))","v":{"$error":"#DIV/0!"}},{"$f":"IF(AC71=\"\",\"\",AJ71)","v":""},{"$f":"IF(AE71=\"\",\"\",SQRT((AE71+AI71)/(AE71*AI71)+(AK71^2/(2*(AE71+AI71)))))","v":""},null,null,null,null,null,null,null,null,{"$f":"IF(Sheet2!$A$129=TRUE,-1*((AN71-AR71)/SQRT(((AO71^2*(AP71-1))+(AS71^2*(AT71-1)))/(AP71+AT71-2))),(AN71-AR71)/SQRT(((AO71^2*(AP71-1))+(AS71^2*(AT71-1)))/(AP71+AT71-2)))","v":{"$error":"#DIV/0!"}},{"$f":"IF(AN71=\"\",\"\",AU71)","v":""},{"$f":"IF(AP71=\"\",\"\",SQRT((AP71+AT71)/(AP71*AT71)+(AV71^2/(2*(AP71+AT71)))))","v":""},null,null,null,null,null,null,null,null,{"$f":"IF(Sheet2!$A$129=TRUE,-1*((AY71-BC71)/SQRT(((AZ71^2*(BA71-1))+(BD71^2*(BE71-1)))/(BA71+BE71-2))),(AY71-BC71)/SQRT(((AZ71^2*(BA71-1))+(BD71^2*(BE71-1)))/(BA71+BE71-2)))","v":{"$error":"#DIV/0!"}},{"$f":"IF(AY71=\"\",\"\",BF71)","v":""},{"$f":"IF(BA71=\"\",\"\",SQRT((BA71+BE71)/(BA71*BE71)+(BG71^2/(2*(BA71+BE71)))))","v":""},null,null,null,null,null,null,null,null,{"$f":"IF(Sheet2!$A$129=TRUE,-1*((BJ71-BN71)/SQRT(((BK71^2*(BL71-1))+(BO71^2*(BP71-1)))/(BL71+BP71-2))),(BJ71-BN71)/SQRT(((BK71^2*(BL71-1))+(BO71^2*(BP71-1)))/(BL71+BP71-2)))","v":{"$error":"#DIV/0!"}},{"$f":"IF(BJ71=\"\",\"\",BQ71)","v":""},{"$f":"IF(BL71=\"\",\"\",SQRT((BL71+BP71)/(BL71*BP71)+(BR71^2/(2*(BL71+BP71)))))","v":""}]
[null,null,"Outcome 67",null,null,null,null,null,null,null,null,null,null,{"$f":"IF(Sheet2!$A$130=TRUE,-1*((G72-K72)/SQRT(((H72^2*(I72-1))+(L72^2*(M72-1)))/(I72+M72-2))),(G72-K72)/SQRT(((H72^2*(I72-1))+(L72^2*(M72-1)))/(I72+M72-2)))","v":{"$error":"#DIV/0!"}},"","",null,null,null,null,null,null,null,null,{"$f":"IF(Sheet2!$A$130=TRUE,-1*((R72-V72)/SQRT(((S72^2*(T72-1))+(W72^2*(X72-1)))/(T72+X72-2))),(R72-V72)/SQRT(((S72^2*(T72-1))+(W72^2*(X72-1)))/(T72+X72-2)))","v":{"$error":"#DIV/0!"}},"","",null,null,null,null,null,null,null,null,{"$f":"IF(Sheet2!$A$130=TRUE,-1*((AC72-AG72)/SQRT(((AD72^2*(AE72-1))+(AH72^2*(AI72-1)))/(AE72+AI72-2))),(AC72-AG72)/SQRT(((AD72^2*(AE72-1))+(AH72^2*(AI72-1)))/(AE72+AI72-2)))","v":{"$error":"#DIV/0!"}},"","",null,null,null,null,null,null,null,null,{"$f":"IF(Sheet2!$A$130=TRUE,-1*((AN72-AR72)/SQRT(((AO72^2*(AP72-1))+(AS72^2*(AT72-1)))/(AP72+AT72-2))),(AN72-AR72)/SQRT(((AO72^2*(AP72-1))+(AS72^2*(AT72-1)))/(AP72+AT72-2)))","v":{"$error":"#DIV/0!"}},"","",null,null,null,null,null,null,null,null,{"$f":"IF(Sheet2!$A$130=TRUE,-1*((AY72-BC72)/SQRT(((AZ72^2*(BA72-1))+(BD72^2*(BE72-1)))/(BA72+BE72-2))),(AY72-BC72)/SQRT(((AZ72^2*(BA72-1))+(BD72^2*(BE72-1)))/(BA72+BE72-2)))","v":{"$error":"#DIV/0!"}},"","",null,null,null,null,null,null,null,null,{"$f":"IF(Sheet2!$A$130=TRUE,-1*((BJ72-BN72)/SQRT(((BK72^2*(BL72-1))+(BO72^2*(BP72-1)))/(BL72+BP72-2))),(BJ72-BN72)/SQRT(((BK72^2*(BL72-1))+(BO72^2*(BP72-1)))/(BL72+BP72-2)))","v":{"$error":"#DIV/0!"}},"",""]
[null,null,"Outcome 68",null,null,null,null,null,null,null,null,null,null,{"$f":"IF(Sheet2!$A$131=TRUE,-1*((G73-K73)/SQRT(((H73^2*(I73-1))+(L73^2*(M73-1)))/(I73+M73-2))),(G73-K73)/SQRT(((H73^2*(I73-1))+(L73^2*(M73-1)))/(I73+M73-2)))","v":{"$error":"#DIV/0!"}},"","",null,null,null,null,null,null,null,null,{"$f":"IF(Sheet2!$A$131=TRUE,-1*((R73-V73)/SQRT(((S73^2*(T73-1))+(W73^2*(X73-1)))/(T73+X73-2))),(R73-V73)/SQRT(((S73^2*(T73-1))+(W73^2*(X73-1)))/(T73+X73-2)))","v":{"$error":"#DIV/0!"}},"","",null,null,null,null,null,null,null,null,{"$f":"IF(Sheet2!$A$131=TRUE,-1*((AC73-AG73)/SQRT(((AD73^2*(AE73-1))+(AH73^2*(AI73-1)))/(AE73+AI73-2))),(AC73-AG73)/SQRT(((AD73^2*(AE73-1))+(AH73^2*(AI73-1)))/(AE73+AI73-2)))","v":{"$error":"#DIV/0!"}},"","",null,null,null,null,null,null,null,null,{"$f":"IF(Sheet2!$A$131=TRUE,-1*((AN73-AR73)/SQRT(((AO73^2*(AP73-1))+(AS73^2*(AT73-1)))/(AP73+AT73-2))),(AN73-AR73)/SQRT(((AO73^2*(AP73-1))+(AS73^2*(AT73-1)))/(AP73+AT73-2)))","v":{"$error":"#DIV/0!"}},"","",null,null,null,null,null,null,null,null,{"$f":"IF(Sheet2!$A$131=TRUE,-1*((AY73-BC73)/SQRT(((AZ73^2*(BA73-1))+(BD73^2*(BE73-1)))/(BA73+BE73-2))),(AY73-BC73)/SQRT(((AZ73^2*(BA73-1))+(BD73^2*(BE73-1)))/(BA73+BE73-2)))","v":{"$error":"#DIV/0!"}},"","",null,null,null,null,null,null,null,null,{"$f":"IF(Sheet2!$A$131=TRUE,-1*((BJ73-BN73)/SQRT(((BK73^2*(BL73-1))+(BO73^2*(BP73-1)))/(BL73+BP73-2))),(BJ73-BN73)/SQRT(((BK73^2*(BL73-1))+(BO73^2*(BP73-1)))/(BL73+BP73-2)))","v":{"$error":"#DIV/0!"}},"",""]
[null,null,"Outcome 69",null,null,null,null,null,null,null,null,null,null,{"$f":"IF(Sheet2!$A$132=TRUE,-1*((G74-K74)/SQRT(((H74^2*(I74-1))+(L74^2*(M74-1)))/(I74+M74-2))),(G74-K74)/SQRT(((H74^2*(I74-1))+(L74^2*(M74-1)))/(I74+M74-2)))","v":{"$error":"#DIV/0!"}},"","",null,null,null,null,null,null,null,null,{"$f":"IF(Sheet2!$A$132=TRUE,-1*((R74-V74)/SQRT(((S74^2*(T74-1))+(W74^2*(X74-1)))/(T74+X74-2))),(R74-V74)/SQRT(((S74^2*(T74-1))+(W74^2*(X74-1)))/(T74+X74-2)))","v":{"$error":"#DIV/0!"}},"","",null,null,null,null,null,null,null,null,{"$f":"IF(Sheet2!$A$132=TRUE,-1*((AC74-AG74)/SQRT(((AD74^2*(AE74-1))+(AH74^2*(AI74-1)))/(AE74+AI74-2))),(AC74-AG74)/SQRT(((AD74^2*(AE74-1))+(AH74^2*(AI74-1)))/(AE74+AI74-2)))","v":{"$error":"#DIV/0!"}},"","",null,null,null,null,null,null,null,null,{"$f":"IF(Sheet2!$A$132=TRUE,-1*((AN74-AR74)/SQRT(((AO74^2*(AP74-1))+(AS74^2*(AT74-1)))/(AP74+AT74-2))),(AN74-AR74)/SQRT(((AO74^2*(AP74-1))+(AS74^2*(AT74-1)))/(AP74+AT74-2)))","v":{"$error":"#DIV/0!"}},"","",null,null,null,null,null,null,null,null,{"$f":"IF(Sheet2!$A$132=TRUE,-1*((AY74-BC74)/SQRT(((AZ74^2*(BA74-1))+(BD74^2*(BE74-1)))/(BA74+BE74-2))),(AY74-BC74)/SQRT(((AZ74^2*(BA74-1))+(BD74^2*(BE74-1)))/(BA74+BE74-2)))","v":{"$error":"#DIV/0!"}},"","",null,null,null,null,null,null,null,null,{"$f":"IF(Sheet2!$A$132=TRUE,-1*((BJ74-BN74)/SQRT(((BK74^2*(BL74-1))+(BO74^2*(BP74-1)))/(BL74+BP74-2))),(BJ74-BN74)/SQRT(((BK74^2*(BL74-1))+(BO74^2*(BP74-1)))/(BL74+BP74-2)))","v":{"$error":"#DIV/0!"}},"",""]
[null,null,"Outcome 70",null,null,null,null,null,null,null,null,null,null,{"$f":"IF(Sheet2!$A$133=TRUE,-1*((G75-K75)/SQRT(((H75^2*(I75-1))+(L75^2*(M75-1)))/(I75+M75-2))),(G75-K75)/SQRT(((H75^2*(I75-1))+(L75^2*(M75-1)))/(I75+M75-2)))","v":{"$error":"#DIV/0!"}},"","",null,null,null,null,null,null,null,null,{"$f":"IF(Sheet2!$A$133=TRUE,-1*((R75-V75)/SQRT(((S75^2*(T75-1))+(W75^2*(X75-1)))/(T75+X75-2))),(R75-V75)/SQRT(((S75^2*(T75-1))+(W75^2*(X75-1)))/(T75+X75-2)))","v":{"$error":"#DIV/0!"}},"",{"$f":"IF(T75=\"\",\"\",SQRT((T75+X75)/(T75*X75)+(Z75^2/(2*(T75+X75)))))","v":""},null,null,null,null,null,null,null,null,{"$f":"IF(Sheet2!$A$133=TRUE,-1*((AC75-AG75)/SQRT(((AD75^2*(AE75-1))+(AH75^2*(AI75-1)))/(AE75+AI75-2))),(AC75-AG75)/SQRT(((AD75^2*(AE75-1))+(AH75^2*(AI75-1)))/(AE75+AI75-2)))","v":{"$error":"#DIV/0!"}},"","",null,null,null,null,null,null,null,null,{"$f":"IF(Sheet2!$A$133=TRUE,-1*((AN75-AR75)/SQRT(((AO75^2*(AP75-1))+(AS75^2*(AT75-1)))/(AP75+AT75-2))),(AN75-AR75)/SQRT(((AO75^2*(AP75-1))+(AS75^2*(AT75-1)))/(AP75+AT75-2)))","v":{"$error":"#DIV/0!"}},"",{"$f":"IF(AP75=\"\",\"\",SQRT((AP75+AT75)/(AP75*AT75)+(AV75^2/(2*(AP75+AT75)))))","v":""},null,null,null,null,null,null,null,null,{"$f":"IF(Sheet2!$A$133=TRUE,-1*((AY75-BC75)/SQRT(((AZ75^2*(BA75-1))+(BD75^2*(BE75-1)))/(BA75+BE75-2))),(AY75-BC75)/SQRT(((AZ75^2*(BA75-1))+(BD75^2*(BE75-1)))/(BA75+BE75-2)))","v":{"$error":"#DIV/0!"}},"",{"$f":"IF(BA75=\"\",\"\",SQRT((BA75+BE75)/(BA75*BE75)+(BG75^2/(2*(BA75+BE75)))))","v":""},null,null,null,null,null,null,null,null,{"$f":"IF(Sheet2!$A$133=TRUE,-1*((BJ75-BN75)/SQRT(((BK75^2*(BL75-1))+(BO75^2*(BP75-1)))/(BL75+BP75-2))),(BJ75-BN75)/SQRT(((BK75^2*(BL75-1))+(BO75^2*(BP75-1)))/(BL75+BP75-2)))","v":{"$error":"#DIV/0!"}},"",{"$f":"IF(BL75=\"\",\"\",SQRT((BL75+BP75)/(BL75*BP75)+(BR75^2/(2*(BL75+BP75)))))","v":""}]
[null,null,"Outcome 71",null,null,null,null,null,null,null,null,null,null,{"$f":"IF(Sheet2!$A$137=TRUE,-1*((G76-K76)/SQRT(((H76^2*(I76-1))+(L76^2*(M76-1)))/(I76+M76-2))),(G76-K76)/SQRT(((H76^2*(I76-1))+(L76^2*(M76-1)))/(I76+M76-2)))","v":{"$error":"#DIV/0!"}},{"$f":"IF(G76=\"\",\"\",N76)","v":""},{"$f":"IF(I76=\"\",\"\",SQRT((I76+M76)/(I76*M76)+(O76^2/(2*(I76+M76)))))","v":""},null,null,null,null,null,null,null,null,{"$f":"IF(Sheet2!$A$137=TRUE,-1*((R76-V76)/SQRT(((S76^2*(T76-1))+(W76^2*(X76-1)))/(T76+X76-2))),(R76-V76)/SQRT(((S76^2*(T76-1))+(W76^2*(X76-1)))/(T76+X76-2)))","v":{"$error":"#DIV/0!"}},{"$f":"IF(R76=\"\",\"\",Y76)","v":""},{"$f":"IF(T76=\"\",\"\",SQRT((T76+X76)/(T76*X76)+(Z76^2/(2*(T76+X76)))))","v":""},null,null,null,null,null,null,null,null,{"$f":"IF(Sheet2!$A$137=TRUE,-1*((AC76-AG76)/SQRT(((AD76^2*(AE76-1))+(AH76^2*(AI76-1)))/(AE76+AI76-2))),(AC76-AG76)/SQRT(((AD76^2*(AE76-1))+(AH76^2*(AI76-1)))/(AE76+AI76-2)))","v":{"$error":"#DIV/0!"}},{"$f":"IF(AC76=\"\",\"\",AJ76)","v":""},"",null,null,null,null,null,null,null,null,{"$f":"IF(Sheet2!$A$137=TRUE,-1*((AN76-AR76)/SQRT(((AO76^2*(AP76-1))+(AS76^2*(AT76-1)))/(AP76+AT76-2))),(AN76-AR76)/SQRT(((AO76^2*(AP76-1))+(AS76^2*(AT76-1)))/(AP76+AT76-2)))","v":{"$error":"#DIV/0!"}},{"$f":"IF(AN76=\"\",\"\",AU76)","v":""},{"$f":"IF(AP76=\"\",\"\",SQRT((AP76+AT76)/(AP76*AT76)+(AV76^2/(2*(AP76+AT76)))))","v":""},null,null,null,null,null,null,null,null,{"$f":"IF(Sheet2!$A$137=TRUE,-1*((AY76-BC76)/SQRT(((AZ76^2*(BA76-1))+(BD76^2*(BE76-1)))/(BA76+BE76-2))),(AY76-BC76)/SQRT(((AZ76^2*(BA76-1))+(BD76^2*(BE76-1)))/(BA76+BE76-2)))","v":{"$error":"#DIV/0!"}},{"$f":"IF(AY76=\"\",\"\",BF76)","v":""},{"$f":"IF(BA76=\"\",\"\",SQRT((BA76+BE76)/(BA76*BE76)+(BG76^2/(2*(BA76+BE76)))))","v":""},null,null,null,null,null,null,null,null,{"$f":"IF(Sheet2!$A$137=TRUE,-1*((BJ76-BN76)/SQRT(((BK76^2*(BL76-1))+(BO76^2*(BP76-1)))/(BL76+BP76-2))),(BJ76-BN76)/SQRT(((BK76^2*(BL76-1))+(BO76^2*(BP76-1)))/(BL76+BP76-2)))","v":{"$error":"#DIV/0!"}},{"$f":"IF(BJ76=\"\",\"\",BQ76)","v":""},{"$f":"IF(BL76=\"\",\"\",SQRT((BL76+BP76)/(BL76*BP76)+(BR76^2/(2*(BL76+BP76)))))","v":""}]
[null,null,"Outcome 72",null,null,null,null,null,null,null,null,null,null,{"$f":"IF(Sheet2!$A$138=TRUE,-1*((G77-K77)/SQRT(((H77^2*(I77-1))+(L77^2*(M77-1)))/(I77+M77-2))),(G77-K77)/SQRT(((H77^2*(I77-1))+(L77^2*(M77-1)))/(I77+M77-2)))","v":{"$error":"#DIV/0!"}},"","",null,null,null,null,null,null,null,null,{"$f":"IF(Sheet2!$A$138=TRUE,-1*((R77-V77)/SQRT(((S77^2*(T77-1))+(W77^2*(X77-1)))/(T77+X77-2))),(R77-V77)/SQRT(((S77^2*(T77-1))+(W77^2*(X77-1)))/(T77+X77-2)))","v":{"$error":"#DIV/0!"}},"","",null,null,null,null,null,null,null,null,{"$f":"IF(Sheet2!$A$138=TRUE,-1*((AC77-AG77)/SQRT(((AD77^2*(AE77-1))+(AH77^2*(AI77-1)))/(AE77+AI77-2))),(AC77-AG77)/SQRT(((AD77^2*(AE77-1))+(AH77^2*(AI77-1)))/(AE77+AI77-2)))","v":{"$error":"#DIV/0!"}},"","",null,null,null,null,null,null,null,null,{"$f":"IF(Sheet2!$A$138=TRUE,-1*((AN77-AR77)/SQRT(((AO77^2*(AP77-1))+(AS77^2*(AT77-1)))/(AP77+AT77-2))),(AN77-AR77)/SQRT(((AO77^2*(AP77-1))+(AS77^2*(AT77-1)))/(AP77+AT77-2)))","v":{"$error":"#DIV/0!"}},"","",null,null,null,null,null,null,null,null,{"$f":"IF(Sheet2!$A$138=TRUE,-1*((AY77-BC77)/SQRT(((AZ77^2*(BA77-1))+(BD77^2*(BE77-1)))/(BA77+BE77-2))),(AY77-BC77)/SQRT(((AZ77^2*(BA77-1))+(BD77^2*(BE77-1)))/(BA77+BE77-2)))","v":{"$error":"#DIV/0!"}},"","",null,null,null,null,null,null,null,null,{"$f":"IF(Sheet2!$A$138=TRUE,-1*((BJ77-BN77)/SQRT(((BK77^2*(BL77-1))+(BO77^2*(BP77-1)))/(BL77+BP77-2))),(BJ77-BN77)/SQRT(((BK77^2*(BL77-1))+(BO77^2*(BP77-1)))/(BL77+BP77-2)))","v":{"$error":"#DIV/0!"}},"",""]
[null,null,"Outcome 73",null,null,null,null,null,null,null,null,null,null,{"$f":"IF(Sheet2!$A$139=TRUE,-1*((G78-K78)/SQRT(((H78^2*(I78-1))+(L78^2*(M78-1)))/(I78+M78-2))),(G78-K78)/SQRT(((H78^2*(I78-1))+(L78^2*(M78-1)))/(I78+M78-2)))","v":{"$error":"#DIV/0!"}},"","",null,null,null,null,null,null,null,null,{"$f":"IF(Sheet2!$A$139=TRUE,-1*((R78-V78)/SQRT(((S78^2*(T78-1))+(W78^2*(X78-1)))/(T78+X78-2))),(R78-V78)/SQRT(((S78^2*(T78-1))+(W78^2*(X78-1)))/(T78+X78-2)))","v":{"$error":"#DIV/0!"}},"","",null,null,null,null,null,null,null,null,{"$f":"IF(Sheet2!$A$139=TRUE,-1*((AC78-AG78)/SQRT(((AD78^2*(AE78-1))+(AH78^2*(AI78-1)))/(AE78+AI78-2))),(AC78-AG78)/SQRT(((AD78^2*(AE78-1))+(AH78^2*(AI78-1)))/(AE78+AI78-2)))","v":{"$error":"#DIV/0!"}},"","",null,null,null,null,null,null,null,null,{"$f":"IF(Sheet2!$A$139=TRUE,-1*((AN78-AR78)/SQRT(((AO78^2*(AP78-1))+(AS78^2*(AT78-1)))/(AP78+AT78-2))),(AN78-AR78)/SQRT(((AO78^2*(AP78-1))+(AS78^2*(AT78-1)))/(AP78+AT78-2)))","v":{"$error":"#DIV/0!"}},"","",null,null,null,null,null,null,null,null,{"$f":"IF(Sheet2!$A$139=TRUE,-1*((AY78-BC78)/SQRT(((AZ78^2*(BA78-1))+(BD78^2*(BE78-1)))/(BA78+BE78-2))),(AY78-BC78)/SQRT(((AZ78^2*(BA78-1))+(BD78^2*(BE78-1)))/(BA78+BE78-2)))","v":{"$error":"#DIV/0!"}},"","",null,null,null,null,null,null,null,null,{"$f":"IF(Sheet2!$A$139=TRUE,-1*((BJ78-BN78)/SQRT(((BK78^2*(BL78-1))+(BO78^2*(BP78-1)))/(BL78+BP78-2))),(BJ78-BN78)/SQRT(((BK78^2*(BL78-1))+(BO78^2*(BP78-1)))/(BL78+BP78-2)))","v":{"$error":"#DIV/0!"}},"",""]
[null,null,"Outcome 74",null,null,null,null,null,null,null,null,null,null,{"$f":"IF(Sheet2!$A$140=TRUE,-1*((G79-K79)/SQRT(((H79^2*(I79-1))+(L79^2*(M79-1)))/(I79+M79-2))),(G79-K79)/SQRT(((H79^2*(I79-1))+(L79^2*(M79-1)))/(I79+M79-2)))","v":{"$error":"#DIV/0!"}},"","",null,null,null,null,null,null,null,null,{"$f":"IF(Sheet2!$A$140=TRUE,-1*((R79-V79)/SQRT(((S79^2*(T79-1))+(W79^2*(X79-1)))/(T79+X79-2))),(R79-V79)/SQRT(((S79^2*(T79-1))+(W79^2*(X79-1)))/(T79+X79-2)))","v":{"$error":"#DIV/0!"}},"","",null,null,null,null,null,null,null,null,{"$f":"IF(Sheet2!$A$140=TRUE,-1*((AC79-AG79)/SQRT(((AD79^2*(AE79-1))+(AH79^2*(AI79-1)))/(AE79+AI79-2))),(AC79-AG79)/SQRT(((AD79^2*(AE79-1))+(AH79^2*(AI79-1)))/(AE79+AI79-2)))","v":{"$error":"#DIV/0!"}},"","",null,null,null,null,null,null,null,null,{"$f":"IF(Sheet2!$A$140=TRUE,-1*((AN79-AR79)/SQRT(((AO79^2*(AP79-1))+(AS79^2*(AT79-1)))/(AP79+AT79-2))),(AN79-AR79)/SQRT(((AO79^2*(AP79-1))+(AS79^2*(AT79-1)))/(AP79+AT79-2)))","v":{"$error":"#DIV/0!"}},"","",null,null,null,null,null,null,null,null,{"$f":"IF(Sheet2!$A$140=TRUE,-1*((AY79-BC79)/SQRT(((AZ79^2*(BA79-1))+(BD79^2*(BE79-1)))/(BA79+BE79-2))),(AY79-BC79)/SQRT(((AZ79^2*(BA79-1))+(BD79^2*(BE79-1)))/(BA79+BE79-2)))","v":{"$error":"#DIV/0!"}},"","",null,null,null,null,null,null,null,null,{"$f":"IF(Sheet2!$A$140=TRUE,-1*((BJ79-BN79)/SQRT(((BK79^2*(BL79-1))+(BO79^2*(BP79-1)))/(BL79+BP79-2))),(BJ79-BN79)/SQRT(((BK79^2*(BL79-1))+(BO79^2*(BP79-1)))/(BL79+BP79-2)))","v":{"$error":"#DIV/0!"}},"",""]
[null,null,"Outcome 75",null,null,null,null,null,null,null,null,null,null,{"$f":"IF(Sheet2!$A$141=TRUE,-1*((G80-K80)/SQRT(((H80^2*(I80-1))+(L80^2*(M80-1)))/(I80+M80-2))),(G80-K80)/SQRT(((H80^2*(I80-1))+(L80^2*(M80-1)))/(I80+M80-2)))","v":{"$error":"#DIV/0!"}},"","",null,null,null,null,null,null,null,null,{"$f":"IF(Sheet2!$A$141=TRUE,-1*((R80-V80)/SQRT(((S80^2*(T80-1))+(W80^2*(X80-1)))/(T80+X80-2))),(R80-V80)/SQRT(((S80^2*(T80-1))+(W80^2*(X80-1)))/(T80+X80-2)))","v":{"$error":"#DIV/0!"}},"","",null,null,null,null,null,null,null,null,{"$f":"IF(Sheet2!$A$141=TRUE,-1*((AC80-AG80)/SQRT(((AD80^2*(AE80-1))+(AH80^2*(AI80-1)))/(AE80+AI80-2))),(AC80-AG80)/SQRT(((AD80^2*(AE80-1))+(AH80^2*(AI80-1)))/(AE80+AI80-2)))","v":{"$error":"#DIV/0!"}},"","",null,null,null,null,null,null,null,null,{"$f":"IF(Sheet2!$A$141=TRUE,-1*((AN80-AR80)/SQRT(((AO80^2*(AP80-1))+(AS80^2*(AT80-1)))/(AP80+AT80-2))),(AN80-AR80)/SQRT(((AO80^2*(AP80-1))+(AS80^2*(AT80-1)))/(AP80+AT80-2)))","v":{"$error":"#DIV/0!"}},"","",null,null,null,null,null,null,null,null,{"$f":"IF(Sheet2!$A$141=TRUE,-1*((AY80-BC80)/SQRT(((AZ80^2*(BA80-1))+(BD80^2*(BE80-1)))/(BA80+BE80-2))),(AY80-BC80)/SQRT(((AZ80^2*(BA80-1))+(BD80^2*(BE80-1)))/(BA80+BE80-2)))","v":{"$error":"#DIV/0!"}},"","",null,null,null,null,null,null,null,null,{"$f":"IF(Sheet2!$A$141=TRUE,-1*((BJ80-BN80)/SQRT(((BK80^2*(BL80-1))+(BO80^2*(BP80-1)))/(BL80+BP80-2))),(BJ80-BN80)/SQRT(((BK80^2*(BL80-1))+(BO80^2*(BP80-1)))/(BL80+BP80-2)))","v":{"$error":"#DIV/0!"}},"",""]
[null,null,"Outcome 76",null,null,null,null,null,null,null,null,null,null,{"$f":"IF(Sheet2!$A$145=TRUE,-1*((G81-K81)/SQRT(((H81^2*(I81-1))+(L81^2*(M81-1)))/(I81+M81-2))),(G81-K81)/SQRT(((H81^2*(I81-1))+(L81^2*(M81-1)))/(I81+M81-2)))","v":{"$error":"#DIV/0!"}},{"$f":"IF(G81=\"\",\"\",N81)","v":""},{"$f":"IF(I81=\"\",\"\",SQRT((I81+M81)/(I81*M81)+(O81^2/(2*(I81+M81)))))","v":""},null,null,null,null,null,null,null,null,{"$f":"IF(Sheet2!$A$145=TRUE,-1*((R81-V81)/SQRT(((S81^2*(T81-1))+(W81^2*(X81-1)))/(T81+X81-2))),(R81-V81)/SQRT(((S81^2*(T81-1))+(W81^2*(X81-1)))/(T81+X81-2)))","v":{"$error":"#DIV/0!"}},{"$f":"IF(R81=\"\",\"\",Y81)","v":""},{"$f":"IF(T81=\"\",\"\",SQRT((T81+X81)/(T81*X81)+(Z81^2/(2*(T81+X81)))))","v":""},null,null,null,null,null,null,null,null,{"$f":"IF(Sheet2!$A$145=TRUE,-1*((AC81-AG81)/SQRT(((AD81^2*(AE81-1))+(AH81^2*(AI81-1)))/(AE81+AI81-2))),(AC81-AG81)/SQRT(((AD81^2*(AE81-1))+(AH81^2*(AI81-1)))/(AE81+AI81-2)))","v":{"$error":"#DIV/0!"}},{"$f":"IF(AC81=\"\",\"\",AJ81)","v":""},"",null,null,null,null,null,null,null,null,{"$f":"IF(Sheet2!$A$145=TRUE,-1*((AN81-AR81)/SQRT(((AO81^2*(AP81-1))+(AS81^2*(AT81-1)))/(AP81+AT81-2))),(AN81-AR81)/SQRT(((AO81^2*(AP81-1))+(AS81^2*(AT81-1)))/(AP81+AT81-2)))","v":{"$error":"#DIV/0!"}},{"$f":"IF(AN81=\"\",\"\",AU81)","v":""},{"$f":"IF(AP81=\"\",\"\",SQRT((AP81+AT81)/(AP81*AT81)+(AV81^2/(2*(AP81+AT81)))))","v":""},null,null,null,null,null,null,null,null,{"$f":"IF(Sheet2!$A$145=TRUE,-1*((AY81-BC81)/SQRT(((AZ81^2*(BA81-1))+(BD81^2*(BE81-1)))/(BA81+BE81-2))),(AY81-BC81)/SQRT(((AZ81^2*(BA81-1))+(BD81^2*(BE81-1)))/(BA81+BE81-2)))","v":{"$error":"#DIV/0!"}},{"$f":"IF(AY81=\"\",\"\",BF81)","v":""},{"$f":"IF(BA81=\"\",\"\",SQRT((BA81+BE81)/(BA81*BE81)+(BG81^2/(2*(BA81+BE81)))))","v":""},null,null,null,null,null,null,null,null,{"$f":"IF(Sheet2!$A$145=TRUE,-1*((BJ81-BN81)/SQRT(((BK81^2*(BL81-1))+(BO81^2*(BP81-1)))/(BL81+BP81-2))),(BJ81-BN81)/SQRT(((BK81^2*(BL81-1))+(BO81^2*(BP81-1)))/(BL81+BP81-2)))","v":{"$error":"#DIV/0!"}},{"$f":"IF(BJ81=\"\",\"\",BQ81)","v":""},{"$f":"IF(BL81=\"\",\"\",SQRT((BL81+BP81)/(BL81*BP81)+(BR81^2/(2*(BL81+BP81)))))","v":""}]
[null,null,"Outcome 77",null,null,null,null,null,null,null,null,null,null,{"$f":"IF(Sheet2!$A$146=TRUE,-1*((G82-K82)/SQRT(((H82^2*(I82-1))+(L82^2*(M82-1)))/(I82+M82-2))),(G82-K82)/SQRT(((H82^2*(I82-1))+(L82^2*(M82-1)))/(I82+M82-2)))","v":{"$error":"#DIV/0!"}},"","",null,null,null,null,null,null,null,null,{"$f":"IF(Sheet2!$A$146=TRUE,-1*((R82-V82)/SQRT(((S82^2*(T82-1))+(W82^2*(X82-1)))/(T82+X82-2))),(R82-V82)/SQRT(((S82^2*(T82-1))+(W82^2*(X82-1)))/(T82+X82-2)))","v":{"$error":"#DIV/0!"}},"","",null,null,null,null,null,null,null,null,{"$f":"IF(Sheet2!$A$146=TRUE,-1*((AC82-AG82)/SQRT(((AD82^2*(AE82-1))+(AH82^2*(AI82-1)))/(AE82+AI82-2))),(AC82-AG82)/SQRT(((AD82^2*(AE82-1))+(AH82^2*(AI82-1)))/(AE82+AI82-2)))","v":{"$error":"#DIV/0!"}},"","",null,null,null,null,null,null,null,null,{"$f":"IF(Sheet2!$A$146=TRUE,-1*((AN82-AR82)/SQRT(((AO82^2*(AP82-1))+(AS82^2*(AT82-1)))/(AP82+AT82-2))),(AN82-AR82)/SQRT(((AO82^2*(AP82-1))+(AS82^2*(AT82-1)))/(AP82+AT82-2)))","v":{"$error":"#DIV/0!"}},"","",null,null,null,null,null,null,null,null,{"$f":"IF(Sheet2!$A$146=TRUE,-1*((AY82-BC82)/SQRT(((AZ82^2*(BA82-1))+(BD82^2*(BE82-1)))/(BA82+BE82-2))),(AY82-BC82)/SQRT(((AZ82^2*(BA82-1))+(BD82^2*(BE82-1)))/(BA82+BE82-2)))","v":{"$error":"#DIV/0!"}},"","",null,null,null,null,null,null,null,null,{"$f":"IF(Sheet2!$A$146=TRUE,-1*((BJ82-BN82)/SQRT(((BK82^2*(BL82-1))+(BO82^2*(BP82-1)))/(BL82+BP82-2))),(BJ82-BN82)/SQRT(((BK82^2*(BL82-1))+(BO82^2*(BP82-1)))/(BL82+BP82-2)))","v":{"$error":"#DIV/0!"}},"",""]
[null,null,"Outcome 78",null,null,null,null,null,null,null,null,null,null,{"$f":"IF(Sheet2!$A$147=TRUE,-1*((G83-K83)/SQRT(((H83^2*(I83-1))+(L83^2*(M83-1)))/(I83+M83-2))),(G83-K83)/SQRT(((H83^2*(I83-1))+(L83^2*(M83-1)))/(I83+M83-2)))","v":{"$error":"#DIV/0!"}},"","",null,null,null,null,null,null,null,null,{"$f":"IF(Sheet2!$A$147=TRUE,-1*((R83-V83)/SQRT(((S83^2*(T83-1))+(W83^2*(X83-1)))/(T83+X83-2))),(R83-V83)/SQRT(((S83^2*(T83-1))+(W83^2*(X83-1)))/(T83+X83-2)))","v":{"$error":"#DIV/0!"}},"","",null,null,null,null,null,null,null,null,{"$f":"IF(Sheet2!$A$147=TRUE,-1*((AC83-AG83)/SQRT(((AD83^2*(AE83-1))+(AH83^2*(AI83-1)))/(AE83+AI83-2))),(AC83-AG83)/SQRT(((AD83^2*(AE83-1))+(AH83^2*(AI83-1)))/(AE83+AI83-2)))","v":{"$error":"#DIV/0!"}},"","",null,null,null,null,null,null,null,null,{"$f":"IF(Sheet2!$A$147=TRUE,-1*((AN83-AR83)/SQRT(((AO83^2*(AP83-1))+(AS83^2*(AT83-1)))/(AP83+AT83-2))),(AN83-AR83)/SQRT(((AO83^2*(AP83-1))+(AS83^2*(AT83-1)))/(AP83+AT83-2)))","v":{"$error":"#DIV/0!"}},"","",null,null,null,null,null,null,null,null,{"$f":"IF(Sheet2!$A$147=TRUE,-1*((AY83-BC83)/SQRT(((AZ83^2*(BA83-1))+(BD83^2*(BE83-1)))/(BA83+BE83-2))),(AY83-BC83)/SQRT(((AZ83^2*(BA83-1))+(BD83^2*(BE83-1)))/(BA83+BE83-2)))","v":{"$error":"#DIV/0!"}},"","",null,null,null,null,null,null,null,null,{"$f":"IF(Sheet2!$A$147=TRUE,-1*((BJ83-BN83)/SQRT(((BK83^2*(BL83-1))+(BO83^2*(BP83-1)))/(BL83+BP83-2))),(BJ83-BN83)/SQRT(((BK83^2*(BL83-1))+(BO83^2*(BP83-1)))/(BL83+BP83-2)))","v":{"$error":"#DIV/0!"}},"",""]
[null,null,"Outcome 79",null,null,null,null,null,null,null,null,null,null,{"$f":"IF(Sheet2!$A$148=TRUE,-1*((G84-K84)/SQRT(((H84^2*(I84-1))+(L84^2*(M84-1)))/(I84+M84-2))),(G84-K84)/SQRT(((H84^2*(I84-1))+(L84^2*(M84-1)))/(I84+M84-2)))","v":{"$error":"#DIV/0!"}},"","",null,null,null,null,null,null,null,null,{"$f":"IF(Sheet2!$A$148=TRUE,-1*((R84-V84)/SQRT(((S84^2*(T84-1))+(W84^2*(X84-1)))/(T84+X84-2))),(R84-V84)/SQRT(((S84^2*(T84-1))+(W84^2*(X84-1)))/(T84+X84-2)))","v":{"$error":"#DIV/0!"}},"","",null,null,null,null,null,null,null,null,{"$f":"IF(Sheet2!$A$148=TRUE,-1*((AC84-AG84)/SQRT(((AD84^2*(AE84-1))+(AH84^2*(AI84-1)))/(AE84+AI84-2))),(AC84-AG84)/SQRT(((AD84^2*(AE84-1))+(AH84^2*(AI84-1)))/(AE84+AI84-2)))","v":{"$error":"#DIV/0!"}},"","",null,null,null,null,null,null,null,null,{"$f":"IF(Sheet2!$A$148=TRUE,-1*((AN84-AR84)/SQRT(((AO84^2*(AP84-1))+(AS84^2*(AT84-1)))/(AP84+AT84-2))),(AN84-AR84)/SQRT(((AO84^2*(AP84-1))+(AS84^2*(AT84-1)))/(AP84+AT84-2)))","v":{"$error":"#DIV/0!"}},"","",null,null,null,null,null,null,null,null,{"$f":"IF(Sheet2!$A$148=TRUE,-1*((AY84-BC84)/SQRT(((AZ84^2*(BA84-1))+(BD84^2*(BE84-1)))/(BA84+BE84-2))),(AY84-BC84)/SQRT(((AZ84^2*(BA84-1))+(BD84^2*(BE84-1)))/(BA84+BE84-2)))","v":{"$error":"#DIV/0!"}},"","",null,null,null,null,null,null,null,null,{"$f":"IF(Sheet2!$A$148=TRUE,-1*((BJ84-BN84)/SQRT(((BK84^2*(BL84-1))+(BO84^2*(BP84-1)))/(BL84+BP84-2))),(BJ84-BN84)/SQRT(((BK84^2*(BL84-1))+(BO84^2*(BP84-1)))/(BL84+BP84-2)))","v":{"$error":"#DIV/0!"}},"",""]
[null,null,"Outcome 80",null,null,null,null,null,null,null,null,null,null,{"$f":"IF(Sheet2!$A$149=TRUE,-1*((G85-K85)/SQRT(((H85^2*(I85-1))+(L85^2*(M85-1)))/(I85+M85-2))),(G85-K85)/SQRT(((H85^2*(I85-1))+(L85^2*(M85-1)))/(I85+M85-2)))","v":{"$error":"#DIV/0!"}},"","",null,null,null,null,null,null,null,null,{"$f":"IF(Sheet2!$A$149=TRUE,-1*((R85-V85)/SQRT(((S85^2*(T85-1))+(W85^2*(X85-1)))/(T85+X85-2))),(R85-V85)/SQRT(((S85^2*(T85-1))+(W85^2*(X85-1)))/(T85+X85-2)))","v":{"$error":"#DIV/0!"}},"","",null,null,null,null,null,null,null,null,{"$f":"IF(Sheet2!$A$149=TRUE,-1*((AC85-AG85)/SQRT(((AD85^2*(AE85-1))+(AH85^2*(AI85-1)))/(AE85+AI85-2))),(AC85-AG85)/SQRT(((AD85^2*(AE85-1))+(AH85^2*(AI85-1)))/(AE85+AI85-2)))","v":{"$error":"#DIV/0!"}},"","",null,null,null,null,null,null,null,null,{"$f":"IF(Sheet2!$A$149=TRUE,-1*((AN85-AR85)/SQRT(((AO85^2*(AP85-1))+(AS85^2*(AT85-1)))/(AP85+AT85-2))),(AN85-AR85)/SQRT(((AO85^2*(AP85-1))+(AS85^2*(AT85-1)))/(AP85+AT85-2)))","v":{"$error":"#DIV/0!"}},"","",null,null,null,null,null,null,null,null,{"$f":"IF(Sheet2!$A$149=TRUE,-1*((AY85-BC85)/SQRT(((AZ85^2*(BA85-1))+(BD85^2*(BE85-1)))/(BA85+BE85-2))),(AY85-BC85)/SQRT(((AZ85^2*(BA85-1))+(BD85^2*(BE85-1)))/(BA85+BE85-2)))","v":{"$error":"#DIV/0!"}},"","",null,null,null,null,null,null,null,null,{"$f":"IF(Sheet2!$A$149=TRUE,-1*((BJ85-BN85)/SQRT(((BK85^2*(BL85-1))+(BO85^2*(BP85-1)))/(BL85+BP85-2))),(BJ85-BN85)/SQRT(((BK85^2*(BL85-1))+(BO85^2*(BP85-1)))/(BL85+BP85-2)))","v":{"$error":"#DIV/0!"}},"",""]
[null,null,"Outcome 81",null,null,null,null,null,null,null,null,null,null,{"$f":"IF(Sheet2!$A$153=TRUE,-1*((G86-K86)/SQRT(((H86^2*(I86-1))+(L86^2*(M86-1)))/(I86+M86-2))),(G86-K86)/SQRT(((H86^2*(I86-1))+(L86^2*(M86-1)))/(I86+M86-2)))","v":{"$error":"#DIV/0!"}},{"$f":"IF(G86=\"\",\"\",N86)","v":""},{"$f":"IF(I86=\"\",\"\",SQRT((I86+M86)/(I86*M86)+(O86^2/(2*(I86+M86)))))","v":""},null,null,null,null,null,null,null,null,{"$f":"IF(Sheet2!$A$153=TRUE,-1*((R86-V86)/SQRT(((S86^2*(T86-1))+(W86^2*(X86-1)))/(T86+X86-2))),(R86-V86)/SQRT(((S86^2*(T86-1))+(W86^2*(X86-1)))/(T86+X86-2)))","v":{"$error":"#DIV/0!"}},{"$f":"IF(R86=\"\",\"\",Y86)","v":""},{"$f":"IF(T86=\"\",\"\",SQRT((T86+X86)/(T86*X86)+(Z86^2/(2*(T86+X86)))))","v":""},null,null,null,null,null,null,null,null,{"$f":"IF(Sheet2!$A$153=TRUE,-1*((AC86-AG86)/SQRT(((AD86^2*(AE86-1))+(AH86^2*(AI86-1)))/(AE86+AI86-2))),(AC86-AG86)/SQRT(((AD86^2*(AE86-1))+(AH86^2*(AI86-1)))/(AE86+AI86-2)))","v":{"$error":"#DIV/0!"}},{"$f":"IF(AC86=\"\",\"\",AJ86)","v":""},"",null,null,null,null,null,null,null,null,{"$f":"IF(Sheet2!$A$153=TRUE,-1*((AN86-AR86)/SQRT(((AO86^2*(AP86-1))+(AS86^2*(AT86-1)))/(AP86+AT86-2))),(AN86-AR86)/SQRT(((AO86^2*(AP86-1))+(AS86^2*(AT86-1)))/(AP86+AT86-2)))","v":{"$error":"#DIV/0!"}},{"$f":"IF(AN86=\"\",\"\",AU86)","v":""},{"$f":"IF(AP86=\"\",\"\",SQRT((AP86+AT86)/(AP86*AT86)+(AV86^2/(2*(AP86+AT86)))))","v":""},null,null,null,null,null,null,null,null,{"$f":"IF(Sheet2!$A$153=TRUE,-1*((AY86-BC86)/SQRT(((AZ86^2*(BA86-1))+(BD86^2*(BE86-1)))/(BA86+BE86-2))),(AY86-BC86)/SQRT(((AZ86^2*(BA86-1))+(BD86^2*(BE86-1)))/(BA86+BE86-2)))","v":{"$error":"#DIV/0!"}},{"$f":"IF(AY86=\"\",\"\",BF86)","v":""},{"$f":"IF(BA86=\"\",\"\",SQRT((BA86+BE86)/(BA86*BE86)+(BG86^2/(2*(BA86+BE86)))))","v":""},null,null,null,null,null,null,null,null,{"$f":"IF(Sheet2!$A$153=TRUE,-1*((BJ86-BN86)/SQRT(((BK86^2*(BL86-1))+(BO86^2*(BP86-1)))/(BL86+BP86-2))),(BJ86-BN86)/SQRT(((BK86^2*(BL86-1))+(BO86^2*(BP86-1)))/(BL86+BP86-2)))","v":{"$error":"#DIV/0!"}},{"$f":"IF(BJ86=\"\",\"\",BQ86)","v":""},{"$f":"IF(BL86=\"\",\"\",SQRT((BL86+BP86)/(BL86*BP86)+(BR86^2/(2*(BL86+BP86)))))","v":""}]
[null,null,"Outcome 82",null,null,null,null,null,null,null,null,null,null,{"$f":"IF(Sheet2!$A$154=TRUE,-1*((G87-K87)/SQRT(((H87^2*(I87-1))+(L87^2*(M87-1)))/(I87+M87-2))),(G87-K87)/SQRT(((H87^2*(I87-1))+(L87^2*(M87-1)))/(I87+M87-2)))","v":{"$error":"#DIV/0!"}},{"$f":"IF(G87=\"\",\"\",N87)","v":""},"",null,null,null,null,null,null,null,null,{"$f":"IF(Sheet2!$A$154=TRUE,-1*((R87-V87)/SQRT(((S87^2*(T87-1))+(W87^2*(X87-1)))/(T87+X87-2))),(R87-V87)/SQRT(((S87^2*(T87-1))+(W87^2*(X87-1)))/(T87+X87-2)))","v":{"$error":"#DIV/0!"}},{"$f":"IF(R87=\"\",\"\",Y87)","v":""},"",null,null,null,null,null,null,null,null,{"$f":"IF(Sheet2!$A$154=TRUE,-1*((AC87-AG87)/SQRT(((AD87^2*(AE87-1))+(AH87^2*(AI87-1)))/(AE87+AI87-2))),(AC87-AG87)/SQRT(((AD87^2*(AE87-1))+(AH87^2*(AI87-1)))/(AE87+AI87-2)))","v":{"$error":"#DIV/0!"}},{"$f":"IF(AC87=\"\",\"\",AJ87)","v":""},"",null,null,null,null,null,null,null,null,{"$f":"IF(Sheet2!$A$154=TRUE,-1*((AN87-AR87)/SQRT(((AO87^2*(AP87-1))+(AS87^2*(AT87-1)))/(AP87+AT87-2))),(AN87-AR87)/SQRT(((AO87^2*(AP87-1))+(AS87^2*(AT87-1)))/(AP87+AT87-2)))","v":{"$error":"#DIV/0!"}},{"$f":"IF(AN87=\"\",\"\",AU87)","v":""},"",null,null,null,null,null,null,null,null,{"$f":"IF(Sheet2!$A$154=TRUE,-1*((AY87-BC87)/SQRT(((AZ87^2*(BA87-1))+(BD87^2*(BE87-1)))/(BA87+BE87-2))),(AY87-BC87)/SQRT(((AZ87^2*(BA87-1))+(BD87^2*(BE87-1)))/(BA87+BE87-2)))","v":{"$error":"#DIV/0!"}},{"$f":"IF(AY87=\"\",\"\",BF87)","v":""},"",null,null,null,null,null,null,null,null,{"$f":"IF(Sheet2!$A$154=TRUE,-1*((BJ87-BN87)/SQRT(((BK87^2*(BL87-1))+(BO87^2*(BP87-1)))/(BL87+BP87-2))),(BJ87-BN87)/SQRT(((BK87^2*(BL87-1))+(BO87^2*(BP87-1)))/(BL87+BP87-2)))","v":{"$error":"#DIV/0!"}},{"$f":"IF(BJ87=\"\",\"\",BQ87)","v":""},""]
[null,null,"Outcome 83",null,null,null,null,null,null,null,null,null,null,{"$f":"IF(Sheet2!$A$155=TRUE,-1*((G88-K88)/SQRT(((H88^2*(I88-1))+(L88^2*(M88-1)))/(I88+M88-2))),(G88-K88)/SQRT(((H88^2*(I88-1))+(L88^2*(M88-1)))/(I88+M88-2)))","v":{"$error":"#DIV/0!"}},"","",null,null,null,null,null,null,null,null,{"$f":"IF(Sheet2!$A$155=TRUE,-1*((R88-V88)/SQRT(((S88^2*(T88-1))+(W88^2*(X88-1)))/(T88+X88-2))),(R88-V88)/SQRT(((S88^2*(T88-1))+(W88^2*(X88-1)))/(T88+X88-2)))","v":{"$error":"#DIV/0!"}},"","",null,null,null,null,null,null,null,null,{"$f":"IF(Sheet2!$A$155=TRUE,-1*((AC88-AG88)/SQRT(((AD88^2*(AE88-1))+(AH88^2*(AI88-1)))/(AE88+AI88-2))),(AC88-AG88)/SQRT(((AD88^2*(AE88-1))+(AH88^2*(AI88-1)))/(AE88+AI88-2)))","v":{"$error":"#DIV/0!"}},"","",null,null,null,null,null,null,null,null,{"$f":"IF(Sheet2!$A$155=TRUE,-1*((AN88-AR88)/SQRT(((AO88^2*(AP88-1))+(AS88^2*(AT88-1)))/(AP88+AT88-2))),(AN88-AR88)/SQRT(((AO88^2*(AP88-1))+(AS88^2*(AT88-1)))/(AP88+AT88-2)))","v":{"$error":"#DIV/0!"}},"","",null,null,null,null,null,null,null,null,{"$f":"IF(Sheet2!$A$155=TRUE,-1*((AY88-BC88)/SQRT(((AZ88^2*(BA88-1))+(BD88^2*(BE88-1)))/(BA88+BE88-2))),(AY88-BC88)/SQRT(((AZ88^2*(BA88-1))+(BD88^2*(BE88-1)))/(BA88+BE88-2)))","v":{"$error":"#DIV/0!"}},"","",null,null,null,null,null,null,null,null,{"$f":"IF(Sheet2!$A$155=TRUE,-1*((BJ88-BN88)/SQRT(((BK88^2*(BL88-1))+(BO88^2*(BP88-1)))/(BL88+BP88-2))),(BJ88-BN88)/SQRT(((BK88^2*(BL88-1))+(BO88^2*(BP88-1)))/(BL88+BP88-2)))","v":{"$error":"#DIV/0!"}},"",""]
[null,null,"Outcome 84",null,null,null,null,null,null,null,null,null,null,{"$f":"IF(Sheet2!$A$156=TRUE,-1*((G89-K89)/SQRT(((H89^2*(I89-1))+(L89^2*(M89-1)))/(I89+M89-2))),(G89-K89)/SQRT(((H89^2*(I89-1))+(L89^2*(M89-1)))/(I89+M89-2)))","v":{"$error":"#DIV/0!"}},"","",null,null,null,null,null,null,null,null,{"$f":"IF(Sheet2!$A$156=TRUE,-1*((R89-V89)/SQRT(((S89^2*(T89-1))+(W89^2*(X89-1)))/(T89+X89-2))),(R89-V89)/SQRT(((S89^2*(T89-1))+(W89^2*(X89-1)))/(T89+X89-2)))","v":{"$error":"#DIV/0!"}},"","",null,null,null,null,null,null,null,null,{"$f":"IF(Sheet2!$A$156=TRUE,-1*((AC89-AG89)/SQRT(((AD89^2*(AE89-1))+(AH89^2*(AI89-1)))/(AE89+AI89-2))),(AC89-AG89)/SQRT(((AD89^2*(AE89-1))+(AH89^2*(AI89-1)))/(AE89+AI89-2)))","v":{"$error":"#DIV/0!"}},"","",null,null,null,null,null,null,null,null,{"$f":"IF(Sheet2!$A$156=TRUE,-1*((AN89-AR89)/SQRT(((AO89^2*(AP89-1))+(AS89^2*(AT89-1)))/(AP89+AT89-2))),(AN89-AR89)/SQRT(((AO89^2*(AP89-1))+(AS89^2*(AT89-1)))/(AP89+AT89-2)))","v":{"$error":"#DIV/0!"}},"","",null,null,null,null,null,null,null,null,{"$f":"IF(Sheet2!$A$156=TRUE,-1*((AY89-BC89)/SQRT(((AZ89^2*(BA89-1))+(BD89^2*(BE89-1)))/(BA89+BE89-2))),(AY89-BC89)/SQRT(((AZ89^2*(BA89-1))+(BD89^2*(BE89-1)))/(BA89+BE89-2)))","v":{"$error":"#DIV/0!"}},"","",null,null,null,null,null,null,null,null,{"$f":"IF(Sheet2!$A$156=TRUE,-1*((BJ89-BN89)/SQRT(((BK89^2*(BL89-1))+(BO89^2*(BP89-1)))/(BL89+BP89-2))),(BJ89-BN89)/SQRT(((BK89^2*(BL89-1))+(BO89^2*(BP89-1)))/(BL89+BP89-2)))","v":{"$error":"#DIV/0!"}},"",""]
[null,null,"Outcome 85",null,null,null,null,null,null,null,null,null,null,{"$f":"IF(Sheet2!$A$157=TRUE,-1*((G90-K90)/SQRT(((H90^2*(I90-1))+(L90^2*(M90-1)))/(I90+M90-2))),(G90-K90)/SQRT(((H90^2*(I90-1))+(L90^2*(M90-1)))/(I90+M90-2)))","v":{"$error":"#DIV/0!"}},"","",null,null,null,null,null,null,null,null,{"$f":"IF(Sheet2!$A$157=TRUE,-1*((R90-V90)/SQRT(((S90^2*(T90-1))+(W90^2*(X90-1)))/(T90+X90-2))),(R90-V90)/SQRT(((S90^2*(T90-1))+(W90^2*(X90-1)))/(T90+X90-2)))","v":{"$error":"#DIV/0!"}},"","",null,null,null,null,null,null,null,null,{"$f":"IF(Sheet2!$A$157=TRUE,-1*((AC90-AG90)/SQRT(((AD90^2*(AE90-1))+(AH90^2*(AI90-1)))/(AE90+AI90-2))),(AC90-AG90)/SQRT(((AD90^2*(AE90-1))+(AH90^2*(AI90-1)))/(AE90+AI90-2)))","v":{"$error":"#DIV/0!"}},"","",null,null,null,null,null,null,null,null,{"$f":"IF(Sheet2!$A$157=TRUE,-1*((AN90-AR90)/SQRT(((AO90^2*(AP90-1))+(AS90^2*(AT90-1)))/(AP90+AT90-2))),(AN90-AR90)/SQRT(((AO90^2*(AP90-1))+(AS90^2*(AT90-1)))/(AP90+AT90-2)))","v":{"$error":"#DIV/0!"}},"","",null,null,null,null,null,null,null,null,{"$f":"IF(Sheet2!$A$157=TRUE,-1*((AY90-BC90)/SQRT(((AZ90^2*(BA90-1))+(BD90^2*(BE90-1)))/(BA90+BE90-2))),(AY90-BC90)/SQRT(((AZ90^2*(BA90-1))+(BD90^2*(BE90-1)))/(BA90+BE90-2)))","v":{"$error":"#DIV/0!"}},"","",null,null,null,null,null,null,null,null,{"$f":"IF(Sheet2!$A$157=TRUE,-1*((BJ90-BN90)/SQRT(((BK90^2*(BL90-1))+(BO90^2*(BP90-1)))/(BL90+BP90-2))),(BJ90-BN90)/SQRT(((BK90^2*(BL90-1))+(BO90^2*(BP90-1)))/(BL90+BP90-2)))","v":{"$error":"#DIV/0!"}},"",""]
[null,null,"Outcome 86",null,null,null,null,null,null,null,null,null,null,{"$f":"IF(Sheet2!$A$165=TRUE,-1*((G91-K91)/SQRT(((H91^2*(I91-1))+(L91^2*(M91-1)))/(I91+M91-2))),(G91-K91)/SQRT(((H91^2*(I91-1))+(L91^2*(M91-1)))/(I91+M91-2)))","v":{"$error":"#DIV/0!"}},{"$f":"IF(G91=\"\",\"\",N91)","v":""},{"$f":"IF(I91=\"\",\"\",SQRT((I91+M91)/(I91*M91)+(O91^2/(2*(I91+M91)))))","v":""},null,null,null,null,null,null,null,null,{"$f":"IF(Sheet2!$A$165=TRUE,-1*((R91-V91)/SQRT(((S91^2*(T91-1))+(W91^2*(X91-1)))/(T91+X91-2))),(R91-V91)/SQRT(((S91^2*(T91-1))+(W91^2*(X91-1)))/(T91+X91-2)))","v":{"$error":"#DIV/0!"}},{"$f":"IF(R91=\"\",\"\",Y91)","v":""},{"$f":"IF(T91=\"\",\"\",SQRT((T91+X91)/(T91*X91)+(Z91^2/(2*(T91+X91)))))","v":""},null,null,null,null,null,null,null,null,{"$f":"IF(Sheet2!$A$165=TRUE,-1*((AC91-AG91)/SQRT(((AD91^2*(AE91-1))+(AH91^2*(AI91-1)))/(AE91+AI91-2))),(AC91-AG91)/SQRT(((AD91^2*(AE91-1))+(AH91^2*(AI91-1)))/(AE91+AI91-2)))","v":{"$error":"#DIV/0!"}},{"$f":"IF(AC91=\"\",\"\",AJ91)","v":""},"",null,null,null,null,null,null,null,null,{"$f":"IF(Sheet2!$A$165=TRUE,-1*((AN91-AR91)/SQRT(((AO91^2*(AP91-1))+(AS91^2*(AT91-1)))/(AP91+AT91-2))),(AN91-AR91)/SQRT(((AO91^2*(AP91-1))+(AS91^2*(AT91-1)))/(AP91+AT91-2)))","v":{"$error":"#DIV/0!"}},{"$f":"IF(AN91=\"\",\"\",AU91)","v":""},{"$f":"IF(AP91=\"\",\"\",SQRT((AP91+AT91)/(AP91*AT91)+(AV91^2/(2*(AP91+AT91)))))","v":""},null,null,null,null,null,null,null,null,{"$f":"IF(Sheet2!$A$165=TRUE,-1*((AY91-BC91)/SQRT(((AZ91^2*(BA91-1))+(BD91^2*(BE91-1)))/(BA91+BE91-2))),(AY91-BC91)/SQRT(((AZ91^2*(BA91-1))+(BD91^2*(BE91-1)))/(BA91+BE91-2)))","v":{"$error":"#DIV/0!"}},{"$f":"IF(AY91=\"\",\"\",BF91)","v":""},{"$f":"IF(BA91=\"\",\"\",SQRT((BA91+BE91)/(BA91*BE91)+(BG91^2/(2*(BA91+BE91)))))","v":""},null,null,null,null,null,null,null,null,{"$f":"IF(Sheet2!$A$165=TRUE,-1*((BJ91-BN91)/SQRT(((BK91^2*(BL91-1))+(BO91^2*(BP91-1)))/(BL91+BP91-2))),(BJ91-BN91)/SQRT(((BK91^2*(BL91-1))+(BO91^2*(BP91-1)))/(BL91+BP91-2)))","v":{"$error":"#DIV/0!"}},{"$f":"IF(BJ91=\"\",\"\",BQ91)","v":""},{"$f":"IF(BL91=\"\",\"\",SQRT((BL91+BP91)/(BL91*BP91)+(BR91^2/(2*(BL91+BP91)))))","v":""}]
[null,null,"Outcome 87",null,null,null,null,null,null,null,null,null,null,{"$f":"IF(Sheet2!$A$166=TRUE,-1*((G92-K92)/SQRT(((H92^2*(I92-1))+(L92^2*(M92-1)))/(I92+M92-2))),(G92-K92)/SQRT(((H92^2*(I92-1))+(L92^2*(M92-1)))/(I92+M92-2)))","v":{"$error":"#DIV/0!"}},{"$f":"IF(G92=\"\",\"\",N92)","v":""},{"$f":"IF(I92=\"\",\"\",SQRT((I92+M92)/(I92*M92)+(O92^2/(2*(I92+M92)))))","v":""},null,null,null,null,null,null,null,null,{"$f":"IF(Sheet2!$A$166=TRUE,-1*((R92-V92)/SQRT(((S92^2*(T92-1))+(W92^2*(X92-1)))/(T92+X92-2))),(R92-V92)/SQRT(((S92^2*(T92-1))+(W92^2*(X92-1)))/(T92+X92-2)))","v":{"$error":"#DIV/0!"}},{"$f":"IF(R92=\"\",\"\",Y92)","v":""},"",null,null,null,null,null,null,null,null,{"$f":"IF(Sheet2!$A$166=TRUE,-1*((AC92-AG92)/SQRT(((AD92^2*(AE92-1))+(AH92^2*(AI92-1)))/(AE92+AI92-2))),(AC92-AG92)/SQRT(((AD92^2*(AE92-1))+(AH92^2*(AI92-1)))/(AE92+AI92-2)))","v":{"$error":"#DIV/0!"}},{"$f":"IF(AC92=\"\",\"\",AJ92)","v":""},"",null,null,null,null,null,null,null,null,{"$f":"IF(Sheet2!$A$166=TRUE,-1*((AN92-AR92)/SQRT(((AO92^2*(AP92-1))+(AS92^2*(AT92-1)))/(AP92+AT92-2))),(AN92-AR92)/SQRT(((AO92^2*(AP92-1))+(AS92^2*(AT92-1)))/(AP92+AT92-2)))","v":{"$error":"#DIV/0!"}},{"$f":"IF(AN92=\"\",\"\",AU92)","v":""},"",null,null,null,null,null,null,null,null,{"$f":"IF(Sheet2!$A$166=TRUE,-1*((AY92-BC92)/SQRT(((AZ92^2*(BA92-1))+(BD92^2*(BE92-1)))/(BA92+BE92-2))),(AY92-BC92)/SQRT(((AZ92^2*(BA92-1))+(BD92^2*(BE92-1)))/(BA92+BE92-2)))","v":{"$error":"#DIV/0!"}},{"$f":"IF(AY92=\"\",\"\",BF92)","v":""},"",null,null,null,null,null,null,null,null,{"$f":"IF(Sheet2!$A$166=TRUE,-1*((BJ92-BN92)/SQRT(((BK92^2*(BL92-1))+(BO92^2*(BP92-1)))/(BL92+BP92-2))),(BJ92-BN92)/SQRT(((BK92^2*(BL92-1))+(BO92^2*(BP92-1)))/(BL92+BP92-2)))","v":{"$error":"#DIV/0!"}},{"$f":"IF(BJ92=\"\",\"\",BQ92)","v":""},""]
[null,null,"Outcome 88",null,null,null,null,null,null,null,null,null,null,{"$f":"IF(Sheet2!$A$167=TRUE,-1*((G93-K93)/SQRT(((H93^2*(I93-1))+(L93^2*(M93-1)))/(I93+M93-2))),(G93-K93)/SQRT(((H93^2*(I93-1))+(L93^2*(M93-1)))/(I93+M93-2)))","v":{"$error":"#DIV/0!"}},"","",null,null,null,null,null,null,null,null,{"$f":"IF(Sheet2!$A$167=TRUE,-1*((R93-V93)/SQRT(((S93^2*(T93-1))+(W93^2*(X93-1)))/(T93+X93-2))),(R93-V93)/SQRT(((S93^2*(T93-1))+(W93^2*(X93-1)))/(T93+X93-2)))","v":{"$error":"#DIV/0!"}},"","",null,null,null,null,null,null,null,null,{"$f":"IF(Sheet2!$A$167=TRUE,-1*((AC93-AG93)/SQRT(((AD93^2*(AE93-1))+(AH93^2*(AI93-1)))/(AE93+AI93-2))),(AC93-AG93)/SQRT(((AD93^2*(AE93-1))+(AH93^2*(AI93-1)))/(AE93+AI93-2)))","v":{"$error":"#DIV/0!"}},"","",null,null,null,null,null,null,null,null,{"$f":"IF(Sheet2!$A$167=TRUE,-1*((AN93-AR93)/SQRT(((AO93^2*(AP93-1))+(AS93^2*(AT93-1)))/(AP93+AT93-2))),(AN93-AR93)/SQRT(((AO93^2*(AP93-1))+(AS93^2*(AT93-1)))/(AP93+AT93-2)))","v":{"$error":"#DIV/0!"}},"","",null,null,null,null,null,null,null,null,{"$f":"IF(Sheet2!$A$167=TRUE,-1*((AY93-BC93)/SQRT(((AZ93^2*(BA93-1))+(BD93^2*(BE93-1)))/(BA93+BE93-2))),(AY93-BC93)/SQRT(((AZ93^2*(BA93-1))+(BD93^2*(BE93-1)))/(BA93+BE93-2)))","v":{"$error":"#DIV/0!"}},"","",null,null,null,null,null,null,null,null,{"$f":"IF(Sheet2!$A$167=TRUE,-1*((BJ93-BN93)/SQRT(((BK93^2*(BL93-1))+(BO93^2*(BP93-1)))/(BL93+BP93-2))),(BJ93-BN93)/SQRT(((BK93^2*(BL93-1))+(BO93^2*(BP93-1)))/(BL93+BP93-2)))","v":{"$error":"#DIV/0!"}},"",""]
[null,null,"Outcome 89",null,null,null,null,null,null,null,null,null,null,{"$f":"IF(Sheet2!$A$168=TRUE,-1*((G94-K94)/SQRT(((H94^2*(I94-1))+(L94^2*(M94-1)))/(I94+M94-2))),(G94-K94)/SQRT(((H94^2*(I94-1))+(L94^2*(M94-1)))/(I94+M94-2)))","v":{"$error":"#DIV/0!"}},"","",null,null,null,null,null,null,null,null,{"$f":"IF(Sheet2!$A$168=TRUE,-1*((R94-V94)/SQRT(((S94^2*(T94-1))+(W94^2*(X94-1)))/(T94+X94-2))),(R94-V94)/SQRT(((S94^2*(T94-1))+(W94^2*(X94-1)))/(T94+X94-2)))","v":{"$error":"#DIV/0!"}},"","",null,null,null,null,null,null,null,null,{"$f":"IF(Sheet2!$A$168=TRUE,-1*((AC94-AG94)/SQRT(((AD94^2*(AE94-1))+(AH94^2*(AI94-1)))/(AE94+AI94-2))),(AC94-AG94)/SQRT(((AD94^2*(AE94-1))+(AH94^2*(AI94-1)))/(AE94+AI94-2)))","v":{"$error":"#DIV/0!"}},"","",null,null,null,null,null,null,null,null,{"$f":"IF(Sheet2!$A$168=TRUE,-1*((AN94-AR94)/SQRT(((AO94^2*(AP94-1))+(AS94^2*(AT94-1)))/(AP94+AT94-2))),(AN94-AR94)/SQRT(((AO94^2*(AP94-1))+(AS94^2*(AT94-1)))/(AP94+AT94-2)))","v":{"$error":"#DIV/0!"}},"","",null,null,null,null,null,null,null,null,{"$f":"IF(Sheet2!$A$168=TRUE,-1*((AY94-BC94)/SQRT(((AZ94^2*(BA94-1))+(BD94^2*(BE94-1)))/(BA94+BE94-2))),(AY94-BC94)/SQRT(((AZ94^2*(BA94-1))+(BD94^2*(BE94-1)))/(BA94+BE94-2)))","v":{"$error":"#DIV/0!"}},"","",null,null,null,null,null,null,null,null,{"$f":"IF(Sheet2!$A$168=TRUE,-1*((BJ94-BN94)/SQRT(((BK94^2*(BL94-1))+(BO94^2*(BP94-1)))/(BL94+BP94-2))),(BJ94-BN94)/SQRT(((BK94^2*(BL94-1))+(BO94^2*(BP94-1)))/(BL94+BP94-2)))","v":{"$error":"#DIV/0!"}},"",""]
[null,null,"Outcome 90",null,null,null,null,null,null,null,null,null,null,{"$f":"IF(Sheet2!$A$169=TRUE,-1*((G95-K95)/SQRT(((H95^2*(I95-1))+(L95^2*(M95-1)))/(I95+M95-2))),(G95-K95)/SQRT(((H95^2*(I95-1))+(L95^2*(M95-1)))/(I95+M95-2)))","v":{"$error":"#DIV/0!"}},"","",null,null,null,null,null,null,null,null,{"$f":"IF(Sheet2!$A$169=TRUE,-1*((R95-V95)/SQRT(((S95^2*(T95-1))+(W95^2*(X95-1)))/(T95+X95-2))),(R95-V95)/SQRT(((S95^2*(T95-1))+(W95^2*(X95-1)))/(T95+X95-2)))","v":{"$error":"#DIV/0!"}},"","",null,null,null,null,null,null,null,null,{"$f":"IF(Sheet2!$A$169=TRUE,-1*((AC95-AG95)/SQRT(((AD95^2*(AE95-1))+(AH95^2*(AI95-1)))/(AE95+AI95-2))),(AC95-AG95)/SQRT(((AD95^2*(AE95-1))+(AH95^2*(AI95-1)))/(AE95+AI95-2)))","v":{"$error":"#DIV/0!"}},"","",null,null,null,null,null,null,null,null,{"$f":"IF(Sheet2!$A$169=TRUE,-1*((AN95-AR95)/SQRT(((AO95^2*(AP95-1))+(AS95^2*(AT95-1)))/(AP95+AT95-2))),(AN95-AR95)/SQRT(((AO95^2*(AP95-1))+(AS95^2*(AT95-1)))/(AP95+AT95-2)))","v":{"$error":"#DIV/0!"}},"","",null,null,null,null,null,null,null,null,{"$f":"IF(Sheet2!$A$169=TRUE,-1*((AY95-BC95)/SQRT(((AZ95^2*(BA95-1))+(BD95^2*(BE95-1)))/(BA95+BE95-2))),(AY95-BC95)/SQRT(((AZ95^2*(BA95-1))+(BD95^2*(BE95-1)))/(BA95+BE95-2)))","v":{"$error":"#DIV/0!"}},"","",null,null,null,null,null,null,null,null,{"$f":"IF(Sheet2!$A$169=TRUE,-1*((BJ95-BN95)/SQRT(((BK95^2*(BL95-1))+(BO95^2*(BP95-1)))/(BL95+BP95-2))),(BJ95-BN95)/SQRT(((BK95^2*(BL95-1))+(BO95^2*(BP95-1)))/(BL95+BP95-2)))","v":{"$error":"#DIV/0!"}},"",""]

{"sheet":"Pre-Post Design","index":2,"n_rows":85,"n_cols":52,"rows_kept":85,"cut":false,"hidden":true,"merged":[[2,46,2,48],[2,39,2,41],[2,0,3,0],[2,2,3,3],[2,6,2,8],[2,11,2,13],[2,18,2,20],[2,25,2,27],[2,32,2,34]]}
[]
[]
["Check Box if Higher Score is Worse",null,"Cognitive Domain Assessed:",null,null,null,"Baseline Testing ",null,null,null,null,"Post-Test 1",null,null,null,null,null,null,"Post-Test 2",null,null,null,null,null,null,"Post-Test 3",null,null,null,null,null,null,"Post-Test 4",null,null,null,null,null,null,"Post-Test 5",null,null,null,null,null,null,"Post-Test 6"]
[null,null,null,null,null,null,"MTBI","SDTBI","NTBI","d",null,"MTBI","SDTBI","NTBI","d","d","SEd",null,"MTBI","SDTBI","NTBI","d","d","SEd",null,"MTBI","SDTBI","NTBI","d","d","SEd",null,"MTBI","SDTBI","NTBI","d","d","SEd",null,"MTBI","SDTBI","NTBI","d","d","SEd",null,"MTBI","SDTBI","NTBI","d","d","SEd"]
[null,null,"Orientation ","Test Name"]
[null,null,"Outcome 1:",null,null,null,null,null,null,null,null,null,null,null,{"$f":"IF(Sheet2!$A$21=TRUE,(-1*($G6-L6)/$H6),($G6-L6)/$H6)","v":{"$error":"#DIV/0!"}},{"$f":"IF(L6=\"\",\"\",O6)","v":""},null,null,null,null,null,{"$f":"IF(Sheet2!$A$21=TRUE,(-1*($G6-S6)/$H6),($G6-S6)/$H6)","v":{"$error":"#DIV/0!"}},{"$f":"IF(S6=\"\",\"\",V6)","v":""},null,null,null,null,null,{"$f":"IF(Sheet2!$A$21=TRUE,(-1*($G6-Z6)/$H6),($G6-Z6)/$H6)","v":{"$error":"#DIV/0!"}},{"$f":"IF(Z6=\"\",\"\",AC6)","v":""},null,null,null,null,null,{"$f":"IF(Sheet2!$A$21=TRUE,(-1*($G6-AG6)/$H6),($G6-AG6)/$H6)","v":{"$error":"#DIV/0!"}},{"$f":"IF(AG6=\"\",\"\",AJ6)","v":""},null,null,null,null,null,{"$f":"IF(Sheet2!$A$21=TRUE,(-1*($G6-AN6)/$H6),($G6-AN6)/$H6)","v":{"$error":"#DIV/0!"}},{"$f":"IF(AN6=\"\",\"\",AQ6)","v":""},null,null,null,null,null,{"$f":"IF(Sheet2!$A$21=TRUE,(-1*($G6-AU6)/$H6),($G6-AU6)/$H6)","v":{"$error":"#DIV/0!"}},{"$f":"IF(AU6=\"\",\"\",AX6)","v":""}]
[null,null,"Outcome 2:",null,null,null,null,null,null,{"$f":"IF(Sheet2!$A$22=TRUE,-1*(#REF!-G7)/SQRT(((#REF!^2*(#REF!-1))+(H7^2*(I7-1)))/(#REF!+I7-2)),(#REF!-G7)/SQRT(((#REF!^2*(#REF!-1))+(H7^2*(I7-1)))/(#REF!+I7-2)))","v":{"$error":"#REF!"}},null,null,null,null,{"$f":"IF(Sheet2!$A$22=TRUE,(-1*($G7-L7)/$H7),($G7-L7)/$H7)","v":{"$error":"#DIV/0!"}},{"$f":"IF(L7=\"\",\"\",O7)","v":""},null,null,null,null,null,{"$f":"IF(Sheet2!$A$22=TRUE,(-1*($G7-S7)/$H7),($G7-S7)/$H7)","v":{"$error":"#DIV/0!"}},{"$f":"IF(S7=\"\",\"\",V7)","v":""},null,null,null,null,null,{"$f":"IF(Sheet2!$A$22=TRUE,(-1*($G7-Z7)/$H7),($G7-Z7)/$H7)","v":{"$error":"#DIV/0!"}},{"$f":"IF(Z7=\"\",\"\",AC7)","v":""},null,null,null,null,null,{"$f":"IF(Sheet2!$A$22=TRUE,(-1*($G7-AG7)/$H7),($G7-AG7)/$H7)","v":{"$error":"#DIV/0!"}},{"$f":"IF(AG7=\"\",\"\",AJ7)","v":""},null,null,null,null,null,{"$f":"IF(Sheet2!$A$22=TRUE,(-1*($G7-AN7)/$H7),($G7-AN7)/$H7)","v":{"$error":"#DIV/0!"}},{"$f":"IF(AN7=\"\",\"\",AQ7)","v":""},null,null,null,null,null,{"$f":"IF(Sheet2!$A$22=TRUE,(-1*($G7-AU7)/$H7),($G7-AU7)/$H7)","v":{"$error":"#DIV/0!"}},{"$f":"IF(AU7=\"\",\"\",AX7)","v":""}]
[null,null,"Outcome 3:",null,null,null,null,null,null,{"$f":"IF(Sheet2!$A$23=TRUE,-1*(#REF!-G8)/SQRT(((#REF!^2*(#REF!-1))+(H8^2*(I8-1)))/(#REF!+I8-2)),(#REF!-G8)/SQRT(((#REF!^2*(#REF!-1))+(H8^2*(I8-1)))/(#REF!+I8-2)))","v":{"$error":"#REF!"}},null,null,null,null,{"$f":"IF(Sheet2!$A$23=TRUE,(-1*($G8-L8)/$H8),($G8-L8)/$H8)","v":{"$error":"#DIV/0!"}},{"$f":"IF(L8=\"\",\"\",O8)","v":""},null,null,null,null,null,{"$f":"IF(Sheet2!$A$23=TRUE,(-1*($G8-S8)/$H8),($G8-S8)/$H8)","v":{"$error":"#DIV/0!"}},{"$f":"IF(S8=\"\",\"\",V8)","v":""},null,null,null,null,null,{"$f":"IF(Sheet2!$A$23=TRUE,(-1*($G8-Z8)/$H8),($G8-Z8)/$H8)","v":{"$error":"#DIV/0!"}},{"$f":"IF(Z8=\"\",\"\",AC8)","v":""},null,null,null,null,null,{"$f":"IF(Sheet2!$A$23=TRUE,(-1*($G8-AG8)/$H8),($G8-AG8)/$H8)","v":{"$error":"#DIV/0!"}},{"$f":"IF(AG8=\"\",\"\",AJ8)","v":""},null,null,null,null,null,{"$f":"IF(Sheet2!$A$23=TRUE,(-1*($G8-AN8)/$H8),($G8-AN8)/$H8)","v":{"$error":"#DIV/0!"}},{"$f":"IF(AN8=\"\",\"\",AQ8)","v":""},null,null,null,null,null,{"$f":"IF(Sheet2!$A$23=TRUE,(-1*($G8-AU8)/$H8),($G8-AU8)/$H8)","v":{"$error":"#DIV/0!"}},{"$f":"IF(AU8=\"\",\"\",AX8)","v":""}]
[null,null,"Outcome 4:",null,null,null,null,null,null,{"$f":"IF(Sheet2!$A$24=TRUE,-1*(#REF!-G9)/SQRT(((#REF!^2*(#REF!-1))+(H9^2*(I9-1)))/(#REF!+I9-2)),(#REF!-G9)/SQRT(((#REF!^2*(#REF!-1))+(H9^2*(I9-1)))/(#REF!+I9-2)))","v":{"$error":"#REF!"}},null,null,null,null,{"$f":"IF(Sheet2!$A$24=TRUE,(-1*($G9-L9)/$H9),($G9-L9)/$H9)","v":{"$error":"#DIV/0!"}},"",null,null,null,null,null,{"$f":"IF(Sheet2!$A$24=TRUE,(-1*($G9-S9)/$H9),($G9-S9)/$H9)","v":{"$error":"#DIV/0!"}},"",null,null,null,null,null,{"$f":"IF(Sheet2!$A$24=TRUE,(-1*($G9-Z9)/$H9),($G9-Z9)/$H9)","v":{"$error":"#DIV/0!"}},"",null,null,null,null,null,{"$f":"IF(Sheet2!$A$24=TRUE,(-1*($G9-AG9)/$H9),($G9-AG9)/$H9)","v":{"$error":"#DIV/0!"}},"",null,null,null,null,null,{"$f":"IF(Sheet2!$A$24=TRUE,(-1*($G9-AN9)/$H9),($G9-AN9)/$H9)","v":{"$error":"#DIV/0!"}},"",null,null,null,null,null,{"$f":"IF(Sheet2!$A$24=TRUE,(-1*($G9-AU9)/$H9),($G9-AU9)/$H9)","v":{"$error":"#DIV/0!"}},""]
[null,null,"Outcome 5:",null,null,null,null,null,null,{"$f":"IF(Sheet2!$A$25=TRUE,-1*(#REF!-G10)/SQRT(((#REF!^2*(#REF!-1))+(H10^2*(I10-1)))/(#REF!+I10-2)),(#REF!-G10)/SQRT(((#REF!^2*(#REF!-1))+(H10^2*(I10-1)))/(#REF!+I10-2)))","v":{"$error":"#REF!"}},null,null,null,null,{"$f":"IF(Sheet2!$A$25=TRUE,(-1*($G10-L10)/$H10),($G10-L10)/$H10)","v":{"$error":"#DIV/0!"}},"",null,null,null,null,null,{"$f":"IF(Sheet2!$A$25=TRUE,(-1*($G10-S10)/$H10),($G10-S10)/$H10)","v":{"$error":"#DIV/0!"}},"",null,null,null,null,null,{"$f":"IF(Sheet2!$A$25=TRUE,(-1*($G10-Z10)/$H10),($G10-Z10)/$H10)","v":{"$error":"#DIV/0!"}},"",null,null,null,null,null,{"$f":"IF(Sheet2!$A$25=TRUE,(-1*($G10-AG10)/$H10),($G10-AG10)/$H10)","v":{"$error":"#DIV/0!"}},"",null,null,null,null,null,{"$f":"IF(Sheet2!$A$25=TRUE,(-1*($G10-AN10)/$H10),($G10-AN10)/$H10)","v":{"$error":"#DIV/0!"}},"",null,null,null,null,null,{"$f":"IF(Sheet2!$A$25=TRUE,(-1*($G10-AU10)/$H10),($G10-AU10)/$H10)","v":{"$error":"#DIV/0!"}},""]
[null,null,"Orientation d",null,null,null,null,null,null,null,null,null,null,null,null,{"$f":"IF(P6=\"\",\"\",AVERAGE(P6:P10))","v":""},{"$f":"IF(Q6=\"\",\"\",AVERAGE(Q6:Q10))","v":""},null,null,null,null,null,{"$f":"IF(W6=\"\",\"\",AVERAGE(W6:W10))","v":""},{"$f":"IF(X6=\"\",\"\",AVERAGE(X6:X10))","v":""},null,null,null,null,null,{"$f":"IF(AD6=\"\",\"\",AVERAGE(AD6:AD10))","v":""},{"$f":"IF(AE6=\"\",\"\",AVERAGE(AE6:AE10))","v":""},null,null,null,null,null,{"$f":"IF(AK6=\"\",\"\",AVERAGE(AK6:AK10))","v":""},{"$f":"IF(AL6=\"\",\"\",AVERAGE(AL6:AL10))","v":""},null,null,null,null,null,{"$f":"IF(AR6=\"\",\"\",AVERAGE(AR6:AR10))","v":""},{"$f":"IF(AS6=\"\",\"\",AVERAGE(AS6:AS10))","v":""},null,null,null,null,null,{"$f":"IF(AY6=\"\",\"\",AVERAGE(AY6:AY10))","v":""},{"$f":"IF(AZ6=\"\",\"\",AVERAGE(AZ6:AZ10))","v":""}]
[]
[null,null,"General Ability/IQ","Test Name"]
[null,null,"Outcome 1:",null,null,null,null,null,null,{"$f":"IF(Sheet2!$A$29=TRUE,-1*(#REF!-G14)/SQRT(((#REF!^2*(#REF!-1))+(H14^2*(I14-1)))/(#REF!+I14-2)),(#REF!-G14)/SQRT(((#REF!^2*(#REF!-1))+(H14^2*(I14-1)))/(#REF!+I14-2)))","v":{"$error":"#REF!"}},null,null,null,null,{"$f":"IF(Sheet2!$A$29=TRUE,(-1*($G14-L14)/$H14),($G14-L14)/$H14)","v":{"$error":"#DIV/0!"}},{"$f":"IF(L14=\"\",\"\",O14)","v":""},null,null,null,null,null,{"$f":"IF(Sheet2!$A$29=TRUE,(-1*($G14-S14)/$H14),($G14-S14)/$H14)","v":{"$error":"#DIV/0!"}},{"$f":"IF(S14=\"\",\"\",V14)","v":""},null,null,null,null,null,{"$f":"IF(Sheet2!$A$29=TRUE,(-1*($G14-Z14)/$H14),($G14-Z14)/$H14)","v":{"$error":"#DIV/0!"}},{"$f":"IF(Z14=\"\",\"\",AC14)","v":""},null,null,null,null,null,{"$f":"IF(Sheet2!$A$29=TRUE,(-1*($G14-AG14)/$H14),($G14-AG14)/$H14)","v":{"$error":"#DIV/0!"}},{"$f":"IF(AG14=\"\",\"\",AJ14)","v":""},null,null,null,null,null,{"$f":"IF(Sheet2!$A$29=TRUE,(-1*($G14-AN14)/$H14),($G14-AN14)/$H14)","v":{"$error":"#DIV/0!"}},{"$f":"IF(AN14=\"\",\"\",AQ14)","v":""},null,null,null,null,null,{"$f":"IF(Sheet2!$A$29=TRUE,(-1*($G14-AU14)/$H14),($G14-AU14)/$H14)","v":{"$error":"#DIV/0!"}},{"$f":"IF(AU14=\"\",\"\",AX14)","v":""}]
[null,null,"Outcome 2:",null,null,null,null,null,null,{"$f":"IF(Sheet2!$A$30=TRUE,-1*(#REF!-G15)/SQRT(((#REF!^2*(#REF!-1))+(H15^2*(I15-1)))/(#REF!+I15-2)),(#REF!-G15)/SQRT(((#REF!^2*(#REF!-1))+(H15^2*(I15-1)))/(#REF!+I15-2)))","v":{"$error":"#REF!"}},null,null,null,null,{"$f":"IF(Sheet2!$A$30=TRUE,(-1*($G15-L15)/$H15),($G15-L15)/$H15)","v":{"$error":"#DIV/0!"}},{"$f":"IF(L15=\"\",\"\",O15)","v":""},null,null,null,null,null,{"$f":"IF(Sheet2!$A$30=TRUE,(-1*($G15-S15)/$H15),($G15-S15)/$H15)","v":{"$error":"#DIV/0!"}},{"$f":"IF(S15=\"\",\"\",V15)","v":""},null,null,null,null,null,{"$f":"IF(Sheet2!$A$30=TRUE,(-1*($G15-Z15)/$H15),($G15-Z15)/$H15)","v":{"$error":"#DIV/0!"}},{"$f":"IF(Z15=\"\",\"\",AC15)","v":""},null,null,null,null,null,{"$f":"IF(Sheet2!$A$30=TRUE,(-1*($G15-AG15)/$H15),($G15-AG15)/$H15)","v":{"$error":"#DIV/0!"}},{"$f":"IF(AG15=\"\",\"\",AJ15)","v":""},null,null,null,null,null,{"$f":"IF(Sheet2!$A$30=TRUE,(-1*($G15-AN15)/$H15),($G15-AN15)/$H15)","v":{"$error":"#DIV/0!"}},{"$f":"IF(AN15=\"\",\"\",AQ15)","v":""},null,null,null,null,null,{"$f":"IF(Sheet2!$A$30=TRUE,(-1*($G15-AU15)/$H15),($G15-AU15)/$H15)","v":{"$error":"#DIV/0!"}},{"$f":"IF(AU15=\"\",\"\",AX15)","v":""}]
[null,null,"Outcome 3:",null,null,null,null,null,null,{"$f":"IF(Sheet2!$A$31=TRUE,-1*(#REF!-G16)/SQRT(((#REF!^2*(#REF!-1))+(H16^2*(I16-1)))/(#REF!+I16-2)),(#REF!-G16)/SQRT(((#REF!^2*(#REF!-1))+(H16^2*(I16-1)))/(#REF!+I16-2)))","v":{"$error":"#REF!"}},null,null,null,null,{"$f":"IF(Sheet2!$A$31=TRUE,(-1*($G16-L16)/$H16),($G16-L16)/$H16)","v":{"$error":"#DIV/0!"}},{"$f":"IF(L16=\"\",\"\",O16)","v":""},null,null,null,null,null,{"$f":"IF(Sheet2!$A$31=TRUE,(-1*($G16-S16)/$H16),($G16-S16)/$H16)","v":{"$error":"#DIV/0!"}},{"$f":"IF(S16=\"\",\"\",V16)","v":""},null,null,null,null,null,{"$f":"IF(Sheet2!$A$31=TRUE,(-1*($G16-Z16)/$H16),($G16-Z16)/$H16)","v":{"$error":"#DIV/0!"}},{"$f":"IF(Z16=\"\",\"\",AC16)","v":""},null,null,null,null,null,{"$f":"IF(Sheet2!$A$31=TRUE,(-1*($G16-AG16)/$H16),($G16-AG16)/$H16)","v":{"$error":"#DIV/0!"}},{"$f":"IF(AG16=\"\",\"\",AJ16)","v":""},null,null,null,null,null,{"$f":"IF(Sheet2!$A$31=TRUE,(-1*($G16-AN16)/$H16),($G16-AN16)/$H16)","v":{"$error":"#DIV/0!"}},{"$f":"IF(AN16=\"\",\"\",AQ16)","v":""},null,null,null,null,null,{"$f":"IF(Sheet2!$A$31=TRUE,(-1*($G16-AU16)/$H16),($G16-AU16)/$H16)","v":{"$error":"#DIV/0!"}},{"$f":"IF(AU16=\"\",\"\",AX16)","v":""}]
[null,null,"Outcome 4:",null,null,null,null,null,null,{"$f":"IF(Sheet2!$A$32=TRUE,-1*(#REF!-G17)/SQRT(((#REF!^2*(#REF!-1))+(H17^2*(I17-1)))/(#REF!+I17-2)),(#REF!-G17)/SQRT(((#REF!^2*(#REF!-1))+(H17^2*(I17-1)))/(#REF!+I17-2)))","v":{"$error":"#REF!"}},null,null,null,null,{"$f":"IF(Sheet2!$A$32=TRUE,(-1*($G17-L17)/$H17),($G17-L17)/$H17)","v":{"$error":"#DIV/0!"}},"",null,null,null,null,null,{"$f":"IF(Sheet2!$A$32=TRUE,(-1*($G17-S17)/$H17),($G17-S17)/$H17)","v":{"$error":"#DIV/0!"}},"",null,null,null,null,null,{"$f":"IF(Sheet2!$A$32=TRUE,(-1*($G17-Z17)/$H17),($G17-Z17)/$H17)","v":{"$error":"#DIV/0!"}},"",null,null,null,null,null,{"$f":"IF(Sheet2!$A$32=TRUE,(-1*($G17-AG17)/$H17),($G17-AG17)/$H17)","v":{"$error":"#DIV/0!"}},"",null,null,null,null,null,{"$f":"IF(Sheet2!$A$32=TRUE,(-1*($G17-AN17)/$H17),($G17-AN17)/$H17)","v":{"$error":"#DIV/0!"}},"",null,null,null,null,null,{"$f":"IF(Sheet2!$A$32=TRUE,(-1*($G17-AU17)/$H17),($G17-AU17)/$H17)","v":{"$error":"#DIV/0!"}},""]
[null,null,"Outcome 5:",null,null,null,null,null,null,{"$f":"IF(Sheet2!$A$33=TRUE,-1*(#REF!-G18)/SQRT(((#REF!^2*(#REF!-1))+(H18^2*(I18-1)))/(#REF!+I18-2)),(#REF!-G18)/SQRT(((#REF!^2*(#REF!-1))+(H18^2*(I18-1)))/(#REF!+I18-2)))","v":{"$error":"#REF!"}},null,null,null,null,{"$f":"IF(Sheet2!$A$33=TRUE,(-1*($G18-L18)/$H18),($G18-L18)/$H18)","v":{"$error":"#DIV/0!"}},"",null,null,null,null,null,{"$f":"IF(Sheet2!$A$33=TRUE,(-1*($G18-S18)/$H18),($G18-S18)/$H18)","v":{"$error":"#DIV/0!"}},"",null,null,null,null,null,{"$f":"IF(Sheet2!$A$33=TRUE,(-1*($G18-Z18)/$H18),($G18-Z18)/$H18)","v":{"$error":"#DIV/0!"}},"",null,null,null,null,null,{"$f":"IF(Sheet2!$A$33=TRUE,(-1*($G18-AG18)/$H18),($G18-AG18)/$H18)","v":{"$error":"#DIV/0!"}},"",null,null,null,null,null,{"$f":"IF(Sheet2!$A$33=TRUE,(-1*($G18-AN18)/$H18),($G18-AN18)/$H18)","v":{"$error":"#DIV/0!"}},"",null,null,null,null,null,{"$f":"IF(Sheet2!$A$33=TRUE,(-1*($G18-AU18)/$H18),($G18-AU18)/$H18)","v":{"$error":"#DIV/0!"}},""]
[null,null,"General Ability/IQ d",null,null,null,null,null,null,null,null,null,null,null,null,{"$f":"IF(P14=\"\",\"\",AVERAGE(P14:P18))","v":""},{"$f":"IF(Q14=\"\",\"\",AVERAGE(Q14:Q18))","v":""},null,null,null,null,null,{"$f":"IF(W14=\"\",\"\",AVERAGE(W14:W18))","v":""},{"$f":"IF(X14=\"\",\"\",AVERAGE(X14:X18))","v":""},null,null,null,null,null,{"$f":"IF(AD14=\"\",\"\",AVERAGE(AD14:AD18))","v":""},{"$f":"IF(AE14=\"\",\"\",AVERAGE(AE14:AE18))","v":""},null,null,null,null,null,{"$f":"IF(AK14=\"\",\"\",AVERAGE(AK14:AK18))","v":""},{"$f":"IF(AL14=\"\",\"\",AVERAGE(AL14:AL18))","v":""},null,null,null,null,null,{"$f":"IF(AR14=\"\",\"\",AVERAGE(AR14:AR18))","v":""},{"$f":"IF(AS14=\"\",\"\",AVERAGE(AS14:AS18))","v":""},null,null,null,null,null,{"$f":"IF(AY14=\"\",\"\",AVERAGE(AY14:AY18))","v":""},{"$f":"IF(AZ14=\"\",\"\",AVERAGE(AZ14:AZ18))","v":""}]
[]
[null,null,"Achievement ","Test Name"]
[null,null,"Outcome 1:",null,null,null,null,null,null,{"$f":"IF(Sheet2!$A$37=TRUE,-1*(#REF!-G22)/SQRT(((#REF!^2*(#REF!-1))+(H22^2*(I22-1)))/(#REF!+I22-2)),(#REF!-G22)/SQRT(((#REF!^2*(#REF!-1))+(H22^2*(I22-1)))/(#REF!+I22-2)))","v":{"$error":"#REF!"}},null,null,null,null,{"$f":"IF(Sheet2!$A$37=TRUE,(-1*($G22-L22)/$H22),($G22-L22)/$H22)","v":{"$error":"#DIV/0!"}},{"$f":"IF(L22=\"\",\"\",O22)","v":""},null,null,null,null,null,{"$f":"IF(Sheet2!$A$37=TRUE,(-1*($G22-S22)/$H22),($G22-S22)/$H22)","v":{"$error":"#DIV/0!"}},{"$f":"IF(S22=\"\",\"\",V22)","v":""},null,null,null,null,null,{"$f":"IF(Sheet2!$A$37=TRUE,(-1*($G22-Z22)/$H22),($G22-Z22)/$H22)","v":{"$error":"#DIV/0!"}},{"$f":"IF(Z22=\"\",\"\",AC22)","v":""},null,null,null,null,null,{"$f":"IF(Sheet2!$A$37=TRUE,(-1*($G22-AG22)/$H22),($G22-AG22)/$H22)","v":{"$error":"#DIV/0!"}},{"$f":"IF(AG22=\"\",\"\",AJ22)","v":""},null,null,null,null,null,{"$f":"IF(Sheet2!$A$37=TRUE,(-1*($G22-AN22)/$H22),($G22-AN22)/$H22)","v":{"$error":"#DIV/0!"}},{"$f":"IF(AN22=\"\",\"\",AQ22)","v":""},null,null,null,null,null,{"$f":"IF(Sheet2!$A$37=TRUE,(-1*($G22-AU22)/$H22),($G22-AU22)/$H22)","v":{"$error":"#DIV/0!"}},{"$f":"IF(AU22=\"\",\"\",AX22)","v":""}]
[null,null,"Outcome 2:",null,null,null,null,null,null,{"$f":"IF(Sheet2!$A$38=TRUE,-1*(#REF!-G23)/SQRT(((#REF!^2*(#REF!-1))+(H23^2*(I23-1)))/(#REF!+I23-2)),(#REF!-G23)/SQRT(((#REF!^2*(#REF!-1))+(H23^2*(I23-1)))/(#REF!+I23-2)))","v":{"$error":"#REF!"}},null,null,null,null,{"$f":"IF(Sheet2!$A$38=TRUE,(-1*($G23-L23)/$H23),($G23-L23)/$H23)","v":{"$error":"#DIV/0!"}},{"$f":"IF(L23=\"\",\"\",O23)","v":""},null,null,null,null,null,{"$f":"IF(Sheet2!$A$38=TRUE,(-1*($G23-S23)/$H23),($G23-S23)/$H23)","v":{"$error":"#DIV/0!"}},{"$f":"IF(S23=\"\",\"\",V23)","v":""},null,null,null,null,null,{"$f":"IF(Sheet2!$A$38=TRUE,(-1*($G23-Z23)/$H23),($G23-Z23)/$H23)","v":{"$error":"#DIV/0!"}},{"$f":"IF(Z23=\"\",\"\",AC23)","v":""},null,null,null,null,null,{"$f":"IF(Sheet2!$A$38=TRUE,(-1*($G23-AG23)/$H23),($G23-AG23)/$H23)","v":{"$error":"#DIV/0!"}},{"$f":"IF(AG23=\"\",\"\",AJ23)","v":""},null,null,null,null,null,{"$f":"IF(Sheet2!$A$38=TRUE,(-1*($G23-AN23)/$H23),($G23-AN23)/$H23)","v":{"$error":"#DIV/0!"}},{"$f":"IF(AN23=\"\",\"\",AQ23)","v":""},null,null,null,null,null,{"$f":"IF(Sheet2!$A$38=TRUE,(-1*($G23-AU23)/$H23),($G23-AU23)/$H23)","v":{"$error":"#DIV/0!"}},{"$f":"IF(AU23=\"\",\"\",AX23)","v":""}]
[null,null,"Outcome 3:",null,null,null,null,null,null,{"$f":"IF(Sheet2!$A$39=TRUE,-1*(#REF!-G24)/SQRT(((#REF!^2*(#REF!-1))+(H24^2*(I24-1)))/(#REF!+I24-2)),(#REF!-G24)/SQRT(((#REF!^2*(#REF!-1))+(H24^2*(I24-1)))/(#REF!+I24-2)))","v":{"$error":"#REF!"}},null,null,null,null,{"$f":"IF(Sheet2!$A$39=TRUE,(-1*($G24-L24)/$H24),($G24-L24)/$H24)","v":{"$error":"#DIV/0!"}},{"$f":"IF(L24=\"\",\"\",O24)","v":""},null,null,null,null,null,{"$f":"IF(Sheet2!$A$39=TRUE,(-1*($G24-S24)/$H24),($G24-S24)/$H24)","v":{"$error":"#DIV/0!"}},{"$f":"IF(S24=\"\",\"\",V24)","v":""},null,null,null,null,null,{"$f":"IF(Sheet2!$A$39=TRUE,(-1*($G24-Z24)/$H24),($G24-Z24)/$H24)","v":{"$error":"#DIV/0!"}},{"$f":"IF(Z24=\"\",\"\",AC24)","v":""},null,null,null,null,null,{"$f":"IF(Sheet2!$A$39=TRUE,(-1*($G24-AG24)/$H24),($G24-AG24)/$H24)","v":{"$error":"#DIV/0!"}},{"$f":"IF(AG24=\"\",\"\",AJ24)","v":""},null,null,null,null,null,{"$f":"IF(Sheet2!$A$39=TRUE,(-1*($G24-AN24)/$H24),($G24-AN24)/$H24)","v":{"$error":"#DIV/0!"}},{"$f":"IF(AN24=\"\",\"\",AQ24)","v":""},null,null,null,null,null,{"$f":"IF(Sheet2!$A$39=TRUE,(-1*($G24-AU24)/$H24),($G24-AU24)/$H24)","v":{"$error":"#DIV/0!"}},{"$f":"IF(AU24=\"\",\"\",AX24)","v":""}]
[null,null,"Outcome 4:",null,null,null,null,null,null,{"$f":"IF(Sheet2!$A$40=TRUE,-1*(#REF!-G25)/SQRT(((#REF!^2*(#REF!-1))+(H25^2*(I25-1)))/(#REF!+I25-2)),(#REF!-G25)/SQRT(((#REF!^2*(#REF!-1))+(H25^2*(I25-1)))/(#REF!+I25-2)))","v":{"$error":"#REF!"}},null,null,null,null,{"$f":"IF(Sheet2!$A$40=TRUE,(-1*($G25-L25)/$H25),($G25-L25)/$H25)","v":{"$error":"#DIV/0!"}},"",null,null,null,null,null,{"$f":"IF(Sheet2!$A$40=TRUE,(-1*($G25-S25)/$H25),($G25-S25)/$H25)","v":{"$error":"#DIV/0!"}},"",null,null,null,null,null,{"$f":"IF(Sheet2!$A$40=TRUE,(-1*($G25-Z25)/$H25),($G25-Z25)/$H25)","v":{"$error":"#DIV/0!"}},"",null,null,null,null,null,{"$f":"IF(Sheet2!$A$40=TRUE,(-1*($G25-AG25)/$H25),($G25-AG25)/$H25)","v":{"$error":"#DIV/0!"}},"",null,null,null,null,null,{"$f":"IF(Sheet2!$A$40=TRUE,(-1*($G25-AN25)/$H25),($G25-AN25)/$H25)","v":{"$error":"#DIV/0!"}},"",null,null,null,null,null,{"$f":"IF(Sheet2!$A$40=TRUE,(-1*($G25-AU25)/$H25),($G25-AU25)/$H25)","v":{"$error":"#DIV/0!"}},""]
[null,null,"Outcome 5:",null,null,null,null,null,null,{"$f":"IF(Sheet2!$A$41=TRUE,-1*(#REF!-G26)/SQRT(((#REF!^2*(#REF!-1))+(H26^2*(I26-1)))/(#REF!+I26-2)),(#REF!-G26)/SQRT(((#REF!^2*(#REF!-1))+(H26^2*(I26-1)))/(#REF!+I26-2)))","v":{"$error":"#REF!"}},null,null,null,null,{"$f":"IF(Sheet2!$A$41=TRUE,(-1*($G26-L26)/$H26),($G26-L26)/$H26)","v":{"$error":"#DIV/0!"}},"",null,null,null,null,null,{"$f":"IF(Sheet2!$A$41=TRUE,(-1*($G26-S26)/$H26),($G26-S26)/$H26)","v":{"$error":"#DIV/0!"}},"",null,null,null,null,null,{"$f":"IF(Sheet2!$A$41=TRUE,(-1*($G26-Z26)/$H26),($G26-Z26)/$H26)","v":{"$error":"#DIV/0!"}},"",null,null,null,null,null,{"$f":"IF(Sheet2!$A$41=TRUE,(-1*($G26-AG26)/$H26),($G26-AG26)/$H26)","v":{"$error":"#DIV/0!"}},"",null,null,null,null,null,{"$f":"IF(Sheet2!$A$41=TRUE,(-1*($G26-AN26)/$H26),($G26-AN26)/$H26)","v":{"$error":"#DIV/0!"}},"",null,null,null,null,null,{"$f":"IF(Sheet2!$A$41=TRUE,(-1*($G26-AU26)/$H26),($G26-AU26)/$H26)","v":{"$error":"#DIV/0!"}},""]
[null,null,"Achievement d",null,null,null,null,null,null,null,null,null,null,null,null,{"$f":"IF(P22=\"\",\"\",AVERAGE(P22:P26))","v":""},{"$f":"IF(Q22=\"\",\"\",AVERAGE(Q22:Q26))","v":""},null,null,null,null,null,{"$f":"IF(W22=\"\",\"\",AVERAGE(W22:W26))","v":""},{"$f":"IF(X22=\"\",\"\",AVERAGE(X22:X26))","v":""},null,null,null,null,null,{"$f":"IF(AD22=\"\",\"\",AVERAGE(AD22:AD26))","v":""},{"$f":"IF(AE22=\"\",\"\",AVERAGE(AE22:AE26))","v":""},null,null,null,null,null,{"$f":"IF(AK22=\"\",\"\",AVERAGE(AK22:AK26))","v":""},{"$f":"IF(AL22=\"\",\"\",AVERAGE(AL22:AL26))","v":""},null,null,null,null,null,{"$f":"IF(AR22=\"\",\"\",AVERAGE(AR22:AR26))","v":""},{"$f":"IF(AS22=\"\",\"\",AVERAGE(AS22:AS26))","v":""},null,null,null,null,null,{"$f":"IF(AY22=\"\",\"\",AVERAGE(AY22:AY26))","v":""},{"$f":"IF(AZ22=\"\",\"\",AVERAGE(AZ22:AZ26))","v":""}]
[]
[null,null,"Attn/Wrk Memory","Test Name"]
[null,null,"Outcome 1:",null,null,null,null,null,null,{"$f":"IF(Sheet2!$A$45=TRUE,-1*(#REF!-G30)/SQRT(((#REF!^2*(#REF!-1))+(H30^2*(I30-1)))/(#REF!+I30-2)),(#REF!-G30)/SQRT(((#REF!^2*(#REF!-1))+(H30^2*(I30-1)))/(#REF!+I30-2)))","v":{"$error":"#REF!"}},null,null,null,null,{"$f":"IF(Sheet2!$A$45=TRUE,(-1*($G30-L30)/$H30),($G30-L30)/$H30)","v":{"$error":"#DIV/0!"}},{"$f":"IF(L30=\"\",\"\",O30)","v":""},null,null,null,null,null,{"$f":"IF(Sheet2!$A$45=TRUE,(-1*($G30-S30)/$H30),($G30-S30)/$H30)","v":{"$error":"#DIV/0!"}},{"$f":"IF(S30=\"\",\"\",V30)","v":""},null,null,null,null,null,{"$f":"IF(Sheet2!$A$45=TRUE,(-1*($G30-Z30)/$H30),($G30-Z30)/$H30)","v":{"$error":"#DIV/0!"}},{"$f":"IF(Z30=\"\",\"\",AC30)","v":""},null,null,null,null,null,{"$f":"IF(Sheet2!$A$45=TRUE,(-1*($G30-AG30)/$H30),($G30-AG30)/$H30)","v":{"$error":"#DIV/0!"}},{"$f":"IF(AG30=\"\",\"\",AJ30)","v":""},null,null,null,null,null,{"$f":"IF(Sheet2!$A$45=TRUE,(-1*($G30-AN30)/$H30),($G30-AN30)/$H30)","v":{"$error":"#DIV/0!"}},{"$f":"IF(AN30=\"\",\"\",AQ30)","v":""},null,null,null,null,null,{"$f":"IF(Sheet2!$A$45=TRUE,(-1*($G30-AU30)/$H30),($G30-AU30)/$H30)","v":{"$error":"#DIV/0!"}},{"$f":"IF(AU30=\"\",\"\",AX30)","v":""}]
[null,null,"Outcome 2:",null,null,null,null,null,null,{"$f":"IF(Sheet2!$A$46=TRUE,-1*(#REF!-G31)/SQRT(((#REF!^2*(#REF!-1))+(H31^2*(I31-1)))/(#REF!+I31-2)),(#REF!-G31)/SQRT(((#REF!^2*(#REF!-1))+(H31^2*(I31-1)))/(#REF!+I31-2)))","v":{"$error":"#REF!"}},null,null,null,null,{"$f":"IF(Sheet2!$A$46=TRUE,(-1*($G31-L31)/$H31),($G31-L31)/$H31)","v":{"$error":"#DIV/0!"}},{"$f":"IF(L31=\"\",\"\",O31)","v":""},null,null,null,null,null,{"$f":"IF(Sheet2!$A$46=TRUE,(-1*($G31-S31)/$H31),($G31-S31)/$H31)","v":{"$error":"#DIV/0!"}},{"$f":"IF(S31=\"\",\"\",V31)","v":""},null,null,null,null,null,{"$f":"IF(Sheet2!$A$46=TRUE,(-1*($G31-Z31)/$H31),($G31-Z31)/$H31)","v":{"$error":"#DIV/0!"}},{"$f":"IF(Z31=\"\",\"\",AC31)","v":""},null,null,null,null,null,{"$f":"IF(Sheet2!$A$46=TRUE,(-1*($G31-AG31)/$H31),($G31-AG31)/$H31)","v":{"$error":"#DIV/0!"}},{"$f":"IF(AG31=\"\",\"\",AJ31)","v":""},null,null,null,null,null,{"$f":"IF(Sheet2!$A$46=TRUE,(-1*($G31-AN31)/$H31),($G31-AN31)/$H31)","v":{"$error":"#DIV/0!"}},{"$f":"IF(AN31=\"\",\"\",AQ31)","v":""},null,null,null,null,null,{"$f":"IF(Sheet2!$A$46=TRUE,(-1*($G31-AU31)/$H31),($G31-AU31)/$H31)","v":{"$error":"#DIV/0!"}},{"$f":"IF(AU31=\"\",\"\",AX31)","v":""}]
[null,null,"Outcome 3:",null,null,null,null,null,null,{"$f":"IF(Sheet2!$A$47=TRUE,-1*(#REF!-G32)/SQRT(((#REF!^2*(#REF!-1))+(H32^2*(I32-1)))/(#REF!+I32-2)),(#REF!-G32)/SQRT(((#REF!^2*(#REF!-1))+(H32^2*(I32-1)))/(#REF!+I32-2)))","v":{"$error":"#REF!"}},null,null,null,null,{"$f":"IF(Sheet2!$A$47=TRUE,(-1*($G32-L32)/$H32),($G32-L32)/$H32)","v":{"$error":"#DIV/0!"}},{"$f":"IF(L32=\"\",\"\",O32)","v":""},null,null,null,null,null,{"$f":"IF(Sheet2!$A$47=TRUE,(-1*($G32-S32)/$H32),($G32-S32)/$H32)","v":{"$error":"#DIV/0!"}},{"$f":"IF(S32=\"\",\"\",V32)","v":""},null,null,null,null,null,{"$f":"IF(Sheet2!$A$47=TRUE,(-1*($G32-Z32)/$H32),($G32-Z32)/$H32)","v":{"$error":"#DIV/0!"}},{"$f":"IF(Z32=\"\",\"\",AC32)","v":""},null,null,null,null,null,{"$f":"IF(Sheet2!$A$47=TRUE,(-1*($G32-AG32)/$H32),($G32-AG32)/$H32)","v":{"$error":"#DIV/0!"}},{"$f":"IF(AG32=\"\",\"\",AJ32)","v":""},null,null,null,null,null,{"$f":"IF(Sheet2!$A$47=TRUE,(-1*($G32-AN32)/$H32),($G32-AN32)/$H32)","v":{"$error":"#DIV/0!"}},{"$f":"IF(AN32=\"\",\"\",AQ32)","v":""},null,null,null,null,null,{"$f":"IF(Sheet2!$A$47=TRUE,(-1*($G32-AU32)/$H32),($G32-AU32)/$H32)","v":{"$error":"#DIV/0!"}},{"$f":"IF(AU32=\"\",\"\",AX32)","v":""}]
[null,null,"Outcome 4:",null,null,null,null,null,null,{"$f":"IF(Sheet2!$A$48=TRUE,-1*(#REF!-G33)/SQRT(((#REF!^2*(#REF!-1))+(H33^2*(I33-1)))/(#REF!+I33-2)),(#REF!-G33)/SQRT(((#REF!^2*(#REF!-1))+(H33^2*(I33-1)))/(#REF!+I33-2)))","v":{"$error":"#REF!"}},null,null,null,null,{"$f":"IF(Sheet2!$A$48=TRUE,(-1*($G33-L33)/$H33),($G33-L33)/$H33)","v":{"$error":"#DIV/0!"}},"",null,null,null,null,null,{"$f":"IF(Sheet2!$A$48=TRUE,(-1*($G33-S33)/$H33),($G33-S33)/$H33)","v":{"$error":"#DIV/0!"}},"",null,null,null,null,null,{"$f":"IF(Sheet2!$A$48=TRUE,(-1*($G33-Z33)/$H33),($G33-Z33)/$H33)","v":{"$error":"#DIV/0!"}},"",null,null,null,null,null,{"$f":"IF(Sheet2!$A$48=TRUE,(-1*($G33-AG33)/$H33),($G33-AG33)/$H33)","v":{"$error":"#DIV/0!"}},"",null,null,null,null,null,{"$f":"IF(Sheet2!$A$48=TRUE,(-1*($G33-AN33)/$H33),($G33-AN33)/$H33)","v":{"$error":"#DIV/0!"}},"",null,null,null,null,null,{"$f":"IF(Sheet2!$A$48=TRUE,(-1*($G33-AU33)/$H33),($G33-AU33)/$H33)","v":{"$error":"#DIV/0!"}},""]
[null,null,"Outcome 5:",null,null,null,null,null,null,{"$f":"IF(Sheet2!$A$49=TRUE,-1*(#REF!-G34)/SQRT(((#REF!^2*(#REF!-1))+(H34^2*(I34-1)))/(#REF!+I34-2)),(#REF!-G34)/SQRT(((#REF!^2*(#REF!-1))+(H34^2*(I34-1)))/(#REF!+I34-2)))","v":{"$error":"#REF!"}},null,null,null,null,{"$f":"IF(Sheet2!$A$49=TRUE,(-1*($G34-L34)/$H34),($G34-L34)/$H34)","v":{"$error":"#DIV/0!"}},"",null,null,null,null,null,{"$f":"IF(Sheet2!$A$49=TRUE,(-1*($G34-S34)/$H34),($G34-S34)/$H34)","v":{"$error":"#DIV/0!"}},"",null,null,null,null,null,{"$f":"IF(Sheet2!$A$49=TRUE,(-1*($G34-Z34)/$H34),($G34-Z34)/$H34)","v":{"$error":"#DIV/0!"}},"",null,null,null,null,null,{"$f":"IF(Sheet2!$A$49=TRUE,(-1*($G34-AG34)/$H34),($G34-AG34)/$H34)","v":{"$error":"#DIV/0!"}},"",null,null,null,null,null,{"$f":"IF(Sheet2!$A$49=TRUE,(-1*($G34-AN34)/$H34),($G34-AN34)/$H34)","v":{"$error":"#DIV/0!"}},"",null,null,null,null,null,{"$f":"IF(Sheet2!$A$49=TRUE,(-1*($G34-AU34)/$H34),($G34-AU34)/$H34)","v":{"$error":"#DIV/0!"}},""]
[null,null,"Attn/Wrk Mem d",null,null,null,null,null,null,null,null,null,null,null,null,{"$f":"IF(P30=\"\",\"\",AVERAGE(P30:P34))","v":""},{"$f":"IF(Q30=\"\",\"\",AVERAGE(Q30:Q34))","v":""},null,null,null,null,null,{"$f":"IF(W30=\"\",\"\",AVERAGE(W30:W34))","v":""},{"$f":"IF(X30=\"\",\"\",AVERAGE(X30:X34))","v":""},null,null,null,null,null,{"$f":"IF(AD30=\"\",\"\",AVERAGE(AD30:AD34))","v":""},{"$f":"IF(AE30=\"\",\"\",AVERAGE(AE30:AE34))","v":""},null,null,null,null,null,{"$f":"IF(AK30=\"\",\"\",AVERAGE(AK30:AK34))","v":""},{"$f":"IF(AL30=\"\",\"\",AVERAGE(AL30:AL34))","v":""},null,null,null,null,null,{"$f":"IF(AR30=\"\",\"\",AVERAGE(AR30:AR34))","v":""},{"$f":"IF(AS30=\"\",\"\",AVERAGE(AS30:AS34))","v":""},null,null,null,null,null,{"$f":"IF(AY30=\"\",\"\",AVERAGE(AY30:AY34))","v":""},{"$f":"IF(AZ30=\"\",\"\",AVERAGE(AZ30:AZ34))","v":""}]
[]
[null,null,"Processing Speed","Test Name"]
[null,null,"Outcome 1:",null,null,null,null,null,null,{"$f":"IF(Sheet2!$A$53=TRUE,-1*(#REF!-G38)/SQRT(((#REF!^2*(#REF!-1))+(H38^2*(I38-1)))/(#REF!+I38-2)),(#REF!-G38)/SQRT(((#REF!^2*(#REF!-1))+(H38^2*(I38-1)))/(#REF!+I38-2)))","v":{"$error":"#REF!"}},null,null,null,null,{"$f":"IF(Sheet2!$A$53=TRUE,(-1*($G38-L38)/$H38),($G38-L38)/$H38)","v":{"$error":"#DIV/0!"}},{"$f":"IF(L38=\"\",\"\",O38)","v":""},null,null,null,null,null,{"$f":"IF(Sheet2!$A$53=TRUE,(-1*($G38-S38)/$H38),($G38-S38)/$H38)","v":{"$error":"#DIV/0!"}},{"$f":"IF(S38=\"\",\"\",V38)","v":""},null,null,null,null,null,{"$f":"IF(Sheet2!$A$53=TRUE,(-1*($G38-Z38)/$H38),($G38-Z38)/$H38)","v":{"$error":"#DIV/0!"}},{"$f":"IF(Z38=\"\",\"\",AC38)","v":""},null,null,null,null,null,{"$f":"IF(Sheet2!$A$53=TRUE,(-1*($G38-AG38)/$H38),($G38-AG38)/$H38)","v":{"$error":"#DIV/0!"}},{"$f":"IF(AG38=\"\",\"\",AJ38)","v":""},null,null,null,null,null,{"$f":"IF(Sheet2!$A$53=TRUE,(-1*($G38-AN38)/$H38),($G38-AN38)/$H38)","v":{"$error":"#DIV/0!"}},{"$f":"IF(AN38=\"\",\"\",AQ38)","v":""},null,null,null,null,null,{"$f":"IF(Sheet2!$A$53=TRUE,(-1*($G38-AU38)/$H38),($G38-AU38)/$H38)","v":{"$error":"#DIV/0!"}},{"$f":"IF(AU38=\"\",\"\",AX38)","v":""}]
[null,null,"Outcome 2:",null,null,null,null,null,null,{"$f":"IF(Sheet2!$A$54=TRUE,-1*(#REF!-G39)/SQRT(((#REF!^2*(#REF!-1))+(H39^2*(I39-1)))/(#REF!+I39-2)),(#REF!-G39)/SQRT(((#REF!^2*(#REF!-1))+(H39^2*(I39-1)))/(#REF!+I39-2)))","v":{"$error":"#REF!"}},null,null,null,null,{"$f":"IF(Sheet2!$A$54=TRUE,(-1*($G39-L39)/$H39),($G39-L39)/$H39)","v":{"$error":"#DIV/0!"}},{"$f":"IF(L39=\"\",\"\",O39)","v":""},null,null,null,null,null,{"$f":"IF(Sheet2!$A$54=TRUE,(-1*($G39-S39)/$H39),($G39-S39)/$H39)","v":{"$error":"#DIV/0!"}},{"$f":"IF(S39=\"\",\"\",V39)","v":""},null,null,null,null,null,{"$f":"IF(Sheet2!$A$54=TRUE,(-1*($G39-Z39)/$H39),($G39-Z39)/$H39)","v":{"$error":"#DIV/0!"}},{"$f":"IF(Z39=\"\",\"\",AC39)","v":""},null,null,null,null,null,{"$f":"IF(Sheet2!$A$54=TRUE,(-1*($G39-AG39)/$H39),($G39-AG39)/$H39)","v":{"$error":"#DIV/0!"}},{"$f":"IF(AG39=\"\",\"\",AJ39)","v":""},null,null,null,null,null,{"$f":"IF(Sheet2!$A$54=TRUE,(-1*($G39-AN39)/$H39),($G39-AN39)/$H39)","v":{"$error":"#DIV/0!"}},{"$f":"IF(AN39=\"\",\"\",AQ39)","v":""},null,null,null,null,null,{"$f":"IF(Sheet2!$A$54=TRUE,(-1*($G39-AU39)/$H39),($G39-AU39)/$H39)","v":{"$error":"#DIV/0!"}},{"$f":"IF(AU39=\"\",\"\",AX39)","v":""}]
[null,null,"Outcome 3:",null,null,null,null,null,null,{"$f":"IF(Sheet2!$A$55=TRUE,-1*(#REF!-G40)/SQRT(((#REF!^2*(#REF!-1))+(H40^2*(I40-1)))/(#REF!+I40-2)),(#REF!-G40)/SQRT(((#REF!^2*(#REF!-1))+(H40^2*(I40-1)))/(#REF!+I40-2)))","v":{"$error":"#REF!"}},null,null,null,null,{"$f":"IF(Sheet2!$A$55=TRUE,(-1*($G40-L40)/$H40),($G40-L40)/$H40)","v":{"$error":"#DIV/0!"}},{"$f":"IF(L40=\"\",\"\",O40)","v":""},null,null,null,null,null,{"$f":"IF(Sheet2!$A$55=TRUE,(-1*($G40-S40)/$H40),($G40-S40)/$H40)","v":{"$error":"#DIV/0!"}},{"$f":"IF(S40=\"\",\"\",V40)","v":""},null,null,null,null,null,{"$f":"IF(Sheet2!$A$55=TRUE,(-1*($G40-Z40)/$H40),($G40-Z40)/$H40)","v":{"$error":"#DIV/0!"}},{"$f":"IF(Z40=\"\",\"\",AC40)","v":""},null,null,null,null,null,{"$f":"IF(Sheet2!$A$55=TRUE,(-1*($G40-AG40)/$H40),($G40-AG40)/$H40)","v":{"$error":"#DIV/0!"}},{"$f":"IF(AG40=\"\",\"\",AJ40)","v":""},null,null,null,null,null,{"$f":"IF(Sheet2!$A$55=TRUE,(-1*($G40-AN40)/$H40),($G40-AN40)/$H40)","v":{"$error":"#DIV/0!"}},{"$f":"IF(AN40=\"\",\"\",AQ40)","v":""},null,null,null,null,null,{"$f":"IF(Sheet2!$A$55=TRUE,(-1*($G40-AU40)/$H40),($G40-AU40)/$H40)","v":{"$error":"#DIV/0!"}},{"$f":"IF(AU40=\"\",\"\",AX40)","v":""}]
[null,null,"Outcome 4:",null,null,null,null,null,null,{"$f":"IF(Sheet2!$A$56=TRUE,-1*(#REF!-G41)/SQRT(((#REF!^2*(#REF!-1))+(H41^2*(I41-1)))/(#REF!+I41-2)),(#REF!-G41)/SQRT(((#REF!^2*(#REF!-1))+(H41^2*(I41-1)))/(#REF!+I41-2)))","v":{"$error":"#REF!"}},null,null,null,null,{"$f":"IF(Sheet2!$A$56=TRUE,(-1*($G41-L41)/$H41),($G41-L41)/$H41)","v":{"$error":"#DIV/0!"}},"",null,null,null,null,null,{"$f":"IF(Sheet2!$A$56=TRUE,(-1*($G41-S41)/$H41),($G41-S41)/$H41)","v":{"$error":"#DIV/0!"}},"",null,null,null,null,null,{"$f":"IF(Sheet2!$A$56=TRUE,(-1*($G41-Z41)/$H41),($G41-Z41)/$H41)","v":{"$error":"#DIV/0!"}},"",null,null,null,null,null,{"$f":"IF(Sheet2!$A$56=TRUE,(-1*($G41-AG41)/$H41),($G41-AG41)/$H41)","v":{"$error":"#DIV/0!"}},"",null,null,null,null,null,{"$f":"IF(Sheet2!$A$56=TRUE,(-1*($G41-AN41)/$H41),($G41-AN41)/$H41)","v":{"$error":"#DIV/0!"}},"",null,null,null,null,null,{"$f":"IF(Sheet2!$A$56=TRUE,(-1*($G41-AU41)/$H41),($G41-AU41)/$H41)","v":{"$error":"#DIV/0!"}},""]
[null,null,"Outcome 5:",null,null,null,null,null,null,{"$f":"IF(Sheet2!$A$57=TRUE,-1*(#REF!-G42)/SQRT(((#REF!^2*(#REF!-1))+(H42^2*(I42-1)))/(#REF!+I42-2)),(#REF!-G42)/SQRT(((#REF!^2*(#REF!-1))+(H42^2*(I42-1)))/(#REF!+I42-2)))","v":{"$error":"#REF!"}},null,null,null,null,{"$f":"IF(Sheet2!$A$57=TRUE,(-1*($G42-L42)/$H42),($G42-L42)/$H42)","v":{"$error":"#DIV/0!"}},"",null,null,null,null,null,{"$f":"IF(Sheet2!$A$57=TRUE,(-1*($G42-S42)/$H42),($G42-S42)/$H42)","v":{"$error":"#DIV/0!"}},"",null,null,null,null,null,{"$f":"IF(Sheet2!$A$57=TRUE,(-1*($G42-Z42)/$H42),($G42-Z42)/$H42)","v":{"$error":"#DIV/0!"}},"",null,null,null,null,null,{"$f":"IF(Sheet2!$A$57=TRUE,(-1*($G42-AG42)/$H42),($G42-AG42)/$H42)","v":{"$error":"#DIV/0!"}},"",null,null,null,null,null,{"$f":"IF(Sheet2!$A$57=TRUE,(-1*($G42-AN42)/$H42),($G42-AN42)/$H42)","v":{"$error":"#DIV/0!"}},"",null,null,null,null,null,{"$f":"IF(Sheet2!$A$57=TRUE,(-1*($G42-AU42)/$H42),($G42-AU42)/$H42)","v":{"$error":"#DIV/0!"}},""]
[null,null,"Processing Speed d",null,null,null,null,null,null,null,null,null,null,null,null,{"$f":"IF(P38=\"\",\"\",AVERAGE(P38:P42))","v":""},{"$f":"IF(Q38=\"\",\"\",AVERAGE(Q38:Q42))","v":""},null,null,null,null,null,{"$f":"IF(W38=\"\",\"\",AVERAGE(W38:W42))","v":""},{"$f":"IF(X38=\"\",\"\",AVERAGE(X38:X42))","v":""},null,null,null,null,null,{"$f":"IF(AD38=\"\",\"\",AVERAGE(AD38:AD42))","v":""},{"$f":"IF(AE38=\"\",\"\",AVERAGE(AE38:AE42))","v":""},null,null,null,null,null,{"$f":"IF(AK38=\"\",\"\",AVERAGE(AK38:AK42))","v":""},{"$f":"IF(AL38=\"\",\"\",AVERAGE(AL38:AL42))","v":""},null,null,null,null,null,{"$f":"IF(AR38=\"\",\"\",AVERAGE(AR38:AR42))","v":""},{"$f":"IF(AS38=\"\",\"\",AVERAGE(AS38:AS42))","v":""},null,null,null,null,null,{"$f":"IF(AY38=\"\",\"\",AVERAGE(AY38:AY42))","v":""},{"$f":"IF(AZ38=\"\",\"\",AVERAGE(AZ38:AZ42))","v":""}]
[]
[null,null,"Executive Function","Test Name"]
[null,null,"Outcome 1:",null,null,null,null,null,null,{"$f":"IF(Sheet2!$A$61=TRUE,-1*(#REF!-G46)/SQRT(((#REF!^2*(#REF!-1))+(H46^2*(I46-1)))/(#REF!+I46-2)),(#REF!-G46)/SQRT(((#REF!^2*(#REF!-1))+(H46^2*(I46-1)))/(#REF!+I46-2)))","v":{"$error":"#REF!"}},null,null,null,null,{"$f":"IF(Sheet2!$A$61=TRUE,(-1*($G46-L46)/$H46),($G46-L46)/$H46)","v":{"$error":"#DIV/0!"}},{"$f":"IF(L46=\"\",\"\",O46)","v":""},null,null,null,null,null,{"$f":"IF(Sheet2!$A$61=TRUE,(-1*($G46-S46)/$H46),($G46-S46)/$H46)","v":{"$error":"#DIV/0!"}},{"$f":"IF(S46=\"\",\"\",V46)","v":""},null,null,null,null,null,{"$f":"IF(Sheet2!$A$61=TRUE,(-1*($G46-Z46)/$H46),($G46-Z46)/$H46)","v":{"$error":"#DIV/0!"}},{"$f":"IF(Z46=\"\",\"\",AC46)","v":""},null,null,null,null,null,{"$f":"IF(Sheet2!$A$61=TRUE,(-1*($G46-AG46)/$H46),($G46-AG46)/$H46)","v":{"$error":"#DIV/0!"}},{"$f":"IF(AG46=\"\",\"\",AJ46)","v":""},null,null,null,null,null,{"$f":"IF(Sheet2!$A$61=TRUE,(-1*($G46-AN46)/$H46),($G46-AN46)/$H46)","v":{"$error":"#DIV/0!"}},{"$f":"IF(AN46=\"\",\"\",AQ46)","v":""},null,null,null,null,null,{"$f":"IF(Sheet2!$A$61=TRUE,(-1*($G46-AU46)/$H46),($G46-AU46)/$H46)","v":{"$error":"#DIV/0!"}},{"$f":"IF(AU46=\"\",\"\",AX46)","v":""}]
[null,null,"Outcome 2:",null,null,null,null,null,null,{"$f":"IF(Sheet2!$A$62=TRUE,-1*(#REF!-G47)/SQRT(((#REF!^2*(#REF!-1))+(H47^2*(I47-1)))/(#REF!+I47-2)),(#REF!-G47)/SQRT(((#REF!^2*(#REF!-1))+(H47^2*(I47-1)))/(#REF!+I47-2)))","v":{"$error":"#REF!"}},null,null,null,null,{"$f":"IF(Sheet2!$A$62=TRUE,(-1*($G47-L47)/$H47),($G47-L47)/$H47)","v":{"$error":"#DIV/0!"}},{"$f":"IF(L47=\"\",\"\",O47)","v":""},null,null,null,null,null,{"$f":"IF(Sheet2!$A$62=TRUE,(-1*($G47-S47)/$H47),($G47-S47)/$H47)","v":{"$error":"#DIV/0!"}},{"$f":"IF(S47=\"\",\"\",V47)","v":""},null,null,null,null,null,{"$f":"IF(Sheet2!$A$62=TRUE,(-1*($G47-Z47)/$H47),($G47-Z47)/$H47)","v":{"$error":"#DIV/0!"}},{"$f":"IF(Z47=\"\",\"\",AC47)","v":""},null,null,null,null,null,{"$f":"IF(Sheet2!$A$62=TRUE,(-1*($G47-AG47)/$H47),($G47-AG47)/$H47)","v":{"$error":"#DIV/0!"}},{"$f":"IF(AG47=\"\",\"\",AJ47)","v":""},null,null,null,null,null,{"$f":"IF(Sheet2!$A$62=TRUE,(-1*($G47-AN47)/$H47),($G47-AN47)/$H47)","v":{"$error":"#DIV/0!"}},{"$f":"IF(AN47=\"\",\"\",AQ47)","v":""},null,null,null,null,null,{"$f":"IF(Sheet2!$A$62=TRUE,(-1*($G47-AU47)/$H47),($G47-AU47)/$H47)","v":{"$error":"#DIV/0!"}},{"$f":"IF(AU47=\"\",\"\",AX47)","v":""}]
[null,null,"Outcome 3:",null,null,null,null,null,null,{"$f":"IF(Sheet2!$A$63=TRUE,-1*(#REF!-G48)/SQRT(((#REF!^2*(#REF!-1))+(H48^2*(I48-1)))/(#REF!+I48-2)),(#REF!-G48)/SQRT(((#REF!^2*(#REF!-1))+(H48^2*(I48-1)))/(#REF!+I48-2)))","v":{"$error":"#REF!"}},null,null,null,null,{"$f":"IF(Sheet2!$A$63=TRUE,(-1*($G48-L48)/$H48),($G48-L48)/$H48)","v":{"$error":"#DIV/0!"}},{"$f":"IF(L48=\"\",\"\",O48)","v":""},null,null,null,null,null,{"$f":"IF(Sheet2!$A$63=TRUE,(-1*($G48-S48)/$H48),($G48-S48)/$H48)","v":{"$error":"#DIV/0!"}},{"$f":"IF(S48=\"\",\"\",V48)","v":""},null,null,null,null,null,{"$f":"IF(Sheet2!$A$63=TRUE,(-1*($G48-Z48)/$H48),($G48-Z48)/$H48)","v":{"$error":"#DIV/0!"}},{"$f":"IF(Z48=\"\",\"\",AC48)","v":""},null,null,null,null,null,{"$f":"IF(Sheet2!$A$63=TRUE,(-1*($G48-AG48)/$H48),($G48-AG48)/$H48)","v":{"$error":"#DIV/0!"}},{"$f":"IF(AG48=\"\",\"\",AJ48)","v":""},null,null,null,null,null,{"$f":"IF(Sheet2!$A$63=TRUE,(-1*($G48-AN48)/$H48),($G48-AN48)/$H48)","v":{"$error":"#DIV/0!"}},{"$f":"IF(AN48=\"\",\"\",AQ48)","v":""},null,null,null,null,null,{"$f":"IF(Sheet2!$A$63=TRUE,(-1*($G48-AU48)/$H48),($G48-AU48)/$H48)","v":{"$error":"#DIV/0!"}},{"$f":"IF(AU48=\"\",\"\",AX48)","v":""}]
[null,null,"Outcome 4:",null,null,null,null,null,null,{"$f":"IF(Sheet2!$A$64=TRUE,-1*(#REF!-G49)/SQRT(((#REF!^2*(#REF!-1))+(H49^2*(I49-1)))/(#REF!+I49-2)),(#REF!-G49)/SQRT(((#REF!^2*(#REF!-1))+(H49^2*(I49-1)))/(#REF!+I49-2)))","v":{"$error":"#REF!"}},null,null,null,null,{"$f":"IF(Sheet2!$A$64=TRUE,(-1*($G49-L49)/$H49),($G49-L49)/$H49)","v":{"$error":"#DIV/0!"}},"",null,null,null,null,null,{"$f":"IF(Sheet2!$A$64=TRUE,(-1*($G49-S49)/$H49),($G49-S49)/$H49)","v":{"$error":"#DIV/0!"}},"",null,null,null,null,null,{"$f":"IF(Sheet2!$A$64=TRUE,(-1*($G49-Z49)/$H49),($G49-Z49)/$H49)","v":{"$error":"#DIV/0!"}},"",null,null,null,null,null,{"$f":"IF(Sheet2!$A$64=TRUE,(-1*($G49-AG49)/$H49),($G49-AG49)/$H49)","v":{"$error":"#DIV/0!"}},"",null,null,null,null,null,{"$f":"IF(Sheet2!$A$64=TRUE,(-1*($G49-AN49)/$H49),($G49-AN49)/$H49)","v":{"$error":"#DIV/0!"}},"",null,null,null,null,null,{"$f":"IF(Sheet2!$A$64=TRUE,(-1*($G49-AU49)/$H49),($G49-AU49)/$H49)","v":{"$error":"#DIV/0!"}},""]
[null,null,"Outcome 5:",null,null,null,null,null,null,{"$f":"IF(Sheet2!$A$65=TRUE,-1*(#REF!-G50)/SQRT(((#REF!^2*(#REF!-1))+(H50^2*(I50-1)))/(#REF!+I50-2)),(#REF!-G50)/SQRT(((#REF!^2*(#REF!-1))+(H50^2*(I50-1)))/(#REF!+I50-2)))","v":{"$error":"#REF!"}},null,null,null,null,{"$f":"IF(Sheet2!$A$65=TRUE,(-1*($G50-L50)/$H50),($G50-L50)/$H50)","v":{"$error":"#DIV/0!"}},"",null,null,null,null,null,{"$f":"IF(Sheet2!$A$65=TRUE,(-1*($G50-S50)/$H50),($G50-S50)/$H50)","v":{"$error":"#DIV/0!"}},"",null,null,null,null,null,{"$f":"IF(Sheet2!$A$65=TRUE,(-1*($G50-Z50)/$H50),($G50-Z50)/$H50)","v":{"$error":"#DIV/0!"}},"",null,null,null,null,null,{"$f":"IF(Sheet2!$A$65=TRUE,(-1*($G50-AG50)/$H50),($G50-AG50)/$H50)","v":{"$error":"#DIV/0!"}},"",null,null,null,null,null,{"$f":"IF(Sheet2!$A$65=TRUE,(-1*($G50-AN50)/$H50),($G50-AN50)/$H50)","v":{"$error":"#DIV/0!"}},"",null,null,null,null,null,{"$f":"IF(Sheet2!$A$65=TRUE,(-1*($G50-AU50)/$H50),($G50-AU50)/$H50)","v":{"$error":"#DIV/0!"}},""]
[null,null,"Executive Function d",null,null,null,null,null,null,null,null,null,null,null,null,{"$f":"IF(P46=\"\",\"\",AVERAGE(P46:P50))","v":""},{"$f":"IF(Q46=\"\",\"\",AVERAGE(Q46:Q50))","v":""},null,null,null,null,null,{"$f":"IF(W46=\"\",\"\",AVERAGE(W46:W50))","v":""},{"$f":"IF(X46=\"\",\"\",AVERAGE(X46:X50))","v":""},null,null,null,null,null,{"$f":"IF(AD46=\"\",\"\",AVERAGE(AD46:AD50))","v":""},{"$f":"IF(AE46=\"\",\"\",AVERAGE(AE46:AE50))","v":""},null,null,null,null,null,{"$f":"IF(AK46=\"\",\"\",AVERAGE(AK46:AK50))","v":""},{"$f":"IF(AL46=\"\",\"\",AVERAGE(AL46:AL50))","v":""},null,null,null,null,null,{"$f":"IF(AR46=\"\",\"\",AVERAGE(AR46:AR50))","v":""},{"$f":"IF(AS46=\"\",\"\",AVERAGE(AS46:AS50))","v":""},null,null,null,null,null,{"$f":"IF(AY46=\"\",\"\",AVERAGE(AY46:AY50))","v":""},{"$f":"IF(AZ46=\"\",\"\",AVERAGE(AZ46:AZ50))","v":""}]
[]
[null,null,"Immediate Memory","Test Name"]
[null,null,"Outcome 1:",null,null,null,null,null,null,{"$f":"IF(Sheet2!$A$69=TRUE,-1*(#REF!-G54)/SQRT(((#REF!^2*(#REF!-1))+(H54^2*(I54-1)))/(#REF!+I54-2)),(#REF!-G54)/SQRT(((#REF!^2*(#REF!-1))+(H54^2*(I54-1)))/(#REF!+I54-2)))","v":{"$error":"#REF!"}},null,null,null,null,{"$f":"IF(Sheet2!$A$69=TRUE,(-1*($G54-L54)/$H54),($G54-L54)/$H54)","v":{"$error":"#DIV/0!"}},{"$f":"IF(L54=\"\",\"\",O54)","v":""},null,null,null,null,null,{"$f":"IF(Sheet2!$A$69=TRUE,(-1*($G54-S54)/$H54),($G54-S54)/$H54)","v":{"$error":"#DIV/0!"}},{"$f":"IF(S54=\"\",\"\",V54)","v":""},null,null,null,null,null,{"$f":"IF(Sheet2!$A$69=TRUE,(-1*($G54-Z54)/$H54),($G54-Z54)/$H54)","v":{"$error":"#DIV/0!"}},{"$f":"IF(Z54=\"\",\"\",AC54)","v":""},null,null,null,null,null,{"$f":"IF(Sheet2!$A$69=TRUE,(-1*($G54-AG54)/$H54),($G54-AG54)/$H54)","v":{"$error":"#DIV/0!"}},{"$f":"IF(AG54=\"\",\"\",AJ54)","v":""},null,null,null,null,null,{"$f":"IF(Sheet2!$A$69=TRUE,(-1*($G54-AN54)/$H54),($G54-AN54)/$H54)","v":{"$error":"#DIV/0!"}},{"$f":"IF(AN54=\"\",\"\",AQ54)","v":""},null,null,null,null,null,{"$f":"IF(Sheet2!$A$69=TRUE,(-1*($G54-AU54)/$H54),($G54-AU54)/$H54)","v":{"$error":"#DIV/0!"}},{"$f":"IF(AU54=\"\",\"\",AX54)","v":""}]
[null,null,"Outcome 2:",null,null,null,null,null,null,{"$f":"IF(Sheet2!$A$70=TRUE,-1*(#REF!-G55)/SQRT(((#REF!^2*(#REF!-1))+(H55^2*(I55-1)))/(#REF!+I55-2)),(#REF!-G55)/SQRT(((#REF!^2*(#REF!-1))+(H55^2*(I55-1)))/(#REF!+I55-2)))","v":{"$error":"#REF!"}},null,null,null,null,{"$f":"IF(Sheet2!$A$70=TRUE,(-1*($G55-L55)/$H55),($G55-L55)/$H55)","v":{"$error":"#DIV/0!"}},{"$f":"IF(L55=\"\",\"\",O55)","v":""},null,null,null,null,null,{"$f":"IF(Sheet2!$A$70=TRUE,(-1*($G55-S55)/$H55),($G55-S55)/$H55)","v":{"$error":"#DIV/0!"}},{"$f":"IF(S55=\"\",\"\",V55)","v":""},null,null,null,null,null,{"$f":"IF(Sheet2!$A$70=TRUE,(-1*($G55-Z55)/$H55),($G55-Z55)/$H55)","v":{"$error":"#DIV/0!"}},{"$f":"IF(Z55=\"\",\"\",AC55)","v":""},null,null,null,null,null,{"$f":"IF(Sheet2!$A$70=TRUE,(-1*($G55-AG55)/$H55),($G55-AG55)/$H55)","v":{"$error":"#DIV/0!"}},{"$f":"IF(AG55=\"\",\"\",AJ55)","v":""},null,null,null,null,null,{"$f":"IF(Sheet2!$A$70=TRUE,(-1*($G55-AN55)/$H55),($G55-AN55)/$H55)","v":{"$error":"#DIV/0!"}},{"$f":"IF(AN55=\"\",\"\",AQ55)","v":""},null,null,null,null,null,{"$f":"IF(Sheet2!$A$70=TRUE,(-1*($G55-AU55)/$H55),($G55-AU55)/$H55)","v":{"$error":"#DIV/0!"}},{"$f":"IF(AU55=\"\",\"\",AX55)","v":""}]
[null,null,"Outcome 3:",null,null,null,null,null,null,{"$f":"IF(Sheet2!$A$71=TRUE,-1*(#REF!-G56)/SQRT(((#REF!^2*(#REF!-1))+(H56^2*(I56-1)))/(#REF!+I56-2)),(#REF!-G56)/SQRT(((#REF!^2*(#REF!-1))+(H56^2*(I56-1)))/(#REF!+I56-2)))","v":{"$error":"#REF!"}},null,null,null,null,{"$f":"IF(Sheet2!$A$71=TRUE,(-1*($G56-L56)/$H56),($G56-L56)/$H56)","v":{"$error":"#DIV/0!"}},{"$f":"IF(L56=\"\",\"\",O56)","v":""},null,null,null,null,null,{"$f":"IF(Sheet2!$A$71=TRUE,(-1*($G56-S56)/$H56),($G56-S56)/$H56)","v":{"$error":"#DIV/0!"}},{"$f":"IF(S56=\"\",\"\",V56)","v":""},null,null,null,null,null,{"$f":"IF(Sheet2!$A$71=TRUE,(-1*($G56-Z56)/$H56),($G56-Z56)/$H56)","v":{"$error":"#DIV/0!"}},{"$f":"IF(Z56=\"\",\"\",AC56)","v":""},null,null,null,null,null,{"$f":"IF(Sheet2!$A$71=TRUE,(-1*($G56-AG56)/$H56),($G56-AG56)/$H56)","v":{"$error":"#DIV/0!"}},{"$f":"IF(AG56=\"\",\"\",AJ56)","v":""},null,null,null,null,null,{"$f":"IF(Sheet2!$A$71=TRUE,(-1*($G56-AN56)/$H56),($G56-AN56)/$H56)","v":{"$error":"#DIV/0!"}},{"$f":"IF(AN56=\"\",\"\",AQ56)","v":""},null,null,null,null,null,{"$f":"IF(Sheet2!$A$71=TRUE,(-1*($G56-AU56)/$H56),($G56-AU56)/$H56)","v":{"$error":"#DIV/0!"}},{"$f":"IF(AU56=\"\",\"\",AX56)","v":""}]
[null,null,"Outcome 4:",null,null,null,null,null,null,{"$f":"IF(Sheet2!$A$72=TRUE,-1*(#REF!-G57)/SQRT(((#REF!^2*(#REF!-1))+(H57^2*(I57-1)))/(#REF!+I57-2)),(#REF!-G57)/SQRT(((#REF!^2*(#REF!-1))+(H57^2*(I57-1)))/(#REF!+I57-2)))","v":{"$error":"#REF!"}},null,null,null,null,{"$f":"IF(Sheet2!$A$72=TRUE,(-1*($G57-L57)/$H57),($G57-L57)/$H57)","v":{"$error":"#DIV/0!"}},"",null,null,null,null,null,{"$f":"IF(Sheet2!$A$72=TRUE,(-1*($G57-S57)/$H57),($G57-S57)/$H57)","v":{"$error":"#DIV/0!"}},"",null,null,null,null,null,{"$f":"IF(Sheet2!$A$72=TRUE,(-1*($G57-Z57)/$H57),($G57-Z57)/$H57)","v":{"$error":"#DIV/0!"}},"",null,null,null,null,null,{"$f":"IF(Sheet2!$A$72=TRUE,(-1*($G57-AG57)/$H57),($G57-AG57)/$H57)","v":{"$error":"#DIV/0!"}},"",null,null,null,null,null,{"$f":"IF(Sheet2!$A$72=TRUE,(-1*($G57-AN57)/$H57),($G57-AN57)/$H57)","v":{"$error":"#DIV/0!"}},"",null,null,null,null,null,{"$f":"IF(Sheet2!$A$72=TRUE,(-1*($G57-AU57)/$H57),($G57-AU57)/$H57)","v":{"$error":"#DIV/0!"}},""]
[null,null,"Outcome 5:",null,null,null,null,null,null,{"$f":"IF(Sheet2!$A$73=TRUE,-1*(#REF!-G58)/SQRT(((#REF!^2*(#REF!-1))+(H58^2*(I58-1)))/(#REF!+I58-2)),(#REF!-G58)/SQRT(((#REF!^2*(#REF!-1))+(H58^2*(I58-1)))/(#REF!+I58-2)))","v":{"$error":"#REF!"}},null,null,null,null,{"$f":"IF(Sheet2!$A$73=TRUE,(-1*($G58-L58)/$H58),($G58-L58)/$H58)","v":{"$error":"#DIV/0!"}},"",null,null,null,null,null,{"$f":"IF(Sheet2!$A$73=TRUE,(-1*($G58-S58)/$H58),($G58-S58)/$H58)","v":{"$error":"#DIV/0!"}},"",null,null,null,null,null,{"$f":"IF(Sheet2!$A$73=TRUE,(-1*($G58-Z58)/$H58),($G58-Z58)/$H58)","v":{"$error":"#DIV/0!"}},"",null,null,null,null,null,{"$f":"IF(Sheet2!$A$73=TRUE,(-1*($G58-AG58)/$H58),($G58-AG58)/$H58)","v":{"$error":"#DIV/0!"}},"",null,null,null,null,null,{"$f":"IF(Sheet2!$A$73=TRUE,(-1*($G58-AN58)/$H58),($G58-AN58)/$H58)","v":{"$error":"#DIV/0!"}},"",null,null,null,null,null,{"$f":"IF(Sheet2!$A$73=TRUE,(-1*($G58-AU58)/$H58),($G58-AU58)/$H58)","v":{"$error":"#DIV/0!"}},""]
[null,null,"Immediate Memory d",null,null,null,null,null,null,null,null,null,null,null,null,{"$f":"IF(P54=\"\",\"\",AVERAGE(P54:P58))","v":""},{"$f":"IF(Q54=\"\",\"\",AVERAGE(Q54:Q58))","v":""},null,null,null,null,null,{"$f":"IF(W54=\"\",\"\",AVERAGE(W54:W58))","v":""},{"$f":"IF(X54=\"\",\"\",AVERAGE(X54:X58))","v":""},null,null,null,null,null,{"$f":"IF(AD54=\"\",\"\",AVERAGE(AD54:AD58))","v":""},{"$f":"IF(AE54=\"\",\"\",AVERAGE(AE54:AE58))","v":""},null,null,null,null,null,{"$f":"IF(AK54=\"\",\"\",AVERAGE(AK54:AK58))","v":""},{"$f":"IF(AL54=\"\",\"\",AVERAGE(AL54:AL58))","v":""},null,null,null,null,null,{"$f":"IF(AR54=\"\",\"\",AVERAGE(AR54:AR58))","v":""},{"$f":"IF(AS54=\"\",\"\",AVERAGE(AS54:AS58))","v":""},null,null,null,null,null,{"$f":"IF(AY54=\"\",\"\",AVERAGE(AY54:AY58))","v":""},{"$f":"IF(AZ54=\"\",\"\",AVERAGE(AZ54:AZ58))","v":""}]
[]
[null,null,"Delayed Memory","Test Name"]
[null,null,"Outcome 1:",null,null,null,null,null,null,{"$f":"IF(Sheet2!$A$77=TRUE,-1*(#REF!-G62)/SQRT(((#REF!^2*(#REF!-1))+(H62^2*(I62-1)))/(#REF!+I62-2)),(#REF!-G62)/SQRT(((#REF!^2*(#REF!-1))+(H62^2*(I62-1)))/(#REF!+I62-2)))","v":{"$error":"#REF!"}},null,null,null,null,{"$f":"IF(Sheet2!$A$77=TRUE,(-1*($G62-L62)/$H62),($G62-L62)/$H62)","v":{"$error":"#DIV/0!"}},{"$f":"IF(L62=\"\",\"\",O62)","v":""},null,null,null,null,null,{"$f":"IF(Sheet2!$A$77=TRUE,(-1*($G62-S62)/$H62),($G62-S62)/$H62)","v":{"$error":"#DIV/0!"}},{"$f":"IF(S62=\"\",\"\",V62)","v":""},null,null,null,null,null,{"$f":"IF(Sheet2!$A$77=TRUE,(-1*($G62-Z62)/$H62),($G62-Z62)/$H62)","v":{"$error":"#DIV/0!"}},{"$f":"IF(Z62=\"\",\"\",AC62)","v":""},null,null,null,null,null,{"$f":"IF(Sheet2!$A$77=TRUE,(-1*($G62-AG62)/$H62),($G62-AG62)/$H62)","v":{"$error":"#DIV/0!"}},{"$f":"IF(AG62=\"\",\"\",AJ62)","v":""},null,null,null,null,null,{"$f":"IF(Sheet2!$A$77=TRUE,(-1*($G62-AN62)/$H62),($G62-AN62)/$H62)","v":{"$error":"#DIV/0!"}},{"$f":"IF(AN62=\"\",\"\",AQ62)","v":""},null,null,null,null,null,{"$f":"IF(Sheet2!$A$77=TRUE,(-1*($G62-AU62)/$H62),($G62-AU62)/$H62)","v":{"$error":"#DIV/0!"}},{"$f":"IF(AU62=\"\",\"\",AX62)","v":""}]
[null,null,"Outcome 2:",null,null,null,null,null,null,{"$f":"IF(Sheet2!$A$78=TRUE,-1*(#REF!-G63)/SQRT(((#REF!^2*(#REF!-1))+(H63^2*(I63-1)))/(#REF!+I63-2)),(#REF!-G63)/SQRT(((#REF!^2*(#REF!-1))+(H63^2*(I63-1)))/(#REF!+I63-2)))","v":{"$error":"#REF!"}},null,null,null,null,{"$f":"IF(Sheet2!$A$78=TRUE,(-1*($G63-L63)/$H63),($G63-L63)/$H63)","v":{"$error":"#DIV/0!"}},{"$f":"IF(L63=\"\",\"\",O63)","v":""},null,null,null,null,null,{"$f":"IF(Sheet2!$A$78=TRUE,(-1*($G63-S63)/$H63),($G63-S63)/$H63)","v":{"$error":"#DIV/0!"}},{"$f":"IF(S63=\"\",\"\",V63)","v":""},null,null,null,null,null,{"$f":"IF(Sheet2!$A$78=TRUE,(-1*($G63-Z63)/$H63),($G63-Z63)/$H63)","v":{"$error":"#DIV/0!"}},{"$f":"IF(Z63=\"\",\"\",AC63)","v":""},null,null,null,null,null,{"$f":"IF(Sheet2!$A$78=TRUE,(-1*($G63-AG63)/$H63),($G63-AG63)/$H63)","v":{"$error":"#DIV/0!"}},{"$f":"IF(AG63=\"\",\"\",AJ63)","v":""},null,null,null,null,null,{"$f":"IF(Sheet2!$A$78=TRUE,(-1*($G63-AN63)/$H63),($G63-AN63)/$H63)","v":{"$error":"#DIV/0!"}},{"$f":"IF(AN63=\"\",\"\",AQ63)","v":""},null,null,null,null,null,{"$f":"IF(Sheet2!$A$78=TRUE,(-1*($G63-AU63)/$H63),($G63-AU63)/$H63)","v":{"$error":"#DIV/0!"}},{"$f":"IF(AU63=\"\",\"\",AX63)","v":""}]
[null,null,"Outcome 3:",null,null,null,null,null,null,{"$f":"IF(Sheet2!$A$79=TRUE,-1*(#REF!-G64)/SQRT(((#REF!^2*(#REF!-1))+(H64^2*(I64-1)))/(#REF!+I64-2)),(#REF!-G64)/SQRT(((#REF!^2*(#REF!-1))+(H64^2*(I64-1)))/(#REF!+I64-2)))","v":{"$error":"#REF!"}},null,null,null,null,{"$f":"IF(Sheet2!$A$79=TRUE,(-1*($G64-L64)/$H64),($G64-L64)/$H64)","v":{"$error":"#DIV/0!"}},{"$f":"IF(L64=\"\",\"\",O64)","v":""},null,null,null,null,null,{"$f":"IF(Sheet2!$A$79=TRUE,(-1*($G64-S64)/$H64),($G64-S64)/$H64)","v":{"$error":"#DIV/0!"}},{"$f":"IF(S64=\"\",\"\",V64)","v":""},null,null,null,null,null,{"$f":"IF(Sheet2!$A$79=TRUE,(-1*($G64-Z64)/$H64),($G64-Z64)/$H64)","v":{"$error":"#DIV/0!"}},{"$f":"IF(Z64=\"\",\"\",AC64)","v":""},null,null,null,null,null,{"$f":"IF(Sheet2!$A$79=TRUE,(-1*($G64-AG64)/$H64),($G64-AG64)/$H64)","v":{"$error":"#DIV/0!"}},{"$f":"IF(AG64=\"\",\"\",AJ64)","v":""},null,null,null,null,null,{"$f":"IF(Sheet2!$A$79=TRUE,(-1*($G64-AN64)/$H64),($G64-AN64)/$H64)","v":{"$error":"#DIV/0!"}},{"$f":"IF(AN64=\"\",\"\",AQ64)","v":""},null,null,null,null,null,{"$f":"IF(Sheet2!$A$79=TRUE,(-1*($G64-AU64)/$H64),($G64-AU64)/$H64)","v":{"$error":"#DIV/0!"}},{"$f":"IF(AU64=\"\",\"\",AX64)","v":""}]
[null,null,"Outcome 4:",null,null,null,null,null,null,{"$f":"IF(Sheet2!$A$80=TRUE,-1*(#REF!-G65)/SQRT(((#REF!^2*(#REF!-1))+(H65^2*(I65-1)))/(#REF!+I65-2)),(#REF!-G65)/SQRT(((#REF!^2*(#REF!-1))+(H65^2*(I65-1)))/(#REF!+I65-2)))","v":{"$error":"#REF!"}},null,null,null,null,{"$f":"IF(Sheet2!$A$80=TRUE,(-1*($G65-L65)/$H65),($G65-L65)/$H65)","v":{"$error":"#DIV/0!"}},"",null,null,null,null,null,{"$f":"IF(Sheet2!$A$80=TRUE,(-1*($G65-S65)/$H65),($G65-S65)/$H65)","v":{"$error":"#DIV/0!"}},"",null,null,null,null,null,{"$f":"IF(Sheet2!$A$80=TRUE,(-1*($G65-Z65)/$H65),($G65-Z65)/$H65)","v":{"$error":"#DIV/0!"}},"",null,null,null,null,null,{"$f":"IF(Sheet2!$A$80=TRUE,(-1*($G65-AG65)/$H65),($G65-AG65)/$H65)","v":{"$error":"#DIV/0!"}},"",null,null,null,null,null,{"$f":"IF(Sheet2!$A$80=TRUE,(-1*($G65-AN65)/$H65),($G65-AN65)/$H65)","v":{"$error":"#DIV/0!"}},"",null,null,null,null,null,{"$f":"IF(Sheet2!$A$80=TRUE,(-1*($G65-AU65)/$H65),($G65-AU65)/$H65)","v":{"$error":"#DIV/0!"}},""]
[null,null,"Outcome 5:",null,null,null,null,null,null,{"$f":"IF(Sheet2!$A$81=TRUE,-1*(#REF!-G66)/SQRT(((#REF!^2*(#REF!-1))+(H66^2*(I66-1)))/(#REF!+I66-2)),(#REF!-G66)/SQRT(((#REF!^2*(#REF!-1))+(H66^2*(I66-1)))/(#REF!+I66-2)))","v":{"$error":"#REF!"}},null,null,null,null,{"$f":"IF(Sheet2!$A$81=TRUE,(-1*($G66-L66)/$H66),($G66-L66)/$H66)","v":{"$error":"#DIV/0!"}},"",null,null,null,null,null,{"$f":"IF(Sheet2!$A$81=TRUE,(-1*($G66-S66)/$H66),($G66-S66)/$H66)","v":{"$error":"#DIV/0!"}},"",null,null,null,null,null,{"$f":"IF(Sheet2!$A$81=TRUE,(-1*($G66-Z66)/$H66),($G66-Z66)/$H66)","v":{"$error":"#DIV/0!"}},"",null,null,null,null,null,{"$f":"IF(Sheet2!$A$81=TRUE,(-1*($G66-AG66)/$H66),($G66-AG66)/$H66)","v":{"$error":"#DIV/0!"}},"",null,null,null,null,null,{"$f":"IF(Sheet2!$A$81=TRUE,(-1*($G66-AN66)/$H66),($G66-AN66)/$H66)","v":{"$error":"#DIV/0!"}},"",null,null,null,null,null,{"$f":"IF(Sheet2!$A$81=TRUE,(-1*($G66-AU66)/$H66),($G66-AU66)/$H66)","v":{"$error":"#DIV/0!"}},""]
[null,null,"Delayed Memory d",null,null,null,null,null,null,null,null,null,null,null,null,{"$f":"IF(P62=\"\",\"\",AVERAGE(P62:P66))","v":""},{"$f":"IF(Q62=\"\",\"\",AVERAGE(Q62:Q66))","v":""},null,null,null,null,null,{"$f":"IF(W62=\"\",\"\",AVERAGE(W62:W66))","v":""},{"$f":"IF(X62=\"\",\"\",AVERAGE(X62:X66))","v":""},null,null,null,null,null,{"$f":"IF(AD62=\"\",\"\",AVERAGE(AD62:AD66))","v":""},{"$f":"IF(AE62=\"\",\"\",AVERAGE(AE62:AE66))","v":""},null,null,null,null,null,{"$f":"IF(AK62=\"\",\"\",AVERAGE(AK62:AK66))","v":""},{"$f":"IF(AL62=\"\",\"\",AVERAGE(AL62:AL66))","v":""},null,null,null,null,null,{"$f":"IF(AR62=\"\",\"\",AVERAGE(AR62:AR66))","v":""},{"$f":"IF(AS62=\"\",\"\",AVERAGE(AS62:AS66))","v":""},null,null,null,null,null,{"$f":"IF(AY62=\"\",\"\",AVERAGE(AY62:AY66))","v":""},{"$f":"IF(AZ62=\"\",\"\",AVERAGE(AZ62:AZ66))","v":""}]
[]
[null,null,"Visuospatial Skills"]
[null,null,"Outcome 1:",null,null,null,null,null,null,null,null,null,null,null,{"$f":"IF(Sheet2!$A$85=TRUE,(-1*($G70-L70)/$H70),($G70-L70)/$H70)","v":{"$error":"#DIV/0!"}},{"$f":"IF(L70=\"\",\"\",O70)","v":""},null,null,null,null,null,{"$f":"IF(Sheet2!$A$85=TRUE,(-1*($G70-S70)/$H70),($G70-S70)/$H70)","v":{"$error":"#DIV/0!"}},{"$f":"IF(S70=\"\",\"\",V70)","v":""},null,null,null,null,null,{"$f":"IF(Sheet2!$A$85=TRUE,(-1*($G70-Z70)/$H70),($G70-Z70)/$H70)","v":{"$error":"#DIV/0!"}},{"$f":"IF(Z70=\"\",\"\",AC70)","v":""},null,null,null,null,null,{"$f":"IF(Sheet2!$A$85=TRUE,(-1*($G70-AG70)/$H70),($G70-AG70)/$H70)","v":{"$error":"#DIV/0!"}},{"$f":"IF(AG70=\"\",\"\",AJ70)","v":""},null,null,null,null,null,{"$f":"IF(Sheet2!$A$85=TRUE,(-1*($G70-AN70)/$H70),($G70-AN70)/$H70)","v":{"$error":"#DIV/0!"}},{"$f":"IF(AN70=\"\",\"\",AQ70)","v":""},null,null,null,null,null,{"$f":"IF(Sheet2!$A$85=TRUE,(-1*($G70-AU70)/$H70),($G70-AU70)/$H70)","v":{"$error":"#DIV/0!"}},{"$f":"IF(AU70=\"\",\"\",AX70)","v":""}]
[null,null,"Outcome 2:",null,null,null,null,null,null,null,null,null,null,null,{"$f":"IF(Sheet2!$A$86=TRUE,(-1*($G71-L71)/$H71),($G71-L71)/$H71)","v":{"$error":"#DIV/0!"}},{"$f":"IF(L71=\"\",\"\",O71)","v":""},null,null,null,null,null,{"$f":"IF(Sheet2!$A$86=TRUE,(-1*($G71-S71)/$H71),($G71-S71)/$H71)","v":{"$error":"#DIV/0!"}},{"$f":"IF(S71=\"\",\"\",V71)","v":""},null,null,null,null,null,{"$f":"IF(Sheet2!$A$86=TRUE,(-1*($G71-Z71)/$H71),($G71-Z71)/$H71)","v":{"$error":"#DIV/0!"}},{"$f":"IF(Z71=\"\",\"\",AC71)","v":""},null,null,null,null,null,{"$f":"IF(Sheet2!$A$86=TRUE,(-1*($G71-AG71)/$H71),($G71-AG71)/$H71)","v":{"$error":"#DIV/0!"}},{"$f":"IF(AG71=\"\",\"\",AJ71)","v":""},null,null,null,null,null,{"$f":"IF(Sheet2!$A$86=TRUE,(-1*($G71-AN71)/$H71),($G71-AN71)/$H71)","v":{"$error":"#DIV/0!"}},{"$f":"IF(AN71=\"\",\"\",AQ71)","v":""},null,null,null,null,null,{"$f":"IF(Sheet2!$A$86=TRUE,(-1*($G71-AU71)/$H71),($G71-AU71)/$H71)","v":{"$error":"#DIV/0!"}},{"$f":"IF(AU71=\"\",\"\",AX71)","v":""}]
[null,null,"Outcome 3:",null,null,null,null,null,null,null,null,null,null,null,{"$f":"IF(Sheet2!$A$87=TRUE,(-1*($G72-L72)/$H72),($G72-L72)/$H72)","v":{"$error":"#DIV/0!"}},{"$f":"IF(L72=\"\",\"\",O72)","v":""},null,null,null,null,null,{"$f":"IF(Sheet2!$A$87=TRUE,(-1*($G72-S72)/$H72),($G72-S72)/$H72)","v":{"$error":"#DIV/0!"}},{"$f":"IF(S72=\"\",\"\",V72)","v":""},null,null,null,null,null,{"$f":"IF(Sheet2!$A$87=TRUE,(-1*($G72-Z72)/$H72),($G72-Z72)/$H72)","v":{"$error":"#DIV/0!"}},{"$f":"IF(Z72=\"\",\"\",AC72)","v":""},null,null,null,null,null,{"$f":"IF(Sheet2!$A$87=TRUE,(-1*($G72-AG72)/$H72),($G72-AG72)/$H72)","v":{"$error":"#DIV/0!"}},{"$f":"IF(AG72=\"\",\"\",AJ72)","v":""},null,null,null,null,null,{"$f":"IF(Sheet2!$A$87=TRUE,(-1*($G72-AN72)/$H72),($G72-AN72)/$H72)","v":{"$error":"#DIV/0!"}},{"$f":"IF(AN72=\"\",\"\",AQ72)","v":""},null,null,null,null,null,{"$f":"IF(Sheet2!$A$87=TRUE,(-1*($G72-AU72)/$H72),($G72-AU72)/$H72)","v":{"$error":"#DIV/0!"}},{"$f":"IF(AU72=\"\",\"\",AX72)","v":""}]
[null,null,"Outcome 4:",null,null,null,null,null,null,null,null,null,null,null,{"$f":"IF(Sheet2!$A$88=TRUE,(-1*($G73-L73)/$H73),($G73-L73)/$H73)","v":{"$error":"#DIV/0!"}},"",null,null,null,null,null,{"$f":"IF(Sheet2!$A$88=TRUE,(-1*($G73-S73)/$H73),($G73-S73)/$H73)","v":{"$error":"#DIV/0!"}},"",null,null,null,null,null,{"$f":"IF(Sheet2!$A$88=TRUE,(-1*($G73-Z73)/$H73),($G73-Z73)/$H73)","v":{"$error":"#DIV/0!"}},"",null,null,null,null,null,{"$f":"IF(Sheet2!$A$88=TRUE,(-1*($G73-AG73)/$H73),($G73-AG73)/$H73)","v":{"$error":"#DIV/0!"}},"",null,null,null,null,null,{"$f":"IF(Sheet2!$A$88=TRUE,(-1*($G73-AN73)/$H73),($G73-AN73)/$H73)","v":{"$error":"#DIV/0!"}},"",null,null,null,null,null,{"$f":"IF(Sheet2!$A$88=TRUE,(-1*($G73-AU73)/$H73),($G73-AU73)/$H73)","v":{"$error":"#DIV/0!"}},""]
[null,null,"Outcome 5:",null,null,null,null,null,null,null,null,null,null,null,{"$f":"IF(Sheet2!$A$89=TRUE,(-1*($G74-L74)/$H74),($G74-L74)/$H74)","v":{"$error":"#DIV/0!"}},"",null,null,null,null,null,{"$f":"IF(Sheet2!$A$89=TRUE,(-1*($G74-S74)/$H74),($G74-S74)/$H74)","v":{"$error":"#DIV/0!"}},"",null,null,null,null,null,{"$f":"IF(Sheet2!$A$89=TRUE,(-1*($G74-Z74)/$H74),($G74-Z74)/$H74)","v":{"$error":"#DIV/0!"}},"",null,null,null,null,null,{"$f":"IF(Sheet2!$A$89=TRUE,(-1*($G74-AG74)/$H74),($G74-AG74)/$H74)","v":{"$error":"#DIV/0!"}},"",null,null,null,null,null,{"$f":"IF(Sheet2!$A$89=TRUE,(-1*($G74-AN74)/$H74),($G74-AN74)/$H74)","v":{"$error":"#DIV/0!"}},"",null,null,null,null,null,{"$f":"IF(Sheet2!$A$89=TRUE,(-1*($G74-AU74)/$H74),($G74-AU74)/$H74)","v":{"$error":"#DIV/0!"}},""]
[null,null,"Visuospatial Skills d",null,null,null,null,null,null,null,null,null,null,null,null,{"$f":"IF(P70=\"\",\"\",AVERAGE(P70:P74))","v":""},{"$f":"IF(Q70=\"\",\"\",AVERAGE(Q70:Q74))","v":""},null,null,null,null,null,{"$f":"IF(W70=\"\",\"\",AVERAGE(W70:W74))","v":""},{"$f":"IF(X70=\"\",\"\",AVERAGE(X70:X74))","v":""},null,null,null,null,null,{"$f":"IF(AD70=\"\",\"\",AVERAGE(AD70:AD74))","v":""},{"$f":"IF(AE70=\"\",\"\",AVERAGE(AE70:AE74))","v":""},null,null,null,null,null,{"$f":"IF(AK70=\"\",\"\",AVERAGE(AK70:AK74))","v":""},{"$f":"IF(AL70=\"\",\"\",AVERAGE(AL70:AL74))","v":""},null,null,null,null,null,{"$f":"IF(AR70=\"\",\"\",AVERAGE(AR70:AR74))","v":""},{"$f":"IF(AS70=\"\",\"\",AVERAGE(AS70:AS74))","v":""},null,null,null,null,null,{"$f":"IF(AY70=\"\",\"\",AVERAGE(AY70:AY74))","v":""},{"$f":"IF(AZ70=\"\",\"\",AVERAGE(AZ70:AZ74))","v":""}]
[]
[null,null,"Fine Motor Mvmt"]
[null,null,"Outcome 1:",null,null,null,null,null,null,null,null,null,null,null,{"$f":"IF(Sheet2!$A$93=TRUE,(-1*($G78-L78)/$H78),($G78-L78)/$H78)","v":{"$error":"#DIV/0!"}},{"$f":"IF(L78=\"\",\"\",O78)","v":""},null,null,null,null,null,{"$f":"IF(Sheet2!$A$93=TRUE,(-1*($G78-S78)/$H78),($G78-S78)/$H78)","v":{"$error":"#DIV/0!"}},{"$f":"IF(S78=\"\",\"\",V78)","v":""},null,null,null,null,null,{"$f":"IF(Sheet2!$A$93=TRUE,(-1*($G78-Z78)/$H78),($G78-Z78)/$H78)","v":{"$error":"#DIV/0!"}},{"$f":"IF(Z78=\"\",\"\",AC78)","v":""},null,null,null,null,null,{"$f":"IF(Sheet2!$A$93=TRUE,(-1*($G78-AG78)/$H78),($G78-AG78)/$H78)","v":{"$error":"#DIV/0!"}},{"$f":"IF(AG78=\"\",\"\",AJ78)","v":""},null,null,null,null,null,{"$f":"IF(Sheet2!$A$93=TRUE,(-1*($G78-AN78)/$H78),($G78-AN78)/$H78)","v":{"$error":"#DIV/0!"}},{"$f":"IF(AN78=\"\",\"\",AQ78)","v":""},null,null,null,null,null,{"$f":"IF(Sheet2!$A$93=TRUE,(-1*($G78-AU78)/$H78),($G78-AU78)/$H78)","v":{"$error":"#DIV/0!"}},{"$f":"IF(AU78=\"\",\"\",AX78)","v":""}]
[null,null,"Outcome 2:",null,null,null,null,null,null,null,null,null,null,null,{"$f":"IF(Sheet2!$A$94=TRUE,(-1*($G79-L79)/$H79),($G79-L79)/$H79)","v":{"$error":"#DIV/0!"}},{"$f":"IF(L79=\"\",\"\",O79)","v":""},null,null,null,null,null,{"$f":"IF(Sheet2!$A$94=TRUE,(-1*($G79-S79)/$H79),($G79-S79)/$H79)","v":{"$error":"#DIV/0!"}},{"$f":"IF(S79=\"\",\"\",V79)","v":""},null,null,null,null,null,{"$f":"IF(Sheet2!$A$94=TRUE,(-1*($G79-Z79)/$H79),($G79-Z79)/$H79)","v":{"$error":"#DIV/0!"}},{"$f":"IF(Z79=\"\",\"\",AC79)","v":""},null,null,null,null,null,{"$f":"IF(Sheet2!$A$94=TRUE,(-1*($G79-AG79)/$H79),($G79-AG79)/$H79)","v":{"$error":"#DIV/0!"}},{"$f":"IF(AG79=\"\",\"\",AJ79)","v":""},null,null,null,null,null,{"$f":"IF(Sheet2!$A$94=TRUE,(-1*($G79-AN79)/$H79),($G79-AN79)/$H79)","v":{"$error":"#DIV/0!"}},{"$f":"IF(AN79=\"\",\"\",AQ79)","v":""},null,null,null,null,null,{"$f":"IF(Sheet2!$A$94=TRUE,(-1*($G79-AU79)/$H79),($G79-AU79)/$H79)","v":{"$error":"#DIV/0!"}},{"$f":"IF(AU79=\"\",\"\",AX79)","v":""}]
[null,null,"Outcome 3:",null,null,null,null,null,null,null,null,null,null,null,{"$f":"IF(Sheet2!$A$95=TRUE,(-1*($G80-L80)/$H80),($G80-L80)/$H80)","v":{"$error":"#DIV/0!"}},{"$f":"IF(L80=\"\",\"\",O80)","v":""},null,null,null,null,null,{"$f":"IF(Sheet2!$A$95=TRUE,(-1*($G80-S80)/$H80),($G80-S80)/$H80)","v":{"$error":"#DIV/0!"}},{"$f":"IF(S80=\"\",\"\",V80)","v":""},null,null,null,null,null,{"$f":"IF(Sheet2!$A$95=TRUE,(-1*($G80-Z80)/$H80),($G80-Z80)/$H80)","v":{"$error":"#DIV/0!"}},{"$f":"IF(Z80=\"\",\"\",AC80)","v":""},null,null,null,null,null,{"$f":"IF(Sheet2!$A$95=TRUE,(-1*($G80-AG80)/$H80),($G80-AG80)/$H80)","v":{"$error":"#DIV/0!"}},{"$f":"IF(AG80=\"\",\"\",AJ80)","v":""},null,null,null,null,null,{"$f":"IF(Sheet2!$A$95=TRUE,(-1*($G80-AN80)/$H80),($G80-AN80)/$H80)","v":{"$error":"#DIV/0!"}},{"$f":"IF(AN80=\"\",\"\",AQ80)","v":""},null,null,null,null,null,{"$f":"IF(Sheet2!$A$95=TRUE,(-1*($G80-AU80)/$H80),($G80-AU80)/$H80)","v":{"$error":"#DIV/0!"}},{"$f":"IF(AU80=\"\",\"\",AX80)","v":""}]
[null,null,"Outcome 4:",null,null,null,null,null,null,null,null,null,null,null,{"$f":"IF(Sheet2!$A$96=TRUE,(-1*($G81-L81)/$H81),($G81-L81)/$H81)","v":{"$error":"#DIV/0!"}},"",null,null,null,null,null,{"$f":"IF(Sheet2!$A$96=TRUE,(-1*($G81-S81)/$H81),($G81-S81)/$H81)","v":{"$error":"#DIV/0!"}},"",null,null,null,null,null,{"$f":"IF(Sheet2!$A$96=TRUE,(-1*($G81-Z81)/$H81),($G81-Z81)/$H81)","v":{"$error":"#DIV/0!"}},"",null,null,null,null,null,{"$f":"IF(Sheet2!$A$96=TRUE,(-1*($G81-AG81)/$H81),($G81-AG81)/$H81)","v":{"$error":"#DIV/0!"}},"",null,null,null,null,null,{"$f":"IF(Sheet2!$A$96=TRUE,(-1*($G81-AN81)/$H81),($G81-AN81)/$H81)","v":{"$error":"#DIV/0!"}},"",null,null,null,null,null,{"$f":"IF(Sheet2!$A$96=TRUE,(-1*($G81-AU81)/$H81),($G81-AU81)/$H81)","v":{"$error":"#DIV/0!"}},""]
[null,null,"Outcome 5:",null,null,null,null,null,null,null,null,null,null,null,{"$f":"IF(Sheet2!$A$97=TRUE,(-1*($G82-L82)/$H82),($G82-L82)/$H82)","v":{"$error":"#DIV/0!"}},"",null,null,null,null,null,{"$f":"IF(Sheet2!$A$97=TRUE,(-1*($G82-S82)/$H82),($G82-S82)/$H82)","v":{"$error":"#DIV/0!"}},"",null,null,null,null,null,{"$f":"IF(Sheet2!$A$97=TRUE,(-1*($G82-Z82)/$H82),($G82-Z82)/$H82)","v":{"$error":"#DIV/0!"}},"",null,null,null,null,null,{"$f":"IF(Sheet2!$A$97=TRUE,(-1*($G82-AG82)/$H82),($G82-AG82)/$H82)","v":{"$error":"#DIV/0!"}},"",null,null,null,null,null,{"$f":"IF(Sheet2!$A$97=TRUE,(-1*($G82-AN82)/$H82),($G82-AN82)/$H82)","v":{"$error":"#DIV/0!"}},"",null,null,null,null,null,{"$f":"IF(Sheet2!$A$97=TRUE,(-1*($G82-AU82)/$H82),($G82-AU82)/$H82)","v":{"$error":"#DIV/0!"}},""]
[null,null,"Fine Motor Mvmt d",null,null,null,null,null,null,null,null,null,null,null,null,{"$f":"IF(P78=\"\",\"\",AVERAGE(P78:P82))","v":""},{"$f":"IF(Q78=\"\",\"\",AVERAGE(Q78:Q82))","v":""},null,null,null,null,null,{"$f":"IF(W78=\"\",\"\",AVERAGE(W78:W82))","v":""},{"$f":"IF(X78=\"\",\"\",AVERAGE(X78:X82))","v":""},null,null,null,null,null,{"$f":"IF(AD78=\"\",\"\",AVERAGE(AD78:AD82))","v":""},{"$f":"IF(AE78=\"\",\"\",AVERAGE(AE78:AE82))","v":""},null,null,null,null,null,{"$f":"IF(AK78=\"\",\"\",AVERAGE(AK78:AK82))","v":""},{"$f":"IF(AL78=\"\",\"\",AVERAGE(AL78:AL82))","v":""},null,null,null,null,null,{"$f":"IF(AR78=\"\",\"\",AVERAGE(AR78:AR82))","v":""},{"$f":"IF(AS78=\"\",\"\",AVERAGE(AS78:AS82))","v":""},null,null,null,null,null,{"$f":"IF(AY78=\"\",\"\",AVERAGE(AY78:AY82))","v":""},{"$f":"IF(AZ78=\"\",\"\",AVERAGE(AZ78:AZ82))","v":""}]
[]
[null,null,"Overall d",null,null,null,null,null,null,null,null,null,null,null,null,{"$f":"AVERAGE(P6:P10,P14:P18,P22:P26,P30:P34,P38:P42,P46:P50,P54:P58,P62:P66,P70:P74,P78:P82)","v":{"$error":"#DIV/0!"}},{"$f":"AVERAGE(Q6:Q10,Q14:Q18,Q22:Q26,Q30:Q34,Q38:Q42,Q46:Q50,Q54:Q58,Q62:Q66,Q70:Q74,Q78:Q82)","v":{"$error":"#DIV/0!"}},null,null,null,null,null,{"$f":"AVERAGE(W6:W10,W14:W18,W22:W26,W30:W34,W38:W42,W46:W50,W54:W58,W62:W66,W70:W74,W78:W82)","v":{"$error":"#DIV/0!"}},{"$f":"AVERAGE(X6:X10,X14:X18,X22:X26,X30:X34,X38:X42,X46:X50,X54:X58,X62:X66,X70:X74,X78:X82)","v":{"$error":"#DIV/0!"}},null,null,null,null,null,{"$f":"AVERAGE(AD6:AD10,AD14:AD18,AD22:AD26,AD30:AD34,AD38:AD42,AD46:AD50,AD54:AD58,AD62:AD66,AD70:AD74,AD78:AD82)","v":{"$error":"#DIV/0!"}},{"$f":"AVERAGE(AE6:AE10,AE14:AE18,AE22:AE26,AE30:AE34,AE38:AE42,AE46:AE50,AE54:AE58,AE62:AE66,AE70:AE74,AE78:AE82)","v":{"$error":"#DIV/0!"}},null,null,null,null,null,{"$f":"AVERAGE(AK6:AK10,AK14:AK18,AK22:AK26,AK30:AK34,AK38:AK42,AK46:AK50,AK54:AK58,AK62:AK66,AK70:AK74,AK78:AK82)","v":{"$error":"#DIV/0!"}},{"$f":"AVERAGE(AL6:AL10,AL14:AL18,AL22:AL26,AL30:AL34,AL38:AL42,AL46:AL50,AL54:AL58,AL62:AL66,AL70:AL74,AL78:AL82)","v":{"$error":"#DIV/0!"}},null,null,null,null,null,{"$f":"AVERAGE(AR6:AR10,AR14:AR18,AR22:AR26,AR30:AR34,AR38:AR42,AR46:AR50,AR54:AR58,AR62:AR66,AR70:AR74,AR78:AR82)","v":{"$error":"#DIV/0!"}},{"$f":"AVERAGE(AS6:AS10,AS14:AS18,AS22:AS26,AS30:AS34,AS38:AS42,AS46:AS50,AS54:AS58,AS62:AS66,AS70:AS74,AS78:AS82)","v":{"$error":"#DIV/0!"}},null,null,null,null,null,{"$f":"AVERAGE(AY6:AY10,AY14:AY18,AY22:AY26,AY30:AY34,AY38:AY42,AY46:AY50,AY54:AY58,AY62:AY66,AY70:AY74,AY78:AY82)","v":{"$error":"#DIV/0!"}},{"$f":"AVERAGE(AZ6:AZ10,AZ14:AZ18,AZ22:AZ26,AZ30:AZ34,AZ38:AZ42,AZ46:AZ50,AZ54:AZ58,AZ62:AZ66,AZ70:AZ74,AZ78:AZ82)","v":{"$error":"#DIV/0!"}}]

{"sheet":"Independent Groups, Pre-Post","index":3,"n_rows":95,"n_cols":79,"rows_kept":95,"cut":false,"hidden":false,"merged":[[2,47,2,53],[2,58,2,64],[2,69,2,75],[2,0,3,0],[2,2,3,3],[2,6,2,12],[2,14,2,20],[2,25,2,31],[2,36,2,42]]}
[]
[]
["Check Box if Higher Score is Worse",null,"Cognitive/Emotional Outcome:",null,null,null,"Baseline",null,null,null,null,null,null,null,"Time Point 1",null,null,null,null,null,null,null,null,null,null,"Time Point 2",null,null,null,null,null,null,null,null,null,null,"Time Point 3",null,null,null,null,null,null,null,null,null,null,"Time Point 4",null,null,null,null,null,null,null,null,null,null,"Time Point 5",null,null,null,null,null,null,null,null,null,null,"Time Point 6"]
[null,null,null,null,null,null,"Mcontrol","SDcontrol","Ncontrol",null,"MTBI","SDTBI","NTBI",null,"Mcontrol","SDcontrol","Ncontrol",null,"MTBI","SDTBI","NTBI","d","d","SEd",null,"Mcontrol","SDcontrol","Ncontrol",null,"MTBI","SDTBI","NTBI","d","d","SEd",null,"Mcontrol","SDcontrol","Ncontrol",null,"MTBI","SDTBI","NTBI","d","d","SEd",null,"Mcontrol","SDcontrol","Ncontrol",null,"MTBI","SDTBI","NTBI","d","d","SEd",null,"Mcontrol","SDcontrol","Ncontrol",null,"MTBI","SDTBI","NTBI","d","d","SEd",null,"Mcontrol","SDcontrol","Ncontrol",null,"MTBI","SDTBI","NTBI","d","d","SEd"]
[null,null,null,"Test Name"]
[null,null,"Outcome 1",null,null,null,null,null,null,null,null,null,null,null,null,null,null,null,null,null,null,{"$f":"IF(Sheet2!$A$21=TRUE,-1*(((O6-$G$6)-(S6-$K$6))/SQRT(((P6^2*(Q6-1))+(T6^2*(U6-1)))/(Q6+U6-2))),((O6-$G$6)-(S6-$K$6))/SQRT(((P6^2*(Q6-1))+(T6^2*(U6-1)))/(Q6+U6-2)))","v":{"$error":"#DIV/0!"}},{"$f":"IF(O6=\"\",\"\",V6)","v":""},{"$f":"IF(Q6=\"\",\"\",SQRT((Q6+U6)/(Q6*U6)+(W6^2/(2*(Q6+U6)))))","v":""},null,null,null,null,null,null,null,null,{"$f":"IF(Sheet2!$A$21=TRUE,-1*(((Z6-$G$6)-(AD6-$K$6))/SQRT(((AA6^2*(AB6-1))+(AE6^2*(AF6-1)))/(AB6+AF6-2))),((Z6-$G$6)-(AD6-$K$6))/SQRT(((AA6^2*(AB6-1))+(AE6^2*(AF6-1)))/(AB6+AF6-2)))","v":{"$error":"#DIV/0!"}},{"$f":"IF(Z6=\"\",\"\",AG6)","v":""},{"$f":"IF(AB6=\"\",\"\",SQRT((AB6+AF6)/(AB6*AF6)+(AH6^2/(2*(AB6+AF6)))))","v":""},null,null,null,null,null,null,null,null,{"$f":"IF(Sheet2!$A$21=TRUE,-1*(((AK6-$G$6)-(AO6-$K$6))/SQRT(((AL6^2*(AM6-1))+(AP6^2*(AQ6-1)))/(AM6+AQ6-2))),((AK6-$G$6)-(AO6-$K$6))/SQRT(((AL6^2*(AM6-1))+(AP6^2*(AQ6-1)))/(AM6+AQ6-2)))","v":{"$error":"#DIV/0!"}},{"$f":"IF(AK6=\"\",\"\",AR6)","v":""},{"$f":"IF(AM6=\"\",\"\",SQRT((AM6+AQ6)/(AM6*AQ6)+(AS6^2/(2*(AM6+AQ6)))))","v":""},null,null,null,null,null,null,null,null,{"$f":"IF(Sheet2!$A$21=TRUE,-1*(((AV6-$G$6)-(AZ6-$K$6))/SQRT(((AW6^2*(AX6-1))+(BA6^2*(BB6-1)))/(AX6+BB6-2))),((AV6-$G$6)-(AZ6-$K$6))/SQRT(((AW6^2*(AX6-1))+(BA6^2*(BB6-1)))/(AX6+BB6-2)))","v":{"$error":"#DIV/0!"}},{"$f":"IF(AV6=\"\",\"\",BC6)","v":""},{"$f":"IF(AX6=\"\",\"\",SQRT((AX6+BB6)/(AX6*BB6)+(BD6^2/(2*(AX6+BB6)))))","v":""},null,null,null,null,null,null,null,null,{"$f":"IF(Sheet2!$A$21=TRUE,-1*(((BG6-$G$6)-(BK6-$K$6))/SQRT(((BH6^2*(BI6-1))+(BL6^2*(BM6-1)))/(BI6+BM6-2))),((BG6-$G$6)-(BK6-$K$6))/SQRT(((BH6^2*(BI6-1))+(BL6^2*(BM6-1)))/(BI6+BM6-2)))","v":{"$error":"#DIV/0!"}},{"$f":"IF(BG6=\"\",\"\",BN6)","v":""},{"$f":"IF(BI6=\"\",\"\",SQRT((BI6+BM6)/(BI6*BM6)+(BO6^2/(2*(BI6+BM6)))))","v":""},null,null,null,null,null,null,null,null,{"$f":"IF(Sheet2!$A$21=TRUE,-1*(((BR6-$G$6)-(BV6-$K$6))/SQRT(((BS6^2*(BT6-1))+(BW6^2*(BX6-1)))/(BT6+BX6-2))),((BR6-$G$6)-(BV6-$K$6))/SQRT(((BS6^2*(BT6-1))+(BW6^2*(BX6-1)))/(BT6+BX6-2)))","v":{"$error":"#DIV/0!"}},{"$f":"IF(BR6=\"\",\"\",BY6)","v":""},{"$f":"IF(BT6=\"\",\"\",SQRT((BT6+BX6)/(BT6*BX6)+(BZ6^2/(2*(BT6+BX6)))))","v":""}]
[null,null,"Outcome 2",null,null,null,null,null,null,null,null,null,null,null,null,null,null,null,null,null,null,{"$f":"IF(Sheet2!$A$22=TRUE,-1*(((O7-$G$7)-(S7-$K$7))/SQRT(((P7^2*(Q7-1))+(T7^2*(U7-1)))/(Q7+U7-2))),((O7-$G$7)-(S7-$K$7))/SQRT(((P7^2*(Q7-1))+(T7^2*(U7-1)))/(Q7+U7-2)))","v":{"$error":"#DIV/0!"}},{"$f":"IF(O7=\"\",\"\",V7)","v":""},{"$f":"IF(Q7=\"\",\"\",SQRT((Q7+U7)/(Q7*U7)+(W7^2/(2*(Q7+U7)))))","v":""},null,null,null,null,null,null,null,null,{"$f":"IF(Sheet2!$A$22=TRUE,-1*(((Z7-$G$7)-(AD7-$K$7))/SQRT(((AA7^2*(AB7-1))+(AE7^2*(AF7-1)))/(AB7+AF7-2))),((Z7-$G$7)-(AD7-$K$7))/SQRT(((AA7^2*(AB7-1))+(AE7^2*(AF7-1)))/(AB7+AF7-2)))","v":{"$error":"#DIV/0!"}},{"$f":"IF(Z7=\"\",\"\",AG7)","v":""},{"$f":"IF(AB7=\"\",\"\",SQRT((AB7+AF7)/(AB7*AF7)+(AH7^2/(2*(AB7+AF7)))))","v":""},null,null,null,null,null,null,null,null,{"$f":"IF(Sheet2!$A$22=TRUE,-1*(((AK7-$G$7)-(AO7-$K$7))/SQRT(((AL7^2*(AM7-1))+(AP7^2*(AQ7-1)))/(AM7+AQ7-2))),((AK7-$G$7)-(AO7-$K$7))/SQRT(((AL7^2*(AM7-1))+(AP7^2*(AQ7-1)))/(AM7+AQ7-2)))","v":{"$error":"#DIV/0!"}},{"$f":"IF(AK7=\"\",\"\",AR7)","v":""},{"$f":"IF(AM7=\"\",\"\",SQRT((AM7+AQ7)/(AM7*AQ7)+(AS7^2/(2*(AM7+AQ7)))))","v":""},null,null,null,null,null,null,null,null,{"$f":"IF(Sheet2!$A$22=TRUE,-1*(((AV7-$G$7)-(AZ7-$K$7))/SQRT(((AW7^2*(AX7-1))+(BA7^2*(BB7-1)))/(AX7+BB7-2))),((AV7-$G$7)-(AZ7-$K$7))/SQRT(((AW7^2*(AX7-1))+(BA7^2*(BB7-1)))/(AX7+BB7-2)))","v":{"$error":"#DIV/0!"}},{"$f":"IF(AV7=\"\",\"\",BC7)","v":""},{"$f":"IF(AX7=\"\",\"\",SQRT((AX7+BB7)/(AX7*BB7)+(BD7^2/(2*(AX7+BB7)))))","v":""},null,null,null,null,null,null,null,null,{"$f":"IF(Sheet2!$A$22=TRUE,-1*(((BG7-$G$7)-(BK7-$K$7))/SQRT(((BH7^2*(BI7-1))+(BL7^2*(BM7-1)))/(BI7+BM7-2))),((BG7-$G$7)-(BK7-$K$7))/SQRT(((BH7^2*(BI7-1))+(BL7^2*(BM7-1)))/(BI7+BM7-2)))","v":{"$error":"#DIV/0!"}},{"$f":"IF(BG7=\"\",\"\",BN7)","v":""},{"$f":"IF(BI7=\"\",\"\",SQRT((BI7+BM7)/(BI7*BM7)+(BO7^2/(2*(BI7+BM7)))))","v":""},null,null,null,null,null,null,null,null,{"$f":"IF(Sheet2!$A$22=TRUE,-1*(((BR7-$G$7)-(BV7-$K$7))/SQRT(((BS7^2*(BT7-1))+(BW7^2*(BX7-1)))/(BT7+BX7-2))),((BR7-$G$7)-(BV7-$K$7))/SQRT(((BS7^2*(BT7-1))+(BW7^2*(BX7-1)))/(BT7+BX7-2)))","v":{"$error":"#DIV/0!"}},{"$f":"IF(BR7=\"\",\"\",BY7)","v":""},{"$f":"IF(BT7=\"\",\"\",SQRT((BT7+BX7)/(BT7*BX7)+(BZ7^2/(2*(BT7+BX7)))))","v":""}]
[null,null,"Outcome 3",null,null,null,null,null,null,null,null,null,null,null,null,null,null,null,null,null,null,{"$f":"IF(Sheet2!$A$23=TRUE,-1*(((O8-$G$8)-(S8-$K$8))/SQRT(((P8^2*(Q8-1))+(T8^2*(U8-1)))/(Q8+U8-2))),((O8-$G$8)-(S8-$K$8))/SQRT(((P8^2*(Q8-1))+(T8^2*(U8-1)))/(Q8+U8-2)))","v":{"$error":"#DIV/0!"}},{"$f":"IF(O8=\"\",\"\",V8)","v":""},"",null,null,null,null,null,null,null,null,{"$f":"IF(Sheet2!$A$23=TRUE,-1*(((Z8-$G$8)-(AD8-$K$8))/SQRT(((AA8^2*(AB8-1))+(AE8^2*(AF8-1)))/(AB8+AF8-2))),((Z8-$G$8)-(AD8-$K$8))/SQRT(((AA8^2*(AB8-1))+(AE8^2*(AF8-1)))/(AB8+AF8-2)))","v":{"$error":"#DIV/0!"}},{"$f":"IF(Z8=\"\",\"\",AG8)","v":""},"",null,null,null,null,null,null,null,null,{"$f":"IF(Sheet2!$A$23=TRUE,-1*(((AK8-$G$8)-(AO8-$K$8))/SQRT(((AL8^2*(AM8-1))+(AP8^2*(AQ8-1)))/(AM8+AQ8-2))),((AK8-$G$8)-(AO8-$K$8))/SQRT(((AL8^2*(AM8-1))+(AP8^2*(AQ8-1)))/(AM8+AQ8-2)))","v":{"$error":"#DIV/0!"}},{"$f":"IF(AK8=\"\",\"\",AR8)","v":""},"",null,null,null,null,null,null,null,null,{"$f":"IF(Sheet2!$A$23=TRUE,-1*(((AV8-$G$8)-(AZ8-$K$8))/SQRT(((AW8^2*(AX8-1))+(BA8^2*(BB8-1)))/(AX8+BB8-2))),((AV8-$G$8)-(AZ8-$K$8))/SQRT(((AW8^2*(AX8-1))+(BA8^2*(BB8-1)))/(AX8+BB8-2)))","v":{"$error":"#DIV/0!"}},{"$f":"IF(AV8=\"\",\"\",BC8)","v":""},"",null,null,null,null,null,null,null,null,{"$f":"IF(Sheet2!$A$23=TRUE,-1*(((BG8-$G$8)-(BK8-$K$8))/SQRT(((BH8^2*(BI8-1))+(BL8^2*(BM8-1)))/(BI8+BM8-2))),((BG8-$G$8)-(BK8-$K$8))/SQRT(((BH8^2*(BI8-1))+(BL8^2*(BM8-1)))/(BI8+BM8-2)))","v":{"$error":"#DIV/0!"}},{"$f":"IF(BG8=\"\",\"\",BN8)","v":""},"",null,null,null,null,null,null,null,null,{"$f":"IF(Sheet2!$A$23=TRUE,-1*(((BR8-$G$8)-(BV8-$K$8))/SQRT(((BS8^2*(BT8-1))+(BW8^2*(BX8-1)))/(BT8+BX8-2))),((BR8-$G$8)-(BV8-$K$8))/SQRT(((BS8^2*(BT8-1))+(BW8^2*(BX8-1)))/(BT8+BX8-2)))","v":{"$error":"#DIV/0!"}},{"$f":"IF(BR8=\"\",\"\",BY8)","v":""},""]
[null,null,"Outcome 4",null,null,null,null,null,null,null,null,null,null,null,null,null,null,null,null,null,null,{"$f":"IF(Sheet2!$A$24=TRUE,-1*(((O9-$G$9)-(S9-$K$9))/SQRT(((P9^2*(Q9-1))+(T9^2*(U9-1)))/(Q9+U9-2))),((O9-$G$9)-(S9-$K$9))/SQRT(((P9^2*(Q9-1))+(T9^2*(U9-1)))/(Q9+U9-2)))","v":{"$error":"#DIV/0!"}},{"$f":"IF(O9=\"\",\"\",V9)","v":""},{"$f":"IF(Q9=\"\",\"\",SQRT((Q9+U9)/(Q9*U9)+(W9^2/(2*(Q9+U9)))))","v":""},null,null,null,null,null,null,null,null,{"$f":"IF(Sheet2!$A$24=TRUE,-1*(((Z9-$G$9)-(AD9-$K$9))/SQRT(((AA9^2*(AB9-1))+(AE9^2*(AF9-1)))/(AB9+AF9-2))),((Z9-$G$9)-(AD9-$K$9))/SQRT(((AA9^2*(AB9-1))+(AE9^2*(AF9-1)))/(AB9+AF9-2)))","v":{"$error":"#DIV/0!"}},{"$f":"IF(Z9=\"\",\"\",AG9)","v":""},{"$f":"IF(AB9=\"\",\"\",SQRT((AB9+AF9)/(AB9*AF9)+(AH9^2/(2*(AB9+AF9)))))","v":""},null,null,null,null,null,null,null,null,{"$f":"IF(Sheet2!$A$24=TRUE,-1*(((AK9-$G$9)-(AO9-$K$9))/SQRT(((AL9^2*(AM9-1))+(AP9^2*(AQ9-1)))/(AM9+AQ9-2))),((AK9-$G$9)-(AO9-$K$9))/SQRT(((AL9^2*(AM9-1))+(AP9^2*(AQ9-1)))/(AM9+AQ9-2)))","v":{"$error":"#DIV/0!"}},{"$f":"IF(AK9=\"\",\"\",AR9)","v":""},{"$f":"IF(AM9=\"\",\"\",SQRT((AM9+AQ9)/(AM9*AQ9)+(AS9^2/(2*(AM9+AQ9)))))","v":""},null,null,null,null,null,null,null,null,{"$f":"IF(Sheet2!$A$24=TRUE,-1*(((AV9-$G$9)-(AZ9-$K$9))/SQRT(((AW9^2*(AX9-1))+(BA9^2*(BB9-1)))/(AX9+BB9-2))),((AV9-$G$9)-(AZ9-$K$9))/SQRT(((AW9^2*(AX9-1))+(BA9^2*(BB9-1)))/(AX9+BB9-2)))","v":{"$error":"#DIV/0!"}},{"$f":"IF(AV9=\"\",\"\",BC9)","v":""},{"$f":"IF(AX9=\"\",\"\",SQRT((AX9+BB9)/(AX9*BB9)+(BD9^2/(2*(AX9+BB9)))))","v":""},null,null,null,null,null,null,null,null,{"$f":"IF(Sheet2!$A$24=TRUE,-1*(((BG9-$G$9)-(BK9-$K$9))/SQRT(((BH9^2*(BI9-1))+(BL9^2*(BM9-1)))/(BI9+BM9-2))),((BG9-$G$9)-(BK9-$K$9))/SQRT(((BH9^2*(BI9-1))+(BL9^2*(BM9-1)))/(BI9+BM9-2)))","v":{"$error":"#DIV/0!"}},{"$f":"IF(BG9=\"\",\"\",BN9)","v":""},{"$f":"IF(BI9=\"\",\"\",SQRT((BI9+BM9)/(BI9*BM9)+(BO9^2/(2*(BI9+BM9)))))","v":""},null,null,null,null,null,null,null,null,{"$f":"IF(Sheet2!$A$24=TRUE,-1*(((BR9-$G$9)-(BV9-$K$9))/SQRT(((BS9^2*(BT9-1))+(BW9^2*(BX9-1)))/(BT9+BX9-2))),((BR9-$G$9)-(BV9-$K$9))/SQRT(((BS9^2*(BT9-1))+(BW9^2*(BX9-1)))/(BT9+BX9-2)))","v":{"$error":"#DIV/0!"}},{"$f":"IF(BR9=\"\",\"\",BY9)","v":""},{"$f":"IF(BT9=\"\",\"\",SQRT((BT9+BX9)/(BT9*BX9)+(BZ9^2/(2*(BT9+BX9)))))","v":""}]
[null,null,"Outcome 5",null,null,null,null,null,null,null,null,null,null,null,null,null,null,null,null,null,null,{"$f":"IF(Sheet2!$A$25=TRUE,-1*(((O10-$G$10)-(S10-$K$10))/SQRT(((P10^2*(Q10-1))+(T10^2*(U10-1)))/(Q10+U10-2))),((O10-$G$10)-(S10-$K$10))/SQRT(((P10^2*(Q10-1))+(T10^2*(U10-1)))/(Q10+U10-2)))","v":{"$error":"#DIV/0!"}},{"$f":"IF(O10=\"\",\"\",V10)","v":""},"",null,null,null,null,null,null,null,null,{"$f":"IF(Sheet2!$A$25=TRUE,-1*(((Z10-$G$10)-(AD10-$K$10))/SQRT(((AA10^2*(AB10-1))+(AE10^2*(AF10-1)))/(AB10+AF10-2))),((Z10-$G$10)-(AD10-$K$10))/SQRT(((AA10^2*(AB10-1))+(AE10^2*(AF10-1)))/(AB10+AF10-2)))","v":{"$error":"#DIV/0!"}},{"$f":"IF(Z10=\"\",\"\",AG10)","v":""},{"$f":"IF(AB10=\"\",\"\",SQRT((AB10+AF10)/(AB10*AF10)+(AH10^2/(2*(AB10+AF10)))))","v":""},null,null,null,null,null,null,null,null,{"$f":"IF(Sheet2!$A$25=TRUE,-1*(((AK10-$G$10)-(AO10-$K$10))/SQRT(((AL10^2*(AM10-1))+(AP10^2*(AQ10-1)))/(AM10+AQ10-2))),((AK10-$G$10)-(AO10-$K$10))/SQRT(((AL10^2*(AM10-1))+(AP10^2*(AQ10-1)))/(AM10+AQ10-2)))","v":{"$error":"#DIV/0!"}},{"$f":"IF(AK10=\"\",\"\",AR10)","v":""},{"$f":"IF(AM10=\"\",\"\",SQRT((AM10+AQ10)/(AM10*AQ10)+(AS10^2/(2*(AM10+AQ10)))))","v":""},null,null,null,null,null,null,null,null,{"$f":"IF(Sheet2!$A$25=TRUE,-1*(((AV10-$G$10)-(AZ10-$K$10))/SQRT(((AW10^2*(AX10-1))+(BA10^2*(BB10-1)))/(AX10+BB10-2))),((AV10-$G$10)-(AZ10-$K$10))/SQRT(((AW10^2*(AX10-1))+(BA10^2*(BB10-1)))/(AX10+BB10-2)))","v":{"$error":"#DIV/0!"}},{"$f":"IF(AV10=\"\",\"\",BC10)","v":""},{"$f":"IF(AX10=\"\",\"\",SQRT((AX10+BB10)/(AX10*BB10)+(BD10^2/(2*(AX10+BB10)))))","v":""},null,null,null,null,null,null,null,null,{"$f":"IF(Sheet2!$A$25=TRUE,-1*(((BG10-$G$10)-(BK10-$K$10))/SQRT(((BH10^2*(BI10-1))+(BL10^2*(BM10-1)))/(BI10+BM10-2))),((BG10-$G$10)-(BK10-$K$10))/SQRT(((BH10^2*(BI10-1))+(BL10^2*(BM10-1)))/(BI10+BM10-2)))","v":{"$error":"#DIV/0!"}},{"$f":"IF(BG10=\"\",\"\",BN10)","v":""},{"$f":"IF(BI10=\"\",\"\",SQRT((BI10+BM10)/(BI10*BM10)+(BO10^2/(2*(BI10+BM10)))))","v":""},null,null,null,null,null,null,null,null,{"$f":"IF(Sheet2!$A$25=TRUE,-1*(((BR10-$G$10)-(BV10-$K$10))/SQRT(((BS10^2*(BT10-1))+(BW10^2*(BX10-1)))/(BT10+BX10-2))),((BR10-$G$10)-(BV10-$K$10))/SQRT(((BS10^2*(BT10-1))+(BW10^2*(BX10-1)))/(BT10+BX10-2)))","v":{"$error":"#DIV/0!"}},{"$f":"IF(BR10=\"\",\"\",BY10)","v":""},{"$f":"IF(BT10=\"\",\"\",SQRT((BT10+BX10)/(BT10*BX10)+(BZ10^2/(2*(BT10+BX10)))))","v":""}]
[null,null,"Outcome 6",null,null,null,null,null,null,null,null,null,null,null,null,null,null,null,null,null,null,{"$f":"IF(Sheet2!$A$29=TRUE,-1*(((O11-$G11)-(S11-$K11))/SQRT(((P11^2*(Q11-1))+(T11^2*(U11-1)))/(Q11+U11-2))),((O11-$G11)-(S11-$K11))/SQRT(((P11^2*(Q11-1))+(T11^2*(U11-1)))/(Q11+U11-2)))","v":{"$error":"#DIV/0!"}},{"$f":"IF(O11=\"\",\"\",V11)","v":""},{"$f":"IF(Q11=\"\",\"\",SQRT((Q11+U11)/(Q11*U11)+(W11^2/(2*(Q11+U11)))))","v":""},null,null,null,null,null,null,null,null,{"$f":"IF(Sheet2!$A$29=TRUE,-1*(((Z11-$G11)-(AD11-$K11))/SQRT(((AA11^2*(AB11-1))+(AE11^2*(AF11-1)))/(AB11+AF11-2))),((Z11-$G11)-(AD11-$K11))/SQRT(((AA11^2*(AB11-1))+(AE11^2*(AF11-1)))/(AB11+AF11-2)))","v":{"$error":"#DIV/0!"}},{"$f":"IF(Z11=\"\",\"\",AG11)","v":""},{"$f":"IF(AB11=\"\",\"\",SQRT((AB11+AF11)/(AB11*AF11)+(AH11^2/(2*(AB11+AF11)))))","v":""},null,null,null,null,null,null,null,null,{"$f":"IF(Sheet2!$A$29=TRUE,-1*(((AK11-$G11)-(AO11-$K11))/SQRT(((AL11^2*(AM11-1))+(AP11^2*(AQ11-1)))/(AM11+AQ11-2))),((AK11-$G11)-(AO11-$K11))/SQRT(((AL11^2*(AM11-1))+(AP11^2*(AQ11-1)))/(AM11+AQ11-2)))","v":{"$error":"#DIV/0!"}},{"$f":"IF(AK11=\"\",\"\",AR11)","v":""},{"$f":"IF(AM11=\"\",\"\",SQRT((AM11+AQ11)/(AM11*AQ11)+(AS11^2/(2*(AM11+AQ11)))))","v":""},null,null,null,null,null,null,null,null,{"$f":"IF(Sheet2!$A$29=TRUE,-1*(((AV11-$G11)-(AZ11-$K11))/SQRT(((AW11^2*(AX11-1))+(BA11^2*(BB11-1)))/(AX11+BB11-2))),((AV11-$G11)-(AZ11-$K11))/SQRT(((AW11^2*(AX11-1))+(BA11^2*(BB11-1)))/(AX11+BB11-2)))","v":{"$error":"#DIV/0!"}},{"$f":"IF(AV11=\"\",\"\",BC11)","v":""},{"$f":"IF(AX11=\"\",\"\",SQRT((AX11+BB11)/(AX11*BB11)+(BD11^2/(2*(AX11+BB11)))))","v":""},null,null,null,null,null,null,null,null,{"$f":"IF(Sheet2!$A$29=TRUE,-1*(((BG11-$G11)-(BK11-$K11))/SQRT(((BH11^2*(BI11-1))+(BL11^2*(BM11-1)))/(BI11+BM11-2))),((BG11-$G11)-(BK11-$K11))/SQRT(((BH11^2*(BI11-1))+(BL11^2*(BM11-1)))/(BI11+BM11-2)))","v":{"$error":"#DIV/0!"}},{"$f":"IF(BG11=\"\",\"\",BN11)","v":""},{"$f":"IF(BI11=\"\",\"\",SQRT((BI11+BM11)/(BI11*BM11)+(BO11^2/(2*(BI11+BM11)))))","v":""},null,null,null,null,null,null,null,null,{"$f":"IF(Sheet2!$A$29=TRUE,-1*(((BR11-$G11)-(BV11-$K11))/SQRT(((BS11^2*(BT11-1))+(BW11^2*(BX11-1)))/(BT11+BX11-2))),((BR11-$G11)-(BV11-$K11))/SQRT(((BS11^2*(BT11-1))+(BW11^2*(BX11-1)))/(BT11+BX11-2)))","v":{"$error":"#DIV/0!"}},{"$f":"IF(BR11=\"\",\"\",BY11)","v":""},{"$f":"IF(BT11=\"\",\"\",SQRT((BT11+BX11)/(BT11*BX11)+(BZ11^2/(2*(BT11+BX11)))))","v":""}]
[null,null,"Outcome 7",null,null,null,null,null,null,null,null,null,null,null,null,null,null,null,null,null,null,{"$f":"IF(Sheet2!$A$30=TRUE,-1*(((O12-$G12)-(S12-$K12))/SQRT(((P12^2*(Q12-1))+(T12^2*(U12-1)))/(Q12+U12-2))),((O12-$G12)-(S12-$K12))/SQRT(((P12^2*(Q12-1))+(T12^2*(U12-1)))/(Q12+U12-2)))","v":{"$error":"#DIV/0!"}},{"$f":"IF(O12=\"\",\"\",V12)","v":""},{"$f":"IF(Q12=\"\",\"\",SQRT((Q12+U12)/(Q12*U12)+(W12^2/(2*(Q12+U12)))))","v":""},null,null,null,null,null,null,null,null,{"$f":"IF(Sheet2!$A$30=TRUE,-1*(((Z12-$G12)-(AD12-$K12))/SQRT(((AA12^2*(AB12-1))+(AE12^2*(AF12-1)))/(AB12+AF12-2))),((Z12-$G12)-(AD12-$K12))/SQRT(((AA12^2*(AB12-1))+(AE12^2*(AF12-1)))/(AB12+AF12-2)))","v":{"$error":"#DIV/0!"}},{"$f":"IF(Z12=\"\",\"\",AG12)","v":""},{"$f":"IF(AB12=\"\",\"\",SQRT((AB12+AF12)/(AB12*AF12)+(AH12^2/(2*(AB12+AF12)))))","v":""},null,null,null,null,null,null,null,null,{"$f":"IF(Sheet2!$A$30=TRUE,-1*(((AK12-$G12)-(AO12-$K12))/SQRT(((AL12^2*(AM12-1))+(AP12^2*(AQ12-1)))/(AM12+AQ12-2))),((AK12-$G12)-(AO12-$K12))/SQRT(((AL12^2*(AM12-1))+(AP12^2*(AQ12-1)))/(AM12+AQ12-2)))","v":{"$error":"#DIV/0!"}},{"$f":"IF(AK12=\"\",\"\",AR12)","v":""},{"$f":"IF(AM12=\"\",\"\",SQRT((AM12+AQ12)/(AM12*AQ12)+(AS12^2/(2*(AM12+AQ12)))))","v":""},null,null,null,null,null,null,null,null,{"$f":"IF(Sheet2!$A$30=TRUE,-1*(((AV12-$G12)-(AZ12-$K12))/SQRT(((AW12^2*(AX12-1))+(BA12^2*(BB12-1)))/(AX12+BB12-2))),((AV12-$G12)-(AZ12-$K12))/SQRT(((AW12^2*(AX12-1))+(BA12^2*(BB12-1)))/(AX12+BB12-2)))","v":{"$error":"#DIV/0!"}},{"$f":"IF(AV12=\"\",\"\",BC12)","v":""},{"$f":"IF(AX12=\"\",\"\",SQRT((AX12+BB12)/(AX12*BB12)+(BD12^2/(2*(AX12+BB12)))))","v":""},null,null,null,null,null,null,null,null,{"$f":"IF(Sheet2!$A$30=TRUE,-1*(((BG12-$G12)-(BK12-$K12))/SQRT(((BH12^2*(BI12-1))+(BL12^2*(BM12-1)))/(BI12+BM12-2))),((BG12-$G12)-(BK12-$K12))/SQRT(((BH12^2*(BI12-1))+(BL12^2*(BM12-1)))/(BI12+BM12-2)))","v":{"$error":"#DIV/0!"}},{"$f":"IF(BG12=\"\",\"\",BN12)","v":""},{"$f":"IF(BI12=\"\",\"\",SQRT((BI12+BM12)/(BI12*BM12)+(BO12^2/(2*(BI12+BM12)))))","v":""},null,null,null,null,null,null,null,null,{"$f":"IF(Sheet2!$A$30=TRUE,-1*(((BR12-$G12)-(BV12-$K12))/SQRT(((BS12^2*(BT12-1))+(BW12^2*(BX12-1)))/(BT12+BX12-2))),((BR12-$G12)-(BV12-$K12))/SQRT(((BS12^2*(BT12-1))+(BW12^2*(BX12-1)))/(BT12+BX12-2)))","v":{"$error":"#DIV/0!"}},{"$f":"IF(BR12=\"\",\"\",BY12)","v":""},{"$f":"IF(BT12=\"\",\"\",SQRT((BT12+BX12)/(BT12*BX12)+(BZ12^2/(2*(BT12+BX12)))))","v":""}]
[null,null,"Outcome 8",null,null,null,null,null,null,null,null,null,null,null,null,null,null,null,null,null,null,{"$f":"IF(Sheet2!$A$31=TRUE,-1*(((O13-$G13)-(S13-$K13))/SQRT(((P13^2*(Q13-1))+(T13^2*(U13-1)))/(Q13+U13-2))),((O13-$G13)-(S13-$K13))/SQRT(((P13^2*(Q13-1))+(T13^2*(U13-1)))/(Q13+U13-2)))","v":{"$error":"#DIV/0!"}},{"$f":"IF(O13=\"\",\"\",V13)","v":""},"",null,null,null,null,null,null,null,null,{"$f":"IF(Sheet2!$A$31=TRUE,-1*(((Z13-$G13)-(AD13-$K13))/SQRT(((AA13^2*(AB13-1))+(AE13^2*(AF13-1)))/(AB13+AF13-2))),((Z13-$G13)-(AD13-$K13))/SQRT(((AA13^2*(AB13-1))+(AE13^2*(AF13-1)))/(AB13+AF13-2)))","v":{"$error":"#DIV/0!"}},{"$f":"IF(Z13=\"\",\"\",AG13)","v":""},"",null,null,null,null,null,null,null,null,{"$f":"IF(Sheet2!$A$31=TRUE,-1*(((AK13-$G13)-(AO13-$K13))/SQRT(((AL13^2*(AM13-1))+(AP13^2*(AQ13-1)))/(AM13+AQ13-2))),((AK13-$G13)-(AO13-$K13))/SQRT(((AL13^2*(AM13-1))+(AP13^2*(AQ13-1)))/(AM13+AQ13-2)))","v":{"$error":"#DIV/0!"}},{"$f":"IF(AK13=\"\",\"\",AR13)","v":""},"",null,null,null,null,null,null,null,null,{"$f":"IF(Sheet2!$A$31=TRUE,-1*(((AV13-$G13)-(AZ13-$K13))/SQRT(((AW13^2*(AX13-1))+(BA13^2*(BB13-1)))/(AX13+BB13-2))),((AV13-$G13)-(AZ13-$K13))/SQRT(((AW13^2*(AX13-1))+(BA13^2*(BB13-1)))/(AX13+BB13-2)))","v":{"$error":"#DIV/0!"}},{"$f":"IF(AV13=\"\",\"\",BC13)","v":""},"",null,null,null,null,null,null,null,null,{"$f":"IF(Sheet2!$A$31=TRUE,-1*(((BG13-$G13)-(BK13-$K13))/SQRT(((BH13^2*(BI13-1))+(BL13^2*(BM13-1)))/(BI13+BM13-2))),((BG13-$G13)-(BK13-$K13))/SQRT(((BH13^2*(BI13-1))+(BL13^2*(BM13-1)))/(BI13+BM13-2)))","v":{"$error":"#DIV/0!"}},{"$f":"IF(BG13=\"\",\"\",BN13)","v":""},"",null,null,null,null,null,null,null,null,{"$f":"IF(Sheet2!$A$31=TRUE,-1*(((BR13-$G13)-(BV13-$K13))/SQRT(((BS13^2*(BT13-1))+(BW13^2*(BX13-1)))/(BT13+BX13-2))),((BR13-$G13)-(BV13-$K13))/SQRT(((BS13^2*(BT13-1))+(BW13^2*(BX13-1)))/(BT13+BX13-2)))","v":{"$error":"#DIV/0!"}},{"$f":"IF(BR13=\"\",\"\",BY13)","v":""},""]
[null,null,"Outcome 9",null,null,null,null,null,null,null,null,null,null,null,null,null,null,null,null,null,null,{"$f":"IF(Sheet2!$A$32=TRUE,-1*(((O14-$G14)-(S14-$K14))/SQRT(((P14^2*(Q14-1))+(T14^2*(U14-1)))/(Q14+U14-2))),((O14-$G14)-(S14-$K14))/SQRT(((P14^2*(Q14-1))+(T14^2*(U14-1)))/(Q14+U14-2)))","v":{"$error":"#DIV/0!"}},{"$f":"IF(O14=\"\",\"\",V14)","v":""},{"$f":"IF(Q14=\"\",\"\",SQRT((Q14+U14)/(Q14*U14)+(W14^2/(2*(Q14+U14)))))","v":""},null,null,null,null,null,null,null,null,{"$f":"IF(Sheet2!$A$32=TRUE,-1*(((Z14-$G14)-(AD14-$K14))/SQRT(((AA14^2*(AB14-1))+(AE14^2*(AF14-1)))/(AB14+AF14-2))),((Z14-$G14)-(AD14-$K14))/SQRT(((AA14^2*(AB14-1))+(AE14^2*(AF14-1)))/(AB14+AF14-2)))","v":{"$error":"#DIV/0!"}},{"$f":"IF(Z14=\"\",\"\",AG14)","v":""},{"$f":"IF(AB14=\"\",\"\",SQRT((AB14+AF14)/(AB14*AF14)+(AH14^2/(2*(AB14+AF14)))))","v":""},null,null,null,null,null,null,null,null,{"$f":"IF(Sheet2!$A$32=TRUE,-1*(((AK14-$G14)-(AO14-$K14))/SQRT(((AL14^2*(AM14-1))+(AP14^2*(AQ14-1)))/(AM14+AQ14-2))),((AK14-$G14)-(AO14-$K14))/SQRT(((AL14^2*(AM14-1))+(AP14^2*(AQ14-1)))/(AM14+AQ14-2)))","v":{"$error":"#DIV/0!"}},{"$f":"IF(AK14=\"\",\"\",AR14)","v":""},{"$f":"IF(AM14=\"\",\"\",SQRT((AM14+AQ14)/(AM14*AQ14)+(AS14^2/(2*(AM14+AQ14)))))","v":""},null,null,null,null,null,null,null,null,{"$f":"IF(Sheet2!$A$32=TRUE,-1*(((AV14-$G14)-(AZ14-$K14))/SQRT(((AW14^2*(AX14-1))+(BA14^2*(BB14-1)))/(AX14+BB14-2))),((AV14-$G14)-(AZ14-$K14))/SQRT(((AW14^2*(AX14-1))+(BA14^2*(BB14-1)))/(AX14+BB14-2)))","v":{"$error":"#DIV/0!"}},{"$f":"IF(AV14=\"\",\"\",BC14)","v":""},{"$f":"IF(AX14=\"\",\"\",SQRT((AX14+BB14)/(AX14*BB14)+(BD14^2/(2*(AX14+BB14)))))","v":""},null,null,null,null,null,null,null,null,{"$f":"IF(Sheet2!$A$32=TRUE,-1*(((BG14-$G14)-(BK14-$K14))/SQRT(((BH14^2*(BI14-1))+(BL14^2*(BM14-1)))/(BI14+BM14-2))),((BG14-$G14)-(BK14-$K14))/SQRT(((BH14^2*(BI14-1))+(BL14^2*(BM14-1)))/(BI14+BM14-2)))","v":{"$error":"#DIV/0!"}},{"$f":"IF(BG14=\"\",\"\",BN14)","v":""},{"$f":"IF(BI14=\"\",\"\",SQRT((BI14+BM14)/(BI14*BM14)+(BO14^2/(2*(BI14+BM14)))))","v":""},null,null,null,null,null,null,null,null,{"$f":"IF(Sheet2!$A$32=TRUE,-1*(((BR14-$G14)-(BV14-$K14))/SQRT(((BS14^2*(BT14-1))+(BW14^2*(BX14-1)))/(BT14+BX14-2))),((BR14-$G14)-(BV14-$K14))/SQRT(((BS14^2*(BT14-1))+(BW14^2*(BX14-1)))/(BT14+BX14-2)))","v":{"$error":"#DIV/0!"}},{"$f":"IF(BR14=\"\",\"\",BY14)","v":""},{"$f":"IF(BT14=\"\",\"\",SQRT((BT14+BX14)/(BT14*BX14)+(BZ14^2/(2*(BT14+BX14)))))","v":""}]
[null,null,"Outcome 10",null,null,null,null,null,null,null,null,null,null,null,null,null,null,null,null,null,null,{"$f":"IF(Sheet2!$A$33=TRUE,-1*(((O15-$G15)-(S15-$K15))/SQRT(((P15^2*(Q15-1))+(T15^2*(U15-1)))/(Q15+U15-2))),((O15-$G15)-(S15-$K15))/SQRT(((P15^2*(Q15-1))+(T15^2*(U15-1)))/(Q15+U15-2)))","v":{"$error":"#DIV/0!"}},"","",null,null,null,null,null,null,null,null,{"$f":"IF(Sheet2!$A$33=TRUE,-1*(((Z15-$G15)-(AD15-$K15))/SQRT(((AA15^2*(AB15-1))+(AE15^2*(AF15-1)))/(AB15+AF15-2))),((Z15-$G15)-(AD15-$K15))/SQRT(((AA15^2*(AB15-1))+(AE15^2*(AF15-1)))/(AB15+AF15-2)))","v":{"$error":"#DIV/0!"}},"",{"$f":"IF(AB15=\"\",\"\",SQRT((AB15+AF15)/(AB15*AF15)+(AH15^2/(2*(AB15+AF15)))))","v":""},null,null,null,null,null,null,null,null,{"$f":"IF(Sheet2!$A$33=TRUE,-1*(((AK15-$G15)-(AO15-$K15))/SQRT(((AL15^2*(AM15-1))+(AP15^2*(AQ15-1)))/(AM15+AQ15-2))),((AK15-$G15)-(AO15-$K15))/SQRT(((AL15^2*(AM15-1))+(AP15^2*(AQ15-1)))/(AM15+AQ15-2)))","v":{"$error":"#DIV/0!"}},"",{"$f":"IF(AM15=\"\",\"\",SQRT((AM15+AQ15)/(AM15*AQ15)+(AS15^2/(2*(AM15+AQ15)))))","v":""},null,null,null,null,null,null,null,null,{"$f":"IF(Sheet2!$A$33=TRUE,-1*(((AV15-$G15)-(AZ15-$K15))/SQRT(((AW15^2*(AX15-1))+(BA15^2*(BB15-1)))/(AX15+BB15-2))),((AV15-$G15)-(AZ15-$K15))/SQRT(((AW15^2*(AX15-1))+(BA15^2*(BB15-1)))/(AX15+BB15-2)))","v":{"$error":"#DIV/0!"}},"",{"$f":"IF(AX15=\"\",\"\",SQRT((AX15+BB15)/(AX15*BB15)+(BD15^2/(2*(AX15+BB15)))))","v":""},null,null,null,null,null,null,null,null,{"$f":"IF(Sheet2!$A$33=TRUE,-1*(((BG15-$G15)-(BK15-$K15))/SQRT(((BH15^2*(BI15-1))+(BL15^2*(BM15-1)))/(BI15+BM15-2))),((BG15-$G15)-(BK15-$K15))/SQRT(((BH15^2*(BI15-1))+(BL15^2*(BM15-1)))/(BI15+BM15-2)))","v":{"$error":"#DIV/0!"}},"",{"$f":"IF(BI15=\"\",\"\",SQRT((BI15+BM15)/(BI15*BM15)+(BO15^2/(2*(BI15+BM15)))))","v":""},null,null,null,null,null,null,null,null,{"$f":"IF(Sheet2!$A$33=TRUE,-1*(((BR15-$G15)-(BV15-$K15))/SQRT(((BS15^2*(BT15-1))+(BW15^2*(BX15-1)))/(BT15+BX15-2))),((BR15-$G15)-(BV15-$K15))/SQRT(((BS15^2*(BT15-1))+(BW15^2*(BX15-1)))/(BT15+BX15-2)))","v":{"$error":"#DIV/0!"}},"",{"$f":"IF(BT15=\"\",\"\",SQRT((BT15+BX15)/(BT15*BX15)+(BZ15^2/(2*(BT15+BX15)))))","v":""}]
[null,null,"Outcome 11",null,null,null,null,null,null,null,null,null,null,null,null,null,null,null,null,null,null,{"$f":"IF(Sheet2!$A$37=TRUE,-1*(((O16-$G16)-(S16-$K16))/SQRT(((P16^2*(Q16-1))+(T16^2*(U16-1)))/(Q16+U16-2))),((O16-$G16)-(S16-$K16))/SQRT(((P16^2*(Q16-1))+(T16^2*(U16-1)))/(Q16+U16-2)))","v":{"$error":"#DIV/0!"}},{"$f":"IF(O16=\"\",\"\",V16)","v":""},{"$f":"IF(Q16=\"\",\"\",SQRT((Q16+U16)/(Q16*U16)+(W16^2/(2*(Q16+U16)))))","v":""},null,null,null,null,null,null,null,null,{"$f":"IF(Sheet2!$A$37=TRUE,-1*(((Z16-$G16)-(AD16-$K16))/SQRT(((AA16^2*(AB16-1))+(AE16^2*(AF16-1)))/(AB16+AF16-2))),((Z16-$G16)-(AD16-$K16))/SQRT(((AA16^2*(AB16-1))+(AE16^2*(AF16-1)))/(AB16+AF16-2)))","v":{"$error":"#DIV/0!"}},{"$f":"IF(Z16=\"\",\"\",AG16)","v":""},{"$f":"IF(AB16=\"\",\"\",SQRT((AB16+AF16)/(AB16*AF16)+(AH16^2/(2*(AB16+AF16)))))","v":""},null,null,null,null,null,null,null,null,{"$f":"IF(Sheet2!$A$37=TRUE,-1*(((AK16-$G16)-(AO16-$K16))/SQRT(((AL16^2*(AM16-1))+(AP16^2*(AQ16-1)))/(AM16+AQ16-2))),((AK16-$G16)-(AO16-$K16))/SQRT(((AL16^2*(AM16-1))+(AP16^2*(AQ16-1)))/(AM16+AQ16-2)))","v":{"$error":"#DIV/0!"}},{"$f":"IF(AK16=\"\",\"\",AR16)","v":""},{"$f":"IF(AM16=\"\",\"\",SQRT((AM16+AQ16)/(AM16*AQ16)+(AS16^2/(2*(AM16+AQ16)))))","v":""},null,null,null,null,null,null,null,null,{"$f":"IF(Sheet2!$A$37=TRUE,-1*(((AV16-$G16)-(AZ16-$K16))/SQRT(((AW16^2*(AX16-1))+(BA16^2*(BB16-1)))/(AX16+BB16-2))),((AV16-$G16)-(AZ16-$K16))/SQRT(((AW16^2*(AX16-1))+(BA16^2*(BB16-1)))/(AX16+BB16-2)))","v":{"$error":"#DIV/0!"}},{"$f":"IF(AV16=\"\",\"\",BC16)","v":""},{"$f":"IF(AX16=\"\",\"\",SQRT((AX16+BB16)/(AX16*BB16)+(BD16^2/(2*(AX16+BB16)))))","v":""},null,null,null,null,null,null,null,null,{"$f":"IF(Sheet2!$A$37=TRUE,-1*(((BG16-$G16)-(BK16-$K16))/SQRT(((BH16^2*(BI16-1))+(BL16^2*(BM16-1)))/(BI16+BM16-2))),((BG16-$G16)-(BK16-$K16))/SQRT(((BH16^2*(BI16-1))+(BL16^2*(BM16-1)))/(BI16+BM16-2)))","v":{"$error":"#DIV/0!"}},{"$f":"IF(BG16=\"\",\"\",BN16)","v":""},{"$f":"IF(BI16=\"\",\"\",SQRT((BI16+BM16)/(BI16*BM16)+(BO16^2/(2*(BI16+BM16)))))","v":""},null,null,null,null,null,null,null,null,{"$f":"IF(Sheet2!$A$37=TRUE,-1*(((BR16-$G16)-(BV16-$K16))/SQRT(((BS16^2*(BT16-1))+(BW16^2*(BX16-1)))/(BT16+BX16-2))),((BR16-$G16)-(BV16-$K16))/SQRT(((BS16^2*(BT16-1))+(BW16^2*(BX16-1)))/(BT16+BX16-2)))","v":{"$error":"#DIV/0!"}},{"$f":"IF(BR16=\"\",\"\",BY16)","v":""},{"$f":"IF(BT16=\"\",\"\",SQRT((BT16+BX16)/(BT16*BX16)+(BZ16^2/(2*(BT16+BX16)))))","v":""}]
[null,null,"Outcome 12",null,null,null,null,null,null,null,null,null,null,null,null,null,null,null,null,null,null,{"$f":"IF(Sheet2!$A$38=TRUE,-1*(((O17-$G17)-(S17-$K17))/SQRT(((P17^2*(Q17-1))+(T17^2*(U17-1)))/(Q17+U17-2))),((O17-$G17)-(S17-$K17))/SQRT(((P17^2*(Q17-1))+(T17^2*(U17-1)))/(Q17+U17-2)))","v":{"$error":"#DIV/0!"}},{"$f":"IF(O17=\"\",\"\",V17)","v":""},{"$f":"IF(Q17=\"\",\"\",SQRT((Q17+U17)/(Q17*U17)+(W17^2/(2*(Q17+U17)))))","v":""},null,null,null,null,null,null,null,null,{"$f":"IF(Sheet2!$A$38=TRUE,-1*(((Z17-$G17)-(AD17-$K17))/SQRT(((AA17^2*(AB17-1))+(AE17^2*(AF17-1)))/(AB17+AF17-2))),((Z17-$G17)-(AD17-$K17))/SQRT(((AA17^2*(AB17-1))+(AE17^2*(AF17-1)))/(AB17+AF17-2)))","v":{"$error":"#DIV/0!"}},{"$f":"IF(Z17=\"\",\"\",AG17)","v":""},{"$f":"IF(AB17=\"\",\"\",SQRT((AB17+AF17)/(AB17*AF17)+(AH17^2/(2*(AB17+AF17)))))","v":""},null,null,null,null,null,null,null,null,{"$f":"IF(Sheet2!$A$38=TRUE,-1*(((AK17-$G17)-(AO17-$K17))/SQRT(((AL17^2*(AM17-1))+(AP17^2*(AQ17-1)))/(AM17+AQ17-2))),((AK17-$G17)-(AO17-$K17))/SQRT(((AL17^2*(AM17-1))+(AP17^2*(AQ17-1)))/(AM17+AQ17-2)))","v":{"$error":"#DIV/0!"}},{"$f":"IF(AK17=\"\",\"\",AR17)","v":""},{"$f":"IF(AM17=\"\",\"\",SQRT((AM17+AQ17)/(AM17*AQ17)+(AS17^2/(2*(AM17+AQ17)))))","v":""},null,null,null,null,null,null,null,null,{"$f":"IF(Sheet2!$A$38=TRUE,-1*(((AV17-$G17)-(AZ17-$K17))/SQRT(((AW17^2*(AX17-1))+(BA17^2*(BB17-1)))/(AX17+BB17-2))),((AV17-$G17)-(AZ17-$K17))/SQRT(((AW17^2*(AX17-1))+(BA17^2*(BB17-1)))/(AX17+BB17-2)))","v":{"$error":"#DIV/0!"}},{"$f":"IF(AV17=\"\",\"\",BC17)","v":""},{"$f":"IF(AX17=\"\",\"\",SQRT((AX17+BB17)/(AX17*BB17)+(BD17^2/(2*(AX17+BB17)))))","v":""},null,null,null,null,null,null,null,null,{"$f":"IF(Sheet2!$A$38=TRUE,-1*(((BG17-$G17)-(BK17-$K17))/SQRT(((BH17^2*(BI17-1))+(BL17^2*(BM17-1)))/(BI17+BM17-2))),((BG17-$G17)-(BK17-$K17))/SQRT(((BH17^2*(BI17-1))+(BL17^2*(BM17-1)))/(BI17+BM17-2)))","v":{"$error":"#DIV/0!"}},{"$f":"IF(BG17=\"\",\"\",BN17)","v":""},{"$f":"IF(BI17=\"\",\"\",SQRT((BI17+BM17)/(BI17*BM17)+(BO17^2/(2*(BI17+BM17)))))","v":""},null,null,null,null,null,null,null,null,{"$f":"IF(Sheet2!$A$38=TRUE,-1*(((BR17-$G17)-(BV17-$K17))/SQRT(((BS17^2*(BT17-1))+(BW17^2*(BX17-1)))/(BT17+BX17-2))),((BR17-$G17)-(BV17-$K17))/SQRT(((BS17^2*(BT17-1))+(BW17^2*(BX17-1)))/(BT17+BX17-2)))","v":{"$error":"#DIV/0!"}},{"$f":"IF(BR17=\"\",\"\",BY17)","v":""},{"$f":"IF(BT17=\"\",\"\",SQRT((BT17+BX17)/(BT17*BX17)+(BZ17^2/(2*(BT17+BX17)))))","v":""}]
[null,null,"Outcome 13",null,null,null,null,null,null,null,null,null,null,null,null,null,null,null,null,null,null,{"$f":"IF(Sheet2!$A$39=TRUE,-1*(((O18-$G18)-(S18-$K18))/SQRT(((P18^2*(Q18-1))+(T18^2*(U18-1)))/(Q18+U18-2))),((O18-$G18)-(S18-$K18))/SQRT(((P18^2*(Q18-1))+(T18^2*(U18-1)))/(Q18+U18-2)))","v":{"$error":"#DIV/0!"}},{"$f":"IF(O18=\"\",\"\",V18)","v":""},"",null,null,null,null,null,null,null,null,{"$f":"IF(Sheet2!$A$39=TRUE,-1*(((Z18-$G18)-(AD18-$K18))/SQRT(((AA18^2*(AB18-1))+(AE18^2*(AF18-1)))/(AB18+AF18-2))),((Z18-$G18)-(AD18-$K18))/SQRT(((AA18^2*(AB18-1))+(AE18^2*(AF18-1)))/(AB18+AF18-2)))","v":{"$error":"#DIV/0!"}},{"$f":"IF(Z18=\"\",\"\",AG18)","v":""},"",null,null,null,null,null,null,null,null,{"$f":"IF(Sheet2!$A$39=TRUE,-1*(((AK18-$G18)-(AO18-$K18))/SQRT(((AL18^2*(AM18-1))+(AP18^2*(AQ18-1)))/(AM18+AQ18-2))),((AK18-$G18)-(AO18-$K18))/SQRT(((AL18^2*(AM18-1))+(AP18^2*(AQ18-1)))/(AM18+AQ18-2)))","v":{"$error":"#DIV/0!"}},{"$f":"IF(AK18=\"\",\"\",AR18)","v":""},"",null,null,null,null,null,null,null,null,{"$f":"IF(Sheet2!$A$39=TRUE,-1*(((AV18-$G18)-(AZ18-$K18))/SQRT(((AW18^2*(AX18-1))+(BA18^2*(BB18-1)))/(AX18+BB18-2))),((AV18-$G18)-(AZ18-$K18))/SQRT(((AW18^2*(AX18-1))+(BA18^2*(BB18-1)))/(AX18+BB18-2)))","v":{"$error":"#DIV/0!"}},{"$f":"IF(AV18=\"\",\"\",BC18)","v":""},"",null,null,null,null,null,null,null,null,{"$f":"IF(Sheet2!$A$39=TRUE,-1*(((BG18-$G18)-(BK18-$K18))/SQRT(((BH18^2*(BI18-1))+(BL18^2*(BM18-1)))/(BI18+BM18-2))),((BG18-$G18)-(BK18-$K18))/SQRT(((BH18^2*(BI18-1))+(BL18^2*(BM18-1)))/(BI18+BM18-2)))","v":{"$error":"#DIV/0!"}},{"$f":"IF(BG18=\"\",\"\",BN18)","v":""},"",null,null,null,null,null,null,null,null,{"$f":"IF(Sheet2!$A$39=TRUE,-1*(((BR18-$G18)-(BV18-$K18))/SQRT(((BS18^2*(BT18-1))+(BW18^2*(BX18-1)))/(BT18+BX18-2))),((BR18-$G18)-(BV18-$K18))/SQRT(((BS18^2*(BT18-1))+(BW18^2*(BX18-1)))/(BT18+BX18-2)))","v":{"$error":"#DIV/0!"}},{"$f":"IF(BR18=\"\",\"\",BY18)","v":""},""]
[null,null,"Outcome 14",null,null,null,null,null,null,null,null,null,null,null,null,null,null,null,null,null,null,{"$f":"IF(Sheet2!$A$40=TRUE,-1*(((O19-$G19)-(S19-$K19))/SQRT(((P19^2*(Q19-1))+(T19^2*(U19-1)))/(Q19+U19-2))),((O19-$G19)-(S19-$K19))/SQRT(((P19^2*(Q19-1))+(T19^2*(U19-1)))/(Q19+U19-2)))","v":{"$error":"#DIV/0!"}},{"$f":"IF(O19=\"\",\"\",V19)","v":""},{"$f":"IF(Q19=\"\",\"\",SQRT((Q19+U19)/(Q19*U19)+(W19^2/(2*(Q19+U19)))))","v":""},null,null,null,null,null,null,null,null,{"$f":"IF(Sheet2!$A$40=TRUE,-1*(((Z19-$G19)-(AD19-$K19))/SQRT(((AA19^2*(AB19-1))+(AE19^2*(AF19-1)))/(AB19+AF19-2))),((Z19-$G19)-(AD19-$K19))/SQRT(((AA19^2*(AB19-1))+(AE19^2*(AF19-1)))/(AB19+AF19-2)))","v":{"$error":"#DIV/0!"}},{"$f":"IF(Z19=\"\",\"\",AG19)","v":""},{"$f":"IF(AB19=\"\",\"\",SQRT((AB19+AF19)/(AB19*AF19)+(AH19^2/(2*(AB19+AF19)))))","v":""},null,null,null,null,null,null,null,null,{"$f":"IF(Sheet2!$A$40=TRUE,-1*(((AK19-$G19)-(AO19-$K19))/SQRT(((AL19^2*(AM19-1))+(AP19^2*(AQ19-1)))/(AM19+AQ19-2))),((AK19-$G19)-(AO19-$K19))/SQRT(((AL19^2*(AM19-1))+(AP19^2*(AQ19-1)))/(AM19+AQ19-2)))","v":{"$error":"#DIV/0!"}},{"$f":"IF(AK19=\"\",\"\",AR19)","v":""},{"$f":"IF(AM19=\"\",\"\",SQRT((AM19+AQ19)/(AM19*AQ19)+(AS19^2/(2*(AM19+AQ19)))))","v":""},null,null,null,null,null,null,null,null,{"$f":"IF(Sheet2!$A$40=TRUE,-1*(((AV19-$G19)-(AZ19-$K19))/SQRT(((AW19^2*(AX19-1))+(BA19^2*(BB19-1)))/(AX19+BB19-2))),((AV19-$G19)-(AZ19-$K19))/SQRT(((AW19^2*(AX19-1))+(BA19^2*(BB19-1)))/(AX19+BB19-2)))","v":{"$error":"#DIV/0!"}},{"$f":"IF(AV19=\"\",\"\",BC19)","v":""},{"$f":"IF(AX19=\"\",\"\",SQRT((AX19+BB19)/(AX19*BB19)+(BD19^2/(2*(AX19+BB19)))))","v":""},null,null,null,null,null,null,null,null,{"$f":"IF(Sheet2!$A$40=TRUE,-1*(((BG19-$G19)-(BK19-$K19))/SQRT(((BH19^2*(BI19-1))+(BL19^2*(BM19-1)))/(BI19+BM19-2))),((BG19-$G19)-(BK19-$K19))/SQRT(((BH19^2*(BI19-1))+(BL19^2*(BM19-1)))/(BI19+BM19-2)))","v":{"$error":"#DIV/0!"}},{"$f":"IF(BG19=\"\",\"\",BN19)","v":""},{"$f":"IF(BI19=\"\",\"\",SQRT((BI19+BM19)/(BI19*BM19)+(BO19^2/(2*(BI19+BM19)))))","v":""},null,null,null,null,null,null,null,null,{"$f":"IF(Sheet2!$A$40=TRUE,-1*(((BR19-$G19)-(BV19-$K19))/SQRT(((BS19^2*(BT19-1))+(BW19^2*(BX19-1)))/(BT19+BX19-2))),((BR19-$G19)-(BV19-$K19))/SQRT(((BS19^2*(BT19-1))+(BW19^2*(BX19-1)))/(BT19+BX19-2)))","v":{"$error":"#DIV/0!"}},{"$f":"IF(BR19=\"\",\"\",BY19)","v":""},{"$f":"IF(BT19=\"\",\"\",SQRT((BT19+BX19)/(BT19*BX19)+(BZ19^2/(2*(BT19+BX19)))))","v":""}]
[null,null,"Outcome 15",null,null,null,null,null,null,null,null,null,null,null,null,null,null,null,null,null,null,{"$f":"IF(Sheet2!$A$41=TRUE,-1*(((O20-$G20)-(S20-$K20))/SQRT(((P20^2*(Q20-1))+(T20^2*(U20-1)))/(Q20+U20-2))),((O20-$G20)-(S20-$K20))/SQRT(((P20^2*(Q20-1))+(T20^2*(U20-1)))/(Q20+U20-2)))","v":{"$error":"#DIV/0!"}},"","",null,null,null,null,null,null,null,null,{"$f":"IF(Sheet2!$A$41=TRUE,-1*(((Z20-$G20)-(AD20-$K20))/SQRT(((AA20^2*(AB20-1))+(AE20^2*(AF20-1)))/(AB20+AF20-2))),((Z20-$G20)-(AD20-$K20))/SQRT(((AA20^2*(AB20-1))+(AE20^2*(AF20-1)))/(AB20+AF20-2)))","v":{"$error":"#DIV/0!"}},"",{"$f":"IF(AB20=\"\",\"\",SQRT((AB20+AF20)/(AB20*AF20)+(AH20^2/(2*(AB20+AF20)))))","v":""},null,null,null,null,null,null,null,null,{"$f":"IF(Sheet2!$A$41=TRUE,-1*(((AK20-$G20)-(AO20-$K20))/SQRT(((AL20^2*(AM20-1))+(AP20^2*(AQ20-1)))/(AM20+AQ20-2))),((AK20-$G20)-(AO20-$K20))/SQRT(((AL20^2*(AM20-1))+(AP20^2*(AQ20-1)))/(AM20+AQ20-2)))","v":{"$error":"#DIV/0!"}},"",{"$f":"IF(AM20=\"\",\"\",SQRT((AM20+AQ20)/(AM20*AQ20)+(AS20^2/(2*(AM20+AQ20)))))","v":""},null,null,null,null,null,null,null,null,{"$f":"IF(Sheet2!$A$41=TRUE,-1*(((AV20-$G20)-(AZ20-$K20))/SQRT(((AW20^2*(AX20-1))+(BA20^2*(BB20-1)))/(AX20+BB20-2))),((AV20-$G20)-(AZ20-$K20))/SQRT(((AW20^2*(AX20-1))+(BA20^2*(BB20-1)))/(AX20+BB20-2)))","v":{"$error":"#DIV/0!"}},"",{"$f":"IF(AX20=\"\",\"\",SQRT((AX20+BB20)/(AX20*BB20)+(BD20^2/(2*(AX20+BB20)))))","v":""},null,null,null,null,null,null,null,null,{"$f":"IF(Sheet2!$A$41=TRUE,-1*(((BG20-$G20)-(BK20-$K20))/SQRT(((BH20^2*(BI20-1))+(BL20^2*(BM20-1)))/(BI20+BM20-2))),((BG20-$G20)-(BK20-$K20))/SQRT(((BH20^2*(BI20-1))+(BL20^2*(BM20-1)))/(BI20+BM20-2)))","v":{"$error":"#DIV/0!"}},"",{"$f":"IF(BI20=\"\",\"\",SQRT((BI20+BM20)/(BI20*BM20)+(BO20^2/(2*(BI20+BM20)))))","v":""},null,null,null,null,null,null,null,null,{"$f":"IF(Sheet2!$A$41=TRUE,-1*(((BR20-$G20)-(BV20-$K20))/SQRT(((BS20^2*(BT20-1))+(BW20^2*(BX20-1)))/(BT20+BX20-2))),((BR20-$G20)-(BV20-$K20))/SQRT(((BS20^2*(BT20-1))+(BW20^2*(BX20-1)))/(BT20+BX20-2)))","v":{"$error":"#DIV/0!"}},"",{"$f":"IF(BT20=\"\",\"\",SQRT((BT20+BX20)/(BT20*BX20)+(BZ20^2/(2*(BT20+BX20)))))","v":""}]
[null,null,"Outcome 16",null,null,null,null,null,null,null,null,null,null,null,null,null,null,null,null,null,null,{"$f":"IF(Sheet2!$A$45=TRUE,-1*(((O21-$G21)-(S21-$K21))/SQRT(((P21^2*(Q21-1))+(T21^2*(U21-1)))/(Q21+U21-2))),((O21-$G21)-(S21-$K21))/SQRT(((P21^2*(Q21-1))+(T21^2*(U21-1)))/(Q21+U21-2)))","v":{"$error":"#DIV/0!"}},{"$f":"IF(O21=\"\",\"\",V21)","v":""},{"$f":"IF(Q21=\"\",\"\",SQRT((Q21+U21)/(Q21*U21)+(W21^2/(2*(Q21+U21)))))","v":""},null,null,null,null,null,null,null,null,{"$f":"IF(Sheet2!$A$45=TRUE,-1*(((Z21-$G21)-(AD21-$K21))/SQRT(((AA21^2*(AB21-1))+(AE21^2*(AF21-1)))/(AB21+AF21-2))),((Z21-$G21)-(AD21-$K21))/SQRT(((AA21^2*(AB21-1))+(AE21^2*(AF21-1)))/(AB21+AF21-2)))","v":{"$error":"#DIV/0!"}},{"$f":"IF(Z21=\"\",\"\",AG21)","v":""},{"$f":"IF(AB21=\"\",\"\",SQRT((AB21+AF21)/(AB21*AF21)+(AH21^2/(2*(AB21+AF21)))))","v":""},null,null,null,null,null,null,null,null,{"$f":"IF(Sheet2!$A$45=TRUE,-1*(((AK21-$G21)-(AO21-$K21))/SQRT(((AL21^2*(AM21-1))+(AP21^2*(AQ21-1)))/(AM21+AQ21-2))),((AK21-$G21)-(AO21-$K21))/SQRT(((AL21^2*(AM21-1))+(AP21^2*(AQ21-1)))/(AM21+AQ21-2)))","v":{"$error":"#DIV/0!"}},{"$f":"IF(AK21=\"\",\"\",AR21)","v":""},{"$f":"IF(AM21=\"\",\"\",SQRT((AM21+AQ21)/(AM21*AQ21)+(AS21^2/(2*(AM21+AQ21)))))","v":""},null,null,null,null,null,null,null,null,{"$f":"IF(Sheet2!$A$45=TRUE,-1*(((AV21-$G21)-(AZ21-$K21))/SQRT(((AW21^2*(AX21-1))+(BA21^2*(BB21-1)))/(AX21+BB21-2))),((AV21-$G21)-(AZ21-$K21))/SQRT(((AW21^2*(AX21-1))+(BA21^2*(BB21-1)))/(AX21+BB21-2)))","v":{"$error":"#DIV/0!"}},{"$f":"IF(AV21=\"\",\"\",BC21)","v":""},{"$f":"IF(AX21=\"\",\"\",SQRT((AX21+BB21)/(AX21*BB21)+(BD21^2/(2*(AX21+BB21)))))","v":""},null,null,null,null,null,null,null,null,{"$f":"IF(Sheet2!$A$45=TRUE,-1*(((BG21-$G21)-(BK21-$K21))/SQRT(((BH21^2*(BI21-1))+(BL21^2*(BM21-1)))/(BI21+BM21-2))),((BG21-$G21)-(BK21-$K21))/SQRT(((BH21^2*(BI21-1))+(BL21^2*(BM21-1)))/(BI21+BM21-2)))","v":{"$error":"#DIV/0!"}},{"$f":"IF(BG21=\"\",\"\",BN21)","v":""},{"$f":"IF(BI21=\"\",\"\",SQRT((BI21+BM21)/(BI21*BM21)+(BO21^2/(2*(BI21+BM21)))))","v":""},null,null,null,null,null,null,null,null,{"$f":"IF(Sheet2!$A$45=TRUE,-1*(((BR21-$G21)-(BV21-$K21))/SQRT(((BS21^2*(BT21-1))+(BW21^2*(BX21-1)))/(BT21+BX21-2))),((BR21-$G21)-(BV21-$K21))/SQRT(((BS21^2*(BT21-1))+(BW21^2*(BX21-1)))/(BT21+BX21-2)))","v":{"$error":"#DIV/0!"}},{"$f":"IF(BR21=\"\",\"\",BY21)","v":""},{"$f":"IF(BT21=\"\",\"\",SQRT((BT21+BX21)/(BT21*BX21)+(BZ21^2/(2*(BT21+BX21)))))","v":""}]
[null,null,"Outcome 17",null,null,null,null,null,null,null,null,null,null,null,null,null,null,null,null,null,null,{"$f":"IF(Sheet2!$A$46=TRUE,-1*(((O22-$G22)-(S22-$K22))/SQRT(((P22^2*(Q22-1))+(T22^2*(U22-1)))/(Q22+U22-2))),((O22-$G22)-(S22-$K22))/SQRT(((P22^2*(Q22-1))+(T22^2*(U22-1)))/(Q22+U22-2)))","v":{"$error":"#DIV/0!"}},{"$f":"IF(O22=\"\",\"\",V22)","v":""},{"$f":"IF(Q22=\"\",\"\",SQRT((Q22+U22)/(Q22*U22)+(W22^2/(2*(Q22+U22)))))","v":""},null,null,null,null,null,null,null,null,{"$f":"IF(Sheet2!$A$46=TRUE,-1*(((Z22-$G22)-(AD22-$K22))/SQRT(((AA22^2*(AB22-1))+(AE22^2*(AF22-1)))/(AB22+AF22-2))),((Z22-$G22)-(AD22-$K22))/SQRT(((AA22^2*(AB22-1))+(AE22^2*(AF22-1)))/(AB22+AF22-2)))","v":{"$error":"#DIV/0!"}},{"$f":"IF(Z22=\"\",\"\",AG22)","v":""},{"$f":"IF(AB22=\"\",\"\",SQRT((AB22+AF22)/(AB22*AF22)+(AH22^2/(2*(AB22+AF22)))))","v":""},null,null,null,null,null,null,null,null,{"$f":"IF(Sheet2!$A$46=TRUE,-1*(((AK22-$G22)-(AO22-$K22))/SQRT(((AL22^2*(AM22-1))+(AP22^2*(AQ22-1)))/(AM22+AQ22-2))),((AK22-$G22)-(AO22-$K22))/SQRT(((AL22^2*(AM22-1))+(AP22^2*(AQ22-1)))/(AM22+AQ22-2)))","v":{"$error":"#DIV/0!"}},{"$f":"IF(AK22=\"\",\"\",AR22)","v":""},{"$f":"IF(AM22=\"\",\"\",SQRT((AM22+AQ22)/(AM22*AQ22)+(AS22^2/(2*(AM22+AQ22)))))","v":""},null,null,null,null,null,null,null,null,{"$f":"IF(Sheet2!$A$46=TRUE,-1*(((AV22-$G22)-(AZ22-$K22))/SQRT(((AW22^2*(AX22-1))+(BA22^2*(BB22-1)))/(AX22+BB22-2))),((AV22-$G22)-(AZ22-$K22))/SQRT(((AW22^2*(AX22-1))+(BA22^2*(BB22-1)))/(AX22+BB22-2)))","v":{"$error":"#DIV/0!"}},{"$f":"IF(AV22=\"\",\"\",BC22)","v":""},{"$f":"IF(AX22=\"\",\"\",SQRT((AX22+BB22)/(AX22*BB22)+(BD22^2/(2*(AX22+BB22)))))","v":""},null,null,null,null,null,null,null,null,{"$f":"IF(Sheet2!$A$46=TRUE,-1*(((BG22-$G22)-(BK22-$K22))/SQRT(((BH22^2*(BI22-1))+(BL22^2*(BM22-1)))/(BI22+BM22-2))),((BG22-$G22)-(BK22-$K22))/SQRT(((BH22^2*(BI22-1))+(BL22^2*(BM22-1)))/(BI22+BM22-2)))","v":{"$error":"#DIV/0!"}},{"$f":"IF(BG22=\"\",\"\",BN22)","v":""},{"$f":"IF(BI22=\"\",\"\",SQRT((BI22+BM22)/(BI22*BM22)+(BO22^2/(2*(BI22+BM22)))))","v":""},null,null,null,null,null,null,null,null,{"$f":"IF(Sheet2!$A$46=TRUE,-1*(((BR22-$G22)-(BV22-$K22))/SQRT(((BS22^2*(BT22-1))+(BW22^2*(BX22-1)))/(BT22+BX22-2))),((BR22-$G22)-(BV22-$K22))/SQRT(((BS22^2*(BT22-1))+(BW22^2*(BX22-1)))/(BT22+BX22-2)))","v":{"$error":"#DIV/0!"}},{"$f":"IF(BR22=\"\",\"\",BY22)","v":""},{"$f":"IF(BT22=\"\",\"\",SQRT((BT22+BX22)/(BT22*BX22)+(BZ22^2/(2*(BT22+BX22)))))","v":""}]
[null,null,"Outcome 18",null,null,null,null,null,null,null,null,null,null,null,null,null,null,null,null,null,null,{"$f":"IF(Sheet2!$A$47=TRUE,-1*(((O23-$G23)-(S23-$K23))/SQRT(((P23^2*(Q23-1))+(T23^2*(U23-1)))/(Q23+U23-2))),((O23-$G23)-(S23-$K23))/SQRT(((P23^2*(Q23-1))+(T23^2*(U23-1)))/(Q23+U23-2)))","v":{"$error":"#DIV/0!"}},{"$f":"IF(O23=\"\",\"\",V23)","v":""},"",null,null,null,null,null,null,null,null,{"$f":"IF(Sheet2!$A$47=TRUE,-1*(((Z23-$G23)-(AD23-$K23))/SQRT(((AA23^2*(AB23-1))+(AE23^2*(AF23-1)))/(AB23+AF23-2))),((Z23-$G23)-(AD23-$K23))/SQRT(((AA23^2*(AB23-1))+(AE23^2*(AF23-1)))/(AB23+AF23-2)))","v":{"$error":"#DIV/0!"}},{"$f":"IF(Z23=\"\",\"\",AG23)","v":""},"",null,null,null,null,null,null,null,null,{"$f":"IF(Sheet2!$A$47=TRUE,-1*(((AK23-$G23)-(AO23-$K23))/SQRT(((AL23^2*(AM23-1))+(AP23^2*(AQ23-1)))/(AM23+AQ23-2))),((AK23-$G23)-(AO23-$K23))/SQRT(((AL23^2*(AM23-1))+(AP23^2*(AQ23-1)))/(AM23+AQ23-2)))","v":{"$error":"#DIV/0!"}},{"$f":"IF(AK23=\"\",\"\",AR23)","v":""},"",null,null,null,null,null,null,null,null,{"$f":"IF(Sheet2!$A$47=TRUE,-1*(((AV23-$G23)-(AZ23-$K23))/SQRT(((AW23^2*(AX23-1))+(BA23^2*(BB23-1)))/(AX23+BB23-2))),((AV23-$G23)-(AZ23-$K23))/SQRT(((AW23^2*(AX23-1))+(BA23^2*(BB23-1)))/(AX23+BB23-2)))","v":{"$error":"#DIV/0!"}},{"$f":"IF(AV23=\"\",\"\",BC23)","v":""},"",null,null,null,null,null,null,null,null,{"$f":"IF(Sheet2!$A$47=TRUE,-1*(((BG23-$G23)-(BK23-$K23))/SQRT(((BH23^2*(BI23-1))+(BL23^2*(BM23-1)))/(BI23+BM23-2))),((BG23-$G23)-(BK23-$K23))/SQRT(((BH23^2*(BI23-1))+(BL23^2*(BM23-1)))/(BI23+BM23-2)))","v":{"$error":"#DIV/0!"}},{"$f":"IF(BG23=\"\",\"\",BN23)","v":""},"",null,null,null,null,null,null,null,null,{"$f":"IF(Sheet2!$A$47=TRUE,-1*(((BR23-$G23)-(BV23-$K23))/SQRT(((BS23^2*(BT23-1))+(BW23^2*(BX23-1)))/(BT23+BX23-2))),((BR23-$G23)-(BV23-$K23))/SQRT(((BS23^2*(BT23-1))+(BW23^2*(BX23-1)))/(BT23+BX23-2)))","v":{"$error":"#DIV/0!"}},{"$f":"IF(BR23=\"\",\"\",BY23)","v":""},""]
[null,null,"Outcome 19",null,null,null,null,null,null,null,null,null,null,null,null,null,null,null,null,null,null,{"$f":"IF(Sheet2!$A$48=TRUE,-1*(((O24-$G24)-(S24-$K24))/SQRT(((P24^2*(Q24-1))+(T24^2*(U24-1)))/(Q24+U24-2))),((O24-$G24)-(S24-$K24))/SQRT(((P24^2*(Q24-1))+(T24^2*(U24-1)))/(Q24+U24-2)))","v":{"$error":"#DIV/0!"}},{"$f":"IF(O24=\"\",\"\",V24)","v":""},{"$f":"IF(Q24=\"\",\"\",SQRT((Q24+U24)/(Q24*U24)+(W24^2/(2*(Q24+U24)))))","v":""},null,null,null,null,null,null,null,null,{"$f":"IF(Sheet2!$A$48=TRUE,-1*(((Z24-$G24)-(AD24-$K24))/SQRT(((AA24^2*(AB24-1))+(AE24^2*(AF24-1)))/(AB24+AF24-2))),((Z24-$G24)-(AD24-$K24))/SQRT(((AA24^2*(AB24-1))+(AE24^2*(AF24-1)))/(AB24+AF24-2)))","v":{"$error":"#DIV/0!"}},{"$f":"IF(Z24=\"\",\"\",AG24)","v":""},{"$f":"IF(AB24=\"\",\"\",SQRT((AB24+AF24)/(AB24*AF24)+(AH24^2/(2*(AB24+AF24)))))","v":""},null,null,null,null,null,null,null,null,{"$f":"IF(Sheet2!$A$48=TRUE,-1*(((AK24-$G24)-(AO24-$K24))/SQRT(((AL24^2*(AM24-1))+(AP24^2*(AQ24-1)))/(AM24+AQ24-2))),((AK24-$G24)-(AO24-$K24))/SQRT(((AL24^2*(AM24-1))+(AP24^2*(AQ24-1)))/(AM24+AQ24-2)))","v":{"$error":"#DIV/0!"}},{"$f":"IF(AK24=\"\",\"\",AR24)","v":""},{"$f":"IF(AM24=\"\",\"\",SQRT((AM24+AQ24)/(AM24*AQ24)+(AS24^2/(2*(AM24+AQ24)))))","v":""},null,null,null,null,null,null,null,null,{"$f":"IF(Sheet2!$A$48=TRUE,-1*(((AV24-$G24)-(AZ24-$K24))/SQRT(((AW24^2*(AX24-1))+(BA24^2*(BB24-1)))/(AX24+BB24-2))),((AV24-$G24)-(AZ24-$K24))/SQRT(((AW24^2*(AX24-1))+(BA24^2*(BB24-1)))/(AX24+BB24-2)))","v":{"$error":"#DIV/0!"}},{"$f":"IF(AV24=\"\",\"\",BC24)","v":""},{"$f":"IF(AX24=\"\",\"\",SQRT((AX24+BB24)/(AX24*BB24)+(BD24^2/(2*(AX24+BB24)))))","v":""},null,null,null,null,null,null,null,null,{"$f":"IF(Sheet2!$A$48=TRUE,-1*(((BG24-$G24)-(BK24-$K24))/SQRT(((BH24^2*(BI24-1))+(BL24^2*(BM24-1)))/(BI24+BM24-2))),((BG24-$G24)-(BK24-$K24))/SQRT(((BH24^2*(BI24-1))+(BL24^2*(BM24-1)))/(BI24+BM24-2)))","v":{"$error":"#DIV/0!"}},{"$f":"IF(BG24=\"\",\"\",BN24)","v":""},{"$f":"IF(BI24=\"\",\"\",SQRT((BI24+BM24)/(BI24*BM24)+(BO24^2/(2*(BI24+BM24)))))","v":""},null,null,null,null,null,null,null,null,{"$f":"IF(Sheet2!$A$48=TRUE,-1*(((BR24-$G24)-(BV24-$K24))/SQRT(((BS24^2*(BT24-1))+(BW24^2*(BX24-1)))/(BT24+BX24-2))),((BR24-$G24)-(BV24-$K24))/SQRT(((BS24^2*(BT24-1))+(BW24^2*(BX24-1)))/(BT24+BX24-2)))","v":{"$error":"#DIV/0!"}},{"$f":"IF(BR24=\"\",\"\",BY24)","v":""},{"$f":"IF(BT24=\"\",\"\",SQRT((BT24+BX24)/(BT24*BX24)+(BZ24^2/(2*(BT24+BX24)))))","v":""}]
[null,null,"Outcome 20",null,null,null,null,null,null,null,null,null,null,null,null,null,null,null,null,null,null,{"$f":"IF(Sheet2!$A$49=TRUE,-1*(((O25-$G25)-(S25-$K25))/SQRT(((P25^2*(Q25-1))+(T25^2*(U25-1)))/(Q25+U25-2))),((O25-$G25)-(S25-$K25))/SQRT(((P25^2*(Q25-1))+(T25^2*(U25-1)))/(Q25+U25-2)))","v":{"$error":"#DIV/0!"}},"","",null,null,null,null,null,null,null,null,{"$f":"IF(Sheet2!$A$49=TRUE,-1*(((Z25-$G25)-(AD25-$K25))/SQRT(((AA25^2*(AB25-1))+(AE25^2*(AF25-1)))/(AB25+AF25-2))),((Z25-$G25)-(AD25-$K25))/SQRT(((AA25^2*(AB25-1))+(AE25^2*(AF25-1)))/(AB25+AF25-2)))","v":{"$error":"#DIV/0!"}},"",{"$f":"IF(AB25=\"\",\"\",SQRT((AB25+AF25)/(AB25*AF25)+(AH25^2/(2*(AB25+AF25)))))","v":""},null,null,null,null,null,null,null,null,{"$f":"IF(Sheet2!$A$49=TRUE,-1*(((AK25-$G25)-(AO25-$K25))/SQRT(((AL25^2*(AM25-1))+(AP25^2*(AQ25-1)))/(AM25+AQ25-2))),((AK25-$G25)-(AO25-$K25))/SQRT(((AL25^2*(AM25-1))+(AP25^2*(AQ25-1)))/(AM25+AQ25-2)))","v":{"$error":"#DIV/0!"}},"",{"$f":"IF(AM25=\"\",\"\",SQRT((AM25+AQ25)/(AM25*AQ25)+(AS25^2/(2*(AM25+AQ25)))))","v":""},null,null,null,null,null,null,null,null,{"$f":"IF(Sheet2!$A$49=TRUE,-1*(((AV25-$G25)-(AZ25-$K25))/SQRT(((AW25^2*(AX25-1))+(BA25^2*(BB25-1)))/(AX25+BB25-2))),((AV25-$G25)-(AZ25-$K25))/SQRT(((AW25^2*(AX25-1))+(BA25^2*(BB25-1)))/(AX25+BB25-2)))","v":{"$error":"#DIV/0!"}},"",{"$f":"IF(AX25=\"\",\"\",SQRT((AX25+BB25)/(AX25*BB25)+(BD25^2/(2*(AX25+BB25)))))","v":""},null,null,null,null,null,null,null,null,{"$f":"IF(Sheet2!$A$49=TRUE,-1*(((BG25-$G25)-(BK25-$K25))/SQRT(((BH25^2*(BI25-1))+(BL25^2*(BM25-1)))/(BI25+BM25-2))),((BG25-$G25)-(BK25-$K25))/SQRT(((BH25^2*(BI25-1))+(BL25^2*(BM25-1)))/(BI25+BM25-2)))","v":{"$error":"#DIV/0!"}},"",{"$f":"IF(BI25=\"\",\"\",SQRT((BI25+BM25)/(BI25*BM25)+(BO25^2/(2*(BI25+BM25)))))","v":""},null,null,null,null,null,null,null,null,{"$f":"IF(Sheet2!$A$49=TRUE,-1*(((BR25-$G25)-(BV25-$K25))/SQRT(((BS25^2*(BT25-1))+(BW25^2*(BX25-1)))/(BT25+BX25-2))),((BR25-$G25)-(BV25-$K25))/SQRT(((BS25^2*(BT25-1))+(BW25^2*(BX25-1)))/(BT25+BX25-2)))","v":{"$error":"#DIV/0!"}},"",{"$f":"IF(BT25=\"\",\"\",SQRT((BT25+BX25)/(BT25*BX25)+(BZ25^2/(2*(BT25+BX25)))))","v":""}]
[null,null,"Outcome 21",null,null,null,null,null,null,null,null,null,null,null,null,null,null,null,null,null,null,{"$f":"IF(Sheet2!$A$53=TRUE,-1*(((O26-$G26)-(S26-$K26))/SQRT(((P26^2*(Q26-1))+(T26^2*(U26-1)))/(Q26+U26-2))),((O26-$G26)-(S26-$K26))/SQRT(((P26^2*(Q26-1))+(T26^2*(U26-1)))/(Q26+U26-2)))","v":{"$error":"#DIV/0!"}},{"$f":"IF(O26=\"\",\"\",V26)","v":""},{"$f":"IF(Q26=\"\",\"\",SQRT((Q26+U26)/(Q26*U26)+(W26^2/(2*(Q26+U26)))))","v":""},null,null,null,null,null,null,null,null,{"$f":"IF(Sheet2!$A$53=TRUE,-1*(((Z26-$G26)-(AD26-$K26))/SQRT(((AA26^2*(AB26-1))+(AE26^2*(AF26-1)))/(AB26+AF26-2))),((Z26-$G26)-(AD26-$K26))/SQRT(((AA26^2*(AB26-1))+(AE26^2*(AF26-1)))/(AB26+AF26-2)))","v":{"$error":"#DIV/0!"}},{"$f":"IF(Z26=\"\",\"\",AG26)","v":""},{"$f":"IF(AB26=\"\",\"\",SQRT((AB26+AF26)/(AB26*AF26)+(AH26^2/(2*(AB26+AF26)))))","v":""},null,null,null,null,null,null,null,null,{"$f":"IF(Sheet2!$A$53=TRUE,-1*(((AK26-$G26)-(AO26-$K26))/SQRT(((AL26^2*(AM26-1))+(AP26^2*(AQ26-1)))/(AM26+AQ26-2))),((AK26-$G26)-(AO26-$K26))/SQRT(((AL26^2*(AM26-1))+(AP26^2*(AQ26-1)))/(AM26+AQ26-2)))","v":{"$error":"#DIV/0!"}},{"$f":"IF(AK26=\"\",\"\",AR26)","v":""},{"$f":"IF(AM26=\"\",\"\",SQRT((AM26+AQ26)/(AM26*AQ26)+(AS26^2/(2*(AM26+AQ26)))))","v":""},null,null,null,null,null,null,null,null,{"$f":"IF(Sheet2!$A$53=TRUE,-1*(((AV26-$G26)-(AZ26-$K26))/SQRT(((AW26^2*(AX26-1))+(BA26^2*(BB26-1)))/(AX26+BB26-2))),((AV26-$G26)-(AZ26-$K26))/SQRT(((AW26^2*(AX26-1))+(BA26^2*(BB26-1)))/(AX26+BB26-2)))","v":{"$error":"#DIV/0!"}},{"$f":"IF(AV26=\"\",\"\",BC26)","v":""},{"$f":"IF(AX26=\"\",\"\",SQRT((AX26+BB26)/(AX26*BB26)+(BD26^2/(2*(AX26+BB26)))))","v":""},null,null,null,null,null,null,null,null,{"$f":"IF(Sheet2!$A$53=TRUE,-1*(((BG26-$G26)-(BK26-$K26))/SQRT(((BH26^2*(BI26-1))+(BL26^2*(BM26-1)))/(BI26+BM26-2))),((BG26-$G26)-(BK26-$K26))/SQRT(((BH26^2*(BI26-1))+(BL26^2*(BM26-1)))/(BI26+BM26-2)))","v":{"$error":"#DIV/0!"}},{"$f":"IF(BG26=\"\",\"\",BN26)","v":""},{"$f":"IF(BI26=\"\",\"\",SQRT((BI26+BM26)/(BI26*BM26)+(BO26^2/(2*(BI26+BM26)))))","v":""},null,null,null,null,null,null,null,null,{"$f":"IF(Sheet2!$A$53=TRUE,-1*(((BR26-$G26)-(BV26-$K26))/SQRT(((BS26^2*(BT26-1))+(BW26^2*(BX26-1)))/(BT26+BX26-2))),((BR26-$G26)-(BV26-$K26))/SQRT(((BS26^2*(BT26-1))+(BW26^2*(BX26-1)))/(BT26+BX26-2)))","v":{"$error":"#DIV/0!"}},{"$f":"IF(BR26=\"\",\"\",BY26)","v":""},{"$f":"IF(BT26=\"\",\"\",SQRT((BT26+BX26)/(BT26*BX26)+(BZ26^2/(2*(BT26+BX26)))))","v":""}]
[null,null,"Outcome 22",null,null,null,null,null,null,null,null,null,null,null,null,null,null,null,null,null,null,{"$f":"IF(Sheet2!$A$54=TRUE,-1*(((O27-$G27)-(S27-$K27))/SQRT(((P27^2*(Q27-1))+(T27^2*(U27-1)))/(Q27+U27-2))),((O27-$G27)-(S27-$K27))/SQRT(((P27^2*(Q27-1))+(T27^2*(U27-1)))/(Q27+U27-2)))","v":{"$error":"#DIV/0!"}},{"$f":"IF(O27=\"\",\"\",V27)","v":""},{"$f":"IF(Q27=\"\",\"\",SQRT((Q27+U27)/(Q27*U27)+(W27^2/(2*(Q27+U27)))))","v":""},null,null,null,null,null,null,null,null,{"$f":"IF(Sheet2!$A$54=TRUE,-1*(((Z27-$G27)-(AD27-$K27))/SQRT(((AA27^2*(AB27-1))+(AE27^2*(AF27-1)))/(AB27+AF27-2))),((Z27-$G27)-(AD27-$K27))/SQRT(((AA27^2*(AB27-1))+(AE27^2*(AF27-1)))/(AB27+AF27-2)))","v":{"$error":"#DIV/0!"}},{"$f":"IF(Z27=\"\",\"\",AG27)","v":""},{"$f":"IF(AB27=\"\",\"\",SQRT((AB27+AF27)/(AB27*AF27)+(AH27^2/(2*(AB27+AF27)))))","v":""},null,null,null,null,null,null,null,null,{"$f":"IF(Sheet2!$A$54=TRUE,-1*(((AK27-$G27)-(AO27-$K27))/SQRT(((AL27^2*(AM27-1))+(AP27^2*(AQ27-1)))/(AM27+AQ27-2))),((AK27-$G27)-(AO27-$K27))/SQRT(((AL27^2*(AM27-1))+(AP27^2*(AQ27-1)))/(AM27+AQ27-2)))","v":{"$error":"#DIV/0!"}},{"$f":"IF(AK27=\"\",\"\",AR27)","v":""},{"$f":"IF(AM27=\"\",\"\",SQRT((AM27+AQ27)/(AM27*AQ27)+(AS27^2/(2*(AM27+AQ27)))))","v":""},null,null,null,null,null,null,null,null,{"$f":"IF(Sheet2!$A$54=TRUE,-1*(((AV27-$G27)-(AZ27-$K27))/SQRT(((AW27^2*(AX27-1))+(BA27^2*(BB27-1)))/(AX27+BB27-2))),((AV27-$G27)-(AZ27-$K27))/SQRT(((AW27^2*(AX27-1))+(BA27^2*(BB27-1)))/(AX27+BB27-2)))","v":{"$error":"#DIV/0!"}},{"$f":"IF(AV27=\"\",\"\",BC27)","v":""},{"$f":"IF(AX27=\"\",\"\",SQRT((AX27+BB27)/(AX27*BB27)+(BD27^2/(2*(AX27+BB27)))))","v":""},null,null,null,null,null,null,null,null,{"$f":"IF(Sheet2!$A$54=TRUE,-1*(((BG27-$G27)-(BK27-$K27))/SQRT(((BH27^2*(BI27-1))+(BL27^2*(BM27-1)))/(BI27+BM27-2))),((BG27-$G27)-(BK27-$K27))/SQRT(((BH27^2*(BI27-1))+(BL27^2*(BM27-1)))/(BI27+BM27-2)))","v":{"$error":"#DIV/0!"}},{"$f":"IF(BG27=\"\",\"\",BN27)","v":""},{"$f":"IF(BI27=\"\",\"\",SQRT((BI27+BM27)/(BI27*BM27)+(BO27^2/(2*(BI27+BM27)))))","v":""},null,null,null,null,null,null,null,null,{"$f":"IF(Sheet2!$A$54=TRUE,-1*(((BR27-$G27)-(BV27-$K27))/SQRT(((BS27^2*(BT27-1))+(BW27^2*(BX27-1)))/(BT27+BX27-2))),((BR27-$G27)-(BV27-$K27))/SQRT(((BS27^2*(BT27-1))+(BW27^2*(BX27-1)))/(BT27+BX27-2)))","v":{"$error":"#DIV/0!"}},{"$f":"IF(BR27=\"\",\"\",BY27)","v":""},{"$f":"IF(BT27=\"\",\"\",SQRT((BT27+BX27)/(BT27*BX27)+(BZ27^2/(2*(BT27+BX27)))))","v":""}]
[null,null,"Outcome 23",null,null,null,null,null,null,null,null,null,null,null,null,null,null,null,null,null,null,{"$f":"IF(Sheet2!$A$55=TRUE,-1*(((O28-$G28)-(S28-$K28))/SQRT(((P28^2*(Q28-1))+(T28^2*(U28-1)))/(Q28+U28-2))),((O28-$G28)-(S28-$K28))/SQRT(((P28^2*(Q28-1))+(T28^2*(U28-1)))/(Q28+U28-2)))","v":{"$error":"#DIV/0!"}},{"$f":"IF(O28=\"\",\"\",V28)","v":""},"",null,null,null,null,null,null,null,null,{"$f":"IF(Sheet2!$A$55=TRUE,-1*(((Z28-$G28)-(AD28-$K28))/SQRT(((AA28^2*(AB28-1))+(AE28^2*(AF28-1)))/(AB28+AF28-2))),((Z28-$G28)-(AD28-$K28))/SQRT(((AA28^2*(AB28-1))+(AE28^2*(AF28-1)))/(AB28+AF28-2)))","v":{"$error":"#DIV/0!"}},{"$f":"IF(Z28=\"\",\"\",AG28)","v":""},"",null,null,null,null,null,null,null,null,{"$f":"IF(Sheet2!$A$55=TRUE,-1*(((AK28-$G28)-(AO28-$K28))/SQRT(((AL28^2*(AM28-1))+(AP28^2*(AQ28-1)))/(AM28+AQ28-2))),((AK28-$G28)-(AO28-$K28))/SQRT(((AL28^2*(AM28-1))+(AP28^2*(AQ28-1)))/(AM28+AQ28-2)))","v":{"$error":"#DIV/0!"}},{"$f":"IF(AK28=\"\",\"\",AR28)","v":""},"",null,null,null,null,null,null,null,null,{"$f":"IF(Sheet2!$A$55=TRUE,-1*(((AV28-$G28)-(AZ28-$K28))/SQRT(((AW28^2*(AX28-1))+(BA28^2*(BB28-1)))/(AX28+BB28-2))),((AV28-$G28)-(AZ28-$K28))/SQRT(((AW28^2*(AX28-1))+(BA28^2*(BB28-1)))/(AX28+BB28-2)))","v":{"$error":"#DIV/0!"}},{"$f":"IF(AV28=\"\",\"\",BC28)","v":""},"",null,null,null,null,null,null,null,null,{"$f":"IF(Sheet2!$A$55=TRUE,-1*(((BG28-$G28)-(BK28-$K28))/SQRT(((BH28^2*(BI28-1))+(BL28^2*(BM28-1)))/(BI28+BM28-2))),((BG28-$G28)-(BK28-$K28))/SQRT(((BH28^2*(BI28-1))+(BL28^2*(BM28-1)))/(BI28+BM28-2)))","v":{"$error":"#DIV/0!"}},{"$f":"IF(BG28=\"\",\"\",BN28)","v":""},"",null,null,null,null,null,null,null,null,{"$f":"IF(Sheet2!$A$55=TRUE,-1*(((BR28-$G28)-(BV28-$K28))/SQRT(((BS28^2*(BT28-1))+(BW28^2*(BX28-1)))/(BT28+BX28-2))),((BR28-$G28)-(BV28-$K28))/SQRT(((BS28^2*(BT28-1))+(BW28^2*(BX28-1)))/(BT28+BX28-2)))","v":{"$error":"#DIV/0!"}},{"$f":"IF(BR28=\"\",\"\",BY28)","v":""},""]
[null,null,"Outcome 24",null,null,null,null,null,null,null,null,null,null,null,null,null,null,null,null,null,null,{"$f":"IF(Sheet2!$A$56=TRUE,-1*(((O29-$G29)-(S29-$K29))/SQRT(((P29^2*(Q29-1))+(T29^2*(U29-1)))/(Q29+U29-2))),((O29-$G29)-(S29-$K29))/SQRT(((P29^2*(Q29-1))+(T29^2*(U29-1)))/(Q29+U29-2)))","v":{"$error":"#DIV/0!"}},{"$f":"IF(O29=\"\",\"\",V29)","v":""},{"$f":"IF(Q29=\"\",\"\",SQRT((Q29+U29)/(Q29*U29)+(W29^2/(2*(Q29+U29)))))","v":""},null,null,null,null,null,null,null,null,{"$f":"IF(Sheet2!$A$56=TRUE,-1*(((Z29-$G29)-(AD29-$K29))/SQRT(((AA29^2*(AB29-1))+(AE29^2*(AF29-1)))/(AB29+AF29-2))),((Z29-$G29)-(AD29-$K29))/SQRT(((AA29^2*(AB29-1))+(AE29^2*(AF29-1)))/(AB29+AF29-2)))","v":{"$error":"#DIV/0!"}},{"$f":"IF(Z29=\"\",\"\",AG29)","v":""},{"$f":"IF(AB29=\"\",\"\",SQRT((AB29+AF29)/(AB29*AF29)+(AH29^2/(2*(AB29+AF29)))))","v":""},null,null,null,null,null,null,null,null,{"$f":"IF(Sheet2!$A$56=TRUE,-1*(((AK29-$G29)-(AO29-$K29))/SQRT(((AL29^2*(AM29-1))+(AP29^2*(AQ29-1)))/(AM29+AQ29-2))),((AK29-$G29)-(AO29-$K29))/SQRT(((AL29^2*(AM29-1))+(AP29^2*(AQ29-1)))/(AM29+AQ29-2)))","v":{"$error":"#DIV/0!"}},{"$f":"IF(AK29=\"\",\"\",AR29)","v":""},{"$f":"IF(AM29=\"\",\"\",SQRT((AM29+AQ29)/(AM29*AQ29)+(AS29^2/(2*(AM29+AQ29)))))","v":""},null,null,null,null,null,null,null,null,{"$f":"IF(Sheet2!$A$56=TRUE,-1*(((AV29-$G29)-(AZ29-$K29))/SQRT(((AW29^2*(AX29-1))+(BA29^2*(BB29-1)))/(AX29+BB29-2))),((AV29-$G29)-(AZ29-$K29))/SQRT(((AW29^2*(AX29-1))+(BA29^2*(BB29-1)))/(AX29+BB29-2)))","v":{"$error":"#DIV/0!"}},{"$f":"IF(AV29=\"\",\"\",BC29)","v":""},{"$f":"IF(AX29=\"\",\"\",SQRT((AX29+BB29)/(AX29*BB29)+(BD29^2/(2*(AX29+BB29)))))","v":""},null,null,null,null,null,null,null,null,{"$f":"IF(Sheet2!$A$56=TRUE,-1*(((BG29-$G29)-(BK29-$K29))/SQRT(((BH29^2*(BI29-1))+(BL29^2*(BM29-1)))/(BI29+BM29-2))),((BG29-$G29)-(BK29-$K29))/SQRT(((BH29^2*(BI29-1))+(BL29^2*(BM29-1)))/(BI29+BM29-2)))","v":{"$error":"#DIV/0!"}},{"$f":"IF(BG29=\"\",\"\",BN29)","v":""},{"$f":"IF(BI29=\"\",\"\",SQRT((BI29+BM29)/(BI29*BM29)+(BO29^2/(2*(BI29+BM29)))))","v":""},null,null,null,null,null,null,null,null,{"$f":"IF(Sheet2!$A$56=TRUE,-1*(((BR29-$G29)-(BV29-$K29))/SQRT(((BS29^2*(BT29-1))+(BW29^2*(BX29-1)))/(BT29+BX29-2))),((BR29-$G29)-(BV29-$K29))/SQRT(((BS29^2*(BT29-1))+(BW29^2*(BX29-1)))/(BT29+BX29-2)))","v":{"$error":"#DIV/0!"}},{"$f":"IF(BR29=\"\",\"\",BY29)","v":""},{"$f":"IF(BT29=\"\",\"\",SQRT((BT29+BX29)/(BT29*BX29)+(BZ29^2/(2*(BT29+BX29)))))","v":""}]
[null,null,"Outcome 25",null,null,null,null,null,null,null,null,null,null,null,null,null,null,null,null,null,null,{"$f":"IF(Sheet2!$A$57=TRUE,-1*(((O30-$G30)-(S30-$K30))/SQRT(((P30^2*(Q30-1))+(T30^2*(U30-1)))/(Q30+U30-2))),((O30-$G30)-(S30-$K30))/SQRT(((P30^2*(Q30-1))+(T30^2*(U30-1)))/(Q30+U30-2)))","v":{"$error":"#DIV/0!"}},"","",null,null,null,null,null,null,null,null,{"$f":"IF(Sheet2!$A$57=TRUE,-1*(((Z30-$G30)-(AD30-$K30))/SQRT(((AA30^2*(AB30-1))+(AE30^2*(AF30-1)))/(AB30+AF30-2))),((Z30-$G30)-(AD30-$K30))/SQRT(((AA30^2*(AB30-1))+(AE30^2*(AF30-1)))/(AB30+AF30-2)))","v":{"$error":"#DIV/0!"}},"",{"$f":"IF(AB30=\"\",\"\",SQRT((AB30+AF30)/(AB30*AF30)+(AH30^2/(2*(AB30+AF30)))))","v":""},null,null,null,null,null,null,null,null,{"$f":"IF(Sheet2!$A$57=TRUE,-1*(((AK30-$G30)-(AO30-$K30))/SQRT(((AL30^2*(AM30-1))+(AP30^2*(AQ30-1)))/(AM30+AQ30-2))),((AK30-$G30)-(AO30-$K30))/SQRT(((AL30^2*(AM30-1))+(AP30^2*(AQ30-1)))/(AM30+AQ30-2)))","v":{"$error":"#DIV/0!"}},"",{"$f":"IF(AM30=\"\",\"\",SQRT((AM30+AQ30)/(AM30*AQ30)+(AS30^2/(2*(AM30+AQ30)))))","v":""},null,null,null,null,null,null,null,null,{"$f":"IF(Sheet2!$A$57=TRUE,-1*(((AV30-$G30)-(AZ30-$K30))/SQRT(((AW30^2*(AX30-1))+(BA30^2*(BB30-1)))/(AX30+BB30-2))),((AV30-$G30)-(AZ30-$K30))/SQRT(((AW30^2*(AX30-1))+(BA30^2*(BB30-1)))/(AX30+BB30-2)))","v":{"$error":"#DIV/0!"}},"",{"$f":"IF(AX30=\"\",\"\",SQRT((AX30+BB30)/(AX30*BB30)+(BD30^2/(2*(AX30+BB30)))))","v":""},null,null,null,null,null,null,null,null,{"$f":"IF(Sheet2!$A$57=TRUE,-1*(((BG30-$G30)-(BK30-$K30))/SQRT(((BH30^2*(BI30-1))+(BL30^2*(BM30-1)))/(BI30+BM30-2))),((BG30-$G30)-(BK30-$K30))/SQRT(((BH30^2*(BI30-1))+(BL30^2*(BM30-1)))/(BI30+BM30-2)))","v":{"$error":"#DIV/0!"}},"",{"$f":"IF(BI30=\"\",\"\",SQRT((BI30+BM30)/(BI30*BM30)+(BO30^2/(2*(BI30+BM30)))))","v":""},null,null,null,null,null,null,null,null,{"$f":"IF(Sheet2!$A$57=TRUE,-1*(((BR30-$G30)-(BV30-$K30))/SQRT(((BS30^2*(BT30-1))+(BW30^2*(BX30-1)))/(BT30+BX30-2))),((BR30-$G30)-(BV30-$K30))/SQRT(((BS30^2*(BT30-1))+(BW30^2*(BX30-1)))/(BT30+BX30-2)))","v":{"$error":"#DIV/0!"}},"",{"$f":"IF(BT30=\"\",\"\",SQRT((BT30+BX30)/(BT30*BX30)+(BZ30^2/(2*(BT30+BX30)))))","v":""}]
[null,null,"Outcome 26",null,null,null,null,null,null,null,null,null,null,null,null,null,null,null,null,null,null,{"$f":"IF(Sheet2!$A$61=TRUE,-1*(((O31-$G31)-(S31-$K31))/SQRT(((P31^2*(Q31-1))+(T31^2*(U31-1)))/(Q31+U31-2))),((O31-$G31)-(S31-$K31))/SQRT(((P31^2*(Q31-1))+(T31^2*(U31-1)))/(Q31+U31-2)))","v":{"$error":"#DIV/0!"}},{"$f":"IF(O31=\"\",\"\",V31)","v":""},{"$f":"IF(Q31=\"\",\"\",SQRT((Q31+U31)/(Q31*U31)+(W31^2/(2*(Q31+U31)))))","v":""},null,null,null,null,null,null,null,null,{"$f":"IF(Sheet2!$A$61=TRUE,-1*(((Z31-$G31)-(AD31-$K31))/SQRT(((AA31^2*(AB31-1))+(AE31^2*(AF31-1)))/(AB31+AF31-2))),((Z31-$G31)-(AD31-$K31))/SQRT(((AA31^2*(AB31-1))+(AE31^2*(AF31-1)))/(AB31+AF31-2)))","v":{"$error":"#DIV/0!"}},{"$f":"IF(Z31=\"\",\"\",AG31)","v":""},{"$f":"IF(AB31=\"\",\"\",SQRT((AB31+AF31)/(AB31*AF31)+(AH31^2/(2*(AB31+AF31)))))","v":""},null,null,null,null,null,null,null,null,{"$f":"IF(Sheet2!$A$61=TRUE,-1*(((AK31-$G31)-(AO31-$K31))/SQRT(((AL31^2*(AM31-1))+(AP31^2*(AQ31-1)))/(AM31+AQ31-2))),((AK31-$G31)-(AO31-$K31))/SQRT(((AL31^2*(AM31-1))+(AP31^2*(AQ31-1)))/(AM31+AQ31-2)))","v":{"$error":"#DIV/0!"}},{"$f":"IF(AK31=\"\",\"\",AR31)","v":""},{"$f":"IF(AM31=\"\",\"\",SQRT((AM31+AQ31)/(AM31*AQ31)+(AS31^2/(2*(AM31+AQ31)))))","v":""},null,null,null,null,null,null,null,null,{"$f":"IF(Sheet2!$A$61=TRUE,-1*(((AV31-$G31)-(AZ31-$K31))/SQRT(((AW31^2*(AX31-1))+(BA31^2*(BB31-1)))/(AX31+BB31-2))),((AV31-$G31)-(AZ31-$K31))/SQRT(((AW31^2*(AX31-1))+(BA31^2*(BB31-1)))/(AX31+BB31-2)))","v":{"$error":"#DIV/0!"}},{"$f":"IF(AV31=\"\",\"\",BC31)","v":""},{"$f":"IF(AX31=\"\",\"\",SQRT((AX31+BB31)/(AX31*BB31)+(BD31^2/(2*(AX31+BB31)))))","v":""},null,null,null,null,null,null,null,null,{"$f":"IF(Sheet2!$A$61=TRUE,-1*(((BG31-$G31)-(BK31-$K31))/SQRT(((BH31^2*(BI31-1))+(BL31^2*(BM31-1)))/(BI31+BM31-2))),((BG31-$G31)-(BK31-$K31))/SQRT(((BH31^2*(BI31-1))+(BL31^2*(BM31-1)))/(BI31+BM31-2)))","v":{"$error":"#DIV/0!"}},{"$f":"IF(BG31=\"\",\"\",BN31)","v":""},{"$f":"IF(BI31=\"\",\"\",SQRT((BI31+BM31)/(BI31*BM31)+(BO31^2/(2*(BI31+BM31)))))","v":""},null,null,null,null,null,null,null,null,{"$f":"IF(Sheet2!$A$61=TRUE,-1*(((BR31-$G31)-(BV31-$K31))/SQRT(((BS31^2*(BT31-1))+(BW31^2*(BX31-1)))/(BT31+BX31-2))),((BR31-$G31)-(BV31-$K31))/SQRT(((BS31^2*(BT31-1))+(BW31^2*(BX31-1)))/(BT31+BX31-2)))","v":{"$error":"#DIV/0!"}},{"$f":"IF(BR31=\"\",\"\",BY31)","v":""},{"$f":"IF(BT31=\"\",\"\",SQRT((BT31+BX31)/(BT31*BX31)+(BZ31^2/(2*(BT31+BX31)))))","v":""}]
[null,null,"Outcome 27",null,null,null,null,null,null,null,null,null,null,null,null,null,null,null,null,null,null,{"$f":"IF(Sheet2!$A$62=TRUE,-1*(((O32-$G32)-(S32-$K32))/SQRT(((P32^2*(Q32-1))+(T32^2*(U32-1)))/(Q32+U32-2))),((O32-$G32)-(S32-$K32))/SQRT(((P32^2*(Q32-1))+(T32^2*(U32-1)))/(Q32+U32-2)))","v":{"$error":"#DIV/0!"}},{"$f":"IF(O32=\"\",\"\",V32)","v":""},{"$f":"IF(Q32=\"\",\"\",SQRT((Q32+U32)/(Q32*U32)+(W32^2/(2*(Q32+U32)))))","v":""},null,null,null,null,null,null,null,null,{"$f":"IF(Sheet2!$A$62=TRUE,-1*(((Z32-$G32)-(AD32-$K32))/SQRT(((AA32^2*(AB32-1))+(AE32^2*(AF32-1)))/(AB32+AF32-2))),((Z32-$G32)-(AD32-$K32))/SQRT(((AA32^2*(AB32-1))+(AE32^2*(AF32-1)))/(AB32+AF32-2)))","v":{"$error":"#DIV/0!"}},{"$f":"IF(Z32=\"\",\"\",AG32)","v":""},{"$f":"IF(AB32=\"\",\"\",SQRT((AB32+AF32)/(AB32*AF32)+(AH32^2/(2*(AB32+AF32)))))","v":""},null,null,null,null,null,null,null,null,{"$f":"IF(Sheet2!$A$62=TRUE,-1*(((AK32-$G32)-(AO32-$K32))/SQRT(((AL32^2*(AM32-1))+(AP32^2*(AQ32-1)))/(AM32+AQ32-2))),((AK32-$G32)-(AO32-$K32))/SQRT(((AL32^2*(AM32-1))+(AP32^2*(AQ32-1)))/(AM32+AQ32-2)))","v":{"$error":"#DIV/0!"}},{"$f":"IF(AK32=\"\",\"\",AR32)","v":""},{"$f":"IF(AM32=\"\",\"\",SQRT((AM32+AQ32)/(AM32*AQ32)+(AS32^2/(2*(AM32+AQ32)))))","v":""},null,null,null,null,null,null,null,null,{"$f":"IF(Sheet2!$A$62=TRUE,-1*(((AV32-$G32)-(AZ32-$K32))/SQRT(((AW32^2*(AX32-1))+(BA32^2*(BB32-1)))/(AX32+BB32-2))),((AV32-$G32)-(AZ32-$K32))/SQRT(((AW32^2*(AX32-1))+(BA32^2*(BB32-1)))/(AX32+BB32-2)))","v":{"$error":"#DIV/0!"}},{"$f":"IF(AV32=\"\",\"\",BC32)","v":""},{"$f":"IF(AX32=\"\",\"\",SQRT((AX32+BB32)/(AX32*BB32)+(BD32^2/(2*(AX32+BB32)))))","v":""},null,null,null,null,null,null,null,null,{"$f":"IF(Sheet2!$A$62=TRUE,-1*(((BG32-$G32)-(BK32-$K32))/SQRT(((BH32^2*(BI32-1))+(BL32^2*(BM32-1)))/(BI32+BM32-2))),((BG32-$G32)-(BK32-$K32))/SQRT(((BH32^2*(BI32-1))+(BL32^2*(BM32-1)))/(BI32+BM32-2)))","v":{"$error":"#DIV/0!"}},{"$f":"IF(BG32=\"\",\"\",BN32)","v":""},{"$f":"IF(BI32=\"\",\"\",SQRT((BI32+BM32)/(BI32*BM32)+(BO32^2/(2*(BI32+BM32)))))","v":""},null,null,null,null,null,null,null,null,{"$f":"IF(Sheet2!$A$62=TRUE,-1*(((BR32-$G32)-(BV32-$K32))/SQRT(((BS32^2*(BT32-1))+(BW32^2*(BX32-1)))/(BT32+BX32-2))),((BR32-$G32)-(BV32-$K32))/SQRT(((BS32^2*(BT32-1))+(BW32^2*(BX32-1)))/(BT32+BX32-2)))","v":{"$error":"#DIV/0!"}},{"$f":"IF(BR32=\"\",\"\",BY32)","v":""},{"$f":"IF(BT32=\"\",\"\",SQRT((BT32+BX32)/(BT32*BX32)+(BZ32^2/(2*(BT32+BX32)))))","v":""}]
[null,null,"Outcome 28",null,null,null,null,null,null,null,null,null,null,null,null,null,null,null,null,null,null,{"$f":"IF(Sheet2!$A$63=TRUE,-1*(((O33-$G33)-(S33-$K33))/SQRT(((P33^2*(Q33-1))+(T33^2*(U33-1)))/(Q33+U33-2))),((O33-$G33)-(S33-$K33))/SQRT(((P33^2*(Q33-1))+(T33^2*(U33-1)))/(Q33+U33-2)))","v":{"$error":"#DIV/0!"}},{"$f":"IF(O33=\"\",\"\",V33)","v":""},"",null,null,null,null,null,null,null,null,{"$f":"IF(Sheet2!$A$63=TRUE,-1*(((Z33-$G33)-(AD33-$K33))/SQRT(((AA33^2*(AB33-1))+(AE33^2*(AF33-1)))/(AB33+AF33-2))),((Z33-$G33)-(AD33-$K33))/SQRT(((AA33^2*(AB33-1))+(AE33^2*(AF33-1)))/(AB33+AF33-2)))","v":{"$error":"#DIV/0!"}},{"$f":"IF(Z33=\"\",\"\",AG33)","v":""},"",null,null,null,null,null,null,null,null,{"$f":"IF(Sheet2!$A$63=TRUE,-1*(((AK33-$G33)-(AO33-$K33))/SQRT(((AL33^2*(AM33-1))+(AP33^2*(AQ33-1)))/(AM33+AQ33-2))),((AK33-$G33)-(AO33-$K33))/SQRT(((AL33^2*(AM33-1))+(AP33^2*(AQ33-1)))/(AM33+AQ33-2)))","v":{"$error":"#DIV/0!"}},{"$f":"IF(AK33=\"\",\"\",AR33)","v":""},"",null,null,null,null,null,null,null,null,{"$f":"IF(Sheet2!$A$63=TRUE,-1*(((AV33-$G33)-(AZ33-$K33))/SQRT(((AW33^2*(AX33-1))+(BA33^2*(BB33-1)))/(AX33+BB33-2))),((AV33-$G33)-(AZ33-$K33))/SQRT(((AW33^2*(AX33-1))+(BA33^2*(BB33-1)))/(AX33+BB33-2)))","v":{"$error":"#DIV/0!"}},{"$f":"IF(AV33=\"\",\"\",BC33)","v":""},"",null,null,null,null,null,null,null,null,{"$f":"IF(Sheet2!$A$63=TRUE,-1*(((BG33-$G33)-(BK33-$K33))/SQRT(((BH33^2*(BI33-1))+(BL33^2*(BM33-1)))/(BI33+BM33-2))),((BG33-$G33)-(BK33-$K33))/SQRT(((BH33^2*(BI33-1))+(BL33^2*(BM33-1)))/(BI33+BM33-2)))","v":{"$error":"#DIV/0!"}},{"$f":"IF(BG33=\"\",\"\",BN33)","v":""},"",null,null,null,null,null,null,null,null,{"$f":"IF(Sheet2!$A$63=TRUE,-1*(((BR33-$G33)-(BV33-$K33))/SQRT(((BS33^2*(BT33-1))+(BW33^2*(BX33-1)))/(BT33+BX33-2))),((BR33-$G33)-(BV33-$K33))/SQRT(((BS33^2*(BT33-1))+(BW33^2*(BX33-1)))/(BT33+BX33-2)))","v":{"$error":"#DIV/0!"}},{"$f":"IF(BR33=\"\",\"\",BY33)","v":""},""]
[null,null,"Outcome 29",null,null,null,null,null,null,null,null,null,null,null,null,null,null,null,null,null,null,{"$f":"IF(Sheet2!$A$64=TRUE,-1*(((O34-$G34)-(S34-$K34))/SQRT(((P34^2*(Q34-1))+(T34^2*(U34-1)))/(Q34+U34-2))),((O34-$G34)-(S34-$K34))/SQRT(((P34^2*(Q34-1))+(T34^2*(U34-1)))/(Q34+U34-2)))","v":{"$error":"#DIV/0!"}},{"$f":"IF(O34=\"\",\"\",V34)","v":""},{"$f":"IF(Q34=\"\",\"\",SQRT((Q34+U34)/(Q34*U34)+(W34^2/(2*(Q34+U34)))))","v":""},null,null,null,null,null,null,null,null,{"$f":"IF(Sheet2!$A$64=TRUE,-1*(((Z34-$G34)-(AD34-$K34))/SQRT(((AA34^2*(AB34-1))+(AE34^2*(AF34-1)))/(AB34+AF34-2))),((Z34-$G34)-(AD34-$K34))/SQRT(((AA34^2*(AB34-1))+(AE34^2*(AF34-1)))/(AB34+AF34-2)))","v":{"$error":"#DIV/0!"}},{"$f":"IF(Z34=\"\",\"\",AG34)","v":""},{"$f":"IF(AB34=\"\",\"\",SQRT((AB34+AF34)/(AB34*AF34)+(AH34^2/(2*(AB34+AF34)))))","v":""},null,null,null,null,null,null,null,null,{"$f":"IF(Sheet2!$A$64=TRUE,-1*(((AK34-$G34)-(AO34-$K34))/SQRT(((AL34^2*(AM34-1))+(AP34^2*(AQ34-1)))/(AM34+AQ34-2))),((AK34-$G34)-(AO34-$K34))/SQRT(((AL34^2*(AM34-1))+(AP34^2*(AQ34-1)))/(AM34+AQ34-2)))","v":{"$error":"#DIV/0!"}},{"$f":"IF(AK34=\"\",\"\",AR34)","v":""},{"$f":"IF(AM34=\"\",\"\",SQRT((AM34+AQ34)/(AM34*AQ34)+(AS34^2/(2*(AM34+AQ34)))))","v":""},null,null,null,null,null,null,null,null,{"$f":"IF(Sheet2!$A$64=TRUE,-1*(((AV34-$G34)-(AZ34-$K34))/SQRT(((AW34^2*(AX34-1))+(BA34^2*(BB34-1)))/(AX34+BB34-2))),((AV34-$G34)-(AZ34-$K34))/SQRT(((AW34^2*(AX34-1))+(BA34^2*(BB34-1)))/(AX34+BB34-2)))","v":{"$error":"#DIV/0!"}},{"$f":"IF(AV34=\"\",\"\",BC34)","v":""},{"$f":"IF(AX34=\"\",\"\",SQRT((AX34+BB34)/(AX34*BB34)+(BD34^2/(2*(AX34+BB34)))))","v":""},null,null,null,null,null,null,null,null,{"$f":"IF(Sheet2!$A$64=TRUE,-1*(((BG34-$G34)-(BK34-$K34))/SQRT(((BH34^2*(BI34-1))+(BL34^2*(BM34-1)))/(BI34+BM34-2))),((BG34-$G34)-(BK34-$K34))/SQRT(((BH34^2*(BI34-1))+(BL34^2*(BM34-1)))/(BI34+BM34-2)))","v":{"$error":"#DIV/0!"}},{"$f":"IF(BG34=\"\",\"\",BN34)","v":""},{"$f":"IF(BI34=\"\",\"\",SQRT((BI34+BM34)/(BI34*BM34)+(BO34^2/(2*(BI34+BM34)))))","v":""},null,null,null,null,null,null,null,null,{"$f":"IF(Sheet2!$A$64=TRUE,-1*(((BR34-$G34)-(BV34-$K34))/SQRT(((BS34^2*(BT34-1))+(BW34^2*(BX34-1)))/(BT34+BX34-2))),((BR34-$G34)-(BV34-$K34))/SQRT(((BS34^2*(BT34-1))+(BW34^2*(BX34-1)))/(BT34+BX34-2)))","v":{"$error":"#DIV/0!"}},{"$f":"IF(BR34=\"\",\"\",BY34)","v":""},{"$f":"IF(BT34=\"\",\"\",SQRT((BT34+BX34)/(BT34*BX34)+(BZ34^2/(2*(BT34+BX34)))))","v":""}]
[null,null,"Outcome 30",null,null,null,null,null,null,null,null,null,null,null,null,null,null,null,null,null,null,{"$f":"IF(Sheet2!$A$65=TRUE,-1*(((O35-$G35)-(S35-$K35))/SQRT(((P35^2*(Q35-1))+(T35^2*(U35-1)))/(Q35+U35-2))),((O35-$G35)-(S35-$K35))/SQRT(((P35^2*(Q35-1))+(T35^2*(U35-1)))/(Q35+U35-2)))","v":{"$error":"#DIV/0!"}},"","",null,null,null,null,null,null,null,null,{"$f":"IF(Sheet2!$A$65=TRUE,-1*(((Z35-$G35)-(AD35-$K35))/SQRT(((AA35^2*(AB35-1))+(AE35^2*(AF35-1)))/(AB35+AF35-2))),((Z35-$G35)-(AD35-$K35))/SQRT(((AA35^2*(AB35-1))+(AE35^2*(AF35-1)))/(AB35+AF35-2)))","v":{"$error":"#DIV/0!"}},"",{"$f":"IF(AB35=\"\",\"\",SQRT((AB35+AF35)/(AB35*AF35)+(AH35^2/(2*(AB35+AF35)))))","v":""},null,null,null,null,null,null,null,null,{"$f":"IF(Sheet2!$A$65=TRUE,-1*(((AK35-$G35)-(AO35-$K35))/SQRT(((AL35^2*(AM35-1))+(AP35^2*(AQ35-1)))/(AM35+AQ35-2))),((AK35-$G35)-(AO35-$K35))/SQRT(((AL35^2*(AM35-1))+(AP35^2*(AQ35-1)))/(AM35+AQ35-2)))","v":{"$error":"#DIV/0!"}},"",{"$f":"IF(AM35=\"\",\"\",SQRT((AM35+AQ35)/(AM35*AQ35)+(AS35^2/(2*(AM35+AQ35)))))","v":""},null,null,null,null,null,null,null,null,{"$f":"IF(Sheet2!$A$65=TRUE,-1*(((AV35-$G35)-(AZ35-$K35))/SQRT(((AW35^2*(AX35-1))+(BA35^2*(BB35-1)))/(AX35+BB35-2))),((AV35-$G35)-(AZ35-$K35))/SQRT(((AW35^2*(AX35-1))+(BA35^2*(BB35-1)))/(AX35+BB35-2)))","v":{"$error":"#DIV/0!"}},"",{"$f":"IF(AX35=\"\",\"\",SQRT((AX35+BB35)/(AX35*BB35)+(BD35^2/(2*(AX35+BB35)))))","v":""},null,null,null,null,null,null,null,null,{"$f":"IF(Sheet2!$A$65=TRUE,-1*(((BG35-$G35)-(BK35-$K35))/SQRT(((BH35^2*(BI35-1))+(BL35^2*(BM35-1)))/(BI35+BM35-2))),((BG35-$G35)-(BK35-$K35))/SQRT(((BH35^2*(BI35-1))+(BL35^2*(BM35-1)))/(BI35+BM35-2)))","v":{"$error":"#DIV/0!"}},"",{"$f":"IF(BI35=\"\",\"\",SQRT((BI35+BM35)/(BI35*BM35)+(BO35^2/(2*(BI35+BM35)))))","v":""},null,null,null,null,null,null,null,null,{"$f":"IF(Sheet2!$A$65=TRUE,-1*(((BR35-$G35)-(BV35-$K35))/SQRT(((BS35^2*(BT35-1))+(BW35^2*(BX35-1)))/(BT35+BX35-2))),((BR35-$G35)-(BV35-$K35))/SQRT(((BS35^2*(BT35-1))+(BW35^2*(BX35-1)))/(BT35+BX35-2)))","v":{"$error":"#DIV/0!"}},"",{"$f":"IF(BT35=\"\",\"\",SQRT((BT35+BX35)/(BT35*BX35)+(BZ35^2/(2*(BT35+BX35)))))","v":""}]
[null,null,"Outcome 31",null,null,null,null,null,null,null,null,null,null,null,null,null,null,null,null,null,null,{"$f":"IF(Sheet2!$A$69=TRUE,-1*(((O36-$G36)-(S36-$K36))/SQRT(((P36^2*(Q36-1))+(T36^2*(U36-1)))/(Q36+U36-2))),((O36-$G36)-(S36-$K36))/SQRT(((P36^2*(Q36-1))+(T36^2*(U36-1)))/(Q36+U36-2)))","v":{"$error":"#DIV/0!"}},{"$f":"IF(O36=\"\",\"\",V36)","v":""},{"$f":"IF(Q36=\"\",\"\",SQRT((Q36+U36)/(Q36*U36)+(W36^2/(2*(Q36+U36)))))","v":""},null,null,null,null,null,null,null,null,{"$f":"IF(Sheet2!$A$69=TRUE,-1*(((Z36-$G36)-(AD36-$K36))/SQRT(((AA36^2*(AB36-1))+(AE36^2*(AF36-1)))/(AB36+AF36-2))),((Z36-$G36)-(AD36-$K36))/SQRT(((AA36^2*(AB36-1))+(AE36^2*(AF36-1)))/(AB36+AF36-2)))","v":{"$error":"#DIV/0!"}},{"$f":"IF(Z36=\"\",\"\",AG36)","v":""},{"$f":"IF(AB36=\"\",\"\",SQRT((AB36+AF36)/(AB36*AF36)+(AH36^2/(2*(AB36+AF36)))))","v":""},null,null,null,null,null,null,null,null,{"$f":"IF(Sheet2!$A$69=TRUE,-1*(((AK36-$G36)-(AO36-$K36))/SQRT(((AL36^2*(AM36-1))+(AP36^2*(AQ36-1)))/(AM36+AQ36-2))),((AK36-$G36)-(AO36-$K36))/SQRT(((AL36^2*(AM36-1))+(AP36^2*(AQ36-1)))/(AM36+AQ36-2)))","v":{"$error":"#DIV/0!"}},{"$f":"IF(AK36=\"\",\"\",AR36)","v":""},{"$f":"IF(AM36=\"\",\"\",SQRT((AM36+AQ36)/(AM36*AQ36)+(AS36^2/(2*(AM36+AQ36)))))","v":""},null,null,null,null,null,null,null,null,{"$f":"IF(Sheet2!$A$69=TRUE,-1*(((AV36-$G36)-(AZ36-$K36))/SQRT(((AW36^2*(AX36-1))+(BA36^2*(BB36-1)))/(AX36+BB36-2))),((AV36-$G36)-(AZ36-$K36))/SQRT(((AW36^2*(AX36-1))+(BA36^2*(BB36-1)))/(AX36+BB36-2)))","v":{"$error":"#DIV/0!"}},{"$f":"IF(AV36=\"\",\"\",BC36)","v":""},{"$f":"IF(AX36=\"\",\"\",SQRT((AX36+BB36)/(AX36*BB36)+(BD36^2/(2*(AX36+BB36)))))","v":""},null,null,null,null,null,null,null,null,{"$f":"IF(Sheet2!$A$69=TRUE,-1*(((BG36-$G36)-(BK36-$K36))/SQRT(((BH36^2*(BI36-1))+(BL36^2*(BM36-1)))/(BI36+BM36-2))),((BG36-$G36)-(BK36-$K36))/SQRT(((BH36^2*(BI36-1))+(BL36^2*(BM36-1)))/(BI36+BM36-2)))","v":{"$error":"#DIV/0!"}},{"$f":"IF(BG36=\"\",\"\",BN36)","v":""},{"$f":"IF(BI36=\"\",\"\",SQRT((BI36+BM36)/(BI36*BM36)+(BO36^2/(2*(BI36+BM36)))))","v":""},null,null,null,null,null,null,null,null,{"$f":"IF(Sheet2!$A$69=TRUE,-1*(((BR36-$G36)-(BV36-$K36))/SQRT(((BS36^2*(BT36-1))+(BW36^2*(BX36-1)))/(BT36+BX36-2))),((BR36-$G36)-(BV36-$K36))/SQRT(((BS36^2*(BT36-1))+(BW36^2*(BX36-1)))/(BT36+BX36-2)))","v":{"$error":"#DIV/0!"}},{"$f":"IF(BR36=\"\",\"\",BY36)","v":""},{"$f":"IF(BT36=\"\",\"\",SQRT((BT36+BX36)/(BT36*BX36)+(BZ36^2/(2*(BT36+BX36)))))","v":""}]
[null,null,"Outcome 32",null,null,null,null,null,null,null,null,null,null,null,null,null,null,null,null,null,null,{"$f":"IF(Sheet2!$A$70=TRUE,-1*(((O37-$G37)-(S37-$K37))/SQRT(((P37^2*(Q37-1))+(T37^2*(U37-1)))/(Q37+U37-2))),((O37-$G37)-(S37-$K37))/SQRT(((P37^2*(Q37-1))+(T37^2*(U37-1)))/(Q37+U37-2)))","v":{"$error":"#DIV/0!"}},{"$f":"IF(O37=\"\",\"\",V37)","v":""},{"$f":"IF(Q37=\"\",\"\",SQRT((Q37+U37)/(Q37*U37)+(W37^2/(2*(Q37+U37)))))","v":""},null,null,null,null,null,null,null,null,{"$f":"IF(Sheet2!$A$70=TRUE,-1*(((Z37-$G37)-(AD37-$K37))/SQRT(((AA37^2*(AB37-1))+(AE37^2*(AF37-1)))/(AB37+AF37-2))),((Z37-$G37)-(AD37-$K37))/SQRT(((AA37^2*(AB37-1))+(AE37^2*(AF37-1)))/(AB37+AF37-2)))","v":{"$error":"#DIV/0!"}},{"$f":"IF(Z37=\"\",\"\",AG37)","v":""},{"$f":"IF(AB37=\"\",\"\",SQRT((AB37+AF37)/(AB37*AF37)+(AH37^2/(2*(AB37+AF37)))))","v":""},null,null,null,null,null,null,null,null,{"$f":"IF(Sheet2!$A$70=TRUE,-1*(((AK37-$G37)-(AO37-$K37))/SQRT(((AL37^2*(AM37-1))+(AP37^2*(AQ37-1)))/(AM37+AQ37-2))),((AK37-$G37)-(AO37-$K37))/SQRT(((AL37^2*(AM37-1))+(AP37^2*(AQ37-1)))/(AM37+AQ37-2)))","v":{"$error":"#DIV/0!"}},{"$f":"IF(AK37=\"\",\"\",AR37)","v":""},{"$f":"IF(AM37=\"\",\"\",SQRT((AM37+AQ37)/(AM37*AQ37)+(AS37^2/(2*(AM37+AQ37)))))","v":""},null,null,null,null,null,null,null,null,{"$f":"IF(Sheet2!$A$70=TRUE,-1*(((AV37-$G37)-(AZ37-$K37))/SQRT(((AW37^2*(AX37-1))+(BA37^2*(BB37-1)))/(AX37+BB37-2))),((AV37-$G37)-(AZ37-$K37))/SQRT(((AW37^2*(AX37-1))+(BA37^2*(BB37-1)))/(AX37+BB37-2)))","v":{"$error":"#DIV/0!"}},{"$f":"IF(AV37=\"\",\"\",BC37)","v":""},{"$f":"IF(AX37=\"\",\"\",SQRT((AX37+BB37)/(AX37*BB37)+(BD37^2/(2*(AX37+BB37)))))","v":""},null,null,null,null,null,null,null,null,{"$f":"IF(Sheet2!$A$70=TRUE,-1*(((BG37-$G37)-(BK37-$K37))/SQRT(((BH37^2*(BI37-1))+(BL37^2*(BM37-1)))/(BI37+BM37-2))),((BG37-$G37)-(BK37-$K37))/SQRT(((BH37^2*(BI37-1))+(BL37^2*(BM37-1)))/(BI37+BM37-2)))","v":{"$error":"#DIV/0!"}},{"$f":"IF(BG37=\"\",\"\",BN37)","v":""},{"$f":"IF(BI37=\"\",\"\",SQRT((BI37+BM37)/(BI37*BM37)+(BO37^2/(2*(BI37+BM37)))))","v":""},null,null,null,null,null,null,null,null,{"$f":"IF(Sheet2!$A$70=TRUE,-1*(((BR37-$G37)-(BV37-$K37))/SQRT(((BS37^2*(BT37-1))+(BW37^2*(BX37-1)))/(BT37+BX37-2))),((BR37-$G37)-(BV37-$K37))/SQRT(((BS37^2*(BT37-1))+(BW37^2*(BX37-1)))/(BT37+BX37-2)))","v":{"$error":"#DIV/0!"}},{"$f":"IF(BR37=\"\",\"\",BY37)","v":""},{"$f":"IF(BT37=\"\",\"\",SQRT((BT37+BX37)/(BT37*BX37)+(BZ37^2/(2*(BT37+BX37)))))","v":""}]
[null,null,"Outcome 33",null,null,null,null,null,null,null,null,null,null,null,null,null,null,null,null,null,null,{"$f":"IF(Sheet2!$A$71=TRUE,-1*(((O38-$G38)-(S38-$K38))/SQRT(((P38^2*(Q38-1))+(T38^2*(U38-1)))/(Q38+U38-2))),((O38-$G38)-(S38-$K38))/SQRT(((P38^2*(Q38-1))+(T38^2*(U38-1)))/(Q38+U38-2)))","v":{"$error":"#DIV/0!"}},{"$f":"IF(O38=\"\",\"\",V38)","v":""},"",null,null,null,null,null,null,null,null,{"$f":"IF(Sheet2!$A$71=TRUE,-1*(((Z38-$G38)-(AD38-$K38))/SQRT(((AA38^2*(AB38-1))+(AE38^2*(AF38-1)))/(AB38+AF38-2))),((Z38-$G38)-(AD38-$K38))/SQRT(((AA38^2*(AB38-1))+(AE38^2*(AF38-1)))/(AB38+AF38-2)))","v":{"$error":"#DIV/0!"}},{"$f":"IF(Z38=\"\",\"\",AG38)","v":""},"",null,null,null,null,null,null,null,null,{"$f":"IF(Sheet2!$A$71=TRUE,-1*(((AK38-$G38)-(AO38-$K38))/SQRT(((AL38^2*(AM38-1))+(AP38^2*(AQ38-1)))/(AM38+AQ38-2))),((AK38-$G38)-(AO38-$K38))/SQRT(((AL38^2*(AM38-1))+(AP38^2*(AQ38-1)))/(AM38+AQ38-2)))","v":{"$error":"#DIV/0!"}},{"$f":"IF(AK38=\"\",\"\",AR38)","v":""},"",null,null,null,null,null,null,null,null,{"$f":"IF(Sheet2!$A$71=TRUE,-1*(((AV38-$G38)-(AZ38-$K38))/SQRT(((AW38^2*(AX38-1))+(BA38^2*(BB38-1)))/(AX38+BB38-2))),((AV38-$G38)-(AZ38-$K38))/SQRT(((AW38^2*(AX38-1))+(BA38^2*(BB38-1)))/(AX38+BB38-2)))","v":{"$error":"#DIV/0!"}},{"$f":"IF(AV38=\"\",\"\",BC38)","v":""},"",null,null,null,null,null,null,null,null,{"$f":"IF(Sheet2!$A$71=TRUE,-1*(((BG38-$G38)-(BK38-$K38))/SQRT(((BH38^2*(BI38-1))+(BL38^2*(BM38-1)))/(BI38+BM38-2))),((BG38-$G38)-(BK38-$K38))/SQRT(((BH38^2*(BI38-1))+(BL38^2*(BM38-1)))/(BI38+BM38-2)))","v":{"$error":"#DIV/0!"}},{"$f":"IF(BG38=\"\",\"\",BN38)","v":""},"",null,null,null,null,null,null,null,null,{"$f":"IF(Sheet2!$A$71=TRUE,-1*(((BR38-$G38)-(BV38-$K38))/SQRT(((BS38^2*(BT38-1))+(BW38^2*(BX38-1)))/(BT38+BX38-2))),((BR38-$G38)-(BV38-$K38))/SQRT(((BS38^2*(BT38-1))+(BW38^2*(BX38-1)))/(BT38+BX38-2)))","v":{"$error":"#DIV/0!"}},{"$f":"IF(BR38=\"\",\"\",BY38)","v":""},""]
[null,null,"Outcome 34",null,null,null,null,null,null,null,null,null,null,null,null,null,null,null,null,null,null,{"$f":"IF(Sheet2!$A$72=TRUE,-1*(((O39-$G39)-(S39-$K39))/SQRT(((P39^2*(Q39-1))+(T39^2*(U39-1)))/(Q39+U39-2))),((O39-$G39)-(S39-$K39))/SQRT(((P39^2*(Q39-1))+(T39^2*(U39-1)))/(Q39+U39-2)))","v":{"$error":"#DIV/0!"}},{"$f":"IF(O39=\"\",\"\",V39)","v":""},{"$f":"IF(Q39=\"\",\"\",SQRT((Q39+U39)/(Q39*U39)+(W39^2/(2*(Q39+U39)))))","v":""},null,null,null,null,null,null,null,null,{"$f":"IF(Sheet2!$A$72=TRUE,-1*(((Z39-$G39)-(AD39-$K39))/SQRT(((AA39^2*(AB39-1))+(AE39^2*(AF39-1)))/(AB39+AF39-2))),((Z39-$G39)-(AD39-$K39))/SQRT(((AA39^2*(AB39-1))+(AE39^2*(AF39-1)))/(AB39+AF39-2)))","v":{"$error":"#DIV/0!"}},{"$f":"IF(Z39=\"\",\"\",AG39)","v":""},{"$f":"IF(AB39=\"\",\"\",SQRT((AB39+AF39)/(AB39*AF39)+(AH39^2/(2*(AB39+AF39)))))","v":""},null,null,null,null,null,null,null,null,{"$f":"IF(Sheet2!$A$72=TRUE,-1*(((AK39-$G39)-(AO39-$K39))/SQRT(((AL39^2*(AM39-1))+(AP39^2*(AQ39-1)))/(AM39+AQ39-2))),((AK39-$G39)-(AO39-$K39))/SQRT(((AL39^2*(AM39-1))+(AP39^2*(AQ39-1)))/(AM39+AQ39-2)))","v":{"$error":"#DIV/0!"}},{"$f":"IF(AK39=\"\",\"\",AR39)","v":""},{"$f":"IF(AM39=\"\",\"\",SQRT((AM39+AQ39)/(AM39*AQ39)+(AS39^2/(2*(AM39+AQ39)))))","v":""},null,null,null,null,null,null,null,null,{"$f":"IF(Sheet2!$A$72=TRUE,-1*(((AV39-$G39)-(AZ39-$K39))/SQRT(((AW39^2*(AX39-1))+(BA39^2*(BB39-1)))/(AX39+BB39-2))),((AV39-$G39)-(AZ39-$K39))/SQRT(((AW39^2*(AX39-1))+(BA39^2*(BB39-1)))/(AX39+BB39-2)))","v":{"$error":"#DIV/0!"}},{"$f":"IF(AV39=\"\",\"\",BC39)","v":""},{"$f":"IF(AX39=\"\",\"\",SQRT((AX39+BB39)/(AX39*BB39)+(BD39^2/(2*(AX39+BB39)))))","v":""},null,null,null,null,null,null,null,null,{"$f":"IF(Sheet2!$A$72=TRUE,-1*(((BG39-$G39)-(BK39-$K39))/SQRT(((BH39^2*(BI39-1))+(BL39^2*(BM39-1)))/(BI39+BM39-2))),((BG39-$G39)-(BK39-$K39))/SQRT(((BH39^2*(BI39-1))+(BL39^2*(BM39-1)))/(BI39+BM39-2)))","v":{"$error":"#DIV/0!"}},{"$f":"IF(BG39=\"\",\"\",BN39)","v":""},{"$f":"IF(BI39=\"\",\"\",SQRT((BI39+BM39)/(BI39*BM39)+(BO39^2/(2*(BI39+BM39)))))","v":""},null,null,null,null,null,null,null,null,{"$f":"IF(Sheet2!$A$72=TRUE,-1*(((BR39-$G39)-(BV39-$K39))/SQRT(((BS39^2*(BT39-1))+(BW39^2*(BX39-1)))/(BT39+BX39-2))),((BR39-$G39)-(BV39-$K39))/SQRT(((BS39^2*(BT39-1))+(BW39^2*(BX39-1)))/(BT39+BX39-2)))","v":{"$error":"#DIV/0!"}},{"$f":"IF(BR39=\"\",\"\",BY39)","v":""},{"$f":"IF(BT39=\"\",\"\",SQRT((BT39+BX39)/(BT39*BX39)+(BZ39^2/(2*(BT39+BX39)))))","v":""}]
[null,null,"Outcome 35",null,null,null,null,null,null,null,null,null,null,null,null,null,null,null,null,null,null,{"$f":"IF(Sheet2!$A$73=TRUE,-1*(((O40-$G40)-(S40-$K40))/SQRT(((P40^2*(Q40-1))+(T40^2*(U40-1)))/(Q40+U40-2))),((O40-$G40)-(S40-$K40))/SQRT(((P40^2*(Q40-1))+(T40^2*(U40-1)))/(Q40+U40-2)))","v":{"$error":"#DIV/0!"}},"","",null,null,null,null,null,null,null,null,{"$f":"IF(Sheet2!$A$73=TRUE,-1*(((Z40-$G40)-(AD40-$K40))/SQRT(((AA40^2*(AB40-1))+(AE40^2*(AF40-1)))/(AB40+AF40-2))),((Z40-$G40)-(AD40-$K40))/SQRT(((AA40^2*(AB40-1))+(AE40^2*(AF40-1)))/(AB40+AF40-2)))","v":{"$error":"#DIV/0!"}},"",{"$f":"IF(AB40=\"\",\"\",SQRT((AB40+AF40)/(AB40*AF40)+(AH40^2/(2*(AB40+AF40)))))","v":""},null,null,null,null,null,null,null,null,{"$f":"IF(Sheet2!$A$73=TRUE,-1*(((AK40-$G40)-(AO40-$K40))/SQRT(((AL40^2*(AM40-1))+(AP40^2*(AQ40-1)))/(AM40+AQ40-2))),((AK40-$G40)-(AO40-$K40))/SQRT(((AL40^2*(AM40-1))+(AP40^2*(AQ40-1)))/(AM40+AQ40-2)))","v":{"$error":"#DIV/0!"}},"",{"$f":"IF(AM40=\"\",\"\",SQRT((AM40+AQ40)/(AM40*AQ40)+(AS40^2/(2*(AM40+AQ40)))))","v":""},null,null,null,null,null,null,null,null,{"$f":"IF(Sheet2!$A$73=TRUE,-1*(((AV40-$G40)-(AZ40-$K40))/SQRT(((AW40^2*(AX40-1))+(BA40^2*(BB40-1)))/(AX40+BB40-2))),((AV40-$G40)-(AZ40-$K40))/SQRT(((AW40^2*(AX40-1))+(BA40^2*(BB40-1)))/(AX40+BB40-2)))","v":{"$error":"#DIV/0!"}},"",{"$f":"IF(AX40=\"\",\"\",SQRT((AX40+BB40)/(AX40*BB40)+(BD40^2/(2*(AX40+BB40)))))","v":""},null,null,null,null,null,null,null,null,{"$f":"IF(Sheet2!$A$73=TRUE,-1*(((BG40-$G40)-(BK40-$K40))/SQRT(((BH40^2*(BI40-1))+(BL40^2*(BM40-1)))/(BI40+BM40-2))),((BG40-$G40)-(BK40-$K40))/SQRT(((BH40^2*(BI40-1))+(BL40^2*(BM40-1)))/(BI40+BM40-2)))","v":{"$error":"#DIV/0!"}},"",{"$f":"IF(BI40=\"\",\"\",SQRT((BI40+BM40)/(BI40*BM40)+(BO40^2/(2*(BI40+BM40)))))","v":""},null,null,null,null,null,null,null,null,{"$f":"IF(Sheet2!$A$73=TRUE,-1*(((BR40-$G40)-(BV40-$K40))/SQRT(((BS40^2*(BT40-1))+(BW40^2*(BX40-1)))/(BT40+BX40-2))),((BR40-$G40)-(BV40-$K40))/SQRT(((BS40^2*(BT40-1))+(BW40^2*(BX40-1)))/(BT40+BX40-2)))","v":{"$error":"#DIV/0!"}},"",{"$f":"IF(BT40=\"\",\"\",SQRT((BT40+BX40)/(BT40*BX40)+(BZ40^2/(2*(BT40+BX40)))))","v":""}]
[null,null,"Outcome 36",null,null,null,null,null,null,null,null,null,null,null,null,null,null,null,null,null,null,{"$f":"IF(Sheet2!$A$77=TRUE,-1*(((O41-$G41)-(S41-$K41))/SQRT(((P41^2*(Q41-1))+(T41^2*(U41-1)))/(Q41+U41-2))),((O41-$G41)-(S41-$K41))/SQRT(((P41^2*(Q41-1))+(T41^2*(U41-1)))/(Q41+U41-2)))","v":{"$error":"#DIV/0!"}},{"$f":"IF(O41=\"\",\"\",V41)","v":""},{"$f":"IF(Q41=\"\",\"\",SQRT((Q41+U41)/(Q41*U41)+(W41^2/(2*(Q41+U41)))))","v":""},null,null,null,null,null,null,null,null,{"$f":"IF(Sheet2!$A$77=TRUE,-1*(((Z41-$G41)-(AD41-$K41))/SQRT(((AA41^2*(AB41-1))+(AE41^2*(AF41-1)))/(AB41+AF41-2))),((Z41-$G41)-(AD41-$K41))/SQRT(((AA41^2*(AB41-1))+(AE41^2*(AF41-1)))/(AB41+AF41-2)))","v":{"$error":"#DIV/0!"}},{"$f":"IF(Z41=\"\",\"\",AG41)","v":""},{"$f":"IF(AB41=\"\",\"\",SQRT((AB41+AF41)/(AB41*AF41)+(AH41^2/(2*(AB41+AF41)))))","v":""},null,null,null,null,null,null,null,null,{"$f":"IF(Sheet2!$A$77=TRUE,-1*(((AK41-$G41)-(AO41-$K41))/SQRT(((AL41^2*(AM41-1))+(AP41^2*(AQ41-1)))/(AM41+AQ41-2))),((AK41-$G41)-(AO41-$K41))/SQRT(((AL41^2*(AM41-1))+(AP41^2*(AQ41-1)))/(AM41+AQ41-2)))","v":{"$error":"#DIV/0!"}},{"$f":"IF(AK41=\"\",\"\",AR41)","v":""},{"$f":"IF(AM41=\"\",\"\",SQRT((AM41+AQ41)/(AM41*AQ41)+(AS41^2/(2*(AM41+AQ41)))))","v":""},null,null,null,null,null,null,null,null,{"$f":"IF(Sheet2!$A$77=TRUE,-1*(((AV41-$G41)-(AZ41-$K41))/SQRT(((AW41^2*(AX41-1))+(BA41^2*(BB41-1)))/(AX41+BB41-2))),((AV41-$G41)-(AZ41-$K41))/SQRT(((AW41^2*(AX41-1))+(BA41^2*(BB41-1)))/(AX41+BB41-2)))","v":{"$error":"#DIV/0!"}},{"$f":"IF(AV41=\"\",\"\",BC41)","v":""},{"$f":"IF(AX41=\"\",\"\",SQRT((AX41+BB41)/(AX41*BB41)+(BD41^2/(2*(AX41+BB41)))))","v":""},null,null,null,null,null,null,null,null,{"$f":"IF(Sheet2!$A$77=TRUE,-1*(((BG41-$G41)-(BK41-$K41))/SQRT(((BH41^2*(BI41-1))+(BL41^2*(BM41-1)))/(BI41+BM41-2))),((BG41-$G41)-(BK41-$K41))/SQRT(((BH41^2*(BI41-1))+(BL41^2*(BM41-1)))/(BI41+BM41-2)))","v":{"$error":"#DIV/0!"}},{"$f":"IF(BG41=\"\",\"\",BN41)","v":""},{"$f":"IF(BI41=\"\",\"\",SQRT((BI41+BM41)/(BI41*BM41)+(BO41^2/(2*(BI41+BM41)))))","v":""},null,null,null,null,null,null,null,null,{"$f":"IF(Sheet2!$A$77=TRUE,-1*(((BR41-$G41)-(BV41-$K41))/SQRT(((BS41^2*(BT41-1))+(BW41^2*(BX41-1)))/(BT41+BX41-2))),((BR41-$G41)-(BV41-$K41))/SQRT(((BS41^2*(BT41-1))+(BW41^2*(BX41-1)))/(BT41+BX41-2)))","v":{"$error":"#DIV/0!"}},{"$f":"IF(BR41=\"\",\"\",BY41)","v":""},{"$f":"IF(BT41=\"\",\"\",SQRT((BT41+BX41)/(BT41*BX41)+(BZ41^2/(2*(BT41+BX41)))))","v":""}]
[null,null,"Outcome 37",null,null,null,null,null,null,null,null,null,null,null,null,null,null,null,null,null,null,{"$f":"IF(Sheet2!$A$78=TRUE,-1*(((O42-$G42)-(S42-$K42))/SQRT(((P42^2*(Q42-1))+(T42^2*(U42-1)))/(Q42+U42-2))),((O42-$G42)-(S42-$K42))/SQRT(((P42^2*(Q42-1))+(T42^2*(U42-1)))/(Q42+U42-2)))","v":{"$error":"#DIV/0!"}},{"$f":"IF(O42=\"\",\"\",V42)","v":""},{"$f":"IF(Q42=\"\",\"\",SQRT((Q42+U42)/(Q42*U42)+(W42^2/(2*(Q42+U42)))))","v":""},null,null,null,null,null,null,null,null,{"$f":"IF(Sheet2!$A$78=TRUE,-1*(((Z42-$G42)-(AD42-$K42))/SQRT(((AA42^2*(AB42-1))+(AE42^2*(AF42-1)))/(AB42+AF42-2))),((Z42-$G42)-(AD42-$K42))/SQRT(((AA42^2*(AB42-1))+(AE42^2*(AF42-1)))/(AB42+AF42-2)))","v":{"$error":"#DIV/0!"}},{"$f":"IF(Z42=\"\",\"\",AG42)","v":""},{"$f":"IF(AB42=\"\",\"\",SQRT((AB42+AF42)/(AB42*AF42)+(AH42^2/(2*(AB42+AF42)))))","v":""},null,null,null,null,null,null,null,null,{"$f":"IF(Sheet2!$A$78=TRUE,-1*(((AK42-$G42)-(AO42-$K42))/SQRT(((AL42^2*(AM42-1))+(AP42^2*(AQ42-1)))/(AM42+AQ42-2))),((AK42-$G42)-(AO42-$K42))/SQRT(((AL42^2*(AM42-1))+(AP42^2*(AQ42-1)))/(AM42+AQ42-2)))","v":{"$error":"#DIV/0!"}},{"$f":"IF(AK42=\"\",\"\",AR42)","v":""},{"$f":"IF(AM42=\"\",\"\",SQRT((AM42+AQ42)/(AM42*AQ42)+(AS42^2/(2*(AM42+AQ42)))))","v":""},null,null,null,null,null,null,null,null,{"$f":"IF(Sheet2!$A$78=TRUE,-1*(((AV42-$G42)-(AZ42-$K42))/SQRT(((AW42^2*(AX42-1))+(BA42^2*(BB42-1)))/(AX42+BB42-2))),((AV42-$G42)-(AZ42-$K42))/SQRT(((AW42^2*(AX42-1))+(BA42^2*(BB42-1)))/(AX42+BB42-2)))","v":{"$error":"#DIV/0!"}},{"$f":"IF(AV42=\"\",\"\",BC42)","v":""},{"$f":"IF(AX42=\"\",\"\",SQRT((AX42+BB42)/(AX42*BB42)+(BD42^2/(2*(AX42+BB42)))))","v":""},null,null,null,null,null,null,null,null,{"$f":"IF(Sheet2!$A$78=TRUE,-1*(((BG42-$G42)-(BK42-$K42))/SQRT(((BH42^2*(BI42-1))+(BL42^2*(BM42-1)))/(BI42+BM42-2))),((BG42-$G42)-(BK42-$K42))/SQRT(((BH42^2*(BI42-1))+(BL42^2*(BM42-1)))/(BI42+BM42-2)))","v":{"$error":"#DIV/0!"}},{"$f":"IF(BG42=\"\",\"\",BN42)","v":""},{"$f":"IF(BI42=\"\",\"\",SQRT((BI42+BM42)/(BI42*BM42)+(BO42^2/(2*(BI42+BM42)))))","v":""},null,null,null,null,null,null,null,null,{"$f":"IF(Sheet2!$A$78=TRUE,-1*(((BR42-$G42)-(BV42-$K42))/SQRT(((BS42^2*(BT42-1))+(BW42^2*(BX42-1)))/(BT42+BX42-2))),((BR42-$G42)-(BV42-$K42))/SQRT(((BS42^2*(BT42-1))+(BW42^2*(BX42-1)))/(BT42+BX42-2)))","v":{"$error":"#DIV/0!"}},{"$f":"IF(BR42=\"\",\"\",BY42)","v":""},{"$f":"IF(BT42=\"\",\"\",SQRT((BT42+BX42)/(BT42*BX42)+(BZ42^2/(2*(BT42+BX42)))))","v":""}]
[null,null,"Outcome 38",null,null,null,null,null,null,null,null,null,null,null,null,null,null,null,null,null,null,{"$f":"IF(Sheet2!$A$79=TRUE,-1*(((O43-$G43)-(S43-$K43))/SQRT(((P43^2*(Q43-1))+(T43^2*(U43-1)))/(Q43+U43-2))),((O43-$G43)-(S43-$K43))/SQRT(((P43^2*(Q43-1))+(T43^2*(U43-1)))/(Q43+U43-2)))","v":{"$error":"#DIV/0!"}},{"$f":"IF(O43=\"\",\"\",V43)","v":""},"",null,null,null,null,null,null,null,null,{"$f":"IF(Sheet2!$A$79=TRUE,-1*(((Z43-$G43)-(AD43-$K43))/SQRT(((AA43^2*(AB43-1))+(AE43^2*(AF43-1)))/(AB43+AF43-2))),((Z43-$G43)-(AD43-$K43))/SQRT(((AA43^2*(AB43-1))+(AE43^2*(AF43-1)))/(AB43+AF43-2)))","v":{"$error":"#DIV/0!"}},{"$f":"IF(Z43=\"\",\"\",AG43)","v":""},"",null,null,null,null,null,null,null,null,{"$f":"IF(Sheet2!$A$79=TRUE,-1*(((AK43-$G43)-(AO43-$K43))/SQRT(((AL43^2*(AM43-1))+(AP43^2*(AQ43-1)))/(AM43+AQ43-2))),((AK43-$G43)-(AO43-$K43))/SQRT(((AL43^2*(AM43-1))+(AP43^2*(AQ43-1)))/(AM43+AQ43-2)))","v":{"$error":"#DIV/0!"}},{"$f":"IF(AK43=\"\",\"\",AR43)","v":""},"",null,null,null,null,null,null,null,null,{"$f":"IF(Sheet2!$A$79=TRUE,-1*(((AV43-$G43)-(AZ43-$K43))/SQRT(((AW43^2*(AX43-1))+(BA43^2*(BB43-1)))/(AX43+BB43-2))),((AV43-$G43)-(AZ43-$K43))/SQRT(((AW43^2*(AX43-1))+(BA43^2*(BB43-1)))/(AX43+BB43-2)))","v":{"$error":"#DIV/0!"}},{"$f":"IF(AV43=\"\",\"\",BC43)","v":""},"",null,null,null,null,null,null,null,null,{"$f":"IF(Sheet2!$A$79=TRUE,-1*(((BG43-$G43)-(BK43-$K43))/SQRT(((BH43^2*(BI43-1))+(BL43^2*(BM43-1)))/(BI43+BM43-2))),((BG43-$G43)-(BK43-$K43))/SQRT(((BH43^2*(BI43-1))+(BL43^2*(BM43-1)))/(BI43+BM43-2)))","v":{"$error":"#DIV/0!"}},{"$f":"IF(BG43=\"\",\"\",BN43)","v":""},"",null,null,null,null,null,null,null,null,{"$f":"IF(Sheet2!$A$79=TRUE,-1*(((BR43-$G43)-(BV43-$K43))/SQRT(((BS43^2*(BT43-1))+(BW43^2*(BX43-1)))/(BT43+BX43-2))),((BR43-$G43)-(BV43-$K43))/SQRT(((BS43^2*(BT43-1))+(BW43^2*(BX43-1)))/(BT43+BX43-2)))","v":{"$error":"#DIV/0!"}},{"$f":"IF(BR43=\"\",\"\",BY43)","v":""},""]
[null,null,"Outcome 39",null,null,null,null,null,null,null,null,null,null,null,null,null,null,null,null,null,null,{"$f":"IF(Sheet2!$A$80=TRUE,-1*(((O44-$G44)-(S44-$K44))/SQRT(((P44^2*(Q44-1))+(T44^2*(U44-1)))/(Q44+U44-2))),((O44-$G44)-(S44-$K44))/SQRT(((P44^2*(Q44-1))+(T44^2*(U44-1)))/(Q44+U44-2)))","v":{"$error":"#DIV/0!"}},{"$f":"IF(O44=\"\",\"\",V44)","v":""},{"$f":"IF(Q44=\"\",\"\",SQRT((Q44+U44)/(Q44*U44)+(W44^2/(2*(Q44+U44)))))","v":""},null,null,null,null,null,null,null,null,{"$f":"IF(Sheet2!$A$80=TRUE,-1*(((Z44-$G44)-(AD44-$K44))/SQRT(((AA44^2*(AB44-1))+(AE44^2*(AF44-1)))/(AB44+AF44-2))),((Z44-$G44)-(AD44-$K44))/SQRT(((AA44^2*(AB44-1))+(AE44^2*(AF44-1)))/(AB44+AF44-2)))","v":{"$error":"#DIV/0!"}},{"$f":"IF(Z44=\"\",\"\",AG44)","v":""},{"$f":"IF(AB44=\"\",\"\",SQRT((AB44+AF44)/(AB44*AF44)+(AH44^2/(2*(AB44+AF44)))))","v":""},null,null,null,null,null,null,null,null,{"$f":"IF(Sheet2!$A$80=TRUE,-1*(((AK44-$G44)-(AO44-$K44))/SQRT(((AL44^2*(AM44-1))+(AP44^2*(AQ44-1)))/(AM44+AQ44-2))),((AK44-$G44)-(AO44-$K44))/SQRT(((AL44^2*(AM44-1))+(AP44^2*(AQ44-1)))/(AM44+AQ44-2)))","v":{"$error":"#DIV/0!"}},{"$f":"IF(AK44=\"\",\"\",AR44)","v":""},{"$f":"IF(AM44=\"\",\"\",SQRT((AM44+AQ44)/(AM44*AQ44)+(AS44^2/(2*(AM44+AQ44)))))","v":""},null,null,null,null,null,null,null,null,{"$f":"IF(Sheet2!$A$80=TRUE,-1*(((AV44-$G44)-(AZ44-$K44))/SQRT(((AW44^2*(AX44-1))+(BA44^2*(BB44-1)))/(AX44+BB44-2))),((AV44-$G44)-(AZ44-$K44))/SQRT(((AW44^2*(AX44-1))+(BA44^2*(BB44-1)))/(AX44+BB44-2)))","v":{"$error":"#DIV/0!"}},{"$f":"IF(AV44=\"\",\"\",BC44)","v":""},{"$f":"IF(AX44=\"\",\"\",SQRT((AX44+BB44)/(AX44*BB44)+(BD44^2/(2*(AX44+BB44)))))","v":""},null,null,null,null,null,null,null,null,{"$f":"IF(Sheet2!$A$80=TRUE,-1*(((BG44-$G44)-(BK44-$K44))/SQRT(((BH44^2*(BI44-1))+(BL44^2*(BM44-1)))/(BI44+BM44-2))),((BG44-$G44)-(BK44-$K44))/SQRT(((BH44^2*(BI44-1))+(BL44^2*(BM44-1)))/(BI44+BM44-2)))","v":{"$error":"#DIV/0!"}},{"$f":"IF(BG44=\"\",\"\",BN44)","v":""},{"$f":"IF(BI44=\"\",\"\",SQRT((BI44+BM44)/(BI44*BM44)+(BO44^2/(2*(BI44+BM44)))))","v":""},null,null,null,null,null,null,null,null,{"$f":"IF(Sheet2!$A$80=TRUE,-1*(((BR44-$G44)-(BV44-$K44))/SQRT(((BS44^2*(BT44-1))+(BW44^2*(BX44-1)))/(BT44+BX44-2))),((BR44-$G44)-(BV44-$K44))/SQRT(((BS44^2*(BT44-1))+(BW44^2*(BX44-1)))/(BT44+BX44-2)))","v":{"$error":"#DIV/0!"}},{"$f":"IF(BR44=\"\",\"\",BY44)","v":""},{"$f":"IF(BT44=\"\",\"\",SQRT((BT44+BX44)/(BT44*BX44)+(BZ44^2/(2*(BT44+BX44)))))","v":""}]
[null,null,"Outcome 40",null,null,null,null,null,null,null,null,null,null,null,null,null,null,null,null,null,null,{"$f":"IF(Sheet2!A81=TRUE,-1*(((O45-$G45)-(S45-$K45))/SQRT(((P45^2*(Q45-1))+(T45^2*(U45-1)))/(Q45+U45-2))),((O45-$G45)-(S45-$K45))/SQRT(((P45^2*(Q45-1))+(T45^2*(U45-1)))/(Q45+U45-2)))","v":{"$error":"#DIV/0!"}},"","",null,null,null,null,null,null,null,null,{"$f":"IF(Sheet2!L81=TRUE,-1*(((Z45-$G45)-(AD45-$K45))/SQRT(((AA45^2*(AB45-1))+(AE45^2*(AF45-1)))/(AB45+AF45-2))),((Z45-$G45)-(AD45-$K45))/SQRT(((AA45^2*(AB45-1))+(AE45^2*(AF45-1)))/(AB45+AF45-2)))","v":{"$error":"#DIV/0!"}},"",{"$f":"IF(AB45=\"\",\"\",SQRT((AB45+AF45)/(AB45*AF45)+(AH45^2/(2*(AB45+AF45)))))","v":""},null,null,null,null,null,null,null,null,{"$f":"IF(Sheet2!W81=TRUE,-1*(((AK45-$G45)-(AO45-$K45))/SQRT(((AL45^2*(AM45-1))+(AP45^2*(AQ45-1)))/(AM45+AQ45-2))),((AK45-$G45)-(AO45-$K45))/SQRT(((AL45^2*(AM45-1))+(AP45^2*(AQ45-1)))/(AM45+AQ45-2)))","v":{"$error":"#DIV/0!"}},"",{"$f":"IF(AM45=\"\",\"\",SQRT((AM45+AQ45)/(AM45*AQ45)+(AS45^2/(2*(AM45+AQ45)))))","v":""},null,null,null,null,null,null,null,null,{"$f":"IF(Sheet2!AH81=TRUE,-1*(((AV45-$G45)-(AZ45-$K45))/SQRT(((AW45^2*(AX45-1))+(BA45^2*(BB45-1)))/(AX45+BB45-2))),((AV45-$G45)-(AZ45-$K45))/SQRT(((AW45^2*(AX45-1))+(BA45^2*(BB45-1)))/(AX45+BB45-2)))","v":{"$error":"#DIV/0!"}},"",{"$f":"IF(AX45=\"\",\"\",SQRT((AX45+BB45)/(AX45*BB45)+(BD45^2/(2*(AX45+BB45)))))","v":""},null,null,null,null,null,null,null,null,{"$f":"IF(Sheet2!AS81=TRUE,-1*(((BG45-$G45)-(BK45-$K45))/SQRT(((BH45^2*(BI45-1))+(BL45^2*(BM45-1)))/(BI45+BM45-2))),((BG45-$G45)-(BK45-$K45))/SQRT(((BH45^2*(BI45-1))+(BL45^2*(BM45-1)))/(BI45+BM45-2)))","v":{"$error":"#DIV/0!"}},"",{"$f":"IF(BI45=\"\",\"\",SQRT((BI45+BM45)/(BI45*BM45)+(BO45^2/(2*(BI45+BM45)))))","v":""},null,null,null,null,null,null,null,null,{"$f":"IF(Sheet2!BD81=TRUE,-1*(((BR45-$G45)-(BV45-$K45))/SQRT(((BS45^2*(BT45-1))+(BW45^2*(BX45-1)))/(BT45+BX45-2))),((BR45-$G45)-(BV45-$K45))/SQRT(((BS45^2*(BT45-1))+(BW45^2*(BX45-1)))/(BT45+BX45-2)))","v":{"$error":"#DIV/0!"}},"",{"$f":"IF(BT45=\"\",\"\",SQRT((BT45+BX45)/(BT45*BX45)+(BZ45^2/(2*(BT45+BX45)))))","v":""}]
[null,null,"Outcome 41",null,null,null,null,null,null,null,null,null,null,null,null,null,null,null,null,null,null,{"$f":"IF(Sheet2!$A$85=TRUE,-1*(((O46-$G46)-(S46-$K46))/SQRT(((P46^2*(Q46-1))+(T46^2*(U46-1)))/(Q46+U46-2))),((O46-$G46)-(S46-$K46))/SQRT(((P46^2*(Q46-1))+(T46^2*(U46-1)))/(Q46+U46-2)))","v":{"$error":"#DIV/0!"}},{"$f":"IF(O46=\"\",\"\",V46)","v":""},{"$f":"IF(Q46=\"\",\"\",SQRT((Q46+U46)/(Q46*U46)+(W46^2/(2*(Q46+U46)))))","v":""},null,null,null,null,null,null,null,null,{"$f":"IF(Sheet2!$A$85=TRUE,-1*(((Z46-$G46)-(AD46-$K46))/SQRT(((AA46^2*(AB46-1))+(AE46^2*(AF46-1)))/(AB46+AF46-2))),((Z46-$G46)-(AD46-$K46))/SQRT(((AA46^2*(AB46-1))+(AE46^2*(AF46-1)))/(AB46+AF46-2)))","v":{"$error":"#DIV/0!"}},{"$f":"IF(Z46=\"\",\"\",AG46)","v":""},{"$f":"IF(AB46=\"\",\"\",SQRT((AB46+AF46)/(AB46*AF46)+(AH46^2/(2*(AB46+AF46)))))","v":""},null,null,null,null,null,null,null,null,{"$f":"IF(Sheet2!$A$85=TRUE,-1*(((AK46-$G46)-(AO46-$K46))/SQRT(((AL46^2*(AM46-1))+(AP46^2*(AQ46-1)))/(AM46+AQ46-2))),((AK46-$G46)-(AO46-$K46))/SQRT(((AL46^2*(AM46-1))+(AP46^2*(AQ46-1)))/(AM46+AQ46-2)))","v":{"$error":"#DIV/0!"}},{"$f":"IF(AK46=\"\",\"\",AR46)","v":""},{"$f":"IF(AM46=\"\",\"\",SQRT((AM46+AQ46)/(AM46*AQ46)+(AS46^2/(2*(AM46+AQ46)))))","v":""},null,null,null,null,null,null,null,null,{"$f":"IF(Sheet2!$A$85=TRUE,-1*(((AV46-$G46)-(AZ46-$K46))/SQRT(((AW46^2*(AX46-1))+(BA46^2*(BB46-1)))/(AX46+BB46-2))),((AV46-$G46)-(AZ46-$K46))/SQRT(((AW46^2*(AX46-1))+(BA46^2*(BB46-1)))/(AX46+BB46-2)))","v":{"$error":"#DIV/0!"}},{"$f":"IF(AV46=\"\",\"\",BC46)","v":""},{"$f":"IF(AX46=\"\",\"\",SQRT((AX46+BB46)/(AX46*BB46)+(BD46^2/(2*(AX46+BB46)))))","v":""},null,null,null,null,null,null,null,null,{"$f":"IF(Sheet2!$A$85=TRUE,-1*(((BG46-$G46)-(BK46-$K46))/SQRT(((BH46^2*(BI46-1))+(BL46^2*(BM46-1)))/(BI46+BM46-2))),((BG46-$G46)-(BK46-$K46))/SQRT(((BH46^2*(BI46-1))+(BL46^2*(BM46-1)))/(BI46+BM46-2)))","v":{"$error":"#DIV/0!"}},{"$f":"IF(BG46=\"\",\"\",BN46)","v":""},{"$f":"IF(BI46=\"\",\"\",SQRT((BI46+BM46)/(BI46*BM46)+(BO46^2/(2*(BI46+BM46)))))","v":""},null,null,null,null,null,null,null,null,{"$f":"IF(Sheet2!$A$85=TRUE,-1*(((BR46-$G46)-(BV46-$K46))/SQRT(((BS46^2*(BT46-1))+(BW46^2*(BX46-1)))/(BT46+BX46-2))),((BR46-$G46)-(BV46-$K46))/SQRT(((BS46^2*(BT46-1))+(BW46^2*(BX46-1)))/(BT46+BX46-2)))","v":{"$error":"#DIV/0!"}},{"$f":"IF(BR46=\"\",\"\",BY46)","v":""},{"$f":"IF(BT46=\"\",\"\",SQRT((BT46+BX46)/(BT46*BX46)+(BZ46^2/(2*(BT46+BX46)))))","v":""}]
[null,null,"Outcome 42",null,null,null,null,null,null,null,null,null,null,null,null,null,null,null,null,null,null,{"$f":"IF(Sheet2!$A$86=TRUE,-1*(((O47-$G47)-(S47-$K47))/SQRT(((P47^2*(Q47-1))+(T47^2*(U47-1)))/(Q47+U47-2))),((O47-$G47)-(S47-$K47))/SQRT(((P47^2*(Q47-1))+(T47^2*(U47-1)))/(Q47+U47-2)))","v":{"$error":"#DIV/0!"}},{"$f":"IF(O47=\"\",\"\",V47)","v":""},{"$f":"IF(Q47=\"\",\"\",SQRT((Q47+U47)/(Q47*U47)+(W47^2/(2*(Q47+U47)))))","v":""},null,null,null,null,null,null,null,null,{"$f":"IF(Sheet2!$A$86=TRUE,-1*(((Z47-$G47)-(AD47-$K47))/SQRT(((AA47^2*(AB47-1))+(AE47^2*(AF47-1)))/(AB47+AF47-2))),((Z47-$G47)-(AD47-$K47))/SQRT(((AA47^2*(AB47-1))+(AE47^2*(AF47-1)))/(AB47+AF47-2)))","v":{"$error":"#DIV/0!"}},{"$f":"IF(Z47=\"\",\"\",AG47)","v":""},{"$f":"IF(AB47=\"\",\"\",SQRT((AB47+AF47)/(AB47*AF47)+(AH47^2/(2*(AB47+AF47)))))","v":""},null,null,null,null,null,null,null,null,{"$f":"IF(Sheet2!$A$86=TRUE,-1*(((AK47-$G47)-(AO47-$K47))/SQRT(((AL47^2*(AM47-1))+(AP47^2*(AQ47-1)))/(AM47+AQ47-2))),((AK47-$G47)-(AO47-$K47))/SQRT(((AL47^2*(AM47-1))+(AP47^2*(AQ47-1)))/(AM47+AQ47-2)))","v":{"$error":"#DIV/0!"}},{"$f":"IF(AK47=\"\",\"\",AR47)","v":""},{"$f":"IF(AM47=\"\",\"\",SQRT((AM47+AQ47)/(AM47*AQ47)+(AS47^2/(2*(AM47+AQ47)))))","v":""},null,null,null,null,null,null,null,null,{"$f":"IF(Sheet2!$A$86=TRUE,-1*(((AV47-$G47)-(AZ47-$K47))/SQRT(((AW47^2*(AX47-1))+(BA47^2*(BB47-1)))/(AX47+BB47-2))),((AV47-$G47)-(AZ47-$K47))/SQRT(((AW47^2*(AX47-1))+(BA47^2*(BB47-1)))/(AX47+BB47-2)))","v":{"$error":"#DIV/0!"}},{"$f":"IF(AV47=\"\",\"\",BC47)","v":""},{"$f":"IF(AX47=\"\",\"\",SQRT((AX47+BB47)/(AX47*BB47)+(BD47^2/(2*(AX47+BB47)))))","v":""},null,null,null,null,null,null,null,null,{"$f":"IF(Sheet2!$A$86=TRUE,-1*(((BG47-$G47)-(BK47-$K47))/SQRT(((BH47^2*(BI47-1))+(BL47^2*(BM47-1)))/(BI47+BM47-2))),((BG47-$G47)-(BK47-$K47))/SQRT(((BH47^2*(BI47-1))+(BL47^2*(BM47-1)))/(BI47+BM47-2)))","v":{"$error":"#DIV/0!"}},{"$f":"IF(BG47=\"\",\"\",BN47)","v":""},{"$f":"IF(BI47=\"\",\"\",SQRT((BI47+BM47)/(BI47*BM47)+(BO47^2/(2*(BI47+BM47)))))","v":""},null,null,null,null,null,null,null,null,{"$f":"IF(Sheet2!$A$86=TRUE,-1*(((BR47-$G47)-(BV47-$K47))/SQRT(((BS47^2*(BT47-1))+(BW47^2*(BX47-1)))/(BT47+BX47-2))),((BR47-$G47)-(BV47-$K47))/SQRT(((BS47^2*(BT47-1))+(BW47^2*(BX47-1)))/(BT47+BX47-2)))","v":{"$error":"#DIV/0!"}},{"$f":"IF(BR47=\"\",\"\",BY47)","v":""},{"$f":"IF(BT47=\"\",\"\",SQRT((BT47+BX47)/(BT47*BX47)+(BZ47^2/(2*(BT47+BX47)))))","v":""}]
[null,null,"Outcome 43",null,null,null,null,null,null,null,null,null,null,null,null,null,null,null,null,null,null,{"$f":"IF(Sheet2!$A$87=TRUE,-1*(((O48-$G48)-(S48-$K48))/SQRT(((P48^2*(Q48-1))+(T48^2*(U48-1)))/(Q48+U48-2))),((O48-$G48)-(S48-$K48))/SQRT(((P48^2*(Q48-1))+(T48^2*(U48-1)))/(Q48+U48-2)))","v":{"$error":"#DIV/0!"}},{"$f":"IF(O48=\"\",\"\",V48)","v":""},"",null,null,null,null,null,null,null,null,{"$f":"IF(Sheet2!$A$87=TRUE,-1*(((Z48-$G48)-(AD48-$K48))/SQRT(((AA48^2*(AB48-1))+(AE48^2*(AF48-1)))/(AB48+AF48-2))),((Z48-$G48)-(AD48-$K48))/SQRT(((AA48^2*(AB48-1))+(AE48^2*(AF48-1)))/(AB48+AF48-2)))","v":{"$error":"#DIV/0!"}},{"$f":"IF(Z48=\"\",\"\",AG48)","v":""},"",null,null,null,null,null,null,null,null,{"$f":"IF(Sheet2!$A$87=TRUE,-1*(((AK48-$G48)-(AO48-$K48))/SQRT(((AL48^2*(AM48-1))+(AP48^2*(AQ48-1)))/(AM48+AQ48-2))),((AK48-$G48)-(AO48-$K48))/SQRT(((AL48^2*(AM48-1))+(AP48^2*(AQ48-1)))/(AM48+AQ48-2)))","v":{"$error":"#DIV/0!"}},{"$f":"IF(AK48=\"\",\"\",AR48)","v":""},"",null,null,null,null,null,null,null,null,{"$f":"IF(Sheet2!$A$87=TRUE,-1*(((AV48-$G48)-(AZ48-$K48))/SQRT(((AW48^2*(AX48-1))+(BA48^2*(BB48-1)))/(AX48+BB48-2))),((AV48-$G48)-(AZ48-$K48))/SQRT(((AW48^2*(AX48-1))+(BA48^2*(BB48-1)))/(AX48+BB48-2)))","v":{"$error":"#DIV/0!"}},{"$f":"IF(AV48=\"\",\"\",BC48)","v":""},"",null,null,null,null,null,null,null,null,{"$f":"IF(Sheet2!$A$87=TRUE,-1*(((BG48-$G48)-(BK48-$K48))/SQRT(((BH48^2*(BI48-1))+(BL48^2*(BM48-1)))/(BI48+BM48-2))),((BG48-$G48)-(BK48-$K48))/SQRT(((BH48^2*(BI48-1))+(BL48^2*(BM48-1)))/(BI48+BM48-2)))","v":{"$error":"#DIV/0!"}},{"$f":"IF(BG48=\"\",\"\",BN48)","v":""},"",null,null,null,null,null,null,null,null,{"$f":"IF(Sheet2!$A$87=TRUE,-1*(((BR48-$G48)-(BV48-$K48))/SQRT(((BS48^2*(BT48-1))+(BW48^2*(BX48-1)))/(BT48+BX48-2))),((BR48-$G48)-(BV48-$K48))/SQRT(((BS48^2*(BT48-1))+(BW48^2*(BX48-1)))/(BT48+BX48-2)))","v":{"$error":"#DIV/0!"}},{"$f":"IF(BR48=\"\",\"\",BY48)","v":""},""]
[null,null,"Outcome 44",null,null,null,null,null,null,null,null,null,null,null,null,null,null,null,null,null,null,{"$f":"IF(Sheet2!$A$88=TRUE,-1*(((O49-$G49)-(S49-$K49))/SQRT(((P49^2*(Q49-1))+(T49^2*(U49-1)))/(Q49+U49-2))),((O49-$G49)-(S49-$K49))/SQRT(((P49^2*(Q49-1))+(T49^2*(U49-1)))/(Q49+U49-2)))","v":{"$error":"#DIV/0!"}},{"$f":"IF(O49=\"\",\"\",V49)","v":""},{"$f":"IF(Q49=\"\",\"\",SQRT((Q49+U49)/(Q49*U49)+(W49^2/(2*(Q49+U49)))))","v":""},null,null,null,null,null,null,null,null,{"$f":"IF(Sheet2!$A$88=TRUE,-1*(((Z49-$G49)-(AD49-$K49))/SQRT(((AA49^2*(AB49-1))+(AE49^2*(AF49-1)))/(AB49+AF49-2))),((Z49-$G49)-(AD49-$K49))/SQRT(((AA49^2*(AB49-1))+(AE49^2*(AF49-1)))/(AB49+AF49-2)))","v":{"$error":"#DIV/0!"}},{"$f":"IF(Z49=\"\",\"\",AG49)","v":""},{"$f":"IF(AB49=\"\",\"\",SQRT((AB49+AF49)/(AB49*AF49)+(AH49^2/(2*(AB49+AF49)))))","v":""},null,null,null,null,null,null,null,null,{"$f":"IF(Sheet2!$A$88=TRUE,-1*(((AK49-$G49)-(AO49-$K49))/SQRT(((AL49^2*(AM49-1))+(AP49^2*(AQ49-1)))/(AM49+AQ49-2))),((AK49-$G49)-(AO49-$K49))/SQRT(((AL49^2*(AM49-1))+(AP49^2*(AQ49-1)))/(AM49+AQ49-2)))","v":{"$error":"#DIV/0!"}},{"$f":"IF(AK49=\"\",\"\",AR49)","v":""},{"$f":"IF(AM49=\"\",\"\",SQRT((AM49+AQ49)/(AM49*AQ49)+(AS49^2/(2*(AM49+AQ49)))))","v":""},null,null,null,null,null,null,null,null,{"$f":"IF(Sheet2!$A$88=TRUE,-1*(((AV49-$G49)-(AZ49-$K49))/SQRT(((AW49^2*(AX49-1))+(BA49^2*(BB49-1)))/(AX49+BB49-2))),((AV49-$G49)-(AZ49-$K49))/SQRT(((AW49^2*(AX49-1))+(BA49^2*(BB49-1)))/(AX49+BB49-2)))","v":{"$error":"#DIV/0!"}},{"$f":"IF(AV49=\"\",\"\",BC49)","v":""},{"$f":"IF(AX49=\"\",\"\",SQRT((AX49+BB49)/(AX49*BB49)+(BD49^2/(2*(AX49+BB49)))))","v":""},null,null,null,null,null,null,null,null,{"$f":"IF(Sheet2!$A$88=TRUE,-1*(((BG49-$G49)-(BK49-$K49))/SQRT(((BH49^2*(BI49-1))+(BL49^2*(BM49-1)))/(BI49+BM49-2))),((BG49-$G49)-(BK49-$K49))/SQRT(((BH49^2*(BI49-1))+(BL49^2*(BM49-1)))/(BI49+BM49-2)))","v":{"$error":"#DIV/0!"}},{"$f":"IF(BG49=\"\",\"\",BN49)","v":""},{"$f":"IF(BI49=\"\",\"\",SQRT((BI49+BM49)/(BI49*BM49)+(BO49^2/(2*(BI49+BM49)))))","v":""},null,null,null,null,null,null,null,null,{"$f":"IF(Sheet2!$A$88=TRUE,-1*(((BR49-$G49)-(BV49-$K49))/SQRT(((BS49^2*(BT49-1))+(BW49^2*(BX49-1)))/(BT49+BX49-2))),((BR49-$G49)-(BV49-$K49))/SQRT(((BS49^2*(BT49-1))+(BW49^2*(BX49-1)))/(BT49+BX49-2)))","v":{"$error":"#DIV/0!"}},{"$f":"IF(BR49=\"\",\"\",BY49)","v":""},{"$f":"IF(BT49=\"\",\"\",SQRT((BT49+BX49)/(BT49*BX49)+(BZ49^2/(2*(BT49+BX49)))))","v":""}]
[null,null,"Outcome 45",null,null,null,null,null,null,null,null,null,null,null,null,null,null,null,null,null,null,{"$f":"IF(Sheet2!$A$89=TRUE,-1*(((O50-$G50)-(S50-$K50))/SQRT(((P50^2*(Q50-1))+(T50^2*(U50-1)))/(Q50+U50-2))),((O50-$G50)-(S50-$K50))/SQRT(((P50^2*(Q50-1))+(T50^2*(U50-1)))/(Q50+U50-2)))","v":{"$error":"#DIV/0!"}},"","",null,null,null,null,null,null,null,null,{"$f":"IF(Sheet2!$A$89=TRUE,-1*(((Z50-$G50)-(AD50-$K50))/SQRT(((AA50^2*(AB50-1))+(AE50^2*(AF50-1)))/(AB50+AF50-2))),((Z50-$G50)-(AD50-$K50))/SQRT(((AA50^2*(AB50-1))+(AE50^2*(AF50-1)))/(AB50+AF50-2)))","v":{"$error":"#DIV/0!"}},"",{"$f":"IF(AB50=\"\",\"\",SQRT((AB50+AF50)/(AB50*AF50)+(AH50^2/(2*(AB50+AF50)))))","v":""},null,null,null,null,null,null,null,null,{"$f":"IF(Sheet2!$A$89=TRUE,-1*(((AK50-$G50)-(AO50-$K50))/SQRT(((AL50^2*(AM50-1))+(AP50^2*(AQ50-1)))/(AM50+AQ50-2))),((AK50-$G50)-(AO50-$K50))/SQRT(((AL50^2*(AM50-1))+(AP50^2*(AQ50-1)))/(AM50+AQ50-2)))","v":{"$error":"#DIV/0!"}},"",{"$f":"IF(AM50=\"\",\"\",SQRT((AM50+AQ50)/(AM50*AQ50)+(AS50^2/(2*(AM50+AQ50)))))","v":""},null,null,null,null,null,null,null,null,{"$f":"IF(Sheet2!$A$89=TRUE,-1*(((AV50-$G50)-(AZ50-$K50))/SQRT(((AW50^2*(AX50-1))+(BA50^2*(BB50-1)))/(AX50+BB50-2))),((AV50-$G50)-(AZ50-$K50))/SQRT(((AW50^2*(AX50-1))+(BA50^2*(BB50-1)))/(AX50+BB50-2)))","v":{"$error":"#DIV/0!"}},"",{"$f":"IF(AX50=\"\",\"\",SQRT((AX50+BB50)/(AX50*BB50)+(BD50^2/(2*(AX50+BB50)))))","v":""},null,null,null,null,null,null,null,null,{"$f":"IF(Sheet2!$A$89=TRUE,-1*(((BG50-$G50)-(BK50-$K50))/SQRT(((BH50^2*(BI50-1))+(BL50^2*(BM50-1)))/(BI50+BM50-2))),((BG50-$G50)-(BK50-$K50))/SQRT(((BH50^2*(BI50-1))+(BL50^2*(BM50-1)))/(BI50+BM50-2)))","v":{"$error":"#DIV/0!"}},"",{"$f":"IF(BI50=\"\",\"\",SQRT((BI50+BM50)/(BI50*BM50)+(BO50^2/(2*(BI50+BM50)))))","v":""},null,null,null,null,null,null,null,null,{"$f":"IF(Sheet2!$A$89=TRUE,-1*(((BR50-$G50)-(BV50-$K50))/SQRT(((BS50^2*(BT50-1))+(BW50^2*(BX50-1)))/(BT50+BX50-2))),((BR50-$G50)-(BV50-$K50))/SQRT(((BS50^2*(BT50-1))+(BW50^2*(BX50-1)))/(BT50+BX50-2)))","v":{"$error":"#DIV/0!"}},"",{"$f":"IF(BT50=\"\",\"\",SQRT((BT50+BX50)/(BT50*BX50)+(BZ50^2/(2*(BT50+BX50)))))","v":""}]
[null,null,"Outcome 46",null,null,null,null,null,null,null,null,null,null,null,null,null,null,null,null,null,null,{"$f":"IF(Sheet2!$A$93=TRUE,-1*(((O51-$G51)-(S51-$K51))/SQRT(((P51^2*(Q51-1))+(T51^2*(U51-1)))/(Q51+U51-2))),((O51-$G51)-(S51-$K51))/SQRT(((P51^2*(Q51-1))+(T51^2*(U51-1)))/(Q51+U51-2)))","v":{"$error":"#DIV/0!"}},{"$f":"IF(O51=\"\",\"\",V51)","v":""},{"$f":"IF(Q51=\"\",\"\",SQRT((Q51+U51)/(Q51*U51)+(W51^2/(2*(Q51+U51)))))","v":""},null,null,null,null,null,null,null,null,{"$f":"IF(Sheet2!$A$93=TRUE,-1*(((Z51-$G51)-(AD51-$K51))/SQRT(((AA51^2*(AB51-1))+(AE51^2*(AF51-1)))/(AB51+AF51-2))),((Z51-$G51)-(AD51-$K51))/SQRT(((AA51^2*(AB51-1))+(AE51^2*(AF51-1)))/(AB51+AF51-2)))","v":{"$error":"#DIV/0!"}},{"$f":"IF(Z51=\"\",\"\",AG51)","v":""},{"$f":"IF(AB51=\"\",\"\",SQRT((AB51+AF51)/(AB51*AF51)+(AH51^2/(2*(AB51+AF51)))))","v":""},null,null,null,null,null,null,null,null,{"$f":"IF(Sheet2!$A$93=TRUE,-1*(((AK51-$G51)-(AO51-$K51))/SQRT(((AL51^2*(AM51-1))+(AP51^2*(AQ51-1)))/(AM51+AQ51-2))),((AK51-$G51)-(AO51-$K51))/SQRT(((AL51^2*(AM51-1))+(AP51^2*(AQ51-1)))/(AM51+AQ51-2)))","v":{"$error":"#DIV/0!"}},{"$f":"IF(AK51=\"\",\"\",AR51)","v":""},{"$f":"IF(AM51=\"\",\"\",SQRT((AM51+AQ51)/(AM51*AQ51)+(AS51^2/(2*(AM51+AQ51)))))","v":""},null,null,null,null,null,null,null,null,{"$f":"IF(Sheet2!$A$93=TRUE,-1*(((AV51-$G51)-(AZ51-$K51))/SQRT(((AW51^2*(AX51-1))+(BA51^2*(BB51-1)))/(AX51+BB51-2))),((AV51-$G51)-(AZ51-$K51))/SQRT(((AW51^2*(AX51-1))+(BA51^2*(BB51-1)))/(AX51+BB51-2)))","v":{"$error":"#DIV/0!"}},{"$f":"IF(AV51=\"\",\"\",BC51)","v":""},{"$f":"IF(AX51=\"\",\"\",SQRT((AX51+BB51)/(AX51*BB51)+(BD51^2/(2*(AX51+BB51)))))","v":""},null,null,null,null,null,null,null,null,{"$f":"IF(Sheet2!$A$93=TRUE,-1*(((BG51-$G51)-(BK51-$K51))/SQRT(((BH51^2*(BI51-1))+(BL51^2*(BM51-1)))/(BI51+BM51-2))),((BG51-$G51)-(BK51-$K51))/SQRT(((BH51^2*(BI51-1))+(BL51^2*(BM51-1)))/(BI51+BM51-2)))","v":{"$error":"#DIV/0!"}},{"$f":"IF(BG51=\"\",\"\",BN51)","v":""},{"$f":"IF(BI51=\"\",\"\",SQRT((BI51+BM51)/(BI51*BM51)+(BO51^2/(2*(BI51+BM51)))))","v":""},null,null,null,null,null,null,null,null,{"$f":"IF(Sheet2!$A$93=TRUE,-1*(((BR51-$G51)-(BV51-$K51))/SQRT(((BS51^2*(BT51-1))+(BW51^2*(BX51-1)))/(BT51+BX51-2))),((BR51-$G51)-(BV51-$K51))/SQRT(((BS51^2*(BT51-1))+(BW51^2*(BX51-1)))/(BT51+BX51-2)))","v":{"$error":"#DIV/0!"}},{"$f":"IF(BR51=\"\",\"\",BY51)","v":""},{"$f":"IF(BT51=\"\",\"\",SQRT((BT51+BX51)/(BT51*BX51)+(BZ51^2/(2*(BT51+BX51)))))","v":""}]
[null,null,"Outcome 47",null,null,null,null,null,null,null,null,null,null,null,null,null,null,null,null,null,null,{"$f":"IF(Sheet2!$A$94=TRUE,-1*(((O52-$G52)-(S52-$K52))/SQRT(((P52^2*(Q52-1))+(T52^2*(U52-1)))/(Q52+U52-2))),((O52-$G52)-(S52-$K52))/SQRT(((P52^2*(Q52-1))+(T52^2*(U52-1)))/(Q52+U52-2)))","v":{"$error":"#DIV/0!"}},{"$f":"IF(O52=\"\",\"\",V52)","v":""},{"$f":"IF(Q52=\"\",\"\",SQRT((Q52+U52)/(Q52*U52)+(W52^2/(2*(Q52+U52)))))","v":""},null,null,null,null,null,null,null,null,{"$f":"IF(Sheet2!$A$94=TRUE,-1*(((Z52-$G52)-(AD52-$K52))/SQRT(((AA52^2*(AB52-1))+(AE52^2*(AF52-1)))/(AB52+AF52-2))),((Z52-$G52)-(AD52-$K52))/SQRT(((AA52^2*(AB52-1))+(AE52^2*(AF52-1)))/(AB52+AF52-2)))","v":{"$error":"#DIV/0!"}},{"$f":"IF(Z52=\"\",\"\",AG52)","v":""},{"$f":"IF(AB52=\"\",\"\",SQRT((AB52+AF52)/(AB52*AF52)+(AH52^2/(2*(AB52+AF52)))))","v":""},null,null,null,null,null,null,null,null,{"$f":"IF(Sheet2!$A$94=TRUE,-1*(((AK52-$G52)-(AO52-$K52))/SQRT(((AL52^2*(AM52-1))+(AP52^2*(AQ52-1)))/(AM52+AQ52-2))),((AK52-$G52)-(AO52-$K52))/SQRT(((AL52^2*(AM52-1))+(AP52^2*(AQ52-1)))/(AM52+AQ52-2)))","v":{"$error":"#DIV/0!"}},{"$f":"IF(AK52=\"\",\"\",AR52)","v":""},{"$f":"IF(AM52=\"\",\"\",SQRT((AM52+AQ52)/(AM52*AQ52)+(AS52^2/(2*(AM52+AQ52)))))","v":""},null,null,null,null,null,null,null,null,{"$f":"IF(Sheet2!$A$94=TRUE,-1*(((AV52-$G52)-(AZ52-$K52))/SQRT(((AW52^2*(AX52-1))+(BA52^2*(BB52-1)))/(AX52+BB52-2))),((AV52-$G52)-(AZ52-$K52))/SQRT(((AW52^2*(AX52-1))+(BA52^2*(BB52-1)))/(AX52+BB52-2)))","v":{"$error":"#DIV/0!"}},{"$f":"IF(AV52=\"\",\"\",BC52)","v":""},{"$f":"IF(AX52=\"\",\"\",SQRT((AX52+BB52)/(AX52*BB52)+(BD52^2/(2*(AX52+BB52)))))","v":""},null,null,null,null,null,null,null,null,{"$f":"IF(Sheet2!$A$94=TRUE,-1*(((BG52-$G52)-(BK52-$K52))/SQRT(((BH52^2*(BI52-1))+(BL52^2*(BM52-1)))/(BI52+BM52-2))),((BG52-$G52)-(BK52-$K52))/SQRT(((BH52^2*(BI52-1))+(BL52^2*(BM52-1)))/(BI52+BM52-2)))","v":{"$error":"#DIV/0!"}},{"$f":"IF(BG52=\"\",\"\",BN52)","v":""},{"$f":"IF(BI52=\"\",\"\",SQRT((BI52+BM52)/(BI52*BM52)+(BO52^2/(2*(BI52+BM52)))))","v":""},null,null,null,null,null,null,null,null,{"$f":"IF(Sheet2!$A$94=TRUE,-1*(((BR52-$G52)-(BV52-$K52))/SQRT(((BS52^2*(BT52-1))+(BW52^2*(BX52-1)))/(BT52+BX52-2))),((BR52-$G52)-(BV52-$K52))/SQRT(((BS52^2*(BT52-1))+(BW52^2*(BX52-1)))/(BT52+BX52-2)))","v":{"$error":"#DIV/0!"}},{"$f":"IF(BR52=\"\",\"\",BY52)","v":""},{"$f":"IF(BT52=\"\",\"\",SQRT((BT52+BX52)/(BT52*BX52)+(BZ52^2/(2*(BT52+BX52)))))","v":""}]
[null,null,"Outcome 48",null,null,null,null,null,null,null,null,null,null,null,null,null,null,null,null,null,null,{"$f":"IF(Sheet2!$A$95=TRUE,-1*(((O53-$G53)-(S53-$K53))/SQRT(((P53^2*(Q53-1))+(T53^2*(U53-1)))/(Q53+U53-2))),((O53-$G53)-(S53-$K53))/SQRT(((P53^2*(Q53-1))+(T53^2*(U53-1)))/(Q53+U53-2)))","v":{"$error":"#DIV/0!"}},{"$f":"IF(O53=\"\",\"\",V53)","v":""},"",null,null,null,null,null,null,null,null,{"$f":"IF(Sheet2!$A$95=TRUE,-1*(((Z53-$G53)-(AD53-$K53))/SQRT(((AA53^2*(AB53-1))+(AE53^2*(AF53-1)))/(AB53+AF53-2))),((Z53-$G53)-(AD53-$K53))/SQRT(((AA53^2*(AB53-1))+(AE53^2*(AF53-1)))/(AB53+AF53-2)))","v":{"$error":"#DIV/0!"}},{"$f":"IF(Z53=\"\",\"\",AG53)","v":""},"",null,null,null,null,null,null,null,null,{"$f":"IF(Sheet2!$A$95=TRUE,-1*(((AK53-$G53)-(AO53-$K53))/SQRT(((AL53^2*(AM53-1))+(AP53^2*(AQ53-1)))/(AM53+AQ53-2))),((AK53-$G53)-(AO53-$K53))/SQRT(((AL53^2*(AM53-1))+(AP53^2*(AQ53-1)))/(AM53+AQ53-2)))","v":{"$error":"#DIV/0!"}},{"$f":"IF(AK53=\"\",\"\",AR53)","v":""},"",null,null,null,null,null,null,null,null,{"$f":"IF(Sheet2!$A$95=TRUE,-1*(((AV53-$G53)-(AZ53-$K53))/SQRT(((AW53^2*(AX53-1))+(BA53^2*(BB53-1)))/(AX53+BB53-2))),((AV53-$G53)-(AZ53-$K53))/SQRT(((AW53^2*(AX53-1))+(BA53^2*(BB53-1)))/(AX53+BB53-2)))","v":{"$error":"#DIV/0!"}},{"$f":"IF(AV53=\"\",\"\",BC53)","v":""},"",null,null,null,null,null,null,null,null,{"$f":"IF(Sheet2!$A$95=TRUE,-1*(((BG53-$G53)-(BK53-$K53))/SQRT(((BH53^2*(BI53-1))+(BL53^2*(BM53-1)))/(BI53+BM53-2))),((BG53-$G53)-(BK53-$K53))/SQRT(((BH53^2*(BI53-1))+(BL53^2*(BM53-1)))/(BI53+BM53-2)))","v":{"$error":"#DIV/0!"}},{"$f":"IF(BG53=\"\",\"\",BN53)","v":""},"",null,null,null,null,null,null,null,null,{"$f":"IF(Sheet2!$A$95=TRUE,-1*(((BR53-$G53)-(BV53-$K53))/SQRT(((BS53^2*(BT53-1))+(BW53^2*(BX53-1)))/(BT53+BX53-2))),((BR53-$G53)-(BV53-$K53))/SQRT(((BS53^2*(BT53-1))+(BW53^2*(BX53-1)))/(BT53+BX53-2)))","v":{"$error":"#DIV/0!"}},{"$f":"IF(BR53=\"\",\"\",BY53)","v":""},""]
[null,null,"Outcome 49",null,null,null,null,null,null,null,null,null,null,null,null,null,null,null,null,null,null,{"$f":"IF(Sheet2!$A$96=TRUE,-1*(((O54-$G54)-(S54-$K54))/SQRT(((P54^2*(Q54-1))+(T54^2*(U54-1)))/(Q54+U54-2))),((O54-$G54)-(S54-$K54))/SQRT(((P54^2*(Q54-1))+(T54^2*(U54-1)))/(Q54+U54-2)))","v":{"$error":"#DIV/0!"}},{"$f":"IF(O54=\"\",\"\",V54)","v":""},{"$f":"IF(Q54=\"\",\"\",SQRT((Q54+U54)/(Q54*U54)+(W54^2/(2*(Q54+U54)))))","v":""},null,null,null,null,null,null,null,null,{"$f":"IF(Sheet2!$A$96=TRUE,-1*(((Z54-$G54)-(AD54-$K54))/SQRT(((AA54^2*(AB54-1))+(AE54^2*(AF54-1)))/(AB54+AF54-2))),((Z54-$G54)-(AD54-$K54))/SQRT(((AA54^2*(AB54-1))+(AE54^2*(AF54-1)))/(AB54+AF54-2)))","v":{"$error":"#DIV/0!"}},{"$f":"IF(Z54=\"\",\"\",AG54)","v":""},{"$f":"IF(AB54=\"\",\"\",SQRT((AB54+AF54)/(AB54*AF54)+(AH54^2/(2*(AB54+AF54)))))","v":""},null,null,null,null,null,null,null,null,{"$f":"IF(Sheet2!$A$96=TRUE,-1*(((AK54-$G54)-(AO54-$K54))/SQRT(((AL54^2*(AM54-1))+(AP54^2*(AQ54-1)))/(AM54+AQ54-2))),((AK54-$G54)-(AO54-$K54))/SQRT(((AL54^2*(AM54-1))+(AP54^2*(AQ54-1)))/(AM54+AQ54-2)))","v":{"$error":"#DIV/0!"}},{"$f":"IF(AK54=\"\",\"\",AR54)","v":""},{"$f":"IF(AM54=\"\",\"\",SQRT((AM54+AQ54)/(AM54*AQ54)+(AS54^2/(2*(AM54+AQ54)))))","v":""},null,null,null,null,null,null,null,null,{"$f":"IF(Sheet2!$A$96=TRUE,-1*(((AV54-$G54)-(AZ54-$K54))/SQRT(((AW54^2*(AX54-1))+(BA54^2*(BB54-1)))/(AX54+BB54-2))),((AV54-$G54)-(AZ54-$K54))/SQRT(((AW54^2*(AX54-1))+(BA54^2*(BB54-1)))/(AX54+BB54-2)))","v":{"$error":"#DIV/0!"}},{"$f":"IF(AV54=\"\",\"\",BC54)","v":""},{"$f":"IF(AX54=\"\",\"\",SQRT((AX54+BB54)/(AX54*BB54)+(BD54^2/(2*(AX54+BB54)))))","v":""},null,null,null,null,null,null,null,null,{"$f":"IF(Sheet2!$A$96=TRUE,-1*(((BG54-$G54)-(BK54-$K54))/SQRT(((BH54^2*(BI54-1))+(BL54^2*(BM54-1)))/(BI54+BM54-2))),((BG54-$G54)-(BK54-$K54))/SQRT(((BH54^2*(BI54-1))+(BL54^2*(BM54-1)))/(BI54+BM54-2)))","v":{"$error":"#DIV/0!"}},{"$f":"IF(BG54=\"\",\"\",BN54)","v":""},{"$f":"IF(BI54=\"\",\"\",SQRT((BI54+BM54)/(BI54*BM54)+(BO54^2/(2*(BI54+BM54)))))","v":""},null,null,null,null,null,null,null,null,{"$f":"IF(Sheet2!$A$96=TRUE,-1*(((BR54-$G54)-(BV54-$K54))/SQRT(((BS54^2*(BT54-1))+(BW54^2*(BX54-1)))/(BT54+BX54-2))),((BR54-$G54)-(BV54-$K54))/SQRT(((BS54^2*(BT54-1))+(BW54^2*(BX54-1)))/(BT54+BX54-2)))","v":{"$error":"#DIV/0!"}},{"$f":"IF(BR54=\"\",\"\",BY54)","v":""},{"$f":"IF(BT54=\"\",\"\",SQRT((BT54+BX54)/(BT54*BX54)+(BZ54^2/(2*(BT54+BX54)))))","v":""}]
[null,null,"Outcome 50",null,null,null,null,null,null,null,null,null,null,null,null,null,null,null,null,null,null,{"$f":"IF(Sheet2!$A$97=TRUE,-1*(((O55-$G55)-(S55-$K55))/SQRT(((P55^2*(Q55-1))+(T55^2*(U55-1)))/(Q55+U55-2))),((O55-$G55)-(S55-$K55))/SQRT(((P55^2*(Q55-1))+(T55^2*(U55-1)))/(Q55+U55-2)))","v":{"$error":"#DIV/0!"}},"","",null,null,null,null,null,null,null,null,{"$f":"IF(Sheet2!$A$97=TRUE,-1*(((Z55-$G55)-(AD55-$K55))/SQRT(((AA55^2*(AB55-1))+(AE55^2*(AF55-1)))/(AB55+AF55-2))),((Z55-$G55)-(AD55-$K55))/SQRT(((AA55^2*(AB55-1))+(AE55^2*(AF55-1)))/(AB55+AF55-2)))","v":{"$error":"#DIV/0!"}},"",{"$f":"IF(AB55=\"\",\"\",SQRT((AB55+AF55)/(AB55*AF55)+(AH55^2/(2*(AB55+AF55)))))","v":""},null,null,null,null,null,null,null,null,{"$f":"IF(Sheet2!$A$97=TRUE,-1*(((AK55-$G55)-(AO55-$K55))/SQRT(((AL55^2*(AM55-1))+(AP55^2*(AQ55-1)))/(AM55+AQ55-2))),((AK55-$G55)-(AO55-$K55))/SQRT(((AL55^2*(AM55-1))+(AP55^2*(AQ55-1)))/(AM55+AQ55-2)))","v":{"$error":"#DIV/0!"}},"",{"$f":"IF(AM55=\"\",\"\",SQRT((AM55+AQ55)/(AM55*AQ55)+(AS55^2/(2*(AM55+AQ55)))))","v":""},null,null,null,null,null,null,null,null,{"$f":"IF(Sheet2!$A$97=TRUE,-1*(((AV55-$G55)-(AZ55-$K55))/SQRT(((AW55^2*(AX55-1))+(BA55^2*(BB55-1)))/(AX55+BB55-2))),((AV55-$G55)-(AZ55-$K55))/SQRT(((AW55^2*(AX55-1))+(BA55^2*(BB55-1)))/(AX55+BB55-2)))","v":{"$error":"#DIV/0!"}},"",{"$f":"IF(AX55=\"\",\"\",SQRT((AX55+BB55)/(AX55*BB55)+(BD55^2/(2*(AX55+BB55)))))","v":""},null,null,null,null,null,null,null,null,{"$f":"IF(Sheet2!$A$97=TRUE,-1*(((BG55-$G55)-(BK55-$K55))/SQRT(((BH55^2*(BI55-1))+(BL55^2*(BM55-1)))/(BI55+BM55-2))),((BG55-$G55)-(BK55-$K55))/SQRT(((BH55^2*(BI55-1))+(BL55^2*(BM55-1)))/(BI55+BM55-2)))","v":{"$error":"#DIV/0!"}},"",{"$f":"IF(BI55=\"\",\"\",SQRT((BI55+BM55)/(BI55*BM55)+(BO55^2/(2*(BI55+BM55)))))","v":""},null,null,null,null,null,null,null,null,{"$f":"IF(Sheet2!$A$97=TRUE,-1*(((BR55-$G55)-(BV55-$K55))/SQRT(((BS55^2*(BT55-1))+(BW55^2*(BX55-1)))/(BT55+BX55-2))),((BR55-$G55)-(BV55-$K55))/SQRT(((BS55^2*(BT55-1))+(BW55^2*(BX55-1)))/(BT55+BX55-2)))","v":{"$error":"#DIV/0!"}},"",{"$f":"IF(BT55=\"\",\"\",SQRT((BT55+BX55)/(BT55*BX55)+(BZ55^2/(2*(BT55+BX55)))))","v":""}]
[null,null,"Outcome 51",null,null,null,null,null,null,null,null,null,null,null,null,null,null,null,null,null,null,{"$f":"IF(Sheet2!$A$105=TRUE,-1*(((O56-$G56)-(S56-$K56))/SQRT(((P56^2*(Q56-1))+(T56^2*(U56-1)))/(Q56+U56-2))),((O56-$G56)-(S56-$K56))/SQRT(((P56^2*(Q56-1))+(T56^2*(U56-1)))/(Q56+U56-2)))","v":{"$error":"#DIV/0!"}},{"$f":"IF(O56=\"\",\"\",V56)","v":""},{"$f":"IF(Q56=\"\",\"\",SQRT((Q56+U56)/(Q56*U56)+(W56^2/(2*(Q56+U56)))))","v":""},null,null,null,null,null,null,null,null,{"$f":"IF(Sheet2!$A$105=TRUE,-1*(((Z56-$G56)-(AD56-$K56))/SQRT(((AA56^2*(AB56-1))+(AE56^2*(AF56-1)))/(AB56+AF56-2))),((Z56-$G56)-(AD56-$K56))/SQRT(((AA56^2*(AB56-1))+(AE56^2*(AF56-1)))/(AB56+AF56-2)))","v":{"$error":"#DIV/0!"}},{"$f":"IF(Z56=\"\",\"\",AG56)","v":""},{"$f":"IF(AB56=\"\",\"\",SQRT((AB56+AF56)/(AB56*AF56)+(AH56^2/(2*(AB56+AF56)))))","v":""},null,null,null,null,null,null,null,null,{"$f":"IF(Sheet2!$A$105=TRUE,-1*(((AK56-$G56)-(AO56-$K56))/SQRT(((AL56^2*(AM56-1))+(AP56^2*(AQ56-1)))/(AM56+AQ56-2))),((AK56-$G56)-(AO56-$K56))/SQRT(((AL56^2*(AM56-1))+(AP56^2*(AQ56-1)))/(AM56+AQ56-2)))","v":{"$error":"#DIV/0!"}},{"$f":"IF(AK56=\"\",\"\",AR56)","v":""},{"$f":"IF(AM56=\"\",\"\",SQRT((AM56+AQ56)/(AM56*AQ56)+(AS56^2/(2*(AM56+AQ56)))))","v":""},null,null,null,null,null,null,null,null,{"$f":"IF(Sheet2!$A$105=TRUE,-1*(((AV56-$G56)-(AZ56-$K56))/SQRT(((AW56^2*(AX56-1))+(BA56^2*(BB56-1)))/(AX56+BB56-2))),((AV56-$G56)-(AZ56-$K56))/SQRT(((AW56^2*(AX56-1))+(BA56^2*(BB56-1)))/(AX56+BB56-2)))","v":{"$error":"#DIV/0!"}},{"$f":"IF(AV56=\"\",\"\",BC56)","v":""},{"$f":"IF(AX56=\"\",\"\",SQRT((AX56+BB56)/(AX56*BB56)+(BD56^2/(2*(AX56+BB56)))))","v":""},null,null,null,null,null,null,null,null,{"$f":"IF(Sheet2!$A$105=TRUE,-1*(((BG56-$G56)-(BK56-$K56))/SQRT(((BH56^2*(BI56-1))+(BL56^2*(BM56-1)))/(BI56+BM56-2))),((BG56-$G56)-(BK56-$K56))/SQRT(((BH56^2*(BI56-1))+(BL56^2*(BM56-1)))/(BI56+BM56-2)))","v":{"$error":"#DIV/0!"}},{"$f":"IF(BG56=\"\",\"\",BN56)","v":""},{"$f":"IF(BI56=\"\",\"\",SQRT((BI56+BM56)/(BI56*BM56)+(BO56^2/(2*(BI56+BM56)))))","v":""},null,null,null,null,null,null,null,null,{"$f":"IF(Sheet2!$A$105=TRUE,-1*(((BR56-$G56)-(BV56-$K56))/SQRT(((BS56^2*(BT56-1))+(BW56^2*(BX56-1)))/(BT56+BX56-2))),((BR56-$G56)-(BV56-$K56))/SQRT(((BS56^2*(BT56-1))+(BW56^2*(BX56-1)))/(BT56+BX56-2)))","v":{"$error":"#DIV/0!"}},{"$f":"IF(BR56=\"\",\"\",BY56)","v":""},{"$f":"IF(BT56=\"\",\"\",SQRT((BT56+BX56)/(BT56*BX56)+(BZ56^2/(2*(BT56+BX56)))))","v":""}]
[null,null,"Outcome 52",null,null,null,null,null,null,null,null,null,null,null,null,null,null,null,null,null,null,{"$f":"IF(Sheet2!$A$106=TRUE,-1*(((O57-$G57)-(S57-$K57))/SQRT(((P57^2*(Q57-1))+(T57^2*(U57-1)))/(Q57+U57-2))),((O57-$G57)-(S57-$K57))/SQRT(((P57^2*(Q57-1))+(T57^2*(U57-1)))/(Q57+U57-2)))","v":{"$error":"#DIV/0!"}},{"$f":"IF(O57=\"\",\"\",V57)","v":""},{"$f":"IF(Q57=\"\",\"\",SQRT((Q57+U57)/(Q57*U57)+(W57^2/(2*(Q57+U57)))))","v":""},null,null,null,null,null,null,null,null,{"$f":"IF(Sheet2!$A$106=TRUE,-1*(((Z57-$G57)-(AD57-$K57))/SQRT(((AA57^2*(AB57-1))+(AE57^2*(AF57-1)))/(AB57+AF57-2))),((Z57-$G57)-(AD57-$K57))/SQRT(((AA57^2*(AB57-1))+(AE57^2*(AF57-1)))/(AB57+AF57-2)))","v":{"$error":"#DIV/0!"}},{"$f":"IF(Z57=\"\",\"\",AG57)","v":""},{"$f":"IF(AB57=\"\",\"\",SQRT((AB57+AF57)/(AB57*AF57)+(AH57^2/(2*(AB57+AF57)))))","v":""},null,null,null,null,null,null,null,null,{"$f":"IF(Sheet2!$A$106=TRUE,-1*(((AK57-$G57)-(AO57-$K57))/SQRT(((AL57^2*(AM57-1))+(AP57^2*(AQ57-1)))/(AM57+AQ57-2))),((AK57-$G57)-(AO57-$K57))/SQRT(((AL57^2*(AM57-1))+(AP57^2*(AQ57-1)))/(AM57+AQ57-2)))","v":{"$error":"#DIV/0!"}},{"$f":"IF(AK57=\"\",\"\",AR57)","v":""},{"$f":"IF(AM57=\"\",\"\",SQRT((AM57+AQ57)/(AM57*AQ57)+(AS57^2/(2*(AM57+AQ57)))))","v":""},null,null,null,null,null,null,null,null,{"$f":"IF(Sheet2!$A$106=TRUE,-1*(((AV57-$G57)-(AZ57-$K57))/SQRT(((AW57^2*(AX57-1))+(BA57^2*(BB57-1)))/(AX57+BB57-2))),((AV57-$G57)-(AZ57-$K57))/SQRT(((AW57^2*(AX57-1))+(BA57^2*(BB57-1)))/(AX57+BB57-2)))","v":{"$error":"#DIV/0!"}},{"$f":"IF(AV57=\"\",\"\",BC57)","v":""},{"$f":"IF(AX57=\"\",\"\",SQRT((AX57+BB57)/(AX57*BB57)+(BD57^2/(2*(AX57+BB57)))))","v":""},null,null,null,null,null,null,null,null,{"$f":"IF(Sheet2!$A$106=TRUE,-1*(((BG57-$G57)-(BK57-$K57))/SQRT(((BH57^2*(BI57-1))+(BL57^2*(BM57-1)))/(BI57+BM57-2))),((BG57-$G57)-(BK57-$K57))/SQRT(((BH57^2*(BI57-1))+(BL57^2*(BM57-1)))/(BI57+BM57-2)))","v":{"$error":"#DIV/0!"}},{"$f":"IF(BG57=\"\",\"\",BN57)","v":""},{"$f":"IF(BI57=\"\",\"\",SQRT((BI57+BM57)/(BI57*BM57)+(BO57^2/(2*(BI57+BM57)))))","v":""},null,null,null,null,null,null,null,null,{"$f":"IF(Sheet2!$A$106=TRUE,-1*(((BR57-$G57)-(BV57-$K57))/SQRT(((BS57^2*(BT57-1))+(BW57^2*(BX57-1)))/(BT57+BX57-2))),((BR57-$G57)-(BV57-$K57))/SQRT(((BS57^2*(BT57-1))+(BW57^2*(BX57-1)))/(BT57+BX57-2)))","v":{"$error":"#DIV/0!"}},{"$f":"IF(BR57=\"\",\"\",BY57)","v":""},{"$f":"IF(BT57=\"\",\"\",SQRT((BT57+BX57)/(BT57*BX57)+(BZ57^2/(2*(BT57+BX57)))))","v":""}]
[null,null,"Outcome 53",null,null,null,null,null,null,null,null,null,null,null,null,null,null,null,null,null,null,{"$f":"IF(Sheet2!$A$107=TRUE,-1*(((O58-$G58)-(S58-$K58))/SQRT(((P58^2*(Q58-1))+(T58^2*(U58-1)))/(Q58+U58-2))),((O58-$G58)-(S58-$K58))/SQRT(((P58^2*(Q58-1))+(T58^2*(U58-1)))/(Q58+U58-2)))","v":{"$error":"#DIV/0!"}},{"$f":"IF(O58=\"\",\"\",V58)","v":""},"",null,null,null,null,null,null,null,null,{"$f":"IF(Sheet2!$A$107=TRUE,-1*(((Z58-$G58)-(AD58-$K58))/SQRT(((AA58^2*(AB58-1))+(AE58^2*(AF58-1)))/(AB58+AF58-2))),((Z58-$G58)-(AD58-$K58))/SQRT(((AA58^2*(AB58-1))+(AE58^2*(AF58-1)))/(AB58+AF58-2)))","v":{"$error":"#DIV/0!"}},{"$f":"IF(Z58=\"\",\"\",AG58)","v":""},"",null,null,null,null,null,null,null,null,{"$f":"IF(Sheet2!$A$107=TRUE,-1*(((AK58-$G58)-(AO58-$K58))/SQRT(((AL58^2*(AM58-1))+(AP58^2*(AQ58-1)))/(AM58+AQ58-2))),((AK58-$G58)-(AO58-$K58))/SQRT(((AL58^2*(AM58-1))+(AP58^2*(AQ58-1)))/(AM58+AQ58-2)))","v":{"$error":"#DIV/0!"}},{"$f":"IF(AK58=\"\",\"\",AR58)","v":""},"",null,null,null,null,null,null,null,null,{"$f":"IF(Sheet2!$A$107=TRUE,-1*(((AV58-$G58)-(AZ58-$K58))/SQRT(((AW58^2*(AX58-1))+(BA58^2*(BB58-1)))/(AX58+BB58-2))),((AV58-$G58)-(AZ58-$K58))/SQRT(((AW58^2*(AX58-1))+(BA58^2*(BB58-1)))/(AX58+BB58-2)))","v":{"$error":"#DIV/0!"}},{"$f":"IF(AV58=\"\",\"\",BC58)","v":""},"",null,null,null,null,null,null,null,null,{"$f":"IF(Sheet2!$A$107=TRUE,-1*(((BG58-$G58)-(BK58-$K58))/SQRT(((BH58^2*(BI58-1))+(BL58^2*(BM58-1)))/(BI58+BM58-2))),((BG58-$G58)-(BK58-$K58))/SQRT(((BH58^2*(BI58-1))+(BL58^2*(BM58-1)))/(BI58+BM58-2)))","v":{"$error":"#DIV/0!"}},{"$f":"IF(BG58=\"\",\"\",BN58)","v":""},"",null,null,null,null,null,null,null,null,{"$f":"IF(Sheet2!$A$107=TRUE,-1*(((BR58-$G58)-(BV58-$K58))/SQRT(((BS58^2*(BT58-1))+(BW58^2*(BX58-1)))/(BT58+BX58-2))),((BR58-$G58)-(BV58-$K58))/SQRT(((BS58^2*(BT58-1))+(BW58^2*(BX58-1)))/(BT58+BX58-2)))","v":{"$error":"#DIV/0!"}},{"$f":"IF(BR58=\"\",\"\",BY58)","v":""},""]
[null,null,"Outcome 54",null,null,null,null,null,null,null,null,null,null,null,null,null,null,null,null,null,null,{"$f":"IF(Sheet2!$A$108=TRUE,-1*(((O59-$G59)-(S59-$K59))/SQRT(((P59^2*(Q59-1))+(T59^2*(U59-1)))/(Q59+U59-2))),((O59-$G59)-(S59-$K59))/SQRT(((P59^2*(Q59-1))+(T59^2*(U59-1)))/(Q59+U59-2)))","v":{"$error":"#DIV/0!"}},{"$f":"IF(O59=\"\",\"\",V59)","v":""},{"$f":"IF(Q59=\"\",\"\",SQRT((Q59+U59)/(Q59*U59)+(W59^2/(2*(Q59+U59)))))","v":""},null,null,null,null,null,null,null,null,{"$f":"IF(Sheet2!$A$108=TRUE,-1*(((Z59-$G59)-(AD59-$K59))/SQRT(((AA59^2*(AB59-1))+(AE59^2*(AF59-1)))/(AB59+AF59-2))),((Z59-$G59)-(AD59-$K59))/SQRT(((AA59^2*(AB59-1))+(AE59^2*(AF59-1)))/(AB59+AF59-2)))","v":{"$error":"#DIV/0!"}},{"$f":"IF(Z59=\"\",\"\",AG59)","v":""},{"$f":"IF(AB59=\"\",\"\",SQRT((AB59+AF59)/(AB59*AF59)+(AH59^2/(2*(AB59+AF59)))))","v":""},null,null,null,null,null,null,null,null,{"$f":"IF(Sheet2!$A$108=TRUE,-1*(((AK59-$G59)-(AO59-$K59))/SQRT(((AL59^2*(AM59-1))+(AP59^2*(AQ59-1)))/(AM59+AQ59-2))),((AK59-$G59)-(AO59-$K59))/SQRT(((AL59^2*(AM59-1))+(AP59^2*(AQ59-1)))/(AM59+AQ59-2)))","v":{"$error":"#DIV/0!"}},{"$f":"IF(AK59=\"\",\"\",AR59)","v":""},{"$f":"IF(AM59=\"\",\"\",SQRT((AM59+AQ59)/(AM59*AQ59)+(AS59^2/(2*(AM59+AQ59)))))","v":""},null,null,null,null,null,null,null,null,{"$f":"IF(Sheet2!$A$108=TRUE,-1*(((AV59-$G59)-(AZ59-$K59))/SQRT(((AW59^2*(AX59-1))+(BA59^2*(BB59-1)))/(AX59+BB59-2))),((AV59-$G59)-(AZ59-$K59))/SQRT(((AW59^2*(AX59-1))+(BA59^2*(BB59-1)))/(AX59+BB59-2)))","v":{"$error":"#DIV/0!"}},{"$f":"IF(AV59=\"\",\"\",BC59)","v":""},{"$f":"IF(AX59=\"\",\"\",SQRT((AX59+BB59)/(AX59*BB59)+(BD59^2/(2*(AX59+BB59)))))","v":""},null,null,null,null,null,null,null,null,{"$f":"IF(Sheet2!$A$108=TRUE,-1*(((BG59-$G59)-(BK59-$K59))/SQRT(((BH59^2*(BI59-1))+(BL59^2*(BM59-1)))/(BI59+BM59-2))),((BG59-$G59)-(BK59-$K59))/SQRT(((BH59^2*(BI59-1))+(BL59^2*(BM59-1)))/(BI59+BM59-2)))","v":{"$error":"#DIV/0!"}},{"$f":"IF(BG59=\"\",\"\",BN59)","v":""},{"$f":"IF(BI59=\"\",\"\",SQRT((BI59+BM59)/(BI59*BM59)+(BO59^2/(2*(BI59+BM59)))))","v":""},null,null,null,null,null,null,null,null,{"$f":"IF(Sheet2!$A$108=TRUE,-1*(((BR59-$G59)-(BV59-$K59))/SQRT(((BS59^2*(BT59-1))+(BW59^2*(BX59-1)))/(BT59+BX59-2))),((BR59-$G59)-(BV59-$K59))/SQRT(((BS59^2*(BT59-1))+(BW59^2*(BX59-1)))/(BT59+BX59-2)))","v":{"$error":"#DIV/0!"}},{"$f":"IF(BR59=\"\",\"\",BY59)","v":""},{"$f":"IF(BT59=\"\",\"\",SQRT((BT59+BX59)/(BT59*BX59)+(BZ59^2/(2*(BT59+BX59)))))","v":""}]
[null,null,"Outcome 55",null,null,null,null,null,null,null,null,null,null,null,null,null,null,null,null,null,null,{"$f":"IF(Sheet2!$A$109=TRUE,-1*(((O60-$G60)-(S60-$K60))/SQRT(((P60^2*(Q60-1))+(T60^2*(U60-1)))/(Q60+U60-2))),((O60-$G60)-(S60-$K60))/SQRT(((P60^2*(Q60-1))+(T60^2*(U60-1)))/(Q60+U60-2)))","v":{"$error":"#DIV/0!"}},"","",null,null,null,null,null,null,null,null,{"$f":"IF(Sheet2!$A$109=TRUE,-1*(((Z60-$G60)-(AD60-$K60))/SQRT(((AA60^2*(AB60-1))+(AE60^2*(AF60-1)))/(AB60+AF60-2))),((Z60-$G60)-(AD60-$K60))/SQRT(((AA60^2*(AB60-1))+(AE60^2*(AF60-1)))/(AB60+AF60-2)))","v":{"$error":"#DIV/0!"}},"",{"$f":"IF(AB60=\"\",\"\",SQRT((AB60+AF60)/(AB60*AF60)+(AH60^2/(2*(AB60+AF60)))))","v":""},null,null,null,null,null,null,null,null,{"$f":"IF(Sheet2!$A$109=TRUE,-1*(((AK60-$G60)-(AO60-$K60))/SQRT(((AL60^2*(AM60-1))+(AP60^2*(AQ60-1)))/(AM60+AQ60-2))),((AK60-$G60)-(AO60-$K60))/SQRT(((AL60^2*(AM60-1))+(AP60^2*(AQ60-1)))/(AM60+AQ60-2)))","v":{"$error":"#DIV/0!"}},"",{"$f":"IF(AM60=\"\",\"\",SQRT((AM60+AQ60)/(AM60*AQ60)+(AS60^2/(2*(AM60+AQ60)))))","v":""},null,null,null,null,null,null,null,null,{"$f":"IF(Sheet2!$A$109=TRUE,-1*(((AV60-$G60)-(AZ60-$K60))/SQRT(((AW60^2*(AX60-1))+(BA60^2*(BB60-1)))/(AX60+BB60-2))),((AV60-$G60)-(AZ60-$K60))/SQRT(((AW60^2*(AX60-1))+(BA60^2*(BB60-1)))/(AX60+BB60-2)))","v":{"$error":"#DIV/0!"}},"",{"$f":"IF(AX60=\"\",\"\",SQRT((AX60+BB60)/(AX60*BB60)+(BD60^2/(2*(AX60+BB60)))))","v":""},null,null,null,null,null,null,null,null,{"$f":"IF(Sheet2!$A$109=TRUE,-1*(((BG60-$G60)-(BK60-$K60))/SQRT(((BH60^2*(BI60-1))+(BL60^2*(BM60-1)))/(BI60+BM60-2))),((BG60-$G60)-(BK60-$K60))/SQRT(((BH60^2*(BI60-1))+(BL60^2*(BM60-1)))/(BI60+BM60-2)))","v":{"$error":"#DIV/0!"}},"",{"$f":"IF(BI60=\"\",\"\",SQRT((BI60+BM60)/(BI60*BM60)+(BO60^2/(2*(BI60+BM60)))))","v":""},null,null,null,null,null,null,null,null,{"$f":"IF(Sheet2!$A$109=TRUE,-1*(((BR60-$G60)-(BV60-$K60))/SQRT(((BS60^2*(BT60-1))+(BW60^2*(BX60-1)))/(BT60+BX60-2))),((BR60-$G60)-(BV60-$K60))/SQRT(((BS60^2*(BT60-1))+(BW60^2*(BX60-1)))/(BT60+BX60-2)))","v":{"$error":"#DIV/0!"}},"",{"$f":"IF(BT60=\"\",\"\",SQRT((BT60+BX60)/(BT60*BX60)+(BZ60^2/(2*(BT60+BX60)))))","v":""}]
[null,null,"Outcome 56",null,null,null,null,null,null,null,null,null,null,null,null,null,null,null,null,null,null,{"$f":"IF(Sheet2!$A$113=TRUE,-1*(((O61-$G61)-(S61-$K61))/SQRT(((P61^2*(Q61-1))+(T61^2*(U61-1)))/(Q61+U61-2))),((O61-$G61)-(S61-$K61))/SQRT(((P61^2*(Q61-1))+(T61^2*(U61-1)))/(Q61+U61-2)))","v":{"$error":"#DIV/0!"}},{"$f":"IF(O61=\"\",\"\",V61)","v":""},{"$f":"IF(Q61=\"\",\"\",SQRT((Q61+U61)/(Q61*U61)+(W61^2/(2*(Q61+U61)))))","v":""},null,null,null,null,null,null,null,null,{"$f":"IF(Sheet2!$A$113=TRUE,-1*(((Z61-$G61)-(AD61-$K61))/SQRT(((AA61^2*(AB61-1))+(AE61^2*(AF61-1)))/(AB61+AF61-2))),((Z61-$G61)-(AD61-$K61))/SQRT(((AA61^2*(AB61-1))+(AE61^2*(AF61-1)))/(AB61+AF61-2)))","v":{"$error":"#DIV/0!"}},{"$f":"IF(Z61=\"\",\"\",AG61)","v":""},{"$f":"IF(AB61=\"\",\"\",SQRT((AB61+AF61)/(AB61*AF61)+(AH61^2/(2*(AB61+AF61)))))","v":""},null,null,null,null,null,null,null,null,{"$f":"IF(Sheet2!$A$113=TRUE,-1*(((AK61-$G61)-(AO61-$K61))/SQRT(((AL61^2*(AM61-1))+(AP61^2*(AQ61-1)))/(AM61+AQ61-2))),((AK61-$G61)-(AO61-$K61))/SQRT(((AL61^2*(AM61-1))+(AP61^2*(AQ61-1)))/(AM61+AQ61-2)))","v":{"$error":"#DIV/0!"}},{"$f":"IF(AK61=\"\",\"\",AR61)","v":""},{"$f":"IF(AM61=\"\",\"\",SQRT((AM61+AQ61)/(AM61*AQ61)+(AS61^2/(2*(AM61+AQ61)))))","v":""},null,null,null,null,null,null,null,null,{"$f":"IF(Sheet2!$A$113=TRUE,-1*(((AV61-$G61)-(AZ61-$K61))/SQRT(((AW61^2*(AX61-1))+(BA61^2*(BB61-1)))/(AX61+BB61-2))),((AV61-$G61)-(AZ61-$K61))/SQRT(((AW61^2*(AX61-1))+(BA61^2*(BB61-1)))/(AX61+BB61-2)))","v":{"$error":"#DIV/0!"}},{"$f":"IF(AV61=\"\",\"\",BC61)","v":""},{"$f":"IF(AX61=\"\",\"\",SQRT((AX61+BB61)/(AX61*BB61)+(BD61^2/(2*(AX61+BB61)))))","v":""},null,null,null,null,null,null,null,null,{"$f":"IF(Sheet2!$A$113=TRUE,-1*(((BG61-$G61)-(BK61-$K61))/SQRT(((BH61^2*(BI61-1))+(BL61^2*(BM61-1)))/(BI61+BM61-2))),((BG61-$G61)-(BK61-$K61))/SQRT(((BH61^2*(BI61-1))+(BL61^2*(BM61-1)))/(BI61+BM61-2)))","v":{"$error":"#DIV/0!"}},{"$f":"IF(BG61=\"\",\"\",BN61)","v":""},{"$f":"IF(BI61=\"\",\"\",SQRT((BI61+BM61)/(BI61*BM61)+(BO61^2/(2*(BI61+BM61)))))","v":""},null,null,null,null,null,null,null,null,{"$f":"IF(Sheet2!$A$113=TRUE,-1*(((BR61-$G61)-(BV61-$K61))/SQRT(((BS61^2*(BT61-1))+(BW61^2*(BX61-1)))/(BT61+BX61-2))),((BR61-$G61)-(BV61-$K61))/SQRT(((BS61^2*(BT61-1))+(BW61^2*(BX61-1)))/(BT61+BX61-2)))","v":{"$error":"#DIV/0!"}},{"$f":"IF(BR61=\"\",\"\",BY61)","v":""},{"$f":"IF(BT61=\"\",\"\",SQRT((BT61+BX61)/(BT61*BX61)+(BZ61^2/(2*(BT61+BX61)))))","v":""}]
[null,null,"Outcome 57",null,null,null,null,null,null,null,null,null,null,null,null,null,null,null,null,null,null,{"$f":"IF(Sheet2!$A$114=TRUE,-1*(((O62-$G62)-(S62-$K62))/SQRT(((P62^2*(Q62-1))+(T62^2*(U62-1)))/(Q62+U62-2))),((O62-$G62)-(S62-$K62))/SQRT(((P62^2*(Q62-1))+(T62^2*(U62-1)))/(Q62+U62-2)))","v":{"$error":"#DIV/0!"}},{"$f":"IF(O62=\"\",\"\",V62)","v":""},{"$f":"IF(Q62=\"\",\"\",SQRT((Q62+U62)/(Q62*U62)+(W62^2/(2*(Q62+U62)))))","v":""},null,null,null,null,null,null,null,null,{"$f":"IF(Sheet2!$A$114=TRUE,-1*(((Z62-$G62)-(AD62-$K62))/SQRT(((AA62^2*(AB62-1))+(AE62^2*(AF62-1)))/(AB62+AF62-2))),((Z62-$G62)-(AD62-$K62))/SQRT(((AA62^2*(AB62-1))+(AE62^2*(AF62-1)))/(AB62+AF62-2)))","v":{"$error":"#DIV/0!"}},{"$f":"IF(Z62=\"\",\"\",AG62)","v":""},{"$f":"IF(AB62=\"\",\"\",SQRT((AB62+AF62)/(AB62*AF62)+(AH62^2/(2*(AB62+AF62)))))","v":""},null,null,null,null,null,null,null,null,{"$f":"IF(Sheet2!$A$114=TRUE,-1*(((AK62-$G62)-(AO62-$K62))/SQRT(((AL62^2*(AM62-1))+(AP62^2*(AQ62-1)))/(AM62+AQ62-2))),((AK62-$G62)-(AO62-$K62))/SQRT(((AL62^2*(AM62-1))+(AP62^2*(AQ62-1)))/(AM62+AQ62-2)))","v":{"$error":"#DIV/0!"}},{"$f":"IF(AK62=\"\",\"\",AR62)","v":""},{"$f":"IF(AM62=\"\",\"\",SQRT((AM62+AQ62)/(AM62*AQ62)+(AS62^2/(2*(AM62+AQ62)))))","v":""},null,null,null,null,null,null,null,null,{"$f":"IF(Sheet2!$A$114=TRUE,-1*(((AV62-$G62)-(AZ62-$K62))/SQRT(((AW62^2*(AX62-1))+(BA62^2*(BB62-1)))/(AX62+BB62-2))),((AV62-$G62)-(AZ62-$K62))/SQRT(((AW62^2*(AX62-1))+(BA62^2*(BB62-1)))/(AX62+BB62-2)))","v":{"$error":"#DIV/0!"}},{"$f":"IF(AV62=\"\",\"\",BC62)","v":""},{"$f":"IF(AX62=\"\",\"\",SQRT((AX62+BB62)/(AX62*BB62)+(BD62^2/(2*(AX62+BB62)))))","v":""},null,null,null,null,null,null,null,null,{"$f":"IF(Sheet2!$A$114=TRUE,-1*(((BG62-$G62)-(BK62-$K62))/SQRT(((BH62^2*(BI62-1))+(BL62^2*(BM62-1)))/(BI62+BM62-2))),((BG62-$G62)-(BK62-$K62))/SQRT(((BH62^2*(BI62-1))+(BL62^2*(BM62-1)))/(BI62+BM62-2)))","v":{"$error":"#DIV/0!"}},{"$f":"IF(BG62=\"\",\"\",BN62)","v":""},{"$f":"IF(BI62=\"\",\"\",SQRT((BI62+BM62)/(BI62*BM62)+(BO62^2/(2*(BI62+BM62)))))","v":""},null,null,null,null,null,null,null,null,{"$f":"IF(Sheet2!$A$114=TRUE,-1*(((BR62-$G62)-(BV62-$K62))/SQRT(((BS62^2*(BT62-1))+(BW62^2*(BX62-1)))/(BT62+BX62-2))),((BR62-$G62)-(BV62-$K62))/SQRT(((BS62^2*(BT62-1))+(BW62^2*(BX62-1)))/(BT62+BX62-2)))","v":{"$error":"#DIV/0!"}},{"$f":"IF(BR62=\"\",\"\",BY62)","v":""},{"$f":"IF(BT62=\"\",\"\",SQRT((BT62+BX62)/(BT62*BX62)+(BZ62^2/(2*(BT62+BX62)))))","v":""}]
[null,null,"Outcome 58",null,null,null,null,null,null,null,null,null,null,null,null,null,null,null,null,null,null,{"$f":"IF(Sheet2!$A$115=TRUE,-1*(((O63-$G63)-(S63-$K63))/SQRT(((P63^2*(Q63-1))+(T63^2*(U63-1)))/(Q63+U63-2))),((O63-$G63)-(S63-$K63))/SQRT(((P63^2*(Q63-1))+(T63^2*(U63-1)))/(Q63+U63-2)))","v":{"$error":"#DIV/0!"}},{"$f":"IF(O63=\"\",\"\",V63)","v":""},"",null,null,null,null,null,null,null,null,{"$f":"IF(Sheet2!$A$115=TRUE,-1*(((Z63-$G63)-(AD63-$K63))/SQRT(((AA63^2*(AB63-1))+(AE63^2*(AF63-1)))/(AB63+AF63-2))),((Z63-$G63)-(AD63-$K63))/SQRT(((AA63^2*(AB63-1))+(AE63^2*(AF63-1)))/(AB63+AF63-2)))","v":{"$error":"#DIV/0!"}},{"$f":"IF(Z63=\"\",\"\",AG63)","v":""},"",null,null,null,null,null,null,null,null,{"$f":"IF(Sheet2!$A$115=TRUE,-1*(((AK63-$G63)-(AO63-$K63))/SQRT(((AL63^2*(AM63-1))+(AP63^2*(AQ63-1)))/(AM63+AQ63-2))),((AK63-$G63)-(AO63-$K63))/SQRT(((AL63^2*(AM63-1))+(AP63^2*(AQ63-1)))/(AM63+AQ63-2)))","v":{"$error":"#DIV/0!"}},{"$f":"IF(AK63=\"\",\"\",AR63)","v":""},"",null,null,null,null,null,null,null,null,{"$f":"IF(Sheet2!$A$115=TRUE,-1*(((AV63-$G63)-(AZ63-$K63))/SQRT(((AW63^2*(AX63-1))+(BA63^2*(BB63-1)))/(AX63+BB63-2))),((AV63-$G63)-(AZ63-$K63))/SQRT(((AW63^2*(AX63-1))+(BA63^2*(BB63-1)))/(AX63+BB63-2)))","v":{"$error":"#DIV/0!"}},{"$f":"IF(AV63=\"\",\"\",BC63)","v":""},"",null,null,null,null,null,null,null,null,{"$f":"IF(Sheet2!$A$115=TRUE,-1*(((BG63-$G63)-(BK63-$K63))/SQRT(((BH63^2*(BI63-1))+(BL63^2*(BM63-1)))/(BI63+BM63-2))),((BG63-$G63)-(BK63-$K63))/SQRT(((BH63^2*(BI63-1))+(BL63^2*(BM63-1)))/(BI63+BM63-2)))","v":{"$error":"#DIV/0!"}},{"$f":"IF(BG63=\"\",\"\",BN63)","v":""},"",null,null,null,null,null,null,null,null,{"$f":"IF(Sheet2!$A$115=TRUE,-1*(((BR63-$G63)-(BV63-$K63))/SQRT(((BS63^2*(BT63-1))+(BW63^2*(BX63-1)))/(BT63+BX63-2))),((BR63-$G63)-(BV63-$K63))/SQRT(((BS63^2*(BT63-1))+(BW63^2*(BX63-1)))/(BT63+BX63-2)))","v":{"$error":"#DIV/0!"}},{"$f":"IF(BR63=\"\",\"\",BY63)","v":""},""]
[null,null,"Outcome 59",null,null,null,null,null,null,null,null,null,null,null,null,null,null,null,null,null,null,{"$f":"IF(Sheet2!$A$116=TRUE,-1*(((O64-$G64)-(S64-$K64))/SQRT(((P64^2*(Q64-1))+(T64^2*(U64-1)))/(Q64+U64-2))),((O64-$G64)-(S64-$K64))/SQRT(((P64^2*(Q64-1))+(T64^2*(U64-1)))/(Q64+U64-2)))","v":{"$error":"#DIV/0!"}},{"$f":"IF(O64=\"\",\"\",V64)","v":""},{"$f":"IF(Q64=\"\",\"\",SQRT((Q64+U64)/(Q64*U64)+(W64^2/(2*(Q64+U64)))))","v":""},null,null,null,null,null,null,null,null,{"$f":"IF(Sheet2!$A$116=TRUE,-1*(((Z64-$G64)-(AD64-$K64))/SQRT(((AA64^2*(AB64-1))+(AE64^2*(AF64-1)))/(AB64+AF64-2))),((Z64-$G64)-(AD64-$K64))/SQRT(((AA64^2*(AB64-1))+(AE64^2*(AF64-1)))/(AB64+AF64-2)))","v":{"$error":"#DIV/0!"}},{"$f":"IF(Z64=\"\",\"\",AG64)","v":""},{"$f":"IF(AB64=\"\",\"\",SQRT((AB64+AF64)/(AB64*AF64)+(AH64^2/(2*(AB64+AF64)))))","v":""},null,null,null,null,null,null,null,null,{"$f":"IF(Sheet2!$A$116=TRUE,-1*(((AK64-$G64)-(AO64-$K64))/SQRT(((AL64^2*(AM64-1))+(AP64^2*(AQ64-1)))/(AM64+AQ64-2))),((AK64-$G64)-(AO64-$K64))/SQRT(((AL64^2*(AM64-1))+(AP64^2*(AQ64-1)))/(AM64+AQ64-2)))","v":{"$error":"#DIV/0!"}},{"$f":"IF(AK64=\"\",\"\",AR64)","v":""},{"$f":"IF(AM64=\"\",\"\",SQRT((AM64+AQ64)/(AM64*AQ64)+(AS64^2/(2*(AM64+AQ64)))))","v":""},null,null,null,null,null,null,null,null,{"$f":"IF(Sheet2!$A$116=TRUE,-1*(((AV64-$G64)-(AZ64-$K64))/SQRT(((AW64^2*(AX64-1))+(BA64^2*(BB64-1)))/(AX64+BB64-2))),((AV64-$G64)-(AZ64-$K64))/SQRT(((AW64^2*(AX64-1))+(BA64^2*(BB64-1)))/(AX64+BB64-2)))","v":{"$error":"#DIV/0!"}},{"$f":"IF(AV64=\"\",\"\",BC64)","v":""},{"$f":"IF(AX64=\"\",\"\",SQRT((AX64+BB64)/(AX64*BB64)+(BD64^2/(2*(AX64+BB64)))))","v":""},null,null,null,null,null,null,null,null,{"$f":"IF(Sheet2!$A$116=TRUE,-1*(((BG64-$G64)-(BK64-$K64))/SQRT(((BH64^2*(BI64-1))+(BL64^2*(BM64-1)))/(BI64+BM64-2))),((BG64-$G64)-(BK64-$K64))/SQRT(((BH64^2*(BI64-1))+(BL64^2*(BM64-1)))/(BI64+BM64-2)))","v":{"$error":"#DIV/0!"}},{"$f":"IF(BG64=\"\",\"\",BN64)","v":""},{"$f":"IF(BI64=\"\",\"\",SQRT((BI64+BM64)/(BI64*BM64)+(BO64^2/(2*(BI64+BM64)))))","v":""},null,null,null,null,null,null,null,null,{"$f":"IF(Sheet2!$A$116=TRUE,-1*(((BR64-$G64)-(BV64-$K64))/SQRT(((BS64^2*(BT64-1))+(BW64^2*(BX64-1)))/(BT64+BX64-2))),((BR64-$G64)-(BV64-$K64))/SQRT(((BS64^2*(BT64-1))+(BW64^2*(BX64-1)))/(BT64+BX64-2)))","v":{"$error":"#DIV/0!"}},{"$f":"IF(BR64=\"\",\"\",BY64)","v":""},{"$f":"IF(BT64=\"\",\"\",SQRT((BT64+BX64)/(BT64*BX64)+(BZ64^2/(2*(BT64+BX64)))))","v":""}]
[null,null,"Outcome 60",null,null,null,null,null,null,null,null,null,null,null,null,null,null,null,null,null,null,{"$f":"IF(Sheet2!$A$117=TRUE,-1*(((O65-$G65)-(S65-$K65))/SQRT(((P65^2*(Q65-1))+(T65^2*(U65-1)))/(Q65+U65-2))),((O65-$G65)-(S65-$K65))/SQRT(((P65^2*(Q65-1))+(T65^2*(U65-1)))/(Q65+U65-2)))","v":{"$error":"#DIV/0!"}},"","",null,null,null,null,null,null,null,null,{"$f":"IF(Sheet2!$A$117=TRUE,-1*(((Z65-$G65)-(AD65-$K65))/SQRT(((AA65^2*(AB65-1))+(AE65^2*(AF65-1)))/(AB65+AF65-2))),((Z65-$G65)-(AD65-$K65))/SQRT(((AA65^2*(AB65-1))+(AE65^2*(AF65-1)))/(AB65+AF65-2)))","v":{"$error":"#DIV/0!"}},"",{"$f":"IF(AB65=\"\",\"\",SQRT((AB65+AF65)/(AB65*AF65)+(AH65^2/(2*(AB65+AF65)))))","v":""},null,null,null,null,null,null,null,null,{"$f":"IF(Sheet2!$A$117=TRUE,-1*(((AK65-$G65)-(AO65-$K65))/SQRT(((AL65^2*(AM65-1))+(AP65^2*(AQ65-1)))/(AM65+AQ65-2))),((AK65-$G65)-(AO65-$K65))/SQRT(((AL65^2*(AM65-1))+(AP65^2*(AQ65-1)))/(AM65+AQ65-2)))","v":{"$error":"#DIV/0!"}},"",{"$f":"IF(AM65=\"\",\"\",SQRT((AM65+AQ65)/(AM65*AQ65)+(AS65^2/(2*(AM65+AQ65)))))","v":""},null,null,null,null,null,null,null,null,{"$f":"IF(Sheet2!$A$117=TRUE,-1*(((AV65-$G65)-(AZ65-$K65))/SQRT(((AW65^2*(AX65-1))+(BA65^2*(BB65-1)))/(AX65+BB65-2))),((AV65-$G65)-(AZ65-$K65))/SQRT(((AW65^2*(AX65-1))+(BA65^2*(BB65-1)))/(AX65+BB65-2)))","v":{"$error":"#DIV/0!"}},"",{"$f":"IF(AX65=\"\",\"\",SQRT((AX65+BB65)/(AX65*BB65)+(BD65^2/(2*(AX65+BB65)))))","v":""},null,null,null,null,null,null,null,null,{"$f":"IF(Sheet2!$A$117=TRUE,-1*(((BG65-$G65)-(BK65-$K65))/SQRT(((BH65^2*(BI65-1))+(BL65^2*(BM65-1)))/(BI65+BM65-2))),((BG65-$G65)-(BK65-$K65))/SQRT(((BH65^2*(BI65-1))+(BL65^2*(BM65-1)))/(BI65+BM65-2)))","v":{"$error":"#DIV/0!"}},"",{"$f":"IF(BI65=\"\",\"\",SQRT((BI65+BM65)/(BI65*BM65)+(BO65^2/(2*(BI65+BM65)))))","v":""},null,null,null,null,null,null,null,null,{"$f":"IF(Sheet2!$A$117=TRUE,-1*(((BR65-$G65)-(BV65-$K65))/SQRT(((BS65^2*(BT65-1))+(BW65^2*(BX65-1)))/(BT65+BX65-2))),((BR65-$G65)-(BV65-$K65))/SQRT(((BS65^2*(BT65-1))+(BW65^2*(BX65-1)))/(BT65+BX65-2)))","v":{"$error":"#DIV/0!"}},"",{"$f":"IF(BT65=\"\",\"\",SQRT((BT65+BX65)/(BT65*BX65)+(BZ65^2/(2*(BT65+BX65)))))","v":""}]
[null,null,"Outcome 61",null,null,null,null,null,null,null,null,null,null,null,null,null,null,null,null,null,null,{"$f":"IF(Sheet2!$A$121=TRUE,-1*(((O66-$G66)-(S66-$K66))/SQRT(((P66^2*(Q66-1))+(T66^2*(U66-1)))/(Q66+U66-2))),((O66-$G66)-(S66-$K66))/SQRT(((P66^2*(Q66-1))+(T66^2*(U66-1)))/(Q66+U66-2)))","v":{"$error":"#DIV/0!"}},{"$f":"IF(O66=\"\",\"\",V66)","v":""},{"$f":"IF(Q66=\"\",\"\",SQRT((Q66+U66)/(Q66*U66)+(W66^2/(2*(Q66+U66)))))","v":""},null,null,null,null,null,null,null,null,{"$f":"IF(Sheet2!$A$121=TRUE,-1*(((Z66-$G66)-(AD66-$K66))/SQRT(((AA66^2*(AB66-1))+(AE66^2*(AF66-1)))/(AB66+AF66-2))),((Z66-$G66)-(AD66-$K66))/SQRT(((AA66^2*(AB66-1))+(AE66^2*(AF66-1)))/(AB66+AF66-2)))","v":{"$error":"#DIV/0!"}},{"$f":"IF(Z66=\"\",\"\",AG66)","v":""},{"$f":"IF(AB66=\"\",\"\",SQRT((AB66+AF66)/(AB66*AF66)+(AH66^2/(2*(AB66+AF66)))))","v":""},null,null,null,null,null,null,null,null,{"$f":"IF(Sheet2!$A$121=TRUE,-1*(((AK66-$G66)-(AO66-$K66))/SQRT(((AL66^2*(AM66-1))+(AP66^2*(AQ66-1)))/(AM66+AQ66-2))),((AK66-$G66)-(AO66-$K66))/SQRT(((AL66^2*(AM66-1))+(AP66^2*(AQ66-1)))/(AM66+AQ66-2)))","v":{"$error":"#DIV/0!"}},{"$f":"IF(AK66=\"\",\"\",AR66)","v":""},{"$f":"IF(AM66=\"\",\"\",SQRT((AM66+AQ66)/(AM66*AQ66)+(AS66^2/(2*(AM66+AQ66)))))","v":""},null,null,null,null,null,null,null,null,{"$f":"IF(Sheet2!$A$121=TRUE,-1*(((AV66-$G66)-(AZ66-$K66))/SQRT(((AW66^2*(AX66-1))+(BA66^2*(BB66-1)))/(AX66+BB66-2))),((AV66-$G66)-(AZ66-$K66))/SQRT(((AW66^2*(AX66-1))+(BA66^2*(BB66-1)))/(AX66+BB66-2)))","v":{"$error":"#DIV/0!"}},{"$f":"IF(AV66=\"\",\"\",BC66)","v":""},{"$f":"IF(AX66=\"\",\"\",SQRT((AX66+BB66)/(AX66*BB66)+(BD66^2/(2*(AX66+BB66)))))","v":""},null,null,null,null,null,null,null,null,{"$f":"IF(Sheet2!$A$121=TRUE,-1*(((BG66-$G66)-(BK66-$K66))/SQRT(((BH66^2*(BI66-1))+(BL66^2*(BM66-1)))/(BI66+BM66-2))),((BG66-$G66)-(BK66-$K66))/SQRT(((BH66^2*(BI66-1))+(BL66^2*(BM66-1)))/(BI66+BM66-2)))","v":{"$error":"#DIV/0!"}},{"$f":"IF(BG66=\"\",\"\",BN66)","v":""},{"$f":"IF(BI66=\"\",\"\",SQRT((BI66+BM66)/(BI66*BM66)+(BO66^2/(2*(BI66+BM66)))))","v":""},null,null,null,null,null,null,null,null,{"$f":"IF(Sheet2!$A$121=TRUE,-1*(((BR66-$G66)-(BV66-$K66))/SQRT(((BS66^2*(BT66-1))+(BW66^2*(BX66-1)))/(BT66+BX66-2))),((BR66-$G66)-(BV66-$K66))/SQRT(((BS66^2*(BT66-1))+(BW66^2*(BX66-1)))/(BT66+BX66-2)))","v":{"$error":"#DIV/0!"}},{"$f":"IF(BR66=\"\",\"\",BY66)","v":""},{"$f":"IF(BT66=\"\",\"\",SQRT((BT66+BX66)/(BT66*BX66)+(BZ66^2/(2*(BT66+BX66)))))","v":""}]
[null,null,"Outcome 62",null,null,null,null,null,null,null,null,null,null,null,null,null,null,null,null,null,null,{"$f":"IF(Sheet2!$A$122=TRUE,-1*(((O67-$G67)-(S67-$K67))/SQRT(((P67^2*(Q67-1))+(T67^2*(U67-1)))/(Q67+U67-2))),((O67-$G67)-(S67-$K67))/SQRT(((P67^2*(Q67-1))+(T67^2*(U67-1)))/(Q67+U67-2)))","v":{"$error":"#DIV/0!"}},{"$f":"IF(O67=\"\",\"\",V67)","v":""},{"$f":"IF(Q67=\"\",\"\",SQRT((Q67+U67)/(Q67*U67)+(W67^2/(2*(Q67+U67)))))","v":""},null,null,null,null,null,null,null,null,{"$f":"IF(Sheet2!$A$122=TRUE,-1*(((Z67-$G67)-(AD67-$K67))/SQRT(((AA67^2*(AB67-1))+(AE67^2*(AF67-1)))/(AB67+AF67-2))),((Z67-$G67)-(AD67-$K67))/SQRT(((AA67^2*(AB67-1))+(AE67^2*(AF67-1)))/(AB67+AF67-2)))","v":{"$error":"#DIV/0!"}},{"$f":"IF(Z67=\"\",\"\",AG67)","v":""},{"$f":"IF(AB67=\"\",\"\",SQRT((AB67+AF67)/(AB67*AF67)+(AH67^2/(2*(AB67+AF67)))))","v":""},null,null,null,null,null,null,null,null,{"$f":"IF(Sheet2!$A$122=TRUE,-1*(((AK67-$G67)-(AO67-$K67))/SQRT(((AL67^2*(AM67-1))+(AP67^2*(AQ67-1)))/(AM67+AQ67-2))),((AK67-$G67)-(AO67-$K67))/SQRT(((AL67^2*(AM67-1))+(AP67^2*(AQ67-1)))/(AM67+AQ67-2)))","v":{"$error":"#DIV/0!"}},{"$f":"IF(AK67=\"\",\"\",AR67)","v":""},{"$f":"IF(AM67=\"\",\"\",SQRT((AM67+AQ67)/(AM67*AQ67)+(AS67^2/(2*(AM67+AQ67)))))","v":""},null,null,null,null,null,null,null,null,{"$f":"IF(Sheet2!$A$122=TRUE,-1*(((AV67-$G67)-(AZ67-$K67))/SQRT(((AW67^2*(AX67-1))+(BA67^2*(BB67-1)))/(AX67+BB67-2))),((AV67-$G67)-(AZ67-$K67))/SQRT(((AW67^2*(AX67-1))+(BA67^2*(BB67-1)))/(AX67+BB67-2)))","v":{"$error":"#DIV/0!"}},{"$f":"IF(AV67=\"\",\"\",BC67)","v":""},{"$f":"IF(AX67=\"\",\"\",SQRT((AX67+BB67)/(AX67*BB67)+(BD67^2/(2*(AX67+BB67)))))","v":""},null,null,null,null,null,null,null,null,{"$f":"IF(Sheet2!$A$122=TRUE,-1*(((BG67-$G67)-(BK67-$K67))/SQRT(((BH67^2*(BI67-1))+(BL67^2*(BM67-1)))/(BI67+BM67-2))),((BG67-$G67)-(BK67-$K67))/SQRT(((BH67^2*(BI67-1))+(BL67^2*(BM67-1)))/(BI67+BM67-2)))","v":{"$error":"#DIV/0!"}},{"$f":"IF(BG67=\"\",\"\",BN67)","v":""},{"$f":"IF(BI67=\"\",\"\",SQRT((BI67+BM67)/(BI67*BM67)+(BO67^2/(2*(BI67+BM67)))))","v":""},null,null,null,null,null,null,null,null,{"$f":"IF(Sheet2!$A$122=TRUE,-1*(((BR67-$G67)-(BV67-$K67))/SQRT(((BS67^2*(BT67-1))+(BW67^2*(BX67-1)))/(BT67+BX67-2))),((BR67-$G67)-(BV67-$K67))/SQRT(((BS67^2*(BT67-1))+(BW67^2*(BX67-1)))/(BT67+BX67-2)))","v":{"$error":"#DIV/0!"}},{"$f":"IF(BR67=\"\",\"\",BY67)","v":""},{"$f":"IF(BT67=\"\",\"\",SQRT((BT67+BX67)/(BT67*BX67)+(BZ67^2/(2*(BT67+BX67)))))","v":""}]
[null,null,"Outcome 63",null,null,null,null,null,null,null,null,null,null,null,null,null,null,null,null,null,null,{"$f":"IF(Sheet2!$A$123=TRUE,-1*(((O68-$G68)-(S68-$K68))/SQRT(((P68^2*(Q68-1))+(T68^2*(U68-1)))/(Q68+U68-2))),((O68-$G68)-(S68-$K68))/SQRT(((P68^2*(Q68-1))+(T68^2*(U68-1)))/(Q68+U68-2)))","v":{"$error":"#DIV/0!"}},{"$f":"IF(O68=\"\",\"\",V68)","v":""},"",null,null,null,null,null,null,null,null,{"$f":"IF(Sheet2!$A$123=TRUE,-1*(((Z68-$G68)-(AD68-$K68))/SQRT(((AA68^2*(AB68-1))+(AE68^2*(AF68-1)))/(AB68+AF68-2))),((Z68-$G68)-(AD68-$K68))/SQRT(((AA68^2*(AB68-1))+(AE68^2*(AF68-1)))/(AB68+AF68-2)))","v":{"$error":"#DIV/0!"}},{"$f":"IF(Z68=\"\",\"\",AG68)","v":""},"",null,null,null,null,null,null,null,null,{"$f":"IF(Sheet2!$A$123=TRUE,-1*(((AK68-$G68)-(AO68-$K68))/SQRT(((AL68^2*(AM68-1))+(AP68^2*(AQ68-1)))/(AM68+AQ68-2))),((AK68-$G68)-(AO68-$K68))/SQRT(((AL68^2*(AM68-1))+(AP68^2*(AQ68-1)))/(AM68+AQ68-2)))","v":{"$error":"#DIV/0!"}},{"$f":"IF(AK68=\"\",\"\",AR68)","v":""},"",null,null,null,null,null,null,null,null,{"$f":"IF(Sheet2!$A$123=TRUE,-1*(((AV68-$G68)-(AZ68-$K68))/SQRT(((AW68^2*(AX68-1))+(BA68^2*(BB68-1)))/(AX68+BB68-2))),((AV68-$G68)-(AZ68-$K68))/SQRT(((AW68^2*(AX68-1))+(BA68^2*(BB68-1)))/(AX68+BB68-2)))","v":{"$error":"#DIV/0!"}},{"$f":"IF(AV68=\"\",\"\",BC68)","v":""},"",null,null,null,null,null,null,null,null,{"$f":"IF(Sheet2!$A$123=TRUE,-1*(((BG68-$G68)-(BK68-$K68))/SQRT(((BH68^2*(BI68-1))+(BL68^2*(BM68-1)))/(BI68+BM68-2))),((BG68-$G68)-(BK68-$K68))/SQRT(((BH68^2*(BI68-1))+(BL68^2*(BM68-1)))/(BI68+BM68-2)))","v":{"$error":"#DIV/0!"}},{"$f":"IF(BG68=\"\",\"\",BN68)","v":""},"",null,null,null,null,null,null,null,null,{"$f":"IF(Sheet2!$A$123=TRUE,-1*(((BR68-$G68)-(BV68-$K68))/SQRT(((BS68^2*(BT68-1))+(BW68^2*(BX68-1)))/(BT68+BX68-2))),((BR68-$G68)-(BV68-$K68))/SQRT(((BS68^2*(BT68-1))+(BW68^2*(BX68-1)))/(BT68+BX68-2)))","v":{"$error":"#DIV/0!"}},{"$f":"IF(BR68=\"\",\"\",BY68)","v":""},""]
[null,null,"Outcome 64",null,null,null,null,null,null,null,null,null,null,null,null,null,null,null,null,null,null,{"$f":"IF(Sheet2!$A$124=TRUE,-1*(((O69-$G69)-(S69-$K69))/SQRT(((P69^2*(Q69-1))+(T69^2*(U69-1)))/(Q69+U69-2))),((O69-$G69)-(S69-$K69))/SQRT(((P69^2*(Q69-1))+(T69^2*(U69-1)))/(Q69+U69-2)))","v":{"$error":"#DIV/0!"}},{"$f":"IF(O69=\"\",\"\",V69)","v":""},{"$f":"IF(Q69=\"\",\"\",SQRT((Q69+U69)/(Q69*U69)+(W69^2/(2*(Q69+U69)))))","v":""},null,null,null,null,null,null,null,null,{"$f":"IF(Sheet2!$A$124=TRUE,-1*(((Z69-$G69)-(AD69-$K69))/SQRT(((AA69^2*(AB69-1))+(AE69^2*(AF69-1)))/(AB69+AF69-2))),((Z69-$G69)-(AD69-$K69))/SQRT(((AA69^2*(AB69-1))+(AE69^2*(AF69-1)))/(AB69+AF69-2)))","v":{"$error":"#DIV/0!"}},{"$f":"IF(Z69=\"\",\"\",AG69)","v":""},{"$f":"IF(AB69=\"\",\"\",SQRT((AB69+AF69)/(AB69*AF69)+(AH69^2/(2*(AB69+AF69)))))","v":""},null,null,null,null,null,null,null,null,{"$f":"IF(Sheet2!$A$124=TRUE,-1*(((AK69-$G69)-(AO69-$K69))/SQRT(((AL69^2*(AM69-1))+(AP69^2*(AQ69-1)))/(AM69+AQ69-2))),((AK69-$G69)-(AO69-$K69))/SQRT(((AL69^2*(AM69-1))+(AP69^2*(AQ69-1)))/(AM69+AQ69-2)))","v":{"$error":"#DIV/0!"}},{"$f":"IF(AK69=\"\",\"\",AR69)","v":""},{"$f":"IF(AM69=\"\",\"\",SQRT((AM69+AQ69)/(AM69*AQ69)+(AS69^2/(2*(AM69+AQ69)))))","v":""},null,null,null,null,null,null,null,null,{"$f":"IF(Sheet2!$A$124=TRUE,-1*(((AV69-$G69)-(AZ69-$K69))/SQRT(((AW69^2*(AX69-1))+(BA69^2*(BB69-1)))/(AX69+BB69-2))),((AV69-$G69)-(AZ69-$K69))/SQRT(((AW69^2*(AX69-1))+(BA69^2*(BB69-1)))/(AX69+BB69-2)))","v":{"$error":"#DIV/0!"}},{"$f":"IF(AV69=\"\",\"\",BC69)","v":""},{"$f":"IF(AX69=\"\",\"\",SQRT((AX69+BB69)/(AX69*BB69)+(BD69^2/(2*(AX69+BB69)))))","v":""},null,null,null,null,null,null,null,null,{"$f":"IF(Sheet2!$A$124=TRUE,-1*(((BG69-$G69)-(BK69-$K69))/SQRT(((BH69^2*(BI69-1))+(BL69^2*(BM69-1)))/(BI69+BM69-2))),((BG69-$G69)-(BK69-$K69))/SQRT(((BH69^2*(BI69-1))+(BL69^2*(BM69-1)))/(BI69+BM69-2)))","v":{"$error":"#DIV/0!"}},{"$f":"IF(BG69=\"\",\"\",BN69)","v":""},{"$f":"IF(BI69=\"\",\"\",SQRT((BI69+BM69)/(BI69*BM69)+(BO69^2/(2*(BI69+BM69)))))","v":""},null,null,null,null,null,null,null,null,{"$f":"IF(Sheet2!$A$124=TRUE,-1*(((BR69-$G69)-(BV69-$K69))/SQRT(((BS69^2*(BT69-1))+(BW69^2*(BX69-1)))/(BT69+BX69-2))),((BR69-$G69)-(BV69-$K69))/SQRT(((BS69^2*(BT69-1))+(BW69^2*(BX69-1)))/(BT69+BX69-2)))","v":{"$error":"#DIV/0!"}},{"$f":"IF(BR69=\"\",\"\",BY69)","v":""},{"$f":"IF(BT69=\"\",\"\",SQRT((BT69+BX69)/(BT69*BX69)+(BZ69^2/(2*(BT69+BX69)))))","v":""}]
[null,null,"Outcome 65",null,null,null,null,null,null,null,null,null,null,null,null,null,null,null,null,null,null,{"$f":"IF(Sheet2!$A$125=TRUE,-1*(((O70-$G70)-(S70-$K70))/SQRT(((P70^2*(Q70-1))+(T70^2*(U70-1)))/(Q70+U70-2))),((O70-$G70)-(S70-$K70))/SQRT(((P70^2*(Q70-1))+(T70^2*(U70-1)))/(Q70+U70-2)))","v":{"$error":"#DIV/0!"}},"","",null,null,null,null,null,null,null,null,{"$f":"IF(Sheet2!$A$125=TRUE,-1*(((Z70-$G70)-(AD70-$K70))/SQRT(((AA70^2*(AB70-1))+(AE70^2*(AF70-1)))/(AB70+AF70-2))),((Z70-$G70)-(AD70-$K70))/SQRT(((AA70^2*(AB70-1))+(AE70^2*(AF70-1)))/(AB70+AF70-2)))","v":{"$error":"#DIV/0!"}},"",{"$f":"IF(AB70=\"\",\"\",SQRT((AB70+AF70)/(AB70*AF70)+(AH70^2/(2*(AB70+AF70)))))","v":""},null,null,null,null,null,null,null,null,{"$f":"IF(Sheet2!$A$125=TRUE,-1*(((AK70-$G70)-(AO70-$K70))/SQRT(((AL70^2*(AM70-1))+(AP70^2*(AQ70-1)))/(AM70+AQ70-2))),((AK70-$G70)-(AO70-$K70))/SQRT(((AL70^2*(AM70-1))+(AP70^2*(AQ70-1)))/(AM70+AQ70-2)))","v":{"$error":"#DIV/0!"}},"",{"$f":"IF(AM70=\"\",\"\",SQRT((AM70+AQ70)/(AM70*AQ70)+(AS70^2/(2*(AM70+AQ70)))))","v":""},null,null,null,null,null,null,null,null,{"$f":"IF(Sheet2!$A$125=TRUE,-1*(((AV70-$G70)-(AZ70-$K70))/SQRT(((AW70^2*(AX70-1))+(BA70^2*(BB70-1)))/(AX70+BB70-2))),((AV70-$G70)-(AZ70-$K70))/SQRT(((AW70^2*(AX70-1))+(BA70^2*(BB70-1)))/(AX70+BB70-2)))","v":{"$error":"#DIV/0!"}},"",{"$f":"IF(AX70=\"\",\"\",SQRT((AX70+BB70)/(AX70*BB70)+(BD70^2/(2*(AX70+BB70)))))","v":""},null,null,null,null,null,null,null,null,{"$f":"IF(Sheet2!$A$125=TRUE,-1*(((BG70-$G70)-(BK70-$K70))/SQRT(((BH70^2*(BI70-1))+(BL70^2*(BM70-1)))/(BI70+BM70-2))),((BG70-$G70)-(BK70-$K70))/SQRT(((BH70^2*(BI70-1))+(BL70^2*(BM70-1)))/(BI70+BM70-2)))","v":{"$error":"#DIV/0!"}},"",{"$f":"IF(BI70=\"\",\"\",SQRT((BI70+BM70)/(BI70*BM70)+(BO70^2/(2*(BI70+BM70)))))","v":""},null,null,null,null,null,null,null,null,{"$f":"IF(Sheet2!$A$125=TRUE,-1*(((BR70-$G70)-(BV70-$K70))/SQRT(((BS70^2*(BT70-1))+(BW70^2*(BX70-1)))/(BT70+BX70-2))),((BR70-$G70)-(BV70-$K70))/SQRT(((BS70^2*(BT70-1))+(BW70^2*(BX70-1)))/(BT70+BX70-2)))","v":{"$error":"#DIV/0!"}},"",{"$f":"IF(BT70=\"\",\"\",SQRT((BT70+BX70)/(BT70*BX70)+(BZ70^2/(2*(BT70+BX70)))))","v":""}]
[null,null,"Outcome 66",null,null,null,null,null,null,null,null,null,null,null,null,null,null,null,null,null,null,{"$f":"IF(Sheet2!$A$129=TRUE,-1*(((O71-G71)-(S71-K71))/SQRT(((P71^2*(Q71-1))+(T71^2*(U71-1)))/(Q71+U71-2))),((O71-G71)-(S71-K71))/SQRT(((P71^2*(Q71-1))+(T71^2*(U71-1)))/(Q71+U71-2)))","v":{"$error":"#DIV/0!"}},{"$f":"IF(O71=\"\",\"\",V71)","v":""},{"$f":"IF(Q71=\"\",\"\",SQRT((Q71+U71)/(Q71*U71)+(W71^2/(2*(Q71+U71)))))","v":""},null,null,null,null,null,null,null,null,{"$f":"IF(Sheet2!$A$129=TRUE,-1*(((Z71-R71)-(AD71-V71))/SQRT(((AA71^2*(AB71-1))+(AE71^2*(AF71-1)))/(AB71+AF71-2))),((Z71-R71)-(AD71-V71))/SQRT(((AA71^2*(AB71-1))+(AE71^2*(AF71-1)))/(AB71+AF71-2)))","v":{"$error":"#DIV/0!"}},{"$f":"IF(Z71=\"\",\"\",AG71)","v":""},{"$f":"IF(AB71=\"\",\"\",SQRT((AB71+AF71)/(AB71*AF71)+(AH71^2/(2*(AB71+AF71)))))","v":""},null,null,null,null,null,null,null,null,{"$f":"IF(Sheet2!$A$129=TRUE,-1*(((AK71-AC71)-(AO71-AG71))/SQRT(((AL71^2*(AM71-1))+(AP71^2*(AQ71-1)))/(AM71+AQ71-2))),((AK71-AC71)-(AO71-AG71))/SQRT(((AL71^2*(AM71-1))+(AP71^2*(AQ71-1)))/(AM71+AQ71-2)))","v":{"$error":"#DIV/0!"}},{"$f":"IF(AK71=\"\",\"\",AR71)","v":""},{"$f":"IF(AM71=\"\",\"\",SQRT((AM71+AQ71)/(AM71*AQ71)+(AS71^2/(2*(AM71+AQ71)))))","v":""},null,null,null,null,null,null,null,null,{"$f":"IF(Sheet2!$A$129=TRUE,-1*(((AV71-AN71)-(AZ71-AR71))/SQRT(((AW71^2*(AX71-1))+(BA71^2*(BB71-1)))/(AX71+BB71-2))),((AV71-AN71)-(AZ71-AR71))/SQRT(((AW71^2*(AX71-1))+(BA71^2*(BB71-1)))/(AX71+BB71-2)))","v":{"$error":"#DIV/0!"}},{"$f":"IF(AV71=\"\",\"\",BC71)","v":""},{"$f":"IF(AX71=\"\",\"\",SQRT((AX71+BB71)/(AX71*BB71)+(BD71^2/(2*(AX71+BB71)))))","v":""},null,null,null,null,null,null,null,null,{"$f":"IF(Sheet2!$A$129=TRUE,-1*(((BG71-AY71)-(BK71-BC71))/SQRT(((BH71^2*(BI71-1))+(BL71^2*(BM71-1)))/(BI71+BM71-2))),((BG71-AY71)-(BK71-BC71))/SQRT(((BH71^2*(BI71-1))+(BL71^2*(BM71-1)))/(BI71+BM71-2)))","v":{"$error":"#DIV/0!"}},{"$f":"IF(BG71=\"\",\"\",BN71)","v":""},{"$f":"IF(BI71=\"\",\"\",SQRT((BI71+BM71)/(BI71*BM71)+(BO71^2/(2*(BI71+BM71)))))","v":""},null,null,null,null,null,null,null,null,{"$f":"IF(Sheet2!$A$129=TRUE,-1*(((BR71-BJ71)-(BV71-BN71))/SQRT(((BS71^2*(BT71-1))+(BW71^2*(BX71-1)))/(BT71+BX71-2))),((BR71-BJ71)-(BV71-BN71))/SQRT(((BS71^2*(BT71-1))+(BW71^2*(BX71-1)))/(BT71+BX71-2)))","v":{"$error":"#DIV/0!"}},{"$f":"IF(BR71=\"\",\"\",BY71)","v":""},{"$f":"IF(BT71=\"\",\"\",SQRT((BT71+BX71)/(BT71*BX71)+(BZ71^2/(2*(BT71+BX71)))))","v":""}]
[null,null,"Outcome 67",null,null,null,null,null,null,null,null,null,null,null,null,null,null,null,null,null,null,{"$f":"IF(Sheet2!$A$130=TRUE,-1*(((O72-G72)-(S72-K72))/SQRT(((P72^2*(Q72-1))+(T72^2*(U72-1)))/(Q72+U72-2))),((O72-G72)-(S72-K72))/SQRT(((P72^2*(Q72-1))+(T72^2*(U72-1)))/(Q72+U72-2)))","v":{"$error":"#DIV/0!"}},{"$f":"IF(O72=\"\",\"\",V72)","v":""},{"$f":"IF(Q72=\"\",\"\",SQRT((Q72+U72)/(Q72*U72)+(W72^2/(2*(Q72+U72)))))","v":""},null,null,null,null,null,null,null,null,{"$f":"IF(Sheet2!$A$130=TRUE,-1*(((Z72-R72)-(AD72-V72))/SQRT(((AA72^2*(AB72-1))+(AE72^2*(AF72-1)))/(AB72+AF72-2))),((Z72-R72)-(AD72-V72))/SQRT(((AA72^2*(AB72-1))+(AE72^2*(AF72-1)))/(AB72+AF72-2)))","v":{"$error":"#DIV/0!"}},{"$f":"IF(Z72=\"\",\"\",AG72)","v":""},{"$f":"IF(AB72=\"\",\"\",SQRT((AB72+AF72)/(AB72*AF72)+(AH72^2/(2*(AB72+AF72)))))","v":""},null,null,null,null,null,null,null,null,{"$f":"IF(Sheet2!$A$130=TRUE,-1*(((AK72-AC72)-(AO72-AG72))/SQRT(((AL72^2*(AM72-1))+(AP72^2*(AQ72-1)))/(AM72+AQ72-2))),((AK72-AC72)-(AO72-AG72))/SQRT(((AL72^2*(AM72-1))+(AP72^2*(AQ72-1)))/(AM72+AQ72-2)))","v":{"$error":"#DIV/0!"}},{"$f":"IF(AK72=\"\",\"\",AR72)","v":""},{"$f":"IF(AM72=\"\",\"\",SQRT((AM72+AQ72)/(AM72*AQ72)+(AS72^2/(2*(AM72+AQ72)))))","v":""},null,null,null,null,null,null,null,null,{"$f":"IF(Sheet2!$A$130=TRUE,-1*(((AV72-AN72)-(AZ72-AR72))/SQRT(((AW72^2*(AX72-1))+(BA72^2*(BB72-1)))/(AX72+BB72-2))),((AV72-AN72)-(AZ72-AR72))/SQRT(((AW72^2*(AX72-1))+(BA72^2*(BB72-1)))/(AX72+BB72-2)))","v":{"$error":"#DIV/0!"}},{"$f":"IF(AV72=\"\",\"\",BC72)","v":""},{"$f":"IF(AX72=\"\",\"\",SQRT((AX72+BB72)/(AX72*BB72)+(BD72^2/(2*(AX72+BB72)))))","v":""},null,null,null,null,null,null,null,null,{"$f":"IF(Sheet2!$A$130=TRUE,-1*(((BG72-AY72)-(BK72-BC72))/SQRT(((BH72^2*(BI72-1))+(BL72^2*(BM72-1)))/(BI72+BM72-2))),((BG72-AY72)-(BK72-BC72))/SQRT(((BH72^2*(BI72-1))+(BL72^2*(BM72-1)))/(BI72+BM72-2)))","v":{"$error":"#DIV/0!"}},{"$f":"IF(BG72=\"\",\"\",BN72)","v":""},{"$f":"IF(BI72=\"\",\"\",SQRT((BI72+BM72)/(BI72*BM72)+(BO72^2/(2*(BI72+BM72)))))","v":""},null,null,null,null,null,null,null,null,{"$f":"IF(Sheet2!$A$130=TRUE,-1*(((BR72-BJ72)-(BV72-BN72))/SQRT(((BS72^2*(BT72-1))+(BW72^2*(BX72-1)))/(BT72+BX72-2))),((BR72-BJ72)-(BV72-BN72))/SQRT(((BS72^2*(BT72-1))+(BW72^2*(BX72-1)))/(BT72+BX72-2)))","v":{"$error":"#DIV/0!"}},{"$f":"IF(BR72=\"\",\"\",BY72)","v":""},{"$f":"IF(BT72=\"\",\"\",SQRT((BT72+BX72)/(BT72*BX72)+(BZ72^2/(2*(BT72+BX72)))))","v":""}]
[null,null,"Outcome 68",null,null,null,null,null,null,null,null,null,null,null,null,null,null,null,null,null,null,{"$f":"IF(Sheet2!$A$131=TRUE,-1*(((O73-G73)-(S73-K73))/SQRT(((P73^2*(Q73-1))+(T73^2*(U73-1)))/(Q73+U73-2))),((O73-G73)-(S73-K73))/SQRT(((P73^2*(Q73-1))+(T73^2*(U73-1)))/(Q73+U73-2)))","v":{"$error":"#DIV/0!"}},{"$f":"IF(O73=\"\",\"\",V73)","v":""},"",null,null,null,null,null,null,null,null,{"$f":"IF(Sheet2!$A$131=TRUE,-1*(((Z73-R73)-(AD73-V73))/SQRT(((AA73^2*(AB73-1))+(AE73^2*(AF73-1)))/(AB73+AF73-2))),((Z73-R73)-(AD73-V73))/SQRT(((AA73^2*(AB73-1))+(AE73^2*(AF73-1)))/(AB73+AF73-2)))","v":{"$error":"#DIV/0!"}},{"$f":"IF(Z73=\"\",\"\",AG73)","v":""},"",null,null,null,null,null,null,null,null,{"$f":"IF(Sheet2!$A$131=TRUE,-1*(((AK73-AC73)-(AO73-AG73))/SQRT(((AL73^2*(AM73-1))+(AP73^2*(AQ73-1)))/(AM73+AQ73-2))),((AK73-AC73)-(AO73-AG73))/SQRT(((AL73^2*(AM73-1))+(AP73^2*(AQ73-1)))/(AM73+AQ73-2)))","v":{"$error":"#DIV/0!"}},{"$f":"IF(AK73=\"\",\"\",AR73)","v":""},"",null,null,null,null,null,null,null,null,{"$f":"IF(Sheet2!$A$131=TRUE,-1*(((AV73-AN73)-(AZ73-AR73))/SQRT(((AW73^2*(AX73-1))+(BA73^2*(BB73-1)))/(AX73+BB73-2))),((AV73-AN73)-(AZ73-AR73))/SQRT(((AW73^2*(AX73-1))+(BA73^2*(BB73-1)))/(AX73+BB73-2)))","v":{"$error":"#DIV/0!"}},{"$f":"IF(AV73=\"\",\"\",BC73)","v":""},"",null,null,null,null,null,null,null,null,{"$f":"IF(Sheet2!$A$131=TRUE,-1*(((BG73-AY73)-(BK73-BC73))/SQRT(((BH73^2*(BI73-1))+(BL73^2*(BM73-1)))/(BI73+BM73-2))),((BG73-AY73)-(BK73-BC73))/SQRT(((BH73^2*(BI73-1))+(BL73^2*(BM73-1)))/(BI73+BM73-2)))","v":{"$error":"#DIV/0!"}},{"$f":"IF(BG73=\"\",\"\",BN73)","v":""},"",null,null,null,null,null,null,null,null,{"$f":"IF(Sheet2!$A$131=TRUE,-1*(((BR73-BJ73)-(BV73-BN73))/SQRT(((BS73^2*(BT73-1))+(BW73^2*(BX73-1)))/(BT73+BX73-2))),((BR73-BJ73)-(BV73-BN73))/SQRT(((BS73^2*(BT73-1))+(BW73^2*(BX73-1)))/(BT73+BX73-2)))","v":{"$error":"#DIV/0!"}},{"$f":"IF(BR73=\"\",\"\",BY73)","v":""},""]
[null,null,"Outcome 69",null,null,null,null,null,null,null,null,null,null,null,null,null,null,null,null,null,null,{"$f":"IF(Sheet2!$A$132=TRUE,-1*(((O74-G74)-(S74-K74))/SQRT(((P74^2*(Q74-1))+(T74^2*(U74-1)))/(Q74+U74-2))),((O74-G74)-(S74-K74))/SQRT(((P74^2*(Q74-1))+(T74^2*(U74-1)))/(Q74+U74-2)))","v":{"$error":"#DIV/0!"}},{"$f":"IF(O74=\"\",\"\",V74)","v":""},{"$f":"IF(Q74=\"\",\"\",SQRT((Q74+U74)/(Q74*U74)+(W74^2/(2*(Q74+U74)))))","v":""},null,null,null,null,null,null,null,null,{"$f":"IF(Sheet2!$A$132=TRUE,-1*(((Z74-R74)-(AD74-V74))/SQRT(((AA74^2*(AB74-1))+(AE74^2*(AF74-1)))/(AB74+AF74-2))),((Z74-R74)-(AD74-V74))/SQRT(((AA74^2*(AB74-1))+(AE74^2*(AF74-1)))/(AB74+AF74-2)))","v":{"$error":"#DIV/0!"}},{"$f":"IF(Z74=\"\",\"\",AG74)","v":""},{"$f":"IF(AB74=\"\",\"\",SQRT((AB74+AF74)/(AB74*AF74)+(AH74^2/(2*(AB74+AF74)))))","v":""},null,null,null,null,null,null,null,null,{"$f":"IF(Sheet2!$A$132=TRUE,-1*(((AK74-AC74)-(AO74-AG74))/SQRT(((AL74^2*(AM74-1))+(AP74^2*(AQ74-1)))/(AM74+AQ74-2))),((AK74-AC74)-(AO74-AG74))/SQRT(((AL74^2*(AM74-1))+(AP74^2*(AQ74-1)))/(AM74+AQ74-2)))","v":{"$error":"#DIV/0!"}},{"$f":"IF(AK74=\"\",\"\",AR74)","v":""},{"$f":"IF(AM74=\"\",\"\",SQRT((AM74+AQ74)/(AM74*AQ74)+(AS74^2/(2*(AM74+AQ74)))))","v":""},null,null,null,null,null,null,null,null,{"$f":"IF(Sheet2!$A$132=TRUE,-1*(((AV74-AN74)-(AZ74-AR74))/SQRT(((AW74^2*(AX74-1))+(BA74^2*(BB74-1)))/(AX74+BB74-2))),((AV74-AN74)-(AZ74-AR74))/SQRT(((AW74^2*(AX74-1))+(BA74^2*(BB74-1)))/(AX74+BB74-2)))","v":{"$error":"#DIV/0!"}},{"$f":"IF(AV74=\"\",\"\",BC74)","v":""},{"$f":"IF(AX74=\"\",\"\",SQRT((AX74+BB74)/(AX74*BB74)+(BD74^2/(2*(AX74+BB74)))))","v":""},null,null,null,null,null,null,null,null,{"$f":"IF(Sheet2!$A$132=TRUE,-1*(((BG74-AY74)-(BK74-BC74))/SQRT(((BH74^2*(BI74-1))+(BL74^2*(BM74-1)))/(BI74+BM74-2))),((BG74-AY74)-(BK74-BC74))/SQRT(((BH74^2*(BI74-1))+(BL74^2*(BM74-1)))/(BI74+BM74-2)))","v":{"$error":"#DIV/0!"}},{"$f":"IF(BG74=\"\",\"\",BN74)","v":""},{"$f":"IF(BI74=\"\",\"\",SQRT((BI74+BM74)/(BI74*BM74)+(BO74^2/(2*(BI74+BM74)))))","v":""},null,null,null,null,null,null,null,null,{"$f":"IF(Sheet2!$A$132=TRUE,-1*(((BR74-BJ74)-(BV74-BN74))/SQRT(((BS74^2*(BT74-1))+(BW74^2*(BX74-1)))/(BT74+BX74-2))),((BR74-BJ74)-(BV74-BN74))/SQRT(((BS74^2*(BT74-1))+(BW74^2*(BX74-1)))/(BT74+BX74-2)))","v":{"$error":"#DIV/0!"}},{"$f":"IF(BR74=\"\",\"\",BY74)","v":""},{"$f":"IF(BT74=\"\",\"\",SQRT((BT74+BX74)/(BT74*BX74)+(BZ74^2/(2*(BT74+BX74)))))","v":""}]
[null,null,"Outcome 70",null,null,null,null,null,null,null,null,null,null,null,null,null,null,null,null,null,null,{"$f":"IF(Sheet2!$A$133=TRUE,-1*(((O75-G75)-(S75-K75))/SQRT(((P75^2*(Q75-1))+(T75^2*(U75-1)))/(Q75+U75-2))),((O75-G75)-(S75-K75))/SQRT(((P75^2*(Q75-1))+(T75^2*(U75-1)))/(Q75+U75-2)))","v":{"$error":"#DIV/0!"}},"","",null,null,null,null,null,null,null,null,{"$f":"IF(Sheet2!$A$133=TRUE,-1*(((Z75-R75)-(AD75-V75))/SQRT(((AA75^2*(AB75-1))+(AE75^2*(AF75-1)))/(AB75+AF75-2))),((Z75-R75)-(AD75-V75))/SQRT(((AA75^2*(AB75-1))+(AE75^2*(AF75-1)))/(AB75+AF75-2)))","v":{"$error":"#DIV/0!"}},"",{"$f":"IF(AB75=\"\",\"\",SQRT((AB75+AF75)/(AB75*AF75)+(AH75^2/(2*(AB75+AF75)))))","v":""},null,null,null,null,null,null,null,null,{"$f":"IF(Sheet2!$A$133=TRUE,-1*(((AK75-AC75)-(AO75-AG75))/SQRT(((AL75^2*(AM75-1))+(AP75^2*(AQ75-1)))/(AM75+AQ75-2))),((AK75-AC75)-(AO75-AG75))/SQRT(((AL75^2*(AM75-1))+(AP75^2*(AQ75-1)))/(AM75+AQ75-2)))","v":{"$error":"#DIV/0!"}},"",{"$f":"IF(AM75=\"\",\"\",SQRT((AM75+AQ75)/(AM75*AQ75)+(AS75^2/(2*(AM75+AQ75)))))","v":""},null,null,null,null,null,null,null,null,{"$f":"IF(Sheet2!$A$133=TRUE,-1*(((AV75-AN75)-(AZ75-AR75))/SQRT(((AW75^2*(AX75-1))+(BA75^2*(BB75-1)))/(AX75+BB75-2))),((AV75-AN75)-(AZ75-AR75))/SQRT(((AW75^2*(AX75-1))+(BA75^2*(BB75-1)))/(AX75+BB75-2)))","v":{"$error":"#DIV/0!"}},"",{"$f":"IF(AX75=\"\",\"\",SQRT((AX75+BB75)/(AX75*BB75)+(BD75^2/(2*(AX75+BB75)))))","v":""},null,null,null,null,null,null,null,null,{"$f":"IF(Sheet2!$A$133=TRUE,-1*(((BG75-AY75)-(BK75-BC75))/SQRT(((BH75^2*(BI75-1))+(BL75^2*(BM75-1)))/(BI75+BM75-2))),((BG75-AY75)-(BK75-BC75))/SQRT(((BH75^2*(BI75-1))+(BL75^2*(BM75-1)))/(BI75+BM75-2)))","v":{"$error":"#DIV/0!"}},"",{"$f":"IF(BI75=\"\",\"\",SQRT((BI75+BM75)/(BI75*BM75)+(BO75^2/(2*(BI75+BM75)))))","v":""},null,null,null,null,null,null,null,null,{"$f":"IF(Sheet2!$A$133=TRUE,-1*(((BR75-BJ75)-(BV75-BN75))/SQRT(((BS75^2*(BT75-1))+(BW75^2*(BX75-1)))/(BT75+BX75-2))),((BR75-BJ75)-(BV75-BN75))/SQRT(((BS75^2*(BT75-1))+(BW75^2*(BX75-1)))/(BT75+BX75-2)))","v":{"$error":"#DIV/0!"}},"",{"$f":"IF(BT75=\"\",\"\",SQRT((BT75+BX75)/(BT75*BX75)+(BZ75^2/(2*(BT75+BX75)))))","v":""}]
[null,null,"Outcome 71",null,null,null,null,null,null,null,null,null,null,null,null,null,null,null,null,null,null,{"$f":"IF(Sheet2!$A$137=TRUE,-1*(((O76-$G76)-(S76-$K76))/SQRT(((P76^2*(Q76-1))+(T76^2*(U76-1)))/(Q76+U76-2))),((O76-$G76)-(S76-$K76))/SQRT(((P76^2*(Q76-1))+(T76^2*(U76-1)))/(Q76+U76-2)))","v":{"$error":"#DIV/0!"}},{"$f":"IF(O76=\"\",\"\",V76)","v":""},{"$f":"IF(Q76=\"\",\"\",SQRT((Q76+U76)/(Q76*U76)+(W76^2/(2*(Q76+U76)))))","v":""},null,null,null,null,null,null,null,null,{"$f":"IF(Sheet2!$A$137=TRUE,-1*(((Z76-$G76)-(AD76-$K76))/SQRT(((AA76^2*(AB76-1))+(AE76^2*(AF76-1)))/(AB76+AF76-2))),((Z76-$G76)-(AD76-$K76))/SQRT(((AA76^2*(AB76-1))+(AE76^2*(AF76-1)))/(AB76+AF76-2)))","v":{"$error":"#DIV/0!"}},{"$f":"IF(Z76=\"\",\"\",AG76)","v":""},{"$f":"IF(AB76=\"\",\"\",SQRT((AB76+AF76)/(AB76*AF76)+(AH76^2/(2*(AB76+AF76)))))","v":""},null,null,null,null,null,null,null,null,{"$f":"IF(Sheet2!$A$137=TRUE,-1*(((AK76-$G76)-(AO76-$K76))/SQRT(((AL76^2*(AM76-1))+(AP76^2*(AQ76-1)))/(AM76+AQ76-2))),((AK76-$G76)-(AO76-$K76))/SQRT(((AL76^2*(AM76-1))+(AP76^2*(AQ76-1)))/(AM76+AQ76-2)))","v":{"$error":"#DIV/0!"}},{"$f":"IF(AK76=\"\",\"\",AR76)","v":""},{"$f":"IF(AM76=\"\",\"\",SQRT((AM76+AQ76)/(AM76*AQ76)+(AS76^2/(2*(AM76+AQ76)))))","v":""},null,null,null,null,null,null,null,null,{"$f":"IF(Sheet2!$A$137=TRUE,-1*(((AV76-$G76)-(AZ76-$K76))/SQRT(((AW76^2*(AX76-1))+(BA76^2*(BB76-1)))/(AX76+BB76-2))),((AV76-$G76)-(AZ76-$K76))/SQRT(((AW76^2*(AX76-1))+(BA76^2*(BB76-1)))/(AX76+BB76-2)))","v":{"$error":"#DIV/0!"}},{"$f":"IF(AV76=\"\",\"\",BC76)","v":""},{"$f":"IF(AX76=\"\",\"\",SQRT((AX76+BB76)/(AX76*BB76)+(BD76^2/(2*(AX76+BB76)))))","v":""},null,null,null,null,null,null,null,null,{"$f":"IF(Sheet2!$A$137=TRUE,-1*(((BG76-$G76)-(BK76-$K76))/SQRT(((BH76^2*(BI76-1))+(BL76^2*(BM76-1)))/(BI76+BM76-2))),((BG76-$G76)-(BK76-$K76))/SQRT(((BH76^2*(BI76-1))+(BL76^2*(BM76-1)))/(BI76+BM76-2)))","v":{"$error":"#DIV/0!"}},{"$f":"IF(BG76=\"\",\"\",BN76)","v":""},{"$f":"IF(BI76=\"\",\"\",SQRT((BI76+BM76)/(BI76*BM76)+(BO76^2/(2*(BI76+BM76)))))","v":""},null,null,null,null,null,null,null,null,{"$f":"IF(Sheet2!$A$137=TRUE,-1*(((BR76-$G76)-(BV76-$K76))/SQRT(((BS76^2*(BT76-1))+(BW76^2*(BX76-1)))/(BT76+BX76-2))),((BR76-$G76)-(BV76-$K76))/SQRT(((BS76^2*(BT76-1))+(BW76^2*(BX76-1)))/(BT76+BX76-2)))","v":{"$error":"#DIV/0!"}},{"$f":"IF(BR76=\"\",\"\",BY76)","v":""},{"$f":"IF(BT76=\"\",\"\",SQRT((BT76+BX76)/(BT76*BX76)+(BZ76^2/(2*(BT76+BX76)))))","v":""}]
[null,null,"Outcome 72",null,null,null,null,null,null,null,null,null,null,null,null,null,null,null,null,null,null,{"$f":"IF(Sheet2!$A$138=TRUE,-1*(((O77-$G77)-(S77-$K77))/SQRT(((P77^2*(Q77-1))+(T77^2*(U77-1)))/(Q77+U77-2))),((O77-$G77)-(S77-$K77))/SQRT(((P77^2*(Q77-1))+(T77^2*(U77-1)))/(Q77+U77-2)))","v":{"$error":"#DIV/0!"}},{"$f":"IF(O77=\"\",\"\",V77)","v":""},{"$f":"IF(Q77=\"\",\"\",SQRT((Q77+U77)/(Q77*U77)+(W77^2/(2*(Q77+U77)))))","v":""},null,null,null,null,null,null,null,null,{"$f":"IF(Sheet2!$A$138=TRUE,-1*(((Z77-$G77)-(AD77-$K77))/SQRT(((AA77^2*(AB77-1))+(AE77^2*(AF77-1)))/(AB77+AF77-2))),((Z77-$G77)-(AD77-$K77))/SQRT(((AA77^2*(AB77-1))+(AE77^2*(AF77-1)))/(AB77+AF77-2)))","v":{"$error":"#DIV/0!"}},{"$f":"IF(Z77=\"\",\"\",AG77)","v":""},{"$f":"IF(AB77=\"\",\"\",SQRT((AB77+AF77)/(AB77*AF77)+(AH77^2/(2*(AB77+AF77)))))","v":""},null,null,null,null,null,null,null,null,{"$f":"IF(Sheet2!$A$138=TRUE,-1*(((AK77-$G77)-(AO77-$K77))/SQRT(((AL77^2*(AM77-1))+(AP77^2*(AQ77-1)))/(AM77+AQ77-2))),((AK77-$G77)-(AO77-$K77))/SQRT(((AL77^2*(AM77-1))+(AP77^2*(AQ77-1)))/(AM77+AQ77-2)))","v":{"$error":"#DIV/0!"}},{"$f":"IF(AK77=\"\",\"\",AR77)","v":""},{"$f":"IF(AM77=\"\",\"\",SQRT((AM77+AQ77)/(AM77*AQ77)+(AS77^2/(2*(AM77+AQ77)))))","v":""},null,null,null,null,null,null,null,null,{"$f":"IF(Sheet2!$A$138=TRUE,-1*(((AV77-$G77)-(AZ77-$K77))/SQRT(((AW77^2*(AX77-1))+(BA77^2*(BB77-1)))/(AX77+BB77-2))),((AV77-$G77)-(AZ77-$K77))/SQRT(((AW77^2*(AX77-1))+(BA77^2*(BB77-1)))/(AX77+BB77-2)))","v":{"$error":"#DIV/0!"}},{"$f":"IF(AV77=\"\",\"\",BC77)","v":""},{"$f":"IF(AX77=\"\",\"\",SQRT((AX77+BB77)/(AX77*BB77)+(BD77^2/(2*(AX77+BB77)))))","v":""},null,null,null,null,null,null,null,null,{"$f":"IF(Sheet2!$A$138=TRUE,-1*(((BG77-$G77)-(BK77-$K77))/SQRT(((BH77^2*(BI77-1))+(BL77^2*(BM77-1)))/(BI77+BM77-2))),((BG77-$G77)-(BK77-$K77))/SQRT(((BH77^2*(BI77-1))+(BL77^2*(BM77-1)))/(BI77+BM77-2)))","v":{"$error":"#DIV/0!"}},{"$f":"IF(BG77=\"\",\"\",BN77)","v":""},{"$f":"IF(BI77=\"\",\"\",SQRT((BI77+BM77)/(BI77*BM77)+(BO77^2/(2*(BI77+BM77)))))","v":""},null,null,null,null,null,null,null,null,{"$f":"IF(Sheet2!$A$138=TRUE,-1*(((BR77-$G77)-(BV77-$K77))/SQRT(((BS77^2*(BT77-1))+(BW77^2*(BX77-1)))/(BT77+BX77-2))),((BR77-$G77)-(BV77-$K77))/SQRT(((BS77^2*(BT77-1))+(BW77^2*(BX77-1)))/(BT77+BX77-2)))","v":{"$error":"#DIV/0!"}},{"$f":"IF(BR77=\"\",\"\",BY77)","v":""},{"$f":"IF(BT77=\"\",\"\",SQRT((BT77+BX77)/(BT77*BX77)+(BZ77^2/(2*(BT77+BX77)))))","v":""}]
[null,null,"Outcome 73",null,null,null,null,null,null,null,null,null,null,null,null,null,null,null,null,null,null,{"$f":"IF(Sheet2!$A$139=TRUE,-1*(((O78-$G78)-(S78-$K78))/SQRT(((P78^2*(Q78-1))+(T78^2*(U78-1)))/(Q78+U78-2))),((O78-$G78)-(S78-$K78))/SQRT(((P78^2*(Q78-1))+(T78^2*(U78-1)))/(Q78+U78-2)))","v":{"$error":"#DIV/0!"}},{"$f":"IF(O78=\"\",\"\",V78)","v":""},"",null,null,null,null,null,null,null,null,{"$f":"IF(Sheet2!$A$139=TRUE,-1*(((Z78-$G78)-(AD78-$K78))/SQRT(((AA78^2*(AB78-1))+(AE78^2*(AF78-1)))/(AB78+AF78-2))),((Z78-$G78)-(AD78-$K78))/SQRT(((AA78^2*(AB78-1))+(AE78^2*(AF78-1)))/(AB78+AF78-2)))","v":{"$error":"#DIV/0!"}},{"$f":"IF(Z78=\"\",\"\",AG78)","v":""},"",null,null,null,null,null,null,null,null,{"$f":"IF(Sheet2!$A$139=TRUE,-1*(((AK78-$G78)-(AO78-$K78))/SQRT(((AL78^2*(AM78-1))+(AP78^2*(AQ78-1)))/(AM78+AQ78-2))),((AK78-$G78)-(AO78-$K78))/SQRT(((AL78^2*(AM78-1))+(AP78^2*(AQ78-1)))/(AM78+AQ78-2)))","v":{"$error":"#DIV/0!"}},{"$f":"IF(AK78=\"\",\"\",AR78)","v":""},"",null,null,null,null,null,null,null,null,{"$f":"IF(Sheet2!$A$139=TRUE,-1*(((AV78-$G78)-(AZ78-$K78))/SQRT(((AW78^2*(AX78-1))+(BA78^2*(BB78-1)))/(AX78+BB78-2))),((AV78-$G78)-(AZ78-$K78))/SQRT(((AW78^2*(AX78-1))+(BA78^2*(BB78-1)))/(AX78+BB78-2)))","v":{"$error":"#DIV/0!"}},{"$f":"IF(AV78=\"\",\"\",BC78)","v":""},"",null,null,null,null,null,null,null,null,{"$f":"IF(Sheet2!$A$139=TRUE,-1*(((BG78-$G78)-(BK78-$K78))/SQRT(((BH78^2*(BI78-1))+(BL78^2*(BM78-1)))/(BI78+BM78-2))),((BG78-$G78)-(BK78-$K78))/SQRT(((BH78^2*(BI78-1))+(BL78^2*(BM78-1)))/(BI78+BM78-2)))","v":{"$error":"#DIV/0!"}},{"$f":"IF(BG78=\"\",\"\",BN78)","v":""},"",null,null,null,null,null,null,null,null,{"$f":"IF(Sheet2!$A$139=TRUE,-1*(((BR78-$G78)-(BV78-$K78))/SQRT(((BS78^2*(BT78-1))+(BW78^2*(BX78-1)))/(BT78+BX78-2))),((BR78-$G78)-(BV78-$K78))/SQRT(((BS78^2*(BT78-1))+(BW78^2*(BX78-1)))/(BT78+BX78-2)))","v":{"$error":"#DIV/0!"}},{"$f":"IF(BR78=\"\",\"\",BY78)","v":""},""]
[null,null,"Outcome 74",null,null,null,null,null,null,null,null,null,null,null,null,null,null,null,null,null,null,{"$f":"IF(Sheet2!$A$140=TRUE,-1*(((O79-$G79)-(S79-$K79))/SQRT(((P79^2*(Q79-1))+(T79^2*(U79-1)))/(Q79+U79-2))),((O79-$G79)-(S79-$K79))/SQRT(((P79^2*(Q79-1))+(T79^2*(U79-1)))/(Q79+U79-2)))","v":{"$error":"#DIV/0!"}},{"$f":"IF(O79=\"\",\"\",V79)","v":""},{"$f":"IF(Q79=\"\",\"\",SQRT((Q79+U79)/(Q79*U79)+(W79^2/(2*(Q79+U79)))))","v":""},null,null,null,null,null,null,null,null,{"$f":"IF(Sheet2!$A$140=TRUE,-1*(((Z79-$G79)-(AD79-$K79))/SQRT(((AA79^2*(AB79-1))+(AE79^2*(AF79-1)))/(AB79+AF79-2))),((Z79-$G79)-(AD79-$K79))/SQRT(((AA79^2*(AB79-1))+(AE79^2*(AF79-1)))/(AB79+AF79-2)))","v":{"$error":"#DIV/0!"}},{"$f":"IF(Z79=\"\",\"\",AG79)","v":""},{"$f":"IF(AB79=\"\",\"\",SQRT((AB79+AF79)/(AB79*AF79)+(AH79^2/(2*(AB79+AF79)))))","v":""},null,null,null,null,null,null,null,null,{"$f":"IF(Sheet2!$A$140=TRUE,-1*(((AK79-$G79)-(AO79-$K79))/SQRT(((AL79^2*(AM79-1))+(AP79^2*(AQ79-1)))/(AM79+AQ79-2))),((AK79-$G79)-(AO79-$K79))/SQRT(((AL79^2*(AM79-1))+(AP79^2*(AQ79-1)))/(AM79+AQ79-2)))","v":{"$error":"#DIV/0!"}},{"$f":"IF(AK79=\"\",\"\",AR79)","v":""},{"$f":"IF(AM79=\"\",\"\",SQRT((AM79+AQ79)/(AM79*AQ79)+(AS79^2/(2*(AM79+AQ79)))))","v":""},null,null,null,null,null,null,null,null,{"$f":"IF(Sheet2!$A$140=TRUE,-1*(((AV79-$G79)-(AZ79-$K79))/SQRT(((AW79^2*(AX79-1))+(BA79^2*(BB79-1)))/(AX79+BB79-2))),((AV79-$G79)-(AZ79-$K79))/SQRT(((AW79^2*(AX79-1))+(BA79^2*(BB79-1)))/(AX79+BB79-2)))","v":{"$error":"#DIV/0!"}},{"$f":"IF(AV79=\"\",\"\",BC79)","v":""},{"$f":"IF(AX79=\"\",\"\",SQRT((AX79+BB79)/(AX79*BB79)+(BD79^2/(2*(AX79+BB79)))))","v":""},null,null,null,null,null,null,null,null,{"$f":"IF(Sheet2!$A$140=TRUE,-1*(((BG79-$G79)-(BK79-$K79))/SQRT(((BH79^2*(BI79-1))+(BL79^2*(BM79-1)))/(BI79+BM79-2))),((BG79-$G79)-(BK79-$K79))/SQRT(((BH79^2*(BI79-1))+(BL79^2*(BM79-1)))/(BI79+BM79-2)))","v":{"$error":"#DIV/0!"}},{"$f":"IF(BG79=\"\",\"\",BN79)","v":""},{"$f":"IF(BI79=\"\",\"\",SQRT((BI79+BM79)/(BI79*BM79)+(BO79^2/(2*(BI79+BM79)))))","v":""},null,null,null,null,null,null,null,null,{"$f":"IF(Sheet2!$A$140=TRUE,-1*(((BR79-$G79)-(BV79-$K79))/SQRT(((BS79^2*(BT79-1))+(BW79^2*(BX79-1)))/(BT79+BX79-2))),((BR79-$G79)-(BV79-$K79))/SQRT(((BS79^2*(BT79-1))+(BW79^2*(BX79-1)))/(BT79+BX79-2)))","v":{"$error":"#DIV/0!"}},{"$f":"IF(BR79=\"\",\"\",BY79)","v":""},{"$f":"IF(BT79=\"\",\"\",SQRT((BT79+BX79)/(BT79*BX79)+(BZ79^2/(2*(BT79+BX79)))))","v":""}]
[null,null,"Outcome 75",null,null,null,null,null,null,null,null,null,null,null,null,null,null,null,null,null,null,{"$f":"IF(Sheet2!$A$141=TRUE,-1*(((O80-$G80)-(S80-$K80))/SQRT(((P80^2*(Q80-1))+(T80^2*(U80-1)))/(Q80+U80-2))),((O80-$G80)-(S80-$K80))/SQRT(((P80^2*(Q80-1))+(T80^2*(U80-1)))/(Q80+U80-2)))","v":{"$error":"#DIV/0!"}},"","",null,null,null,null,null,null,null,null,{"$f":"IF(Sheet2!$A$141=TRUE,-1*(((Z80-$G80)-(AD80-$K80))/SQRT(((AA80^2*(AB80-1))+(AE80^2*(AF80-1)))/(AB80+AF80-2))),((Z80-$G80)-(AD80-$K80))/SQRT(((AA80^2*(AB80-1))+(AE80^2*(AF80-1)))/(AB80+AF80-2)))","v":{"$error":"#DIV/0!"}},"",{"$f":"IF(AB80=\"\",\"\",SQRT((AB80+AF80)/(AB80*AF80)+(AH80^2/(2*(AB80+AF80)))))","v":""},null,null,null,null,null,null,null,null,{"$f":"IF(Sheet2!$A$141=TRUE,-1*(((AK80-$G80)-(AO80-$K80))/SQRT(((AL80^2*(AM80-1))+(AP80^2*(AQ80-1)))/(AM80+AQ80-2))),((AK80-$G80)-(AO80-$K80))/SQRT(((AL80^2*(AM80-1))+(AP80^2*(AQ80-1)))/(AM80+AQ80-2)))","v":{"$error":"#DIV/0!"}},"",{"$f":"IF(AM80=\"\",\"\",SQRT((AM80+AQ80)/(AM80*AQ80)+(AS80^2/(2*(AM80+AQ80)))))","v":""},null,null,null,null,null,null,null,null,{"$f":"IF(Sheet2!$A$141=TRUE,-1*(((AV80-$G80)-(AZ80-$K80))/SQRT(((AW80^2*(AX80-1))+(BA80^2*(BB80-1)))/(AX80+BB80-2))),((AV80-$G80)-(AZ80-$K80))/SQRT(((AW80^2*(AX80-1))+(BA80^2*(BB80-1)))/(AX80+BB80-2)))","v":{"$error":"#DIV/0!"}},"",{"$f":"IF(AX80=\"\",\"\",SQRT((AX80+BB80)/(AX80*BB80)+(BD80^2/(2*(AX80+BB80)))))","v":""},null,null,null,null,null,null,null,null,{"$f":"IF(Sheet2!$A$141=TRUE,-1*(((BG80-$G80)-(BK80-$K80))/SQRT(((BH80^2*(BI80-1))+(BL80^2*(BM80-1)))/(BI80+BM80-2))),((BG80-$G80)-(BK80-$K80))/SQRT(((BH80^2*(BI80-1))+(BL80^2*(BM80-1)))/(BI80+BM80-2)))","v":{"$error":"#DIV/0!"}},"",{"$f":"IF(BI80=\"\",\"\",SQRT((BI80+BM80)/(BI80*BM80)+(BO80^2/(2*(BI80+BM80)))))","v":""},null,null,null,null,null,null,null,null,{"$f":"IF(Sheet2!$A$141=TRUE,-1*(((BR80-$G80)-(BV80-$K80))/SQRT(((BS80^2*(BT80-1))+(BW80^2*(BX80-1)))/(BT80+BX80-2))),((BR80-$G80)-(BV80-$K80))/SQRT(((BS80^2*(BT80-1))+(BW80^2*(BX80-1)))/(BT80+BX80-2)))","v":{"$error":"#DIV/0!"}},"",{"$f":"IF(BT80=\"\",\"\",SQRT((BT80+BX80)/(BT80*BX80)+(BZ80^2/(2*(BT80+BX80)))))","v":""}]
[null,null,"Outcome 76",null,null,null,null,null,null,null,null,null,null,null,null,null,null,null,null,null,null,{"$f":"IF(Sheet2!$A$145=TRUE,-1*(((O81-$G81)-(S81-$K81))/SQRT(((P81^2*(Q81-1))+(T81^2*(U81-1)))/(Q81+U81-2))),((O81-$G81)-(S81-$K81))/SQRT(((P81^2*(Q81-1))+(T81^2*(U81-1)))/(Q81+U81-2)))","v":{"$error":"#DIV/0!"}},{"$f":"IF(O81=\"\",\"\",V81)","v":""},{"$f":"IF(Q81=\"\",\"\",SQRT((Q81+U81)/(Q81*U81)+(W81^2/(2*(Q81+U81)))))","v":""},null,null,null,null,null,null,null,null,{"$f":"IF(Sheet2!$A$145=TRUE,-1*(((Z81-$G81)-(AD81-$K81))/SQRT(((AA81^2*(AB81-1))+(AE81^2*(AF81-1)))/(AB81+AF81-2))),((Z81-$G81)-(AD81-$K81))/SQRT(((AA81^2*(AB81-1))+(AE81^2*(AF81-1)))/(AB81+AF81-2)))","v":{"$error":"#DIV/0!"}},{"$f":"IF(Z81=\"\",\"\",AG81)","v":""},{"$f":"IF(AB81=\"\",\"\",SQRT((AB81+AF81)/(AB81*AF81)+(AH81^2/(2*(AB81+AF81)))))","v":""},null,null,null,null,null,null,null,null,{"$f":"IF(Sheet2!$A$145=TRUE,-1*(((AK81-$G81)-(AO81-$K81))/SQRT(((AL81^2*(AM81-1))+(AP81^2*(AQ81-1)))/(AM81+AQ81-2))),((AK81-$G81)-(AO81-$K81))/SQRT(((AL81^2*(AM81-1))+(AP81^2*(AQ81-1)))/(AM81+AQ81-2)))","v":{"$error":"#DIV/0!"}},{"$f":"IF(AK81=\"\",\"\",AR81)","v":""},{"$f":"IF(AM81=\"\",\"\",SQRT((AM81+AQ81)/(AM81*AQ81)+(AS81^2/(2*(AM81+AQ81)))))","v":""},null,null,null,null,null,null,null,null,{"$f":"IF(Sheet2!$A$145=TRUE,-1*(((AV81-$G81)-(AZ81-$K81))/SQRT(((AW81^2*(AX81-1))+(BA81^2*(BB81-1)))/(AX81+BB81-2))),((AV81-$G81)-(AZ81-$K81))/SQRT(((AW81^2*(AX81-1))+(BA81^2*(BB81-1)))/(AX81+BB81-2)))","v":{"$error":"#DIV/0!"}},{"$f":"IF(AV81=\"\",\"\",BC81)","v":""},{"$f":"IF(AX81=\"\",\"\",SQRT((AX81+BB81)/(AX81*BB81)+(BD81^2/(2*(AX81+BB81)))))","v":""},null,null,null,null,null,null,null,null,{"$f":"IF(Sheet2!$A$145=TRUE,-1*(((BG81-$G81)-(BK81-$K81))/SQRT(((BH81^2*(BI81-1))+(BL81^2*(BM81-1)))/(BI81+BM81-2))),((BG81-$G81)-(BK81-$K81))/SQRT(((BH81^2*(BI81-1))+(BL81^2*(BM81-1)))/(BI81+BM81-2)))","v":{"$error":"#DIV/0!"}},{"$f":"IF(BG81=\"\",\"\",BN81)","v":""},{"$f":"IF(BI81=\"\",\"\",SQRT((BI81+BM81)/(BI81*BM81)+(BO81^2/(2*(BI81+BM81)))))","v":""},null,null,null,null,null,null,null,null,{"$f":"IF(Sheet2!$A$145=TRUE,-1*(((BR81-$G81)-(BV81-$K81))/SQRT(((BS81^2*(BT81-1))+(BW81^2*(BX81-1)))/(BT81+BX81-2))),((BR81-$G81)-(BV81-$K81))/SQRT(((BS81^2*(BT81-1))+(BW81^2*(BX81-1)))/(BT81+BX81-2)))","v":{"$error":"#DIV/0!"}},{"$f":"IF(BR81=\"\",\"\",BY81)","v":""},{"$f":"IF(BT81=\"\",\"\",SQRT((BT81+BX81)/(BT81*BX81)+(BZ81^2/(2*(BT81+BX81)))))","v":""}]
[null,null,"Outcome 77",null,null,null,null,null,null,null,null,null,null,null,null,null,null,null,null,null,null,{"$f":"IF(Sheet2!$A$146=TRUE,-1*(((O82-$G82)-(S82-$K82))/SQRT(((P82^2*(Q82-1))+(T82^2*(U82-1)))/(Q82+U82-2))),((O82-$G82)-(S82-$K82))/SQRT(((P82^2*(Q82-1))+(T82^2*(U82-1)))/(Q82+U82-2)))","v":{"$error":"#DIV/0!"}},{"$f":"IF(O82=\"\",\"\",V82)","v":""},{"$f":"IF(Q82=\"\",\"\",SQRT((Q82+U82)/(Q82*U82)+(W82^2/(2*(Q82+U82)))))","v":""},null,null,null,null,null,null,null,null,{"$f":"IF(Sheet2!$A$146=TRUE,-1*(((Z82-$G82)-(AD82-$K82))/SQRT(((AA82^2*(AB82-1))+(AE82^2*(AF82-1)))/(AB82+AF82-2))),((Z82-$G82)-(AD82-$K82))/SQRT(((AA82^2*(AB82-1))+(AE82^2*(AF82-1)))/(AB82+AF82-2)))","v":{"$error":"#DIV/0!"}},{"$f":"IF(Z82=\"\",\"\",AG82)","v":""},{"$f":"IF(AB82=\"\",\"\",SQRT((AB82+AF82)/(AB82*AF82)+(AH82^2/(2*(AB82+AF82)))))","v":""},null,null,null,null,null,null,null,null,{"$f":"IF(Sheet2!$A$146=TRUE,-1*(((AK82-$G82)-(AO82-$K82))/SQRT(((AL82^2*(AM82-1))+(AP82^2*(AQ82-1)))/(AM82+AQ82-2))),((AK82-$G82)-(AO82-$K82))/SQRT(((AL82^2*(AM82-1))+(AP82^2*(AQ82-1)))/(AM82+AQ82-2)))","v":{"$error":"#DIV/0!"}},{"$f":"IF(AK82=\"\",\"\",AR82)","v":""},{"$f":"IF(AM82=\"\",\"\",SQRT((AM82+AQ82)/(AM82*AQ82)+(AS82^2/(2*(AM82+AQ82)))))","v":""},null,null,null,null,null,null,null,null,{"$f":"IF(Sheet2!$A$146=TRUE,-1*(((AV82-$G82)-(AZ82-$K82))/SQRT(((AW82^2*(AX82-1))+(BA82^2*(BB82-1)))/(AX82+BB82-2))),((AV82-$G82)-(AZ82-$K82))/SQRT(((AW82^2*(AX82-1))+(BA82^2*(BB82-1)))/(AX82+BB82-2)))","v":{"$error":"#DIV/0!"}},{"$f":"IF(AV82=\"\",\"\",BC82)","v":""},{"$f":"IF(AX82=\"\",\"\",SQRT((AX82+BB82)/(AX82*BB82)+(BD82^2/(2*(AX82+BB82)))))","v":""},null,null,null,null,null,null,null,null,{"$f":"IF(Sheet2!$A$146=TRUE,-1*(((BG82-$G82)-(BK82-$K82))/SQRT(((BH82^2*(BI82-1))+(BL82^2*(BM82-1)))/(BI82+BM82-2))),((BG82-$G82)-(BK82-$K82))/SQRT(((BH82^2*(BI82-1))+(BL82^2*(BM82-1)))/(BI82+BM82-2)))","v":{"$error":"#DIV/0!"}},{"$f":"IF(BG82=\"\",\"\",BN82)","v":""},{"$f":"IF(BI82=\"\",\"\",SQRT((BI82+BM82)/(BI82*BM82)+(BO82^2/(2*(BI82+BM82)))))","v":""},null,null,null,null,null,null,null,null,{"$f":"IF(Sheet2!$A$146=TRUE,-1*(((BR82-$G82)-(BV82-$K82))/SQRT(((BS82^2*(BT82-1))+(BW82^2*(BX82-1)))/(BT82+BX82-2))),((BR82-$G82)-(BV82-$K82))/SQRT(((BS82^2*(BT82-1))+(BW82^2*(BX82-1)))/(BT82+BX82-2)))","v":{"$error":"#DIV/0!"}},{"$f":"IF(BR82=\"\",\"\",BY82)","v":""},{"$f":"IF(BT82=\"\",\"\",SQRT((BT82+BX82)/(BT82*BX82)+(BZ82^2/(2*(BT82+BX82)))))","v":""}]
[null,null,"Outcome 78",null,null,null,null,null,null,null,null,null,null,null,null,null,null,null,null,null,null,{"$f":"IF(Sheet2!$A$147=TRUE,-1*(((O83-$G83)-(S83-$K83))/SQRT(((P83^2*(Q83-1))+(T83^2*(U83-1)))/(Q83+U83-2))),((O83-$G83)-(S83-$K83))/SQRT(((P83^2*(Q83-1))+(T83^2*(U83-1)))/(Q83+U83-2)))","v":{"$error":"#DIV/0!"}},{"$f":"IF(O83=\"\",\"\",V83)","v":""},"",null,null,null,null,null,null,null,null,{"$f":"IF(Sheet2!$A$147=TRUE,-1*(((Z83-$G83)-(AD83-$K83))/SQRT(((AA83^2*(AB83-1))+(AE83^2*(AF83-1)))/(AB83+AF83-2))),((Z83-$G83)-(AD83-$K83))/SQRT(((AA83^2*(AB83-1))+(AE83^2*(AF83-1)))/(AB83+AF83-2)))","v":{"$error":"#DIV/0!"}},{"$f":"IF(Z83=\"\",\"\",AG83)","v":""},"",null,null,null,null,null,null,null,null,{"$f":"IF(Sheet2!$A$147=TRUE,-1*(((AK83-$G83)-(AO83-$K83))/SQRT(((AL83^2*(AM83-1))+(AP83^2*(AQ83-1)))/(AM83+AQ83-2))),((AK83-$G83)-(AO83-$K83))/SQRT(((AL83^2*(AM83-1))+(AP83^2*(AQ83-1)))/(AM83+AQ83-2)))","v":{"$error":"#DIV/0!"}},{"$f":"IF(AK83=\"\",\"\",AR83)","v":""},"",null,null,null,null,null,null,null,null,{"$f":"IF(Sheet2!$A$147=TRUE,-1*(((AV83-$G83)-(AZ83-$K83))/SQRT(((AW83^2*(AX83-1))+(BA83^2*(BB83-1)))/(AX83+BB83-2))),((AV83-$G83)-(AZ83-$K83))/SQRT(((AW83^2*(AX83-1))+(BA83^2*(BB83-1)))/(AX83+BB83-2)))","v":{"$error":"#DIV/0!"}},{"$f":"IF(AV83=\"\",\"\",BC83)","v":""},"",null,null,null,null,null,null,null,null,{"$f":"IF(Sheet2!$A$147=TRUE,-1*(((BG83-$G83)-(BK83-$K83))/SQRT(((BH83^2*(BI83-1))+(BL83^2*(BM83-1)))/(BI83+BM83-2))),((BG83-$G83)-(BK83-$K83))/SQRT(((BH83^2*(BI83-1))+(BL83^2*(BM83-1)))/(BI83+BM83-2)))","v":{"$error":"#DIV/0!"}},{"$f":"IF(BG83=\"\",\"\",BN83)","v":""},"",null,null,null,null,null,null,null,null,{"$f":"IF(Sheet2!$A$147=TRUE,-1*(((BR83-$G83)-(BV83-$K83))/SQRT(((BS83^2*(BT83-1))+(BW83^2*(BX83-1)))/(BT83+BX83-2))),((BR83-$G83)-(BV83-$K83))/SQRT(((BS83^2*(BT83-1))+(BW83^2*(BX83-1)))/(BT83+BX83-2)))","v":{"$error":"#DIV/0!"}},{"$f":"IF(BR83=\"\",\"\",BY83)","v":""},""]
[null,null,"Outcome 79",null,null,null,null,null,null,null,null,null,null,null,null,null,null,null,null,null,null,{"$f":"IF(Sheet2!$A$148=TRUE,-1*(((O84-$G84)-(S84-$K84))/SQRT(((P84^2*(Q84-1))+(T84^2*(U84-1)))/(Q84+U84-2))),((O84-$G84)-(S84-$K84))/SQRT(((P84^2*(Q84-1))+(T84^2*(U84-1)))/(Q84+U84-2)))","v":{"$error":"#DIV/0!"}},{"$f":"IF(O84=\"\",\"\",V84)","v":""},{"$f":"IF(Q84=\"\",\"\",SQRT((Q84+U84)/(Q84*U84)+(W84^2/(2*(Q84+U84)))))","v":""},null,null,null,null,null,null,null,null,{"$f":"IF(Sheet2!$A$148=TRUE,-1*(((Z84-$G84)-(AD84-$K84))/SQRT(((AA84^2*(AB84-1))+(AE84^2*(AF84-1)))/(AB84+AF84-2))),((Z84-$G84)-(AD84-$K84))/SQRT(((AA84^2*(AB84-1))+(AE84^2*(AF84-1)))/(AB84+AF84-2)))","v":{"$error":"#DIV/0!"}},{"$f":"IF(Z84=\"\",\"\",AG84)","v":""},{"$f":"IF(AB84=\"\",\"\",SQRT((AB84+AF84)/(AB84*AF84)+(AH84^2/(2*(AB84+AF84)))))","v":""},null,null,null,null,null,null,null,null,{"$f":"IF(Sheet2!$A$148=TRUE,-1*(((AK84-$G84)-(AO84-$K84))/SQRT(((AL84^2*(AM84-1))+(AP84^2*(AQ84-1)))/(AM84+AQ84-2))),((AK84-$G84)-(AO84-$K84))/SQRT(((AL84^2*(AM84-1))+(AP84^2*(AQ84-1)))/(AM84+AQ84-2)))","v":{"$error":"#DIV/0!"}},{"$f":"IF(AK84=\"\",\"\",AR84)","v":""},{"$f":"IF(AM84=\"\",\"\",SQRT((AM84+AQ84)/(AM84*AQ84)+(AS84^2/(2*(AM84+AQ84)))))","v":""},null,null,null,null,null,null,null,null,{"$f":"IF(Sheet2!$A$148=TRUE,-1*(((AV84-$G84)-(AZ84-$K84))/SQRT(((AW84^2*(AX84-1))+(BA84^2*(BB84-1)))/(AX84+BB84-2))),((AV84-$G84)-(AZ84-$K84))/SQRT(((AW84^2*(AX84-1))+(BA84^2*(BB84-1)))/(AX84+BB84-2)))","v":{"$error":"#DIV/0!"}},{"$f":"IF(AV84=\"\",\"\",BC84)","v":""},{"$f":"IF(AX84=\"\",\"\",SQRT((AX84+BB84)/(AX84*BB84)+(BD84^2/(2*(AX84+BB84)))))","v":""},null,null,null,null,null,null,null,null,{"$f":"IF(Sheet2!$A$148=TRUE,-1*(((BG84-$G84)-(BK84-$K84))/SQRT(((BH84^2*(BI84-1))+(BL84^2*(BM84-1)))/(BI84+BM84-2))),((BG84-$G84)-(BK84-$K84))/SQRT(((BH84^2*(BI84-1))+(BL84^2*(BM84-1)))/(BI84+BM84-2)))","v":{"$error":"#DIV/0!"}},{"$f":"IF(BG84=\"\",\"\",BN84)","v":""},{"$f":"IF(BI84=\"\",\"\",SQRT((BI84+BM84)/(BI84*BM84)+(BO84^2/(2*(BI84+BM84)))))","v":""},null,null,null,null,null,null,null,null,{"$f":"IF(Sheet2!$A$148=TRUE,-1*(((BR84-$G84)-(BV84-$K84))/SQRT(((BS84^2*(BT84-1))+(BW84^2*(BX84-1)))/(BT84+BX84-2))),((BR84-$G84)-(BV84-$K84))/SQRT(((BS84^2*(BT84-1))+(BW84^2*(BX84-1)))/(BT84+BX84-2)))","v":{"$error":"#DIV/0!"}},{"$f":"IF(BR84=\"\",\"\",BY84)","v":""},{"$f":"IF(BT84=\"\",\"\",SQRT((BT84+BX84)/(BT84*BX84)+(BZ84^2/(2*(BT84+BX84)))))","v":""}]
[null,null,"Outcome 80",null,null,null,null,null,null,null,null,null,null,null,null,null,null,null,null,null,null,{"$f":"IF(Sheet2!$A$149=TRUE,-1*(((O85-$G85)-(S85-$K85))/SQRT(((P85^2*(Q85-1))+(T85^2*(U85-1)))/(Q85+U85-2))),((O85-$G85)-(S85-$K85))/SQRT(((P85^2*(Q85-1))+(T85^2*(U85-1)))/(Q85+U85-2)))","v":{"$error":"#DIV/0!"}},"","",null,null,null,null,null,null,null,null,{"$f":"IF(Sheet2!$A$149=TRUE,-1*(((Z85-$G85)-(AD85-$K85))/SQRT(((AA85^2*(AB85-1))+(AE85^2*(AF85-1)))/(AB85+AF85-2))),((Z85-$G85)-(AD85-$K85))/SQRT(((AA85^2*(AB85-1))+(AE85^2*(AF85-1)))/(AB85+AF85-2)))","v":{"$error":"#DIV/0!"}},"",{"$f":"IF(AB85=\"\",\"\",SQRT((AB85+AF85)/(AB85*AF85)+(AH85^2/(2*(AB85+AF85)))))","v":""},null,null,null,null,null,null,null,null,{"$f":"IF(Sheet2!$A$149=TRUE,-1*(((AK85-$G85)-(AO85-$K85))/SQRT(((AL85^2*(AM85-1))+(AP85^2*(AQ85-1)))/(AM85+AQ85-2))),((AK85-$G85)-(AO85-$K85))/SQRT(((AL85^2*(AM85-1))+(AP85^2*(AQ85-1)))/(AM85+AQ85-2)))","v":{"$error":"#DIV/0!"}},"",{"$f":"IF(AM85=\"\",\"\",SQRT((AM85+AQ85)/(AM85*AQ85)+(AS85^2/(2*(AM85+AQ85)))))","v":""},null,null,null,null,null,null,null,null,{"$f":"IF(Sheet2!$A$149=TRUE,-1*(((AV85-$G85)-(AZ85-$K85))/SQRT(((AW85^2*(AX85-1))+(BA85^2*(BB85-1)))/(AX85+BB85-2))),((AV85-$G85)-(AZ85-$K85))/SQRT(((AW85^2*(AX85-1))+(BA85^2*(BB85-1)))/(AX85+BB85-2)))","v":{"$error":"#DIV/0!"}},"",{"$f":"IF(AX85=\"\",\"\",SQRT((AX85+BB85)/(AX85*BB85)+(BD85^2/(2*(AX85+BB85)))))","v":""},null,null,null,null,null,null,null,null,{"$f":"IF(Sheet2!$A$149=TRUE,-1*(((BG85-$G85)-(BK85-$K85))/SQRT(((BH85^2*(BI85-1))+(BL85^2*(BM85-1)))/(BI85+BM85-2))),((BG85-$G85)-(BK85-$K85))/SQRT(((BH85^2*(BI85-1))+(BL85^2*(BM85-1)))/(BI85+BM85-2)))","v":{"$error":"#DIV/0!"}},"",{"$f":"IF(BI85=\"\",\"\",SQRT((BI85+BM85)/(BI85*BM85)+(BO85^2/(2*(BI85+BM85)))))","v":""},null,null,null,null,null,null,null,null,{"$f":"IF(Sheet2!$A$149=TRUE,-1*(((BR85-$G85)-(BV85-$K85))/SQRT(((BS85^2*(BT85-1))+(BW85^2*(BX85-1)))/(BT85+BX85-2))),((BR85-$G85)-(BV85-$K85))/SQRT(((BS85^2*(BT85-1))+(BW85^2*(BX85-1)))/(BT85+BX85-2)))","v":{"$error":"#DIV/0!"}},"",{"$f":"IF(BT85=\"\",\"\",SQRT((BT85+BX85)/(BT85*BX85)+(BZ85^2/(2*(BT85+BX85)))))","v":""}]
[null,null,"Outcome 81",null,null,null,null,null,null,null,null,null,null,null,null,null,null,null,null,null,null,{"$f":"IF(Sheet2!$A$153=TRUE,-1*(((O86-$G86)-(S86-$K86))/SQRT(((P86^2*(Q86-1))+(T86^2*(U86-1)))/(Q86+U86-2))),((O86-$G86)-(S86-$K86))/SQRT(((P86^2*(Q86-1))+(T86^2*(U86-1)))/(Q86+U86-2)))","v":{"$error":"#DIV/0!"}},{"$f":"IF(O86=\"\",\"\",V86)","v":""},{"$f":"IF(Q86=\"\",\"\",SQRT((Q86+U86)/(Q86*U86)+(W86^2/(2*(Q86+U86)))))","v":""},null,null,null,null,null,null,null,null,{"$f":"IF(Sheet2!$A$153=TRUE,-1*(((Z86-$G86)-(AD86-$K86))/SQRT(((AA86^2*(AB86-1))+(AE86^2*(AF86-1)))/(AB86+AF86-2))),((Z86-$G86)-(AD86-$K86))/SQRT(((AA86^2*(AB86-1))+(AE86^2*(AF86-1)))/(AB86+AF86-2)))","v":{"$error":"#DIV/0!"}},{"$f":"IF(Z86=\"\",\"\",AG86)","v":""},{"$f":"IF(AB86=\"\",\"\",SQRT((AB86+AF86)/(AB86*AF86)+(AH86^2/(2*(AB86+AF86)))))","v":""},null,null,null,null,null,null,null,null,{"$f":"IF(Sheet2!$A$153=TRUE,-1*(((AK86-$G86)-(AO86-$K86))/SQRT(((AL86^2*(AM86-1))+(AP86^2*(AQ86-1)))/(AM86+AQ86-2))),((AK86-$G86)-(AO86-$K86))/SQRT(((AL86^2*(AM86-1))+(AP86^2*(AQ86-1)))/(AM86+AQ86-2)))","v":{"$error":"#DIV/0!"}},{"$f":"IF(AK86=\"\",\"\",AR86)","v":""},{"$f":"IF(AM86=\"\",\"\",SQRT((AM86+AQ86)/(AM86*AQ86)+(AS86^2/(2*(AM86+AQ86)))))","v":""},null,null,null,null,null,null,null,null,{"$f":"IF(Sheet2!$A$153=TRUE,-1*(((AV86-$G86)-(AZ86-$K86))/SQRT(((AW86^2*(AX86-1))+(BA86^2*(BB86-1)))/(AX86+BB86-2))),((AV86-$G86)-(AZ86-$K86))/SQRT(((AW86^2*(AX86-1))+(BA86^2*(BB86-1)))/(AX86+BB86-2)))","v":{"$error":"#DIV/0!"}},{"$f":"IF(AV86=\"\",\"\",BC86)","v":""},{"$f":"IF(AX86=\"\",\"\",SQRT((AX86+BB86)/(AX86*BB86)+(BD86^2/(2*(AX86+BB86)))))","v":""},null,null,null,null,null,null,null,null,{"$f":"IF(Sheet2!$A$153=TRUE,-1*(((BG86-$G86)-(BK86-$K86))/SQRT(((BH86^2*(BI86-1))+(BL86^2*(BM86-1)))/(BI86+BM86-2))),((BG86-$G86)-(BK86-$K86))/SQRT(((BH86^2*(BI86-1))+(BL86^2*(BM86-1)))/(BI86+BM86-2)))","v":{"$error":"#DIV/0!"}},{"$f":"IF(BG86=\"\",\"\",BN86)","v":""},{"$f":"IF(BI86=\"\",\"\",SQRT((BI86+BM86)/(BI86*BM86)+(BO86^2/(2*(BI86+BM86)))))","v":""},null,null,null,null,null,null,null,null,{"$f":"IF(Sheet2!$A$153=TRUE,-1*(((BR86-$G86)-(BV86-$K86))/SQRT(((BS86^2*(BT86-1))+(BW86^2*(BX86-1)))/(BT86+BX86-2))),((BR86-$G86)-(BV86-$K86))/SQRT(((BS86^2*(BT86-1))+(BW86^2*(BX86-1)))/(BT86+BX86-2)))","v":{"$error":"#DIV/0!"}},{"$f":"IF(BR86=\"\",\"\",BY86)","v":""},{"$f":"IF(BT86=\"\",\"\",SQRT((BT86+BX86)/(BT86*BX86)+(BZ86^2/(2*(BT86+BX86)))))","v":""}]
[null,null,"Outcome 82",null,null,null,null,null,null,null,null,null,null,null,null,null,null,null,null,null,null,{"$f":"IF(Sheet2!$A$154=TRUE,-1*(((O87-$G87)-(S87-$K87))/SQRT(((P87^2*(Q87-1))+(T87^2*(U87-1)))/(Q87+U87-2))),((O87-$G87)-(S87-$K87))/SQRT(((P87^2*(Q87-1))+(T87^2*(U87-1)))/(Q87+U87-2)))","v":{"$error":"#DIV/0!"}},{"$f":"IF(O87=\"\",\"\",V87)","v":""},{"$f":"IF(Q87=\"\",\"\",SQRT((Q87+U87)/(Q87*U87)+(W87^2/(2*(Q87+U87)))))","v":""},null,null,null,null,null,null,null,null,{"$f":"IF(Sheet2!$A$154=TRUE,-1*(((Z87-$G87)-(AD87-$K87))/SQRT(((AA87^2*(AB87-1))+(AE87^2*(AF87-1)))/(AB87+AF87-2))),((Z87-$G87)-(AD87-$K87))/SQRT(((AA87^2*(AB87-1))+(AE87^2*(AF87-1)))/(AB87+AF87-2)))","v":{"$error":"#DIV/0!"}},{"$f":"IF(Z87=\"\",\"\",AG87)","v":""},{"$f":"IF(AB87=\"\",\"\",SQRT((AB87+AF87)/(AB87*AF87)+(AH87^2/(2*(AB87+AF87)))))","v":""},null,null,null,null,null,null,null,null,{"$f":"IF(Sheet2!$A$154=TRUE,-1*(((AK87-$G87)-(AO87-$K87))/SQRT(((AL87^2*(AM87-1))+(AP87^2*(AQ87-1)))/(AM87+AQ87-2))),((AK87-$G87)-(AO87-$K87))/SQRT(((AL87^2*(AM87-1))+(AP87^2*(AQ87-1)))/(AM87+AQ87-2)))","v":{"$error":"#DIV/0!"}},{"$f":"IF(AK87=\"\",\"\",AR87)","v":""},{"$f":"IF(AM87=\"\",\"\",SQRT((AM87+AQ87)/(AM87*AQ87)+(AS87^2/(2*(AM87+AQ87)))))","v":""},null,null,null,null,null,null,null,null,{"$f":"IF(Sheet2!$A$154=TRUE,-1*(((AV87-$G87)-(AZ87-$K87))/SQRT(((AW87^2*(AX87-1))+(BA87^2*(BB87-1)))/(AX87+BB87-2))),((AV87-$G87)-(AZ87-$K87))/SQRT(((AW87^2*(AX87-1))+(BA87^2*(BB87-1)))/(AX87+BB87-2)))","v":{"$error":"#DIV/0!"}},{"$f":"IF(AV87=\"\",\"\",BC87)","v":""},{"$f":"IF(AX87=\"\",\"\",SQRT((AX87+BB87)/(AX87*BB87)+(BD87^2/(2*(AX87+BB87)))))","v":""},null,null,null,null,null,null,null,null,{"$f":"IF(Sheet2!$A$154=TRUE,-1*(((BG87-$G87)-(BK87-$K87))/SQRT(((BH87^2*(BI87-1))+(BL87^2*(BM87-1)))/(BI87+BM87-2))),((BG87-$G87)-(BK87-$K87))/SQRT(((BH87^2*(BI87-1))+(BL87^2*(BM87-1)))/(BI87+BM87-2)))","v":{"$error":"#DIV/0!"}},{"$f":"IF(BG87=\"\",\"\",BN87)","v":""},{"$f":"IF(BI87=\"\",\"\",SQRT((BI87+BM87)/(BI87*BM87)+(BO87^2/(2*(BI87+BM87)))))","v":""},null,null,null,null,null,null,null,null,{"$f":"IF(Sheet2!$A$154=TRUE,-1*(((BR87-$G87)-(BV87-$K87))/SQRT(((BS87^2*(BT87-1))+(BW87^2*(BX87-1)))/(BT87+BX87-2))),((BR87-$G87)-(BV87-$K87))/SQRT(((BS87^2*(BT87-1))+(BW87^2*(BX87-1)))/(BT87+BX87-2)))","v":{"$error":"#DIV/0!"}},{"$f":"IF(BR87=\"\",\"\",BY87)","v":""},{"$f":"IF(BT87=\"\",\"\",SQRT((BT87+BX87)/(BT87*BX87)+(BZ87^2/(2*(BT87+BX87)))))","v":""}]
[null,null,"Outcome 83",null,null,null,null,null,null,null,null,null,null,null,null,null,null,null,null,null,null,{"$f":"IF(Sheet2!$A$155=TRUE,-1*(((O88-$G88)-(S88-$K88))/SQRT(((P88^2*(Q88-1))+(T88^2*(U88-1)))/(Q88+U88-2))),((O88-$G88)-(S88-$K88))/SQRT(((P88^2*(Q88-1))+(T88^2*(U88-1)))/(Q88+U88-2)))","v":{"$error":"#DIV/0!"}},{"$f":"IF(O88=\"\",\"\",V88)","v":""},"",null,null,null,null,null,null,null,null,{"$f":"IF(Sheet2!$A$155=TRUE,-1*(((Z88-$G88)-(AD88-$K88))/SQRT(((AA88^2*(AB88-1))+(AE88^2*(AF88-1)))/(AB88+AF88-2))),((Z88-$G88)-(AD88-$K88))/SQRT(((AA88^2*(AB88-1))+(AE88^2*(AF88-1)))/(AB88+AF88-2)))","v":{"$error":"#DIV/0!"}},{"$f":"IF(Z88=\"\",\"\",AG88)","v":""},"",null,null,null,null,null,null,null,null,{"$f":"IF(Sheet2!$A$155=TRUE,-1*(((AK88-$G88)-(AO88-$K88))/SQRT(((AL88^2*(AM88-1))+(AP88^2*(AQ88-1)))/(AM88+AQ88-2))),((AK88-$G88)-(AO88-$K88))/SQRT(((AL88^2*(AM88-1))+(AP88^2*(AQ88-1)))/(AM88+AQ88-2)))","v":{"$error":"#DIV/0!"}},{"$f":"IF(AK88=\"\",\"\",AR88)","v":""},"",null,null,null,null,null,null,null,null,{"$f":"IF(Sheet2!$A$155=TRUE,-1*(((AV88-$G88)-(AZ88-$K88))/SQRT(((AW88^2*(AX88-1))+(BA88^2*(BB88-1)))/(AX88+BB88-2))),((AV88-$G88)-(AZ88-$K88))/SQRT(((AW88^2*(AX88-1))+(BA88^2*(BB88-1)))/(AX88+BB88-2)))","v":{"$error":"#DIV/0!"}},{"$f":"IF(AV88=\"\",\"\",BC88)","v":""},"",null,null,null,null,null,null,null,null,{"$f":"IF(Sheet2!$A$155=TRUE,-1*(((BG88-$G88)-(BK88-$K88))/SQRT(((BH88^2*(BI88-1))+(BL88^2*(BM88-1)))/(BI88+BM88-2))),((BG88-$G88)-(BK88-$K88))/SQRT(((BH88^2*(BI88-1))+(BL88^2*(BM88-1)))/(BI88+BM88-2)))","v":{"$error":"#DIV/0!"}},{"$f":"IF(BG88=\"\",\"\",BN88)","v":""},"",null,null,null,null,null,null,null,null,{"$f":"IF(Sheet2!$A$155=TRUE,-1*(((BR88-$G88)-(BV88-$K88))/SQRT(((BS88^2*(BT88-1))+(BW88^2*(BX88-1)))/(BT88+BX88-2))),((BR88-$G88)-(BV88-$K88))/SQRT(((BS88^2*(BT88-1))+(BW88^2*(BX88-1)))/(BT88+BX88-2)))","v":{"$error":"#DIV/0!"}},{"$f":"IF(BR88=\"\",\"\",BY88)","v":""},""]
[null,null,"Outcome 84",null,null,null,null,null,null,null,null,null,null,null,null,null,null,null,null,null,null,{"$f":"IF(Sheet2!$A$156=TRUE,-1*(((O89-$G89)-(S89-$K89))/SQRT(((P89^2*(Q89-1))+(T89^2*(U89-1)))/(Q89+U89-2))),((O89-$G89)-(S89-$K89))/SQRT(((P89^2*(Q89-1))+(T89^2*(U89-1)))/(Q89+U89-2)))","v":{"$error":"#DIV/0!"}},{"$f":"IF(O89=\"\",\"\",V89)","v":""},{"$f":"IF(Q89=\"\",\"\",SQRT((Q89+U89)/(Q89*U89)+(W89^2/(2*(Q89+U89)))))","v":""},null,null,null,null,null,null,null,null,{"$f":"IF(Sheet2!$A$156=TRUE,-1*(((Z89-$G89)-(AD89-$K89))/SQRT(((AA89^2*(AB89-1))+(AE89^2*(AF89-1)))/(AB89+AF89-2))),((Z89-$G89)-(AD89-$K89))/SQRT(((AA89^2*(AB89-1))+(AE89^2*(AF89-1)))/(AB89+AF89-2)))","v":{"$error":"#DIV/0!"}},{"$f":"IF(Z89=\"\",\"\",AG89)","v":""},{"$f":"IF(AB89=\"\",\"\",SQRT((AB89+AF89)/(AB89*AF89)+(AH89^2/(2*(AB89+AF89)))))","v":""},null,null,null,null,null,null,null,null,{"$f":"IF(Sheet2!$A$156=TRUE,-1*(((AK89-$G89)-(AO89-$K89))/SQRT(((AL89^2*(AM89-1))+(AP89^2*(AQ89-1)))/(AM89+AQ89-2))),((AK89-$G89)-(AO89-$K89))/SQRT(((AL89^2*(AM89-1))+(AP89^2*(AQ89-1)))/(AM89+AQ89-2)))","v":{"$error":"#DIV/0!"}},{"$f":"IF(AK89=\"\",\"\",AR89)","v":""},{"$f":"IF(AM89=\"\",\"\",SQRT((AM89+AQ89)/(AM89*AQ89)+(AS89^2/(2*(AM89+AQ89)))))","v":""},null,null,null,null,null,null,null,null,{"$f":"IF(Sheet2!$A$156=TRUE,-1*(((AV89-$G89)-(AZ89-$K89))/SQRT(((AW89^2*(AX89-1))+(BA89^2*(BB89-1)))/(AX89+BB89-2))),((AV89-$G89)-(AZ89-$K89))/SQRT(((AW89^2*(AX89-1))+(BA89^2*(BB89-1)))/(AX89+BB89-2)))","v":{"$error":"#DIV/0!"}},{"$f":"IF(AV89=\"\",\"\",BC89)","v":""},{"$f":"IF(AX89=\"\",\"\",SQRT((AX89+BB89)/(AX89*BB89)+(BD89^2/(2*(AX89+BB89)))))","v":""},null,null,null,null,null,null,null,null,{"$f":"IF(Sheet2!$A$156=TRUE,-1*(((BG89-$G89)-(BK89-$K89))/SQRT(((BH89^2*(BI89-1))+(BL89^2*(BM89-1)))/(BI89+BM89-2))),((BG89-$G89)-(BK89-$K89))/SQRT(((BH89^2*(BI89-1))+(BL89^2*(BM89-1)))/(BI89+BM89-2)))","v":{"$error":"#DIV/0!"}},{"$f":"IF(BG89=\"\",\"\",BN89)","v":""},{"$f":"IF(BI89=\"\",\"\",SQRT((BI89+BM89)/(BI89*BM89)+(BO89^2/(2*(BI89+BM89)))))","v":""},null,null,null,null,null,null,null,null,{"$f":"IF(Sheet2!$A$156=TRUE,-1*(((BR89-$G89)-(BV89-$K89))/SQRT(((BS89^2*(BT89-1))+(BW89^2*(BX89-1)))/(BT89+BX89-2))),((BR89-$G89)-(BV89-$K89))/SQRT(((BS89^2*(BT89-1))+(BW89^2*(BX89-1)))/(BT89+BX89-2)))","v":{"$error":"#DIV/0!"}},{"$f":"IF(BR89=\"\",\"\",BY89)","v":""},{"$f":"IF(BT89=\"\",\"\",SQRT((BT89+BX89)/(BT89*BX89)+(BZ89^2/(2*(BT89+BX89)))))","v":""}]
[null,null,"Outcome 85",null,null,null,null,null,null,null,null,null,null,null,null,null,null,null,null,null,null,{"$f":"IF(Sheet2!$A$157=TRUE,-1*(((O90-$G90)-(S90-$K90))/SQRT(((P90^2*(Q90-1))+(T90^2*(U90-1)))/(Q90+U90-2))),((O90-$G90)-(S90-$K90))/SQRT(((P90^2*(Q90-1))+(T90^2*(U90-1)))/(Q90+U90-2)))","v":{"$error":"#DIV/0!"}},"","",null,null,null,null,null,null,null,null,{"$f":"IF(Sheet2!$A$157=TRUE,-1*(((Z90-$G90)-(AD90-$K90))/SQRT(((AA90^2*(AB90-1))+(AE90^2*(AF90-1)))/(AB90+AF90-2))),((Z90-$G90)-(AD90-$K90))/SQRT(((AA90^2*(AB90-1))+(AE90^2*(AF90-1)))/(AB90+AF90-2)))","v":{"$error":"#DIV/0!"}},"",{"$f":"IF(AB90=\"\",\"\",SQRT((AB90+AF90)/(AB90*AF90)+(AH90^2/(2*(AB90+AF90)))))","v":""},null,null,null,null,null,null,null,null,{"$f":"IF(Sheet2!$A$157=TRUE,-1*(((AK90-$G90)-(AO90-$K90))/SQRT(((AL90^2*(AM90-1))+(AP90^2*(AQ90-1)))/(AM90+AQ90-2))),((AK90-$G90)-(AO90-$K90))/SQRT(((AL90^2*(AM90-1))+(AP90^2*(AQ90-1)))/(AM90+AQ90-2)))","v":{"$error":"#DIV/0!"}},"",{"$f":"IF(AM90=\"\",\"\",SQRT((AM90+AQ90)/(AM90*AQ90)+(AS90^2/(2*(AM90+AQ90)))))","v":""},null,null,null,null,null,null,null,null,{"$f":"IF(Sheet2!$A$157=TRUE,-1*(((AV90-$G90)-(AZ90-$K90))/SQRT(((AW90^2*(AX90-1))+(BA90^2*(BB90-1)))/(AX90+BB90-2))),((AV90-$G90)-(AZ90-$K90))/SQRT(((AW90^2*(AX90-1))+(BA90^2*(BB90-1)))/(AX90+BB90-2)))","v":{"$error":"#DIV/0!"}},"",{"$f":"IF(AX90=\"\",\"\",SQRT((AX90+BB90)/(AX90*BB90)+(BD90^2/(2*(AX90+BB90)))))","v":""},null,null,null,null,null,null,null,null,{"$f":"IF(Sheet2!$A$157=TRUE,-1*(((BG90-$G90)-(BK90-$K90))/SQRT(((BH90^2*(BI90-1))+(BL90^2*(BM90-1)))/(BI90+BM90-2))),((BG90-$G90)-(BK90-$K90))/SQRT(((BH90^2*(BI90-1))+(BL90^2*(BM90-1)))/(BI90+BM90-2)))","v":{"$error":"#DIV/0!"}},"",{"$f":"IF(BI90=\"\",\"\",SQRT((BI90+BM90)/(BI90*BM90)+(BO90^2/(2*(BI90+BM90)))))","v":""},null,null,null,null,null,null,null,null,{"$f":"IF(Sheet2!$A$157=TRUE,-1*(((BR90-$G90)-(BV90-$K90))/SQRT(((BS90^2*(BT90-1))+(BW90^2*(BX90-1)))/(BT90+BX90-2))),((BR90-$G90)-(BV90-$K90))/SQRT(((BS90^2*(BT90-1))+(BW90^2*(BX90-1)))/(BT90+BX90-2)))","v":{"$error":"#DIV/0!"}},"",{"$f":"IF(BT90=\"\",\"\",SQRT((BT90+BX90)/(BT90*BX90)+(BZ90^2/(2*(BT90+BX90)))))","v":""}]
[null,null,"Outcome 86",null,null,null,null,null,null,null,null,null,null,null,null,null,null,null,null,null,null,{"$f":"IF(Sheet2!$A$165=TRUE,-1*(((O91-$G91)-(S91-$K91))/SQRT(((P91^2*(Q91-1))+(T91^2*(U91-1)))/(Q91+U91-2))),((O91-$G91)-(S91-$K91))/SQRT(((P91^2*(Q91-1))+(T91^2*(U91-1)))/(Q91+U91-2)))","v":{"$error":"#DIV/0!"}},{"$f":"IF(O91=\"\",\"\",V91)","v":""},{"$f":"IF(Q91=\"\",\"\",SQRT((Q91+U91)/(Q91*U91)+(W91^2/(2*(Q91+U91)))))","v":""},null,null,null,null,null,null,null,null,{"$f":"IF(Sheet2!$A$165=TRUE,-1*(((Z91-$G91)-(AD91-$K91))/SQRT(((AA91^2*(AB91-1))+(AE91^2*(AF91-1)))/(AB91+AF91-2))),((Z91-$G91)-(AD91-$K91))/SQRT(((AA91^2*(AB91-1))+(AE91^2*(AF91-1)))/(AB91+AF91-2)))","v":{"$error":"#DIV/0!"}},{"$f":"IF(Z91=\"\",\"\",AG91)","v":""},{"$f":"IF(AB91=\"\",\"\",SQRT((AB91+AF91)/(AB91*AF91)+(AH91^2/(2*(AB91+AF91)))))","v":""},null,null,null,null,null,null,null,null,{"$f":"IF(Sheet2!$A$165=TRUE,-1*(((AK91-$G91)-(AO91-$K91))/SQRT(((AL91^2*(AM91-1))+(AP91^2*(AQ91-1)))/(AM91+AQ91-2))),((AK91-$G91)-(AO91-$K91))/SQRT(((AL91^2*(AM91-1))+(AP91^2*(AQ91-1)))/(AM91+AQ91-2)))","v":{"$error":"#DIV/0!"}},{"$f":"IF(AK91=\"\",\"\",AR91)","v":""},{"$f":"IF(AM91=\"\",\"\",SQRT((AM91+AQ91)/(AM91*AQ91)+(AS91^2/(2*(AM91+AQ91)))))","v":""},null,null,null,null,null,null,null,null,{"$f":"IF(Sheet2!$A$165=TRUE,-1*(((AV91-$G91)-(AZ91-$K91))/SQRT(((AW91^2*(AX91-1))+(BA91^2*(BB91-1)))/(AX91+BB91-2))),((AV91-$G91)-(AZ91-$K91))/SQRT(((AW91^2*(AX91-1))+(BA91^2*(BB91-1)))/(AX91+BB91-2)))","v":{"$error":"#DIV/0!"}},{"$f":"IF(AV91=\"\",\"\",BC91)","v":""},{"$f":"IF(AX91=\"\",\"\",SQRT((AX91+BB91)/(AX91*BB91)+(BD91^2/(2*(AX91+BB91)))))","v":""},null,null,null,null,null,null,null,null,{"$f":"IF(Sheet2!$A$165=TRUE,-1*(((BG91-$G91)-(BK91-$K91))/SQRT(((BH91^2*(BI91-1))+(BL91^2*(BM91-1)))/(BI91+BM91-2))),((BG91-$G91)-(BK91-$K91))/SQRT(((BH91^2*(BI91-1))+(BL91^2*(BM91-1)))/(BI91+BM91-2)))","v":{"$error":"#DIV/0!"}},{"$f":"IF(BG91=\"\",\"\",BN91)","v":""},{"$f":"IF(BI91=\"\",\"\",SQRT((BI91+BM91)/(BI91*BM91)+(BO91^2/(2*(BI91+BM91)))))","v":""},null,null,null,null,null,null,null,null,{"$f":"IF(Sheet2!$A$165=TRUE,-1*(((BR91-$G91)-(BV91-$K91))/SQRT(((BS91^2*(BT91-1))+(BW91^2*(BX91-1)))/(BT91+BX91-2))),((BR91-$G91)-(BV91-$K91))/SQRT(((BS91^2*(BT91-1))+(BW91^2*(BX91-1)))/(BT91+BX91-2)))","v":{"$error":"#DIV/0!"}},{"$f":"IF(BR91=\"\",\"\",BY91)","v":""},{"$f":"IF(BT91=\"\",\"\",SQRT((BT91+BX91)/(BT91*BX91)+(BZ91^2/(2*(BT91+BX91)))))","v":""}]
[null,null,"Outcome 87",null,null,null,null,null,null,null,null,null,null,null,null,null,null,null,null,null,null,{"$f":"IF(Sheet2!$A$166=TRUE,-1*(((O92-$G92)-(S92-$K92))/SQRT(((P92^2*(Q92-1))+(T92^2*(U92-1)))/(Q92+U92-2))),((O92-$G92)-(S92-$K92))/SQRT(((P92^2*(Q92-1))+(T92^2*(U92-1)))/(Q92+U92-2)))","v":{"$error":"#DIV/0!"}},{"$f":"IF(O92=\"\",\"\",V92)","v":""},{"$f":"IF(Q92=\"\",\"\",SQRT((Q92+U92)/(Q92*U92)+(W92^2/(2*(Q92+U92)))))","v":""},null,null,null,null,null,null,null,null,{"$f":"IF(Sheet2!$A$166=TRUE,-1*(((Z92-$G92)-(AD92-$K92))/SQRT(((AA92^2*(AB92-1))+(AE92^2*(AF92-1)))/(AB92+AF92-2))),((Z92-$G92)-(AD92-$K92))/SQRT(((AA92^2*(AB92-1))+(AE92^2*(AF92-1)))/(AB92+AF92-2)))","v":{"$error":"#DIV/0!"}},{"$f":"IF(Z92=\"\",\"\",AG92)","v":""},{"$f":"IF(AB92=\"\",\"\",SQRT((AB92+AF92)/(AB92*AF92)+(AH92^2/(2*(AB92+AF92)))))","v":""},null,null,null,null,null,null,null,null,{"$f":"IF(Sheet2!$A$166=TRUE,-1*(((AK92-$G92)-(AO92-$K92))/SQRT(((AL92^2*(AM92-1))+(AP92^2*(AQ92-1)))/(AM92+AQ92-2))),((AK92-$G92)-(AO92-$K92))/SQRT(((AL92^2*(AM92-1))+(AP92^2*(AQ92-1)))/(AM92+AQ92-2)))","v":{"$error":"#DIV/0!"}},{"$f":"IF(AK92=\"\",\"\",AR92)","v":""},{"$f":"IF(AM92=\"\",\"\",SQRT((AM92+AQ92)/(AM92*AQ92)+(AS92^2/(2*(AM92+AQ92)))))","v":""},null,null,null,null,null,null,null,null,{"$f":"IF(Sheet2!$A$166=TRUE,-1*(((AV92-$G92)-(AZ92-$K92))/SQRT(((AW92^2*(AX92-1))+(BA92^2*(BB92-1)))/(AX92+BB92-2))),((AV92-$G92)-(AZ92-$K92))/SQRT(((AW92^2*(AX92-1))+(BA92^2*(BB92-1)))/(AX92+BB92-2)))","v":{"$error":"#DIV/0!"}},{"$f":"IF(AV92=\"\",\"\",BC92)","v":""},{"$f":"IF(AX92=\"\",\"\",SQRT((AX92+BB92)/(AX92*BB92)+(BD92^2/(2*(AX92+BB92)))))","v":""},null,null,null,null,null,null,null,null,{"$f":"IF(Sheet2!$A$166=TRUE,-1*(((BG92-$G92)-(BK92-$K92))/SQRT(((BH92^2*(BI92-1))+(BL92^2*(BM92-1)))/(BI92+BM92-2))),((BG92-$G92)-(BK92-$K92))/SQRT(((BH92^2*(BI92-1))+(BL92^2*(BM92-1)))/(BI92+BM92-2)))","v":{"$error":"#DIV/0!"}},{"$f":"IF(BG92=\"\",\"\",BN92)","v":""},{"$f":"IF(BI92=\"\",\"\",SQRT((BI92+BM92)/(BI92*BM92)+(BO92^2/(2*(BI92+BM92)))))","v":""},null,null,null,null,null,null,null,null,{"$f":"IF(Sheet2!$A$166=TRUE,-1*(((BR92-$G92)-(BV92-$K92))/SQRT(((BS92^2*(BT92-1))+(BW92^2*(BX92-1)))/(BT92+BX92-2))),((BR92-$G92)-(BV92-$K92))/SQRT(((BS92^2*(BT92-1))+(BW92^2*(BX92-1)))/(BT92+BX92-2)))","v":{"$error":"#DIV/0!"}},{"$f":"IF(BR92=\"\",\"\",BY92)","v":""},{"$f":"IF(BT92=\"\",\"\",SQRT((BT92+BX92)/(BT92*BX92)+(BZ92^2/(2*(BT92+BX92)))))","v":""}]
[null,null,"Outcome 88",null,null,null,null,null,null,null,null,null,null,null,null,null,null,null,null,null,null,{"$f":"IF(Sheet2!$A$167=TRUE,-1*(((O93-$G93)-(S93-$K93))/SQRT(((P93^2*(Q93-1))+(T93^2*(U93-1)))/(Q93+U93-2))),((O93-$G93)-(S93-$K93))/SQRT(((P93^2*(Q93-1))+(T93^2*(U93-1)))/(Q93+U93-2)))","v":{"$error":"#DIV/0!"}},{"$f":"IF(O93=\"\",\"\",V93)","v":""},"",null,null,null,null,null,null,null,null,{"$f":"IF(Sheet2!$A$167=TRUE,-1*(((Z93-$G93)-(AD93-$K93))/SQRT(((AA93^2*(AB93-1))+(AE93^2*(AF93-1)))/(AB93+AF93-2))),((Z93-$G93)-(AD93-$K93))/SQRT(((AA93^2*(AB93-1))+(AE93^2*(AF93-1)))/(AB93+AF93-2)))","v":{"$error":"#DIV/0!"}},{"$f":"IF(Z93=\"\",\"\",AG93)","v":""},"",null,null,null,null,null,null,null,null,{"$f":"IF(Sheet2!$A$167=TRUE,-1*(((AK93-$G93)-(AO93-$K93))/SQRT(((AL93^2*(AM93-1))+(AP93^2*(AQ93-1)))/(AM93+AQ93-2))),((AK93-$G93)-(AO93-$K93))/SQRT(((AL93^2*(AM93-1))+(AP93^2*(AQ93-1)))/(AM93+AQ93-2)))","v":{"$error":"#DIV/0!"}},{"$f":"IF(AK93=\"\",\"\",AR93)","v":""},"",null,null,null,null,null,null,null,null,{"$f":"IF(Sheet2!$A$167=TRUE,-1*(((AV93-$G93)-(AZ93-$K93))/SQRT(((AW93^2*(AX93-1))+(BA93^2*(BB93-1)))/(AX93+BB93-2))),((AV93-$G93)-(AZ93-$K93))/SQRT(((AW93^2*(AX93-1))+(BA93^2*(BB93-1)))/(AX93+BB93-2)))","v":{"$error":"#DIV/0!"}},{"$f":"IF(AV93=\"\",\"\",BC93)","v":""},"",null,null,null,null,null,null,null,null,{"$f":"IF(Sheet2!$A$167=TRUE,-1*(((BG93-$G93)-(BK93-$K93))/SQRT(((BH93^2*(BI93-1))+(BL93^2*(BM93-1)))/(BI93+BM93-2))),((BG93-$G93)-(BK93-$K93))/SQRT(((BH93^2*(BI93-1))+(BL93^2*(BM93-1)))/(BI93+BM93-2)))","v":{"$error":"#DIV/0!"}},{"$f":"IF(BG93=\"\",\"\",BN93)","v":""},"",null,null,null,null,null,null,null,null,{"$f":"IF(Sheet2!$A$167=TRUE,-1*(((BR93-$G93)-(BV93-$K93))/SQRT(((BS93^2*(BT93-1))+(BW93^2*(BX93-1)))/(BT93+BX93-2))),((BR93-$G93)-(BV93-$K93))/SQRT(((BS93^2*(BT93-1))+(BW93^2*(BX93-1)))/(BT93+BX93-2)))","v":{"$error":"#DIV/0!"}},{"$f":"IF(BR93=\"\",\"\",BY93)","v":""},""]
[null,null,"Outcome 89",null,null,null,null,null,null,null,null,null,null,null,null,null,null,null,null,null,null,{"$f":"IF(Sheet2!$A$168=TRUE,-1*(((O94-$G94)-(S94-$K94))/SQRT(((P94^2*(Q94-1))+(T94^2*(U94-1)))/(Q94+U94-2))),((O94-$G94)-(S94-$K94))/SQRT(((P94^2*(Q94-1))+(T94^2*(U94-1)))/(Q94+U94-2)))","v":{"$error":"#DIV/0!"}},{"$f":"IF(O94=\"\",\"\",V94)","v":""},{"$f":"IF(Q94=\"\",\"\",SQRT((Q94+U94)/(Q94*U94)+(W94^2/(2*(Q94+U94)))))","v":""},null,null,null,null,null,null,null,null,{"$f":"IF(Sheet2!$A$168=TRUE,-1*(((Z94-$G94)-(AD94-$K94))/SQRT(((AA94^2*(AB94-1))+(AE94^2*(AF94-1)))/(AB94+AF94-2))),((Z94-$G94)-(AD94-$K94))/SQRT(((AA94^2*(AB94-1))+(AE94^2*(AF94-1)))/(AB94+AF94-2)))","v":{"$error":"#DIV/0!"}},{"$f":"IF(Z94=\"\",\"\",AG94)","v":""},{"$f":"IF(AB94=\"\",\"\",SQRT((AB94+AF94)/(AB94*AF94)+(AH94^2/(2*(AB94+AF94)))))","v":""},null,null,null,null,null,null,null,null,{"$f":"IF(Sheet2!$A$168=TRUE,-1*(((AK94-$G94)-(AO94-$K94))/SQRT(((AL94^2*(AM94-1))+(AP94^2*(AQ94-1)))/(AM94+AQ94-2))),((AK94-$G94)-(AO94-$K94))/SQRT(((AL94^2*(AM94-1))+(AP94^2*(AQ94-1)))/(AM94+AQ94-2)))","v":{"$error":"#DIV/0!"}},{"$f":"IF(AK94=\"\",\"\",AR94)","v":""},{"$f":"IF(AM94=\"\",\"\",SQRT((AM94+AQ94)/(AM94*AQ94)+(AS94^2/(2*(AM94+AQ94)))))","v":""},null,null,null,null,null,null,null,null,{"$f":"IF(Sheet2!$A$168=TRUE,-1*(((AV94-$G94)-(AZ94-$K94))/SQRT(((AW94^2*(AX94-1))+(BA94^2*(BB94-1)))/(AX94+BB94-2))),((AV94-$G94)-(AZ94-$K94))/SQRT(((AW94^2*(AX94-1))+(BA94^2*(BB94-1)))/(AX94+BB94-2)))","v":{"$error":"#DIV/0!"}},{"$f":"IF(AV94=\"\",\"\",BC94)","v":""},{"$f":"IF(AX94=\"\",\"\",SQRT((AX94+BB94)/(AX94*BB94)+(BD94^2/(2*(AX94+BB94)))))","v":""},null,null,null,null,null,null,null,null,{"$f":"IF(Sheet2!$A$168=TRUE,-1*(((BG94-$G94)-(BK94-$K94))/SQRT(((BH94^2*(BI94-1))+(BL94^2*(BM94-1)))/(BI94+BM94-2))),((BG94-$G94)-(BK94-$K94))/SQRT(((BH94^2*(BI94-1))+(BL94^2*(BM94-1)))/(BI94+BM94-2)))","v":{"$error":"#DIV/0!"}},{"$f":"IF(BG94=\"\",\"\",BN94)","v":""},{"$f":"IF(BI94=\"\",\"\",SQRT((BI94+BM94)/(BI94*BM94)+(BO94^2/(2*(BI94+BM94)))))","v":""},null,null,null,null,null,null,null,null,{"$f":"IF(Sheet2!$A$168=TRUE,-1*(((BR94-$G94)-(BV94-$K94))/SQRT(((BS94^2*(BT94-1))+(BW94^2*(BX94-1)))/(BT94+BX94-2))),((BR94-$G94)-(BV94-$K94))/SQRT(((BS94^2*(BT94-1))+(BW94^2*(BX94-1)))/(BT94+BX94-2)))","v":{"$error":"#DIV/0!"}},{"$f":"IF(BR94=\"\",\"\",BY94)","v":""},{"$f":"IF(BT94=\"\",\"\",SQRT((BT94+BX94)/(BT94*BX94)+(BZ94^2/(2*(BT94+BX94)))))","v":""}]
[null,null,"Outcome 90",null,null,null,null,null,null,null,null,null,null,null,null,null,null,null,null,null,null,{"$f":"IF(Sheet2!$A$169=TRUE,-1*(((O95-$G95)-(S95-$K95))/SQRT(((P95^2*(Q95-1))+(T95^2*(U95-1)))/(Q95+U95-2))),((O95-$G95)-(S95-$K95))/SQRT(((P95^2*(Q95-1))+(T95^2*(U95-1)))/(Q95+U95-2)))","v":{"$error":"#DIV/0!"}},"","",null,null,null,null,null,null,null,null,{"$f":"IF(Sheet2!$A$169=TRUE,-1*(((Z95-$G95)-(AD95-$K95))/SQRT(((AA95^2*(AB95-1))+(AE95^2*(AF95-1)))/(AB95+AF95-2))),((Z95-$G95)-(AD95-$K95))/SQRT(((AA95^2*(AB95-1))+(AE95^2*(AF95-1)))/(AB95+AF95-2)))","v":{"$error":"#DIV/0!"}},"",{"$f":"IF(AB95=\"\",\"\",SQRT((AB95+AF95)/(AB95*AF95)+(AH95^2/(2*(AB95+AF95)))))","v":""},null,null,null,null,null,null,null,null,{"$f":"IF(Sheet2!$A$169=TRUE,-1*(((AK95-$G95)-(AO95-$K95))/SQRT(((AL95^2*(AM95-1))+(AP95^2*(AQ95-1)))/(AM95+AQ95-2))),((AK95-$G95)-(AO95-$K95))/SQRT(((AL95^2*(AM95-1))+(AP95^2*(AQ95-1)))/(AM95+AQ95-2)))","v":{"$error":"#DIV/0!"}},"",{"$f":"IF(AM95=\"\",\"\",SQRT((AM95+AQ95)/(AM95*AQ95)+(AS95^2/(2*(AM95+AQ95)))))","v":""},null,null,null,null,null,null,null,null,{"$f":"IF(Sheet2!$A$169=TRUE,-1*(((AV95-$G95)-(AZ95-$K95))/SQRT(((AW95^2*(AX95-1))+(BA95^2*(BB95-1)))/(AX95+BB95-2))),((AV95-$G95)-(AZ95-$K95))/SQRT(((AW95^2*(AX95-1))+(BA95^2*(BB95-1)))/(AX95+BB95-2)))","v":{"$error":"#DIV/0!"}},"",{"$f":"IF(AX95=\"\",\"\",SQRT((AX95+BB95)/(AX95*BB95)+(BD95^2/(2*(AX95+BB95)))))","v":""},null,null,null,null,null,null,null,null,{"$f":"IF(Sheet2!$A$169=TRUE,-1*(((BG95-$G95)-(BK95-$K95))/SQRT(((BH95^2*(BI95-1))+(BL95^2*(BM95-1)))/(BI95+BM95-2))),((BG95-$G95)-(BK95-$K95))/SQRT(((BH95^2*(BI95-1))+(BL95^2*(BM95-1)))/(BI95+BM95-2)))","v":{"$error":"#DIV/0!"}},"",{"$f":"IF(BI95=\"\",\"\",SQRT((BI95+BM95)/(BI95*BM95)+(BO95^2/(2*(BI95+BM95)))))","v":""},null,null,null,null,null,null,null,null,{"$f":"IF(Sheet2!$A$169=TRUE,-1*(((BR95-$G95)-(BV95-$K95))/SQRT(((BS95^2*(BT95-1))+(BW95^2*(BX95-1)))/(BT95+BX95-2))),((BR95-$G95)-(BV95-$K95))/SQRT(((BS95^2*(BT95-1))+(BW95^2*(BX95-1)))/(BT95+BX95-2)))","v":{"$error":"#DIV/0!"}},"",{"$f":"IF(BT95=\"\",\"\",SQRT((BT95+BX95)/(BT95*BX95)+(BZ95^2/(2*(BT95+BX95)))))","v":""}]

{"sheet":"Formulas","index":4,"n_rows":0,"n_cols":0,"rows_kept":0,"cut":false,"hidden":false,"merged":[]}

{"sheet":"Sheet2","index":5,"n_rows":1413,"n_cols":14,"rows_kept":1413,"cut":false,"hidden":true,"merged":[]}
["Population:","Control Group:","Yes/NO","PVTs Used","Age Subgroup",null,"Time Category:","Composition of  Subgroup Psych Comorbidity:","Method of Assessing NP Performance",null,"Quality of MTBI Diagnosis",null,null,"Experimental Design"]
["Athlete ","Non-Injured Control","Yes","Stand-Alone","Children",null,"< 24 hours",0,"Brief Cognitive Screener",null,"1) Witness and diagnoses by medical professional",null,null,"Independent Groups, Post-Test only"]
["Veteran","Pre-Injury Baseline","No","Embedded","High School/College",null,"< 7 days","Mixed","Paper-Pencil",null,"2) Witnessed event, diagnosed by medical professional later",null,null,"Pre-Post Design"]
["General Medical Referral ","Non-Injured Control & Pre-Injured Baseline",null,"Both Stand-Alone and Embedded","Adults",null,"< 3 months",1,"Mixed",null,"3) Non-witnessed event, meets standard definition, diagnosed later by medical professional",null,null,"Independent Groups, Pre-Post Design"]
["Litigant ","Orthopedic Injury",null,"Unspecified ","Older Adults",null,"≥ 3 months",null,null,null,"4) Self-reported history based on standard definition "]
["Mixed: General Medical/Litigant","Trauma Control",null,null,null,null,"Multiple Timepoints",null,null,null,"5) Self-reported history based on non-standard definition"]
[null,"Chronic Pain"]
[]
[]
[]
[]
[]
[]
[]
[]
[]
[null,null,null,{"$f":"IF(F17=\"\",\"\",F17)","v":""}]
[]
["Checkboxes "]
[null,"Orientation "]
[false,"Outcome 1:"]
[false,"Outcome 2:"]
[false,"Outcome 3:"]
[false,"Outcome 4:"]
[false,"Outcome 5:"]
[null,"Orientation d"]
[]
[null,"General Ability/IQ"]
[false,"Outcome 1:"]
[false,"Outcome 2:"]
[false,"Outcome 3:"]
[false,"Outcome 4:"]
[false,"Outcome 5:"]
[null,"General Ability/IQ d"]
[]
[null,"Achievement "]
[false,"Outcome 1:"]
[false,"Outcome 2:"]
[false,"Outcome 3:"]
[false,"Outcome 4:"]
[false,"Outcome 5:"]
[null,"Achievement d"]
[]
[null,"Attn/Wrk Memory"]
[false,"Outcome 1:"]
[false,"Outcome 2:"]
[false,"Outcome 3:"]
[false,"Outcome 4:"]
[false,"Outcome 5:"]
[null,"Attn/Wrk Mem d"]
[]
[null,"Processing Speed"]
[false,"Outcome 1:"]
[false,"Outcome 2:"]
[false,"Outcome 3:"]
[false,"Outcome 4:"]
[false,"Outcome 5:"]
[null,"Processing Speed d"]
[]
[null,"Executive Function"]
[false,"Outcome 1:"]
[false,"Outcome 2:"]
[false,"Outcome 3:"]
[false,"Outcome 4:"]
[false,"Outcome 5:"]
[null,"Executive Function d"]
[]
[null,"Immediate Memory"]
[false,"Outcome 1:"]
[false,"Outcome 2:"]
[false,"Outcome 3:"]
[false,"Outcome 4:"]
[false,"Outcome 5:"]
[null,"Immediate Memory d"]
[]
[null,"Delayed Memory"]
[false,"Outcome 1:"]
[false,"Outcome 2:"]
[false,"Outcome 3:"]
[false,"Outcome 4:"]
[false,"Outcome 5:"]
[null,"Delayed Memory d"]
[]
[null,"Visuospatial Skills"]
[false,"Outcome 1:"]
[false,"Outcome 2:"]
[false,"Outcome 3:"]
[false,"Outcome 4:"]
[false,"Outcome 5:"]
[null,"Visuospatial Skills d"]
[]
[null,"Fine Motor Mvmt"]
[false,"Outcome 1:"]
[false,"Outcome 2:"]
[false,"Outcome 3:"]
[false,"Outcome 4:"]
[false,"Outcome 5:"]
[null,"Fine Motor Mvmt d"]
[]
[]
[]
[]
[]
[null,"Depression"]
[false,"Outcome 1:"]
[false,"Outcome 2:"]
[false,"Outcome 3:"]
[false,"Outcome 4:"]
[false,"Outcome 5:"]
[null,"Despression d"]
[]
[null,"Anxiety"]
[false,"Outcome 1:"]
[false,"Outcome 2:"]
[false,"Outcome 3:"]
[false,"Outcome 4:"]
[false,"Outcome 5:"]
[null,"Anxiety d"]
[]
[null,"PTSD"]
[false,"Outcome 1:"]
[false,"Outcome 2:"]
[false,"Outcome 3:"]
[false,"Outcome 4:"]
[false,"Outcome 5:"]
[null,"PTSD d"]
[]
[null,"SUD"]
[false,"Outcome 1:"]
[false,"Outcome 2:"]
[false,"Outcome 3:"]
[false,"Outcome 4:"]
[false,"Outcome 5:"]
[null,"SUD d"]
[]
[null,"Somatization"]
[false,"Outcome 1:"]
[false,"Outcome 2:"]
[false,"Outcome 3:"]
[false,"Outcome 4:"]
[false,"Outcome 5:"]
[null,"Somatization d"]
[]
[null,"Internalizing Bx"]
[false,"Outcome 1:"]
[false,"Outcome 2:"]
[false,"Outcome 3:"]
[false,"Outcome 4:"]
[false,"Outcome 5:"]
[null,"Internalizing Bx d"]
[]
[null,"Externalizing Bx"]
[false,"Outcome 1:"]
[false,"Outcome 2:"]
[false,"Outcome 3:"]
[false,"Outcome 4:"]
[false,"Outcome 5:"]
[null,"Externalizing Bx d"]
[]
[]
[]
[]
[]
[null,"PCS"]
[false,"Outcome 1:"]
[false,"Outcome 2:"]
[false,"Outcome 3:"]
[false,"Outcome 4:"]
[false,"Outcome 5:"]
[null,"PCS d"]
[]
[null,"Overall PCS d"]
[]
[]
[]
[]
[]
[]
[]
[]
[]
[]
[]
[]
[]
[]
[]
[]
[]
[]
[]
[]
[]
[]
[]
[]
[]
[]
[]
[]
[]
[]
[]
[]
[]
[]
[]
[]
[]
[]
[]
[]
[]
[]
[]
[]
[]
[]
[]
[]
[]
[]
[]
[]
[]
[]
[]
[]
[]
[]
[]
[]
[]
[]
[]
[]
[]
[]
[]
[]
[]
[]
[]
[]
[]
[]
[]
[]
[]
[]
[]
[]
[]
[]
[]
[]
[]
[]
[]
[]
[]
[]
[]
[]
[]
[]
[]
[]
[]
[]
[]
[]
[]
[]
[]
[]
[]
[]
[]
[]
[]
[]
[]
[]
[]
[]
[]
[]
[]
[]
[]
[]
[]
[]
[]
[]
[]
[]
[]
[]
[]
[]
[]
[]
[]
[]
[]
[]
[]
[]
[]
[]
[]
[]
[]
[]
[]
[]
[]
[]
[]
[]
[]
[]
[]
[]
[]
[]
[]
[]
[]
[]
[]
[]
[]
[]
[]
[]
[]
[]
[]
[]
[]
[]
[]
[]
[]
[]
[]
[]
[]
[]
[]
[]
[]
[]
[]
[]
[]
[]
[]
[]
[]
[]
[]
[]
[]
[]
[]
[]
[]
[]
[]
[]
[]
[]
[]
[]
[]
[]
[]
[]
[]
[]
[]
[]
[]
[]
[]
[]
[]
[]
[]
[]
[]
[]
[]
[]
[]
[]
[]
[]
[]
[]
[]
[]
[]
[]
[]
[]
[]
[]
[]
[]
[]
[]
[]
[]
[]
[]
[]
[]
[]
[]
[]
[]
[]
[]
[]
[]
[]
[]
[]
[]
[]
[]
[]
[]
[]
[]
[]
[]
[]
[]
[]
[]
[]
[]
[]
[]
[]
[]
[]
[]
[]
[]
[]
[]
[]
[]
[]
[]
[]
[]
[]
[]
[]
[]
[]
[]
[]
[]
[]
[]
[]
[]
[]
[]
[]
[]
[]
[]
[]
[]
[]
[]
[]
[]
[]
[]
[]
[]
[]
[]
[]
[]
[]
[]
[]
[]
[]
[]
[]
[]
[]
[]
[]
[]
[]
[]
[]
[]
[]
[]
[]
[]
[]
[]
[]
[]
[]
[]
[]
[]
[]
[]
[]
[]
[]
[]
[]
[]
[]
[]
[]
[]
[]
[]
[]
[]
[]
[]
[]
[]
[]
[]
[]
[]
[]
[]
[]
[]
[]
[]
[]
[]
[]
[]
[]
[]
[]
[]
[]
[]
[]
[]
[]
[]
[]
[]
[]
[]
[]
[]
[]
[]
[]
[]
[]
[]
[]
[]
[]
[]
[]
[]
[]
[]
[]
[]
[]
[]
[]
[]
[]
[]
[]
[]
[]
[]
[]
[]
[]
[]
[]
[]
[]
[]
[]
[]
[]
[]
[]
[]
[]
[]
[]
[]
[]
[]
[]
[]
[]
[]
[]
[]
[]
[]
[]
[]
[]
[]
[]
[]
[]
[]
[]
[]
[]
[]
[]
[]
[]
[]
[]
[]
[]
[]
[]
[]
[]
[]
[]
[]
[]
[]
[]
[]
[]
[]
[]
[]
[]
[]
[]
[]
[]
[]
[]
[]
[]
[]
[]
[]
[]
[]
[]
[]
[]
[]
[]
[]
[]
[]
[]
[]
[]
[]
[]
[]
[]
[]
[]
[]
[]
[]
[]
[]
[]
[]
[]
[]
[]
[]
[]
[]
[]
[]
[]
[]
[]
[]
[]
[]
[]
[]
[]
[]
[]
[]
[]
[]
[]
[]
[]
[]
[]
[]
[]
[]
[]
[]
[]
[]
[]
[]
[]
[]
[]
[]
[]
[]
[]
[]
[]
[]
[]
[]
[]
[]
[]
[]
[]
[]
[]
[]
[]
[]
[]
[]
[]
[]
[]
[]
[]
[]
[]
[]
[]
[]
[]
[]
[]
[]
[]
[]
[]
[]
[]
[]
[]
[]
[]
[]
[]
[]
[]
[]
[]
[]
[]
[]
[]
[]
[]
[]
[]
[]
[]
[]
[]
[]
[]
[]
[]
[]
[]
[]
[]
[]
[]
[]
[]
[]
[]
[]
[]
[]
[]
[]
[]
[]
[]
[]
[]
[]
[]
[]
[]
[]
[]
[]
[]
[]
[]
[]
[]
[]
[]
[]
[]
[]
[]
[]
[]
[]
[]
[]
[]
[]
[]
[]
[]
[]
[]
[]
[]
[]
[]
[]
[]
[]
[]
[]
[]
[]
[]
[]
[]
[]
[]
[]
[]
[]
[]
[]
[]
[]
[]
[]
[]
[]
[]
[]
[]
[]
[]
[]
[]
[]
[]
[]
[]
[]
[]
[]
[]
[]
[]
[]
[]
[]
[]
[]
[]
[]
[]
[]
[]
[]
[]
[]
[]
[]
[]
[]
[]
[]
[]
[]
[]
[]
[]
[]
[]
[]
[]
[]
[]
[]
[]
[]
[]
[]
[]
[]
[]
[]
[]
[]
[]
[]
[]
[]
[]
[]
[]
[]
[]
[]
[]
[]
[]
[]
[]
[]
[]
[]
[]
[]
[]
[]
[]
[]
[]
[]
[]
[]
[]
[]
[]
[]
[]
[]
[]
[]
[]
[]
[]
[]
[]
[]
[]
[]
[]
[]
[]
[]
[]
[]
[]
[]
[]
[]
[]
[]
[]
[]
[]
[]
[]
[]
[]
[]
[]
[]
[]
[]
[]
[]
[]
[]
[]
[]
[]
[]
[]
[]
[]
[]
[]
[]
[]
[]
[]
[]
[]
[]
[]
[]
[]
[]
[]
[]
[]
[]
[]
[]
[]
[]
[]
[]
[]
[]
[]
[]
[]
[]
[]
[]
[]
[]
[]
[]
[]
[]
[]
[]
[]
[]
[]
[]
[]
[]
[]
[]
[]
[]
[]
[]
[]
[]
[]
[]
[]
[]
[]
[]
[]
[]
[]
[]
[]
[]
[]
[]
[]
[]
[]
[]
[]
[]
[]
[]
[]
[]
[]
[]
[]
[]
[]
[]
[]
[]
[]
[]
[]
[]
[]
[]
[]
[]
[]
[]
[]
[]
[]
[]
[]
[]
[]
[]
[]
[]
[]
[]
[]
[]
[]
[]
[]
[]
[]
[]
[]
[]
[]
[]
[]
[]
[]
[]
[]
[]
[]
[]
[]
[]
[]
[]
[]
[]
[]
[]
[]
[]
[]
[]
[]
[]
[]
[]
[]
[]
[]
[]
[]
[]
[]
[]
[]
[]
[]
[]
[]
[]
[]
[]
[]
[]
[]
[]
[]
[]
[]
[]
[]
[]
[]
[]
[]
[]
[]
[]
[]
[]
[]
[]
[]
[]
[]
[]
[]
[]
[]
[]
[]
[]
[]
[]
[]
[]
[]
[]
[]
[]
[]
[]
[]
[]
[]
[]
[]
[]
[]
[]
[]
[]
[]
[]
[]
[]
[]
[]
[]
[]
[]
[]
[]
[]
[]
[]
[]
[]
[]
[]
[]
[]
[]
[]
[]
[]
[]
[]
[]
[]
[]
[]
[]
[]
[]
[]
[]
[]
[]
[]
[]
[]
[]
[]
[]
[]
[]
[]
[]
[]
[]
[]
[]
[]
[]
[]
[]
[]
[]
[]
[]
[]
[]
[]
[]
[]
[]
[]
[]
[]
[]
[]
[]
[]
[]
[]
[]
[]
[]
[]
[]
[]
[]
[]
[]
[]
[]
[]
[]
[]
[]
[]
[]
[]
[]
[]
[]
[]
[]
[]
[]
[]
[]
[]
[]
[]
[]
[]
[]
[]
[]
[]
[]
[]
[]
[]
[]
[]
[]
[]
[]
[]
[]
[]
[]
[]
[]
[]
[]
[]
[]
[]
[]
[]
[]
[]
[]
[]
[]
[]
[]
[]
[]
[]
[]
[]
[]
[]
[]
[]
[]
[]
[]
[]
[]
[]
[]
[]
[]
[]
[]
[]
[]
[]
[]
[]
[]
[]
[]
[]
[]
[]
[]
[]
[]
[]
[]
[]
[]
[]
[]
[]
[]
[]
[]
[]
[false]